Workbook
Name Auswahl: Steuerung!$A$4:$A$10
Name Auswahl_Text: Steuerung!$E$2
Name Print_Area: Hinweis_Arbeitslosengeld!$A$1:$B$31
Name Print_Area: Hinweis_Beweg_Arbeitslosengeld!$A$1:$B$34
Name Print_Area: Hinweis_Dauern_Arbeitslosengeld!$A$1:$B$34
Name Print_Titles: Hinweis_Arbeitslosengeld!$1:$3
Name Print_Titles: Hinweis_Beweg_Arbeitslosengeld!$1:$3
Name Print_Titles: Hinweis_Dauern_Arbeitslosengeld!$1:$3

Sheet Deckblatt

Sheet Impressum
A4: Impressum
A6: Produktlinie/Reihe: | B6: Tabellen
A8: Produkt-ID: | B8: 1624
A10: Titel: | B10: Arbeitslosengeld (Zeitreihe Monats- und Jahreszahlen ab 2005)
A12: Region: | B12: Hildburghausen (Gebietsstand Oktober 2026)
A14: Berichtsmonat: | B14: 46235
A16: Erstellungsdatum: | B16: 45707
A18: Periodizität: | B18: monatlich
A20: Nächster Veröffentlichungstermin: | B20: 46353
A22: Hinweise:
A24: Herausgeberin: | B24: Bundesagentur für Arbeit
B25: Statistik
A26: Rückfragen an: | B26: Statistik-Service Ost
B27: Friedrichstraße 34
B28: 10969 Berlin
A29: E-Mail: | B29: Statistik-Service-Ost@arbeitsagentur.de
A30: Hotline: | B30: 030/555599-7373
A33: Internet: | B33: https://statistik.arbeitsagentur.de
A35: Zitierhinweis: | B35: Statistik der Bundesagentur für Arbeit
B36: Tabellen, Arbeitslosengeld (Zeitreihen), Berlin, Oktober 2026
A38: Nutzungsbedingungen: | B38: © Statistik der Bundesagentur für Arbeit
B39: Die Produkte unterliegen dem Urheberrecht (siehe Impressum).
B40: Daten und Tabellen dürfen uneingeschränkt verwendet werden. Informationen dürfen (auch auszugsweise) gespeichert und mit Quellenangabe weitergegeben, vervielfältigt und verbreitet werden. Die Inhalte dürfen nicht verändert oder verfälscht werden. Eigene Berechnungen sind erlaubt, jedoch als solche kenntlich zu machen. Im Fall einer Veröffentlichung im Internet soll dies mit einer Verlinkung auf die Homepage der Statistik der Bundesagentur für Arbeit erfolgen.

Sheet Inhaltsverzeichnis
G1: Arbeitslosengeld nach dem SGB III
A4: Inhaltsverzeichnis
A7: Arbeitslosengeld (Zeitreihe Monats- und Jahreszahlen ab 2005)
A8: Hildburghausen (Gebietsstand Oktober 2026)
A9: Zeitreihe
A11: Tabelle
A13: Tab 1 | B13: =MID('Tab 1'!A3,4,1000) -> Bestand an Anspruchsberechtigten und Leistungsbeziehenden
A14: Tab 2 | B14: =MID('Tab 2'!A3,4,1000) -> Bestand an nicht arbeitslosen Leistungsbeziehenden
A15: Tab 3 | B15: =MID('Tab 3'!A3,4,1000) -> Zugang an Anspruchsberechtigten und Leistungsbeziehenden
A16: Tab 4 | B16: =MID('Tab 4'!A3,4,1000) -> Abgang von Anspruchsberechtigten und Leistungsbeziehenden
A17: Tab 5 | B17: =MID('Tab 5'!A3,4,1000) -> Abgang aus Leistungsbezug nach Abgangsgründen
A18: Tab 6 | B18: =MID('Tab 6'!A3,4,SEARCH("Euro",'Tab 6'!A3,1)) -> Durchschnittliche Anspruchshöhe von Leistungsbeziehenden bei Arbeitslosigkeit in Euro
B19: =MID(Auswahl_Text,4,50)
A22: Zeichenerklärungen
A24: X | B24: kein Nachweis vorhanden
A25: .X | B25: Veränderung größer 250 Prozent
A26: … | B26: Angaben fallen später an
A27: - | B27: nichts vorhanden
A28: . | B28: Nachweis nicht sinnvoll
A29: * | B29: Die erhobenen Daten unterliegen grundsätzlich der Geheimhaltung nach § 16 BStatG. Eine Übermittlung von Einzelangaben ist daher ausgeschlossen. Aus diesem Grund werden bei den Ihnen zur Verfügung gestellten Daten auch Zahlenwerte kleiner 3 und Daten, aus denen rechnerisch auf einen Zahlenwert kleiner 3 geschlossen werden kann, anonymisiert oder zu Gruppen zusammengefasst.

Sheet Tab 1
G1: Arbeitslosengeld nach dem SGB III
A3: =CONCATENATE("1. Bestand an Anspruchsberechtigten und Leistungsbeziehenden",Auswahl_Text) -> 1. Bestand an Anspruchsberechtigten und Leistungsbeziehenden
A4: Hildburghausen (Gebietsstand Oktober 2026)
A5: Zeitreihe
A7: Daten zu Arbeitslosengeld nach dem SGB III (Alg) nach einer Wartezeit von 2 Monaten. Werte für den aktuellen Monat und den Vormonat wurden auf Basis vorläufiger Daten sowie Erfahrungswerten der Vergangenheit hochgerechnet.
A12: Jahresdurchschnitt/ Berichtsmonat | C12: Anspruchs- berechtigte 1) | D12: dav. (Sp. 1)
D13: Leistungs- beziehende | E13: dav. (Sp. 2) von Arbeitslosengeld | G13: in Sperrzeit 2)
E14: bei Arbeitslosigkeit | F14: bei Weiterbildung
C15: 1 | D15: 2 | E15: 3 | F15: 4 | G15: 5
A16: =IF(INDEX(Rohdaten_tab1!$A:$A,ROW(Rohdaten_tab1!$A2),COLUMN(Rohdaten_tab1!$A:$A))<>"",INDEX(Rohdaten_tab1!$A:$A,ROW(Rohdaten_tab1!$A2),COLUMN(Rohdaten_tab1!$A:$A)),"") -> 2005 | C16: =INDEX(Rohdaten_tab1!$1:$1048576,ROW(Rohdaten_tab1!B2),COLUMN(Rohdaten_tab1!B2)+(5*(Steuerung!$A$3-1))) -> 2684.5 | D16: =INDEX(Rohdaten_tab1!$1:$1048576,ROW(Rohdaten_tab1!C2),COLUMN(Rohdaten_tab1!C2)+(5*(Steuerung!$A$3-1))) -> 2683.5 | E16: =INDEX(Rohdaten_tab1!$1:$1048576,ROW(Rohdaten_tab1!D2),COLUMN(Rohdaten_tab1!D2)+(5*(Steuerung!$A$3-1))) -> 2541.5 | F16: =INDEX(Rohdaten_tab1!$1:$1048576,ROW(Rohdaten_tab1!E2),COLUMN(Rohdaten_tab1!E2)+(5*(Steuerung!$A$3-1))) -> 142 | G16: =INDEX(Rohdaten_tab1!$1:$1048576,ROW(Rohdaten_tab1!F2),COLUMN(Rohdaten_tab1!F2)+(5*(Steuerung!$A$3-1))) -> X
A17: =IF(INDEX(Rohdaten_tab1!$A:$A,ROW(Rohdaten_tab1!$A3),COLUMN(Rohdaten_tab1!$A:$A))<>"",INDEX(Rohdaten_tab1!$A:$A,ROW(Rohdaten_tab1!$A3),COLUMN(Rohdaten_tab1!$A:$A)),"") -> 2006 | C17: =INDEX(Rohdaten_tab1!$1:$1048576,ROW(Rohdaten_tab1!B3),COLUMN(Rohdaten_tab1!B3)+(5*(Steuerung!$A$3-1))) -> 2225 | D17: =INDEX(Rohdaten_tab1!$1:$1048576,ROW(Rohdaten_tab1!C3),COLUMN(Rohdaten_tab1!C3)+(5*(Steuerung!$A$3-1))) -> 2204.5 | E17: =INDEX(Rohdaten_tab1!$1:$1048576,ROW(Rohdaten_tab1!D3),COLUMN(Rohdaten_tab1!D3)+(5*(Steuerung!$A$3-1))) -> 2098.25 | F17: =INDEX(Rohdaten_tab1!$1:$1048576,ROW(Rohdaten_tab1!E3),COLUMN(Rohdaten_tab1!E3)+(5*(Steuerung!$A$3-1))) -> 106.25 | G17: =INDEX(Rohdaten_tab1!$1:$1048576,ROW(Rohdaten_tab1!F3),COLUMN(Rohdaten_tab1!F3)+(5*(Steuerung!$A$3-1))) -> X
A18: =IF(INDEX(Rohdaten_tab1!$A:$A,ROW(Rohdaten_tab1!$A4),COLUMN(Rohdaten_tab1!$A:$A))<>"",INDEX(Rohdaten_tab1!$A:$A,ROW(Rohdaten_tab1!$A4),COLUMN(Rohdaten_tab1!$A:$A)),"") -> 2007 | C18: =INDEX(Rohdaten_tab1!$1:$1048576,ROW(Rohdaten_tab1!B4),COLUMN(Rohdaten_tab1!B4)+(5*(Steuerung!$A$3-1))) -> 1515.4167 | D18: =INDEX(Rohdaten_tab1!$1:$1048576,ROW(Rohdaten_tab1!C4),COLUMN(Rohdaten_tab1!C4)+(5*(Steuerung!$A$3-1))) -> 1490.25 | E18: =INDEX(Rohdaten_tab1!$1:$1048576,ROW(Rohdaten_tab1!D4),COLUMN(Rohdaten_tab1!D4)+(5*(Steuerung!$A$3-1))) -> 1395.9167 | F18: =INDEX(Rohdaten_tab1!$1:$1048576,ROW(Rohdaten_tab1!E4),COLUMN(Rohdaten_tab1!E4)+(5*(Steuerung!$A$3-1))) -> 94.333333 | G18: =INDEX(Rohdaten_tab1!$1:$1048576,ROW(Rohdaten_tab1!F4),COLUMN(Rohdaten_tab1!F4)+(5*(Steuerung!$A$3-1))) -> 25.166667
A19: =IF(INDEX(Rohdaten_tab1!$A:$A,ROW(Rohdaten_tab1!$A5),COLUMN(Rohdaten_tab1!$A:$A))<>"",INDEX(Rohdaten_tab1!$A:$A,ROW(Rohdaten_tab1!$A5),COLUMN(Rohdaten_tab1!$A:$A)),"") -> 2008 | C19: =INDEX(Rohdaten_tab1!$1:$1048576,ROW(Rohdaten_tab1!B5),COLUMN(Rohdaten_tab1!B5)+(5*(Steuerung!$A$3-1))) -> 1245.4167 | D19: =INDEX(Rohdaten_tab1!$1:$1048576,ROW(Rohdaten_tab1!C5),COLUMN(Rohdaten_tab1!C5)+(5*(Steuerung!$A$3-1))) -> 1215.75 | E19: =INDEX(Rohdaten_tab1!$1:$1048576,ROW(Rohdaten_tab1!D5),COLUMN(Rohdaten_tab1!D5)+(5*(Steuerung!$A$3-1))) -> 1154.25 | F19: =INDEX(Rohdaten_tab1!$1:$1048576,ROW(Rohdaten_tab1!E5),COLUMN(Rohdaten_tab1!E5)+(5*(Steuerung!$A$3-1))) -> 61.5 | G19: =INDEX(Rohdaten_tab1!$1:$1048576,ROW(Rohdaten_tab1!F5),COLUMN(Rohdaten_tab1!F5)+(5*(Steuerung!$A$3-1))) -> 29.666667
A20: =IF(INDEX(Rohdaten_tab1!$A:$A,ROW(Rohdaten_tab1!$A6),COLUMN(Rohdaten_tab1!$A:$A))<>"",INDEX(Rohdaten_tab1!$A:$A,ROW(Rohdaten_tab1!$A6),COLUMN(Rohdaten_tab1!$A:$A)),"") -> 2009 | C20: =INDEX(Rohdaten_tab1!$1:$1048576,ROW(Rohdaten_tab1!B6),COLUMN(Rohdaten_tab1!B6)+(5*(Steuerung!$A$3-1))) -> 1586.25 | D20: =INDEX(Rohdaten_tab1!$1:$1048576,ROW(Rohdaten_tab1!C6),COLUMN(Rohdaten_tab1!C6)+(5*(Steuerung!$A$3-1))) -> 1553.9167 | E20: =INDEX(Rohdaten_tab1!$1:$1048576,ROW(Rohdaten_tab1!D6),COLUMN(Rohdaten_tab1!D6)+(5*(Steuerung!$A$3-1))) -> 1472 | F20: =INDEX(Rohdaten_tab1!$1:$1048576,ROW(Rohdaten_tab1!E6),COLUMN(Rohdaten_tab1!E6)+(5*(Steuerung!$A$3-1))) -> 81.916667 | G20: =INDEX(Rohdaten_tab1!$1:$1048576,ROW(Rohdaten_tab1!F6),COLUMN(Rohdaten_tab1!F6)+(5*(Steuerung!$A$3-1))) -> 32.333333
A21: =IF(INDEX(Rohdaten_tab1!$A:$A,ROW(Rohdaten_tab1!$A7),COLUMN(Rohdaten_tab1!$A:$A))<>"",INDEX(Rohdaten_tab1!$A:$A,ROW(Rohdaten_tab1!$A7),COLUMN(Rohdaten_tab1!$A:$A)),"") -> 2010 | C21: =INDEX(Rohdaten_tab1!$1:$1048576,ROW(Rohdaten_tab1!B7),COLUMN(Rohdaten_tab1!B7)+(5*(Steuerung!$A$3-1))) -> 1245.0833 | D21: =INDEX(Rohdaten_tab1!$1:$1048576,ROW(Rohdaten_tab1!C7),COLUMN(Rohdaten_tab1!C7)+(5*(Steuerung!$A$3-1))) -> 1214.75 | E21: =INDEX(Rohdaten_tab1!$1:$1048576,ROW(Rohdaten_tab1!D7),COLUMN(Rohdaten_tab1!D7)+(5*(Steuerung!$A$3-1))) -> 1132.0833 | F21: =INDEX(Rohdaten_tab1!$1:$1048576,ROW(Rohdaten_tab1!E7),COLUMN(Rohdaten_tab1!E7)+(5*(Steuerung!$A$3-1))) -> 82.666667 | G21: =INDEX(Rohdaten_tab1!$1:$1048576,ROW(Rohdaten_tab1!F7),COLUMN(Rohdaten_tab1!F7)+(5*(Steuerung!$A$3-1))) -> 30.333333
A22: =IF(INDEX(Rohdaten_tab1!$A:$A,ROW(Rohdaten_tab1!$A8),COLUMN(Rohdaten_tab1!$A:$A))<>"",INDEX(Rohdaten_tab1!$A:$A,ROW(Rohdaten_tab1!$A8),COLUMN(Rohdaten_tab1!$A:$A)),"") -> 2011 | C22: =INDEX(Rohdaten_tab1!$1:$1048576,ROW(Rohdaten_tab1!B8),COLUMN(Rohdaten_tab1!B8)+(5*(Steuerung!$A$3-1))) -> 904.41667 | D22: =INDEX(Rohdaten_tab1!$1:$1048576,ROW(Rohdaten_tab1!C8),COLUMN(Rohdaten_tab1!C8)+(5*(Steuerung!$A$3-1))) -> 878 | E22: =INDEX(Rohdaten_tab1!$1:$1048576,ROW(Rohdaten_tab1!D8),COLUMN(Rohdaten_tab1!D8)+(5*(Steuerung!$A$3-1))) -> 794.91667 | F22: =INDEX(Rohdaten_tab1!$1:$1048576,ROW(Rohdaten_tab1!E8),COLUMN(Rohdaten_tab1!E8)+(5*(Steuerung!$A$3-1))) -> 83.083333 | G22: =INDEX(Rohdaten_tab1!$1:$1048576,ROW(Rohdaten_tab1!F8),COLUMN(Rohdaten_tab1!F8)+(5*(Steuerung!$A$3-1))) -> 26.416667
A23: =IF(INDEX(Rohdaten_tab1!$A:$A,ROW(Rohdaten_tab1!$A9),COLUMN(Rohdaten_tab1!$A:$A))<>"",INDEX(Rohdaten_tab1!$A:$A,ROW(Rohdaten_tab1!$A9),COLUMN(Rohdaten_tab1!$A:$A)),"") -> 2012 | C23: =INDEX(Rohdaten_tab1!$1:$1048576,ROW(Rohdaten_tab1!B9),COLUMN(Rohdaten_tab1!B9)+(5*(Steuerung!$A$3-1))) -> 935.83333 | D23: =INDEX(Rohdaten_tab1!$1:$1048576,ROW(Rohdaten_tab1!C9),COLUMN(Rohdaten_tab1!C9)+(5*(Steuerung!$A$3-1))) -> 910.75 | E23: =INDEX(Rohdaten_tab1!$1:$1048576,ROW(Rohdaten_tab1!D9),COLUMN(Rohdaten_tab1!D9)+(5*(Steuerung!$A$3-1))) -> 844.41667 | F23: =INDEX(Rohdaten_tab1!$1:$1048576,ROW(Rohdaten_tab1!E9),COLUMN(Rohdaten_tab1!E9)+(5*(Steuerung!$A$3-1))) -> 66.333333 | G23: =INDEX(Rohdaten_tab1!$1:$1048576,ROW(Rohdaten_tab1!F9),COLUMN(Rohdaten_tab1!F9)+(5*(Steuerung!$A$3-1))) -> 25.083333
A24: =IF(INDEX(Rohdaten_tab1!$A:$A,ROW(Rohdaten_tab1!$A10),COLUMN(Rohdaten_tab1!$A:$A))<>"",INDEX(Rohdaten_tab1!$A:$A,ROW(Rohdaten_tab1!$A10),COLUMN(Rohdaten_tab1!$A:$A)),"") -> 2013 | C24: =INDEX(Rohdaten_tab1!$1:$1048576,ROW(Rohdaten_tab1!B10),COLUMN(Rohdaten_tab1!B10)+(5*(Steuerung!$A$3-1))) -> 1001.4167 | D24: =INDEX(Rohdaten_tab1!$1:$1048576,ROW(Rohdaten_tab1!C10),COLUMN(Rohdaten_tab1!C10)+(5*(Steuerung!$A$3-1))) -> 977.66667 | E24: =INDEX(Rohdaten_tab1!$1:$1048576,ROW(Rohdaten_tab1!D10),COLUMN(Rohdaten_tab1!D10)+(5*(Steuerung!$A$3-1))) -> 909.16667 | F24: =INDEX(Rohdaten_tab1!$1:$1048576,ROW(Rohdaten_tab1!E10),COLUMN(Rohdaten_tab1!E10)+(5*(Steuerung!$A$3-1))) -> 68.5 | G24: =INDEX(Rohdaten_tab1!$1:$1048576,ROW(Rohdaten_tab1!F10),COLUMN(Rohdaten_tab1!F10)+(5*(Steuerung!$A$3-1))) -> 23.75
A25: =IF(INDEX(Rohdaten_tab1!$A:$A,ROW(Rohdaten_tab1!$A11),COLUMN(Rohdaten_tab1!$A:$A))<>"",INDEX(Rohdaten_tab1!$A:$A,ROW(Rohdaten_tab1!$A11),COLUMN(Rohdaten_tab1!$A:$A)),"") -> 2014 | C25: =INDEX(Rohdaten_tab1!$1:$1048576,ROW(Rohdaten_tab1!B11),COLUMN(Rohdaten_tab1!B11)+(5*(Steuerung!$A$3-1))) -> 902 | D25: =INDEX(Rohdaten_tab1!$1:$1048576,ROW(Rohdaten_tab1!C11),COLUMN(Rohdaten_tab1!C11)+(5*(Steuerung!$A$3-1))) -> 881 | E25: =INDEX(Rohdaten_tab1!$1:$1048576,ROW(Rohdaten_tab1!D11),COLUMN(Rohdaten_tab1!D11)+(5*(Steuerung!$A$3-1))) -> 809 | F25: =INDEX(Rohdaten_tab1!$1:$1048576,ROW(Rohdaten_tab1!E11),COLUMN(Rohdaten_tab1!E11)+(5*(Steuerung!$A$3-1))) -> 72 | G25: =INDEX(Rohdaten_tab1!$1:$1048576,ROW(Rohdaten_tab1!F11),COLUMN(Rohdaten_tab1!F11)+(5*(Steuerung!$A$3-1))) -> 21
A26: =IF(INDEX(Rohdaten_tab1!$A:$A,ROW(Rohdaten_tab1!$A12),COLUMN(Rohdaten_tab1!$A:$A))<>"",INDEX(Rohdaten_tab1!$A:$A,ROW(Rohdaten_tab1!$A12),COLUMN(Rohdaten_tab1!$A:$A)),"") -> 2015 | C26: =INDEX(Rohdaten_tab1!$1:$1048576,ROW(Rohdaten_tab1!B12),COLUMN(Rohdaten_tab1!B12)+(5*(Steuerung!$A$3-1))) -> 810.5 | D26: =INDEX(Rohdaten_tab1!$1:$1048576,ROW(Rohdaten_tab1!C12),COLUMN(Rohdaten_tab1!C12)+(5*(Steuerung!$A$3-1))) -> 792.33333 | E26: =INDEX(Rohdaten_tab1!$1:$1048576,ROW(Rohdaten_tab1!D12),COLUMN(Rohdaten_tab1!D12)+(5*(Steuerung!$A$3-1))) -> 727.91667 | F26: =INDEX(Rohdaten_tab1!$1:$1048576,ROW(Rohdaten_tab1!E12),COLUMN(Rohdaten_tab1!E12)+(5*(Steuerung!$A$3-1))) -> 64.416667 | G26: =INDEX(Rohdaten_tab1!$1:$1048576,ROW(Rohdaten_tab1!F12),COLUMN(Rohdaten_tab1!F12)+(5*(Steuerung!$A$3-1))) -> 18.166667
A27: =IF(INDEX(Rohdaten_tab1!$A:$A,ROW(Rohdaten_tab1!$A13),COLUMN(Rohdaten_tab1!$A:$A))<>"",INDEX(Rohdaten_tab1!$A:$A,ROW(Rohdaten_tab1!$A13),COLUMN(Rohdaten_tab1!$A:$A)),"") -> 2016 | C27: =INDEX(Rohdaten_tab1!$1:$1048576,ROW(Rohdaten_tab1!B13),COLUMN(Rohdaten_tab1!B13)+(5*(Steuerung!$A$3-1))) -> 733.58333 | D27: =INDEX(Rohdaten_tab1!$1:$1048576,ROW(Rohdaten_tab1!C13),COLUMN(Rohdaten_tab1!C13)+(5*(Steuerung!$A$3-1))) -> 715.33333 | E27: =INDEX(Rohdaten_tab1!$1:$1048576,ROW(Rohdaten_tab1!D13),COLUMN(Rohdaten_tab1!D13)+(5*(Steuerung!$A$3-1))) -> 636.75 | F27: =INDEX(Rohdaten_tab1!$1:$1048576,ROW(Rohdaten_tab1!E13),COLUMN(Rohdaten_tab1!E13)+(5*(Steuerung!$A$3-1))) -> 78.583333 | G27: =INDEX(Rohdaten_tab1!$1:$1048576,ROW(Rohdaten_tab1!F13),COLUMN(Rohdaten_tab1!F13)+(5*(Steuerung!$A$3-1))) -> 18.25
... A70: =IF(INDEX(Rohdaten_tab1!$A:$A,ROW(Rohdaten_tab1!$A56),COLUMN(Rohdaten_tab1!$A:$A))<>"",INDEX(Rohdaten_tab1!$A:$A,ROW(Rohdaten_tab1!$A56),COLUMN(Rohdaten_tab1!$A:$A)),"") -> Oktober 2007 | C70: =INDEX(Rohdaten_tab1!$1:$1048576,ROW(Rohdaten_tab1!B56),COLUMN(Rohdaten_tab1!B56)+(5*(Steuerung!$A$3-1))) -> 1129 | D70: =INDEX(Rohdaten_tab1!$1:$1048576,ROW(Rohdaten_tab1!C56),COLUMN(Rohdaten_tab1!C56)+(5*(Steuerung!$A$3-1))) -> 1104 | E70: =INDEX(Rohdaten_tab1!$1:$1048576,ROW(Rohdaten_tab1!D56),COLUMN(Rohdaten_tab1!D56)+(5*(Steuerung!$A$3-1))) -> 1035 | F70: =INDEX(Rohdaten_tab1!$1:$1048576,ROW(Rohdaten_tab1!E56),COLUMN(Rohdaten_tab1!E56)+(5*(Steuerung!$A$3-1))) -> 69 | G70: =INDEX(Rohdaten_tab1!$1:$1048576,ROW(Rohdaten_tab1!F56),COLUMN(Rohdaten_tab1!F56)+(5*(Steuerung!$A$3-1))) -> 25
A71: November 2007 | C71: =INDEX(Rohdaten_tab1!$1:$1048576,ROW(Rohdaten_tab1!B57),COLUMN(Rohdaten_tab1!B57)+(5*(Steuerung!$A$3-1))) -> 1130 | D71: =INDEX(Rohdaten_tab1!$1:$1048576,ROW(Rohdaten_tab1!C57),COLUMN(Rohdaten_tab1!C57)+(5*(Steuerung!$A$3-1))) -> 1109 | E71: =INDEX(Rohdaten_tab1!$1:$1048576,ROW(Rohdaten_tab1!D57),COLUMN(Rohdaten_tab1!D57)+(5*(Steuerung!$A$3-1))) -> 1038 | F71: =INDEX(Rohdaten_tab1!$1:$1048576,ROW(Rohdaten_tab1!E57),COLUMN(Rohdaten_tab1!E57)+(5*(Steuerung!$A$3-1))) -> 71 | G71: =INDEX(Rohdaten_tab1!$1:$1048576,ROW(Rohdaten_tab1!F57),COLUMN(Rohdaten_tab1!F57)+(5*(Steuerung!$A$3-1))) -> 21
A72: Dezember 2007 | C72: =INDEX(Rohdaten_tab1!$1:$1048576,ROW(Rohdaten_tab1!B58),COLUMN(Rohdaten_tab1!B58)+(5*(Steuerung!$A$3-1))) -> 1234 | D72: =INDEX(Rohdaten_tab1!$1:$1048576,ROW(Rohdaten_tab1!C58),COLUMN(Rohdaten_tab1!C58)+(5*(Steuerung!$A$3-1))) -> 1204 | E72: =INDEX(Rohdaten_tab1!$1:$1048576,ROW(Rohdaten_tab1!D58),COLUMN(Rohdaten_tab1!D58)+(5*(Steuerung!$A$3-1))) -> 1150 | F72: =INDEX(Rohdaten_tab1!$1:$1048576,ROW(Rohdaten_tab1!E58),COLUMN(Rohdaten_tab1!E58)+(5*(Steuerung!$A$3-1))) -> 54 | G72: =INDEX(Rohdaten_tab1!$1:$1048576,ROW(Rohdaten_tab1!F58),COLUMN(Rohdaten_tab1!F58)+(5*(Steuerung!$A$3-1))) -> 30
A73: Januar 2008 | C73: =INDEX(Rohdaten_tab1!$1:$1048576,ROW(Rohdaten_tab1!B59),COLUMN(Rohdaten_tab1!B59)+(5*(Steuerung!$A$3-1))) -> 1713 | D73: =INDEX(Rohdaten_tab1!$1:$1048576,ROW(Rohdaten_tab1!C59),COLUMN(Rohdaten_tab1!C59)+(5*(Steuerung!$A$3-1))) -> 1679 | E73: =INDEX(Rohdaten_tab1!$1:$1048576,ROW(Rohdaten_tab1!D59),COLUMN(Rohdaten_tab1!D59)+(5*(Steuerung!$A$3-1))) -> 1628 | F73: =INDEX(Rohdaten_tab1!$1:$1048576,ROW(Rohdaten_tab1!E59),COLUMN(Rohdaten_tab1!E59)+(5*(Steuerung!$A$3-1))) -> 51 | G73: =INDEX(Rohdaten_tab1!$1:$1048576,ROW(Rohdaten_tab1!F59),COLUMN(Rohdaten_tab1!F59)+(5*(Steuerung!$A$3-1))) -> 34
A74: Februar 2008 | C74: =INDEX(Rohdaten_tab1!$1:$1048576,ROW(Rohdaten_tab1!B60),COLUMN(Rohdaten_tab1!B60)+(5*(Steuerung!$A$3-1))) -> 1722 | D74: =INDEX(Rohdaten_tab1!$1:$1048576,ROW(Rohdaten_tab1!C60),COLUMN(Rohdaten_tab1!C60)+(5*(Steuerung!$A$3-1))) -> 1696 | E74: =INDEX(Rohdaten_tab1!$1:$1048576,ROW(Rohdaten_tab1!D60),COLUMN(Rohdaten_tab1!D60)+(5*(Steuerung!$A$3-1))) -> 1641 | F74: =INDEX(Rohdaten_tab1!$1:$1048576,ROW(Rohdaten_tab1!E60),COLUMN(Rohdaten_tab1!E60)+(5*(Steuerung!$A$3-1))) -> 55 | G74: =INDEX(Rohdaten_tab1!$1:$1048576,ROW(Rohdaten_tab1!F60),COLUMN(Rohdaten_tab1!F60)+(5*(Steuerung!$A$3-1))) -> 26
A75: März 2008 | C75: =INDEX(Rohdaten_tab1!$1:$1048576,ROW(Rohdaten_tab1!B61),COLUMN(Rohdaten_tab1!B61)+(5*(Steuerung!$A$3-1))) -> 1570 | D75: =INDEX(Rohdaten_tab1!$1:$1048576,ROW(Rohdaten_tab1!C61),COLUMN(Rohdaten_tab1!C61)+(5*(Steuerung!$A$3-1))) -> 1528 | E75: =INDEX(Rohdaten_tab1!$1:$1048576,ROW(Rohdaten_tab1!D61),COLUMN(Rohdaten_tab1!D61)+(5*(Steuerung!$A$3-1))) -> 1457 | F75: =INDEX(Rohdaten_tab1!$1:$1048576,ROW(Rohdaten_tab1!E61),COLUMN(Rohdaten_tab1!E61)+(5*(Steuerung!$A$3-1))) -> 71 | G75: =INDEX(Rohdaten_tab1!$1:$1048576,ROW(Rohdaten_tab1!F61),COLUMN(Rohdaten_tab1!F61)+(5*(Steuerung!$A$3-1))) -> 42
A76: April 2008 | C76: =INDEX(Rohdaten_tab1!$1:$1048576,ROW(Rohdaten_tab1!B62),COLUMN(Rohdaten_tab1!B62)+(5*(Steuerung!$A$3-1))) -> 1327 | D76: =INDEX(Rohdaten_tab1!$1:$1048576,ROW(Rohdaten_tab1!C62),COLUMN(Rohdaten_tab1!C62)+(5*(Steuerung!$A$3-1))) -> 1298 | E76: =INDEX(Rohdaten_tab1!$1:$1048576,ROW(Rohdaten_tab1!D62),COLUMN(Rohdaten_tab1!D62)+(5*(Steuerung!$A$3-1))) -> 1228 | F76: =INDEX(Rohdaten_tab1!$1:$1048576,ROW(Rohdaten_tab1!E62),COLUMN(Rohdaten_tab1!E62)+(5*(Steuerung!$A$3-1))) -> 70 | G76: =INDEX(Rohdaten_tab1!$1:$1048576,ROW(Rohdaten_tab1!F62),COLUMN(Rohdaten_tab1!F62)+(5*(Steuerung!$A$3-1))) -> 29
A77: Mai 2008 | C77: =INDEX(Rohdaten_tab1!$1:$1048576,ROW(Rohdaten_tab1!B63),COLUMN(Rohdaten_tab1!B63)+(5*(Steuerung!$A$3-1))) -> 1164 | D77: =INDEX(Rohdaten_tab1!$1:$1048576,ROW(Rohdaten_tab1!C63),COLUMN(Rohdaten_tab1!C63)+(5*(Steuerung!$A$3-1))) -> 1143 | E77: =INDEX(Rohdaten_tab1!$1:$1048576,ROW(Rohdaten_tab1!D63),COLUMN(Rohdaten_tab1!D63)+(5*(Steuerung!$A$3-1))) -> 1080 | F77: =INDEX(Rohdaten_tab1!$1:$1048576,ROW(Rohdaten_tab1!E63),COLUMN(Rohdaten_tab1!E63)+(5*(Steuerung!$A$3-1))) -> 63 | G77: =INDEX(Rohdaten_tab1!$1:$1048576,ROW(Rohdaten_tab1!F63),COLUMN(Rohdaten_tab1!F63)+(5*(Steuerung!$A$3-1))) -> 21
A78: Juni 2008 | C78: =INDEX(Rohdaten_tab1!$1:$1048576,ROW(Rohdaten_tab1!B64),COLUMN(Rohdaten_tab1!B64)+(5*(Steuerung!$A$3-1))) -> 1128 | D78: =INDEX(Rohdaten_tab1!$1:$1048576,ROW(Rohdaten_tab1!C64),COLUMN(Rohdaten_tab1!C64)+(5*(Steuerung!$A$3-1))) -> 1101 | E78: =INDEX(Rohdaten_tab1!$1:$1048576,ROW(Rohdaten_tab1!D64),COLUMN(Rohdaten_tab1!D64)+(5*(Steuerung!$A$3-1))) -> 1040 | F78: =INDEX(Rohdaten_tab1!$1:$1048576,ROW(Rohdaten_tab1!E64),COLUMN(Rohdaten_tab1!E64)+(5*(Steuerung!$A$3-1))) -> 61 | G78: =INDEX(Rohdaten_tab1!$1:$1048576,ROW(Rohdaten_tab1!F64),COLUMN(Rohdaten_tab1!F64)+(5*(Steuerung!$A$3-1))) -> 27
A79: Juli 2008 | C79: =INDEX(Rohdaten_tab1!$1:$1048576,ROW(Rohdaten_tab1!B65),COLUMN(Rohdaten_tab1!B65)+(5*(Steuerung!$A$3-1))) -> 1137 | D79: =INDEX(Rohdaten_tab1!$1:$1048576,ROW(Rohdaten_tab1!C65),COLUMN(Rohdaten_tab1!C65)+(5*(Steuerung!$A$3-1))) -> 1108 | E79: =INDEX(Rohdaten_tab1!$1:$1048576,ROW(Rohdaten_tab1!D65),COLUMN(Rohdaten_tab1!D65)+(5*(Steuerung!$A$3-1))) -> 1051 | F79: =INDEX(Rohdaten_tab1!$1:$1048576,ROW(Rohdaten_tab1!E65),COLUMN(Rohdaten_tab1!E65)+(5*(Steuerung!$A$3-1))) -> 57 | G79: =INDEX(Rohdaten_tab1!$1:$1048576,ROW(Rohdaten_tab1!F65),COLUMN(Rohdaten_tab1!F65)+(5*(Steuerung!$A$3-1))) -> 29
A80: August 2008 | C80: =INDEX(Rohdaten_tab1!$1:$1048576,ROW(Rohdaten_tab1!B66),COLUMN(Rohdaten_tab1!B66)+(5*(Steuerung!$A$3-1))) -> 1082 | D80: =INDEX(Rohdaten_tab1!$1:$1048576,ROW(Rohdaten_tab1!C66),COLUMN(Rohdaten_tab1!C66)+(5*(Steuerung!$A$3-1))) -> 1053 | E80: =INDEX(Rohdaten_tab1!$1:$1048576,ROW(Rohdaten_tab1!D66),COLUMN(Rohdaten_tab1!D66)+(5*(Steuerung!$A$3-1))) -> 1012 | F80: =INDEX(Rohdaten_tab1!$1:$1048576,ROW(Rohdaten_tab1!E66),COLUMN(Rohdaten_tab1!E66)+(5*(Steuerung!$A$3-1))) -> 41 | G80: =INDEX(Rohdaten_tab1!$1:$1048576,ROW(Rohdaten_tab1!F66),COLUMN(Rohdaten_tab1!F66)+(5*(Steuerung!$A$3-1))) -> 29
A81: September 2008 | C81: =INDEX(Rohdaten_tab1!$1:$1048576,ROW(Rohdaten_tab1!B67),COLUMN(Rohdaten_tab1!B67)+(5*(Steuerung!$A$3-1))) -> 960 | D81: =INDEX(Rohdaten_tab1!$1:$1048576,ROW(Rohdaten_tab1!C67),COLUMN(Rohdaten_tab1!C67)+(5*(Steuerung!$A$3-1))) -> 936 | E81: =INDEX(Rohdaten_tab1!$1:$1048576,ROW(Rohdaten_tab1!D67),COLUMN(Rohdaten_tab1!D67)+(5*(Steuerung!$A$3-1))) -> 869 | F81: =INDEX(Rohdaten_tab1!$1:$1048576,ROW(Rohdaten_tab1!E67),COLUMN(Rohdaten_tab1!E67)+(5*(Steuerung!$A$3-1))) -> 67 | G81: =INDEX(Rohdaten_tab1!$1:$1048576,ROW(Rohdaten_tab1!F67),COLUMN(Rohdaten_tab1!F67)+(5*(Steuerung!$A$3-1))) -> 24
A82: Oktober 2008 | C82: =INDEX(Rohdaten_tab1!$1:$1048576,ROW(Rohdaten_tab1!B68),COLUMN(Rohdaten_tab1!B68)+(5*(Steuerung!$A$3-1))) -> 933 | D82: =INDEX(Rohdaten_tab1!$1:$1048576,ROW(Rohdaten_tab1!C68),COLUMN(Rohdaten_tab1!C68)+(5*(Steuerung!$A$3-1))) -> 900 | E82: =INDEX(Rohdaten_tab1!$1:$1048576,ROW(Rohdaten_tab1!D68),COLUMN(Rohdaten_tab1!D68)+(5*(Steuerung!$A$3-1))) -> 830 | F82: =INDEX(Rohdaten_tab1!$1:$1048576,ROW(Rohdaten_tab1!E68),COLUMN(Rohdaten_tab1!E68)+(5*(Steuerung!$A$3-1))) -> 70 | G82: =INDEX(Rohdaten_tab1!$1:$1048576,ROW(Rohdaten_tab1!F68),COLUMN(Rohdaten_tab1!F68)+(5*(Steuerung!$A$3-1))) -> 33
... A298: Oktober 2026 | C298: =INDEX(Rohdaten_tab1!$1:$1048576,ROW(Rohdaten_tab1!B284),COLUMN(Rohdaten_tab1!B284)+(5*(Steuerung!$A$3-1))) -> ... | D298: =INDEX(Rohdaten_tab1!$1:$1048576,ROW(Rohdaten_tab1!C284),COLUMN(Rohdaten_tab1!C284)+(5*(Steuerung!$A$3-1))) -> ... | E298: =INDEX(Rohdaten_tab1!$1:$1048576,ROW(Rohdaten_tab1!D284),COLUMN(Rohdaten_tab1!D284)+(5*(Steuerung!$A$3-1))) -> 701 | F298: =INDEX(Rohdaten_tab1!$1:$1048576,ROW(Rohdaten_tab1!E284),COLUMN(Rohdaten_tab1!E284)+(5*(Steuerung!$A$3-1))) -> ... | G298: =INDEX(Rohdaten_tab1!$1:$1048576,ROW(Rohdaten_tab1!F284),COLUMN(Rohdaten_tab1!F284)+(5*(Steuerung!$A$3-1))) -> ...
G299: © Statistik der Bundesagentur für Arbeit
A301: 1) In den Berichtsjahren 2005 und 2006 erfolgt noch keine Berichterstattung über Anspruchsberechtigte in Sperrzeit. Dennoch werden in diesen Jahren Monatswerte zu Anspruchsberechtigten (AB) und zu Leistungsbeziehenden (LB) veröffentlicht. Aus der Differenzgröße von AB und LB kann in den betroffenen Jahren nicht auf die Größe der Anspruchsberechtigten in Sperrzeit geschlossen werden.
A302: 2) Das Merkmal enthält neben den Anspruchsberechtigten in Sperrzeit auch Anspruchsberechtigte mit Ruhenszeiten sowie Versagens- und Entziehenszeiten (VE-Zeiten) mit einer Minderungswirkung auf die Anspruchsdauer.
A303: Hinweis:
A304: Die Zählweise von Ausländern hat sich im Vergleich zu früheren Publikationen geändert. Staatenlose und Personen ohne Angabe zur Staatsangehörigkeit werden nun nicht mehr unter „Keine Angabe“, sondern zu den Ausländern gezählt. Details dazu finden Sie in der Hintergrundinfo „Statistiken nach Staatsangehörigkeit – neue Zuordnung von Staatenlosen und Personen ohne Angabe der Staatsangehörigkeit“ auf unserer Internetseite Grundlagen > Methodik und Qualität > Methodenberichte und Hintergrundinfos > Übergreifende Themen.

Sheet Tab 2
F1: Arbeitslosengeld nach dem SGB III
A3: =CONCATENATE("2. Bestand an nicht arbeitslosen Leistungsbeziehenden",Auswahl_Text) -> 2. Bestand an nicht arbeitslosen Leistungsbeziehenden
A4: Hildburghausen (Gebietsstand Oktober 2026)
A5: Zeitreihe
A7: Daten zu Arbeitslosengeld nach dem SGB III (Alg) nach einer Wartezeit von 2 Monaten.
A13: Jahresdurchschnitt/ Berichtsmonat | C13: nicht arbeitslose Leistungs- beziehende 1) | D13: dar. (Sp. 1)
D14: Arbeitslosengeld bei Weiterbildung | E14: Leistungsfortzahlung bei Arbeitsunfähigkeit | F14: Minderung der Leistungsfähigkeit
C15: 1 | D15: 2 | E15: 3 | F15: 4
A16: =IF(INDEX(Rohdaten_tab2!$A:$A,ROW(Rohdaten_tab2!$A2),COLUMN(Rohdaten_tab2!$A:$A))<>"",INDEX(Rohdaten_tab2!$A:$A,ROW(Rohdaten_tab2!$A2),COLUMN(Rohdaten_tab2!$A:$A)),"") -> 2005 | C16: =INDEX(Rohdaten_tab2!$1:$1048576,ROW(Rohdaten_tab2!B2),COLUMN(Rohdaten_tab2!B2)+(4*(Steuerung!$A$3-1))) -> X | D16: =INDEX(Rohdaten_tab2!$1:$1048576,ROW(Rohdaten_tab2!C2),COLUMN(Rohdaten_tab2!C2)+(4*(Steuerung!$A$3-1))) -> 142 | E16: =INDEX(Rohdaten_tab2!$1:$1048576,ROW(Rohdaten_tab2!D2),COLUMN(Rohdaten_tab2!D2)+(4*(Steuerung!$A$3-1))) -> 76.333333 | F16: =INDEX(Rohdaten_tab2!$1:$1048576,ROW(Rohdaten_tab2!E2),COLUMN(Rohdaten_tab2!E2)+(4*(Steuerung!$A$3-1))) -> 6.9166667
A17: =IF(INDEX(Rohdaten_tab2!$A:$A,ROW(Rohdaten_tab2!$A3),COLUMN(Rohdaten_tab2!$A:$A))<>"",INDEX(Rohdaten_tab2!$A:$A,ROW(Rohdaten_tab2!$A3),COLUMN(Rohdaten_tab2!$A:$A)),"") -> 2006 | C17: =INDEX(Rohdaten_tab2!$1:$1048576,ROW(Rohdaten_tab2!B3),COLUMN(Rohdaten_tab2!B3)+(4*(Steuerung!$A$3-1))) -> X | D17: =INDEX(Rohdaten_tab2!$1:$1048576,ROW(Rohdaten_tab2!C3),COLUMN(Rohdaten_tab2!C3)+(4*(Steuerung!$A$3-1))) -> 106.25 | E17: =INDEX(Rohdaten_tab2!$1:$1048576,ROW(Rohdaten_tab2!D3),COLUMN(Rohdaten_tab2!D3)+(4*(Steuerung!$A$3-1))) -> 57.583333 | F17: =INDEX(Rohdaten_tab2!$1:$1048576,ROW(Rohdaten_tab2!E3),COLUMN(Rohdaten_tab2!E3)+(4*(Steuerung!$A$3-1))) -> 13.083333
A18: =IF(INDEX(Rohdaten_tab2!$A:$A,ROW(Rohdaten_tab2!$A4),COLUMN(Rohdaten_tab2!$A:$A))<>"",INDEX(Rohdaten_tab2!$A:$A,ROW(Rohdaten_tab2!$A4),COLUMN(Rohdaten_tab2!$A:$A)),"") -> 2007 | C18: =INDEX(Rohdaten_tab2!$1:$1048576,ROW(Rohdaten_tab2!B4),COLUMN(Rohdaten_tab2!B4)+(4*(Steuerung!$A$3-1))) -> 527.83333 | D18: =INDEX(Rohdaten_tab2!$1:$1048576,ROW(Rohdaten_tab2!C4),COLUMN(Rohdaten_tab2!C4)+(4*(Steuerung!$A$3-1))) -> 94.333333 | E18: =INDEX(Rohdaten_tab2!$1:$1048576,ROW(Rohdaten_tab2!D4),COLUMN(Rohdaten_tab2!D4)+(4*(Steuerung!$A$3-1))) -> 61.25 | F18: =INDEX(Rohdaten_tab2!$1:$1048576,ROW(Rohdaten_tab2!E4),COLUMN(Rohdaten_tab2!E4)+(4*(Steuerung!$A$3-1))) -> 13.75
A19: =IF(INDEX(Rohdaten_tab2!$A:$A,ROW(Rohdaten_tab2!$A5),COLUMN(Rohdaten_tab2!$A:$A))<>"",INDEX(Rohdaten_tab2!$A:$A,ROW(Rohdaten_tab2!$A5),COLUMN(Rohdaten_tab2!$A:$A)),"") -> 2008 | C19: =INDEX(Rohdaten_tab2!$1:$1048576,ROW(Rohdaten_tab2!B5),COLUMN(Rohdaten_tab2!B5)+(4*(Steuerung!$A$3-1))) -> 356.75 | D19: =INDEX(Rohdaten_tab2!$1:$1048576,ROW(Rohdaten_tab2!C5),COLUMN(Rohdaten_tab2!C5)+(4*(Steuerung!$A$3-1))) -> 61.5 | E19: =INDEX(Rohdaten_tab2!$1:$1048576,ROW(Rohdaten_tab2!D5),COLUMN(Rohdaten_tab2!D5)+(4*(Steuerung!$A$3-1))) -> 64.416667 | F19: =INDEX(Rohdaten_tab2!$1:$1048576,ROW(Rohdaten_tab2!E5),COLUMN(Rohdaten_tab2!E5)+(4*(Steuerung!$A$3-1))) -> 5.1666667
A20: =IF(INDEX(Rohdaten_tab2!$A:$A,ROW(Rohdaten_tab2!$A6),COLUMN(Rohdaten_tab2!$A:$A))<>"",INDEX(Rohdaten_tab2!$A:$A,ROW(Rohdaten_tab2!$A6),COLUMN(Rohdaten_tab2!$A:$A)),"") -> 2009 | C20: =INDEX(Rohdaten_tab2!$1:$1048576,ROW(Rohdaten_tab2!B6),COLUMN(Rohdaten_tab2!B6)+(4*(Steuerung!$A$3-1))) -> 266.5 | D20: =INDEX(Rohdaten_tab2!$1:$1048576,ROW(Rohdaten_tab2!C6),COLUMN(Rohdaten_tab2!C6)+(4*(Steuerung!$A$3-1))) -> 81.916667 | E20: =INDEX(Rohdaten_tab2!$1:$1048576,ROW(Rohdaten_tab2!D6),COLUMN(Rohdaten_tab2!D6)+(4*(Steuerung!$A$3-1))) -> 72.666667 | F20: =INDEX(Rohdaten_tab2!$1:$1048576,ROW(Rohdaten_tab2!E6),COLUMN(Rohdaten_tab2!E6)+(4*(Steuerung!$A$3-1))) -> 16.25
A21: =IF(INDEX(Rohdaten_tab2!$A:$A,ROW(Rohdaten_tab2!$A7),COLUMN(Rohdaten_tab2!$A:$A))<>"",INDEX(Rohdaten_tab2!$A:$A,ROW(Rohdaten_tab2!$A7),COLUMN(Rohdaten_tab2!$A:$A)),"") -> 2010 | C21: =INDEX(Rohdaten_tab2!$1:$1048576,ROW(Rohdaten_tab2!B7),COLUMN(Rohdaten_tab2!B7)+(4*(Steuerung!$A$3-1))) -> 218.75 | D21: =INDEX(Rohdaten_tab2!$1:$1048576,ROW(Rohdaten_tab2!C7),COLUMN(Rohdaten_tab2!C7)+(4*(Steuerung!$A$3-1))) -> 82.666667 | E21: =INDEX(Rohdaten_tab2!$1:$1048576,ROW(Rohdaten_tab2!D7),COLUMN(Rohdaten_tab2!D7)+(4*(Steuerung!$A$3-1))) -> 70.5 | F21: =INDEX(Rohdaten_tab2!$1:$1048576,ROW(Rohdaten_tab2!E7),COLUMN(Rohdaten_tab2!E7)+(4*(Steuerung!$A$3-1))) -> 16.916667
A22: =IF(INDEX(Rohdaten_tab2!$A:$A,ROW(Rohdaten_tab2!$A8),COLUMN(Rohdaten_tab2!$A:$A))<>"",INDEX(Rohdaten_tab2!$A:$A,ROW(Rohdaten_tab2!$A8),COLUMN(Rohdaten_tab2!$A:$A)),"") -> 2011 | C22: =INDEX(Rohdaten_tab2!$1:$1048576,ROW(Rohdaten_tab2!B8),COLUMN(Rohdaten_tab2!B8)+(4*(Steuerung!$A$3-1))) -> 195.08333 | D22: =INDEX(Rohdaten_tab2!$1:$1048576,ROW(Rohdaten_tab2!C8),COLUMN(Rohdaten_tab2!C8)+(4*(Steuerung!$A$3-1))) -> 83.083333 | E22: =INDEX(Rohdaten_tab2!$1:$1048576,ROW(Rohdaten_tab2!D8),COLUMN(Rohdaten_tab2!D8)+(4*(Steuerung!$A$3-1))) -> 64.833333 | F22: =INDEX(Rohdaten_tab2!$1:$1048576,ROW(Rohdaten_tab2!E8),COLUMN(Rohdaten_tab2!E8)+(4*(Steuerung!$A$3-1))) -> 13.166667
A23: =IF(INDEX(Rohdaten_tab2!$A:$A,ROW(Rohdaten_tab2!$A9),COLUMN(Rohdaten_tab2!$A:$A))<>"",INDEX(Rohdaten_tab2!$A:$A,ROW(Rohdaten_tab2!$A9),COLUMN(Rohdaten_tab2!$A:$A)),"") -> 2012 | C23: =INDEX(Rohdaten_tab2!$1:$1048576,ROW(Rohdaten_tab2!B9),COLUMN(Rohdaten_tab2!B9)+(4*(Steuerung!$A$3-1))) -> 172.91667 | D23: =INDEX(Rohdaten_tab2!$1:$1048576,ROW(Rohdaten_tab2!C9),COLUMN(Rohdaten_tab2!C9)+(4*(Steuerung!$A$3-1))) -> 66.333333 | E23: =INDEX(Rohdaten_tab2!$1:$1048576,ROW(Rohdaten_tab2!D9),COLUMN(Rohdaten_tab2!D9)+(4*(Steuerung!$A$3-1))) -> 55.333333 | F23: =INDEX(Rohdaten_tab2!$1:$1048576,ROW(Rohdaten_tab2!E9),COLUMN(Rohdaten_tab2!E9)+(4*(Steuerung!$A$3-1))) -> 16.666667
A24: =IF(INDEX(Rohdaten_tab2!$A:$A,ROW(Rohdaten_tab2!$A10),COLUMN(Rohdaten_tab2!$A:$A))<>"",INDEX(Rohdaten_tab2!$A:$A,ROW(Rohdaten_tab2!$A10),COLUMN(Rohdaten_tab2!$A:$A)),"") -> 2013 | C24: =INDEX(Rohdaten_tab2!$1:$1048576,ROW(Rohdaten_tab2!B10),COLUMN(Rohdaten_tab2!B10)+(4*(Steuerung!$A$3-1))) -> 187.58333 | D24: =INDEX(Rohdaten_tab2!$1:$1048576,ROW(Rohdaten_tab2!C10),COLUMN(Rohdaten_tab2!C10)+(4*(Steuerung!$A$3-1))) -> 68.5 | E24: =INDEX(Rohdaten_tab2!$1:$1048576,ROW(Rohdaten_tab2!D10),COLUMN(Rohdaten_tab2!D10)+(4*(Steuerung!$A$3-1))) -> 64.583333 | F24: =INDEX(Rohdaten_tab2!$1:$1048576,ROW(Rohdaten_tab2!E10),COLUMN(Rohdaten_tab2!E10)+(4*(Steuerung!$A$3-1))) -> 24.083333
A25: =IF(INDEX(Rohdaten_tab2!$A:$A,ROW(Rohdaten_tab2!$A11),COLUMN(Rohdaten_tab2!$A:$A))<>"",INDEX(Rohdaten_tab2!$A:$A,ROW(Rohdaten_tab2!$A11),COLUMN(Rohdaten_tab2!$A:$A)),"") -> 2014 | C25: =INDEX(Rohdaten_tab2!$1:$1048576,ROW(Rohdaten_tab2!B11),COLUMN(Rohdaten_tab2!B11)+(4*(Steuerung!$A$3-1))) -> 182.33333 | D25: =INDEX(Rohdaten_tab2!$1:$1048576,ROW(Rohdaten_tab2!C11),COLUMN(Rohdaten_tab2!C11)+(4*(Steuerung!$A$3-1))) -> 72 | E25: =INDEX(Rohdaten_tab2!$1:$1048576,ROW(Rohdaten_tab2!D11),COLUMN(Rohdaten_tab2!D11)+(4*(Steuerung!$A$3-1))) -> 57.833333 | F25: =INDEX(Rohdaten_tab2!$1:$1048576,ROW(Rohdaten_tab2!E11),COLUMN(Rohdaten_tab2!E11)+(4*(Steuerung!$A$3-1))) -> 22.083333
A26: =IF(INDEX(Rohdaten_tab2!$A:$A,ROW(Rohdaten_tab2!$A12),COLUMN(Rohdaten_tab2!$A:$A))<>"",INDEX(Rohdaten_tab2!$A:$A,ROW(Rohdaten_tab2!$A12),COLUMN(Rohdaten_tab2!$A:$A)),"") -> 2015 | C26: =INDEX(Rohdaten_tab2!$1:$1048576,ROW(Rohdaten_tab2!B12),COLUMN(Rohdaten_tab2!B12)+(4*(Steuerung!$A$3-1))) -> 178.83333 | D26: =INDEX(Rohdaten_tab2!$1:$1048576,ROW(Rohdaten_tab2!C12),COLUMN(Rohdaten_tab2!C12)+(4*(Steuerung!$A$3-1))) -> 64.416667 | E26: =INDEX(Rohdaten_tab2!$1:$1048576,ROW(Rohdaten_tab2!D12),COLUMN(Rohdaten_tab2!D12)+(4*(Steuerung!$A$3-1))) -> 50.666667 | F26: =INDEX(Rohdaten_tab2!$1:$1048576,ROW(Rohdaten_tab2!E12),COLUMN(Rohdaten_tab2!E12)+(4*(Steuerung!$A$3-1))) -> 39.083333
A27: =IF(INDEX(Rohdaten_tab2!$A:$A,ROW(Rohdaten_tab2!$A13),COLUMN(Rohdaten_tab2!$A:$A))<>"",INDEX(Rohdaten_tab2!$A:$A,ROW(Rohdaten_tab2!$A13),COLUMN(Rohdaten_tab2!$A:$A)),"") -> 2016 | C27: =INDEX(Rohdaten_tab2!$1:$1048576,ROW(Rohdaten_tab2!B13),COLUMN(Rohdaten_tab2!B13)+(4*(Steuerung!$A$3-1))) -> 183.25 | D27: =INDEX(Rohdaten_tab2!$1:$1048576,ROW(Rohdaten_tab2!C13),COLUMN(Rohdaten_tab2!C13)+(4*(Steuerung!$A$3-1))) -> 78.583333 | E27: =INDEX(Rohdaten_tab2!$1:$1048576,ROW(Rohdaten_tab2!D13),COLUMN(Rohdaten_tab2!D13)+(4*(Steuerung!$A$3-1))) -> 45.583333 | F27: =INDEX(Rohdaten_tab2!$1:$1048576,ROW(Rohdaten_tab2!E13),COLUMN(Rohdaten_tab2!E13)+(4*(Steuerung!$A$3-1))) -> 34.083333
... A70: =IF(INDEX(Rohdaten_tab2!$A:$A,ROW(Rohdaten_tab2!$A56),COLUMN(Rohdaten_tab2!$A:$A))<>"",INDEX(Rohdaten_tab2!$A:$A,ROW(Rohdaten_tab2!$A56),COLUMN(Rohdaten_tab2!$A:$A)),"") -> Oktober 2007 | C70: =INDEX(Rohdaten_tab2!$1:$1048576,ROW(Rohdaten_tab2!B56),COLUMN(Rohdaten_tab2!B56)+(4*(Steuerung!$A$3-1))) -> 445 | D70: =INDEX(Rohdaten_tab2!$1:$1048576,ROW(Rohdaten_tab2!C56),COLUMN(Rohdaten_tab2!C56)+(4*(Steuerung!$A$3-1))) -> 69 | E70: =INDEX(Rohdaten_tab2!$1:$1048576,ROW(Rohdaten_tab2!D56),COLUMN(Rohdaten_tab2!D56)+(4*(Steuerung!$A$3-1))) -> 47 | F70: =INDEX(Rohdaten_tab2!$1:$1048576,ROW(Rohdaten_tab2!E56),COLUMN(Rohdaten_tab2!E56)+(4*(Steuerung!$A$3-1))) -> 13
A71: November 2007 | C71: =INDEX(Rohdaten_tab2!$1:$1048576,ROW(Rohdaten_tab2!B57),COLUMN(Rohdaten_tab2!B57)+(4*(Steuerung!$A$3-1))) -> 437 | D71: =INDEX(Rohdaten_tab2!$1:$1048576,ROW(Rohdaten_tab2!C57),COLUMN(Rohdaten_tab2!C57)+(4*(Steuerung!$A$3-1))) -> 71 | E71: =INDEX(Rohdaten_tab2!$1:$1048576,ROW(Rohdaten_tab2!D57),COLUMN(Rohdaten_tab2!D57)+(4*(Steuerung!$A$3-1))) -> 66 | F71: =INDEX(Rohdaten_tab2!$1:$1048576,ROW(Rohdaten_tab2!E57),COLUMN(Rohdaten_tab2!E57)+(4*(Steuerung!$A$3-1))) -> 11
A72: Dezember 2007 | C72: =INDEX(Rohdaten_tab2!$1:$1048576,ROW(Rohdaten_tab2!B58),COLUMN(Rohdaten_tab2!B58)+(4*(Steuerung!$A$3-1))) -> 440 | D72: =INDEX(Rohdaten_tab2!$1:$1048576,ROW(Rohdaten_tab2!C58),COLUMN(Rohdaten_tab2!C58)+(4*(Steuerung!$A$3-1))) -> 54 | E72: =INDEX(Rohdaten_tab2!$1:$1048576,ROW(Rohdaten_tab2!D58),COLUMN(Rohdaten_tab2!D58)+(4*(Steuerung!$A$3-1))) -> 73 | F72: =INDEX(Rohdaten_tab2!$1:$1048576,ROW(Rohdaten_tab2!E58),COLUMN(Rohdaten_tab2!E58)+(4*(Steuerung!$A$3-1))) -> 9
A73: Januar 2008 | C73: =INDEX(Rohdaten_tab2!$1:$1048576,ROW(Rohdaten_tab2!B59),COLUMN(Rohdaten_tab2!B59)+(4*(Steuerung!$A$3-1))) -> 449 | D73: =INDEX(Rohdaten_tab2!$1:$1048576,ROW(Rohdaten_tab2!C59),COLUMN(Rohdaten_tab2!C59)+(4*(Steuerung!$A$3-1))) -> 51 | E73: =INDEX(Rohdaten_tab2!$1:$1048576,ROW(Rohdaten_tab2!D59),COLUMN(Rohdaten_tab2!D59)+(4*(Steuerung!$A$3-1))) -> 62 | F73: =INDEX(Rohdaten_tab2!$1:$1048576,ROW(Rohdaten_tab2!E59),COLUMN(Rohdaten_tab2!E59)+(4*(Steuerung!$A$3-1))) -> 7
A74: Februar 2008 | C74: =INDEX(Rohdaten_tab2!$1:$1048576,ROW(Rohdaten_tab2!B60),COLUMN(Rohdaten_tab2!B60)+(4*(Steuerung!$A$3-1))) -> 489 | D74: =INDEX(Rohdaten_tab2!$1:$1048576,ROW(Rohdaten_tab2!C60),COLUMN(Rohdaten_tab2!C60)+(4*(Steuerung!$A$3-1))) -> 55 | E74: =INDEX(Rohdaten_tab2!$1:$1048576,ROW(Rohdaten_tab2!D60),COLUMN(Rohdaten_tab2!D60)+(4*(Steuerung!$A$3-1))) -> 97 | F74: =INDEX(Rohdaten_tab2!$1:$1048576,ROW(Rohdaten_tab2!E60),COLUMN(Rohdaten_tab2!E60)+(4*(Steuerung!$A$3-1))) -> 3
A75: März 2008 | C75: =INDEX(Rohdaten_tab2!$1:$1048576,ROW(Rohdaten_tab2!B61),COLUMN(Rohdaten_tab2!B61)+(4*(Steuerung!$A$3-1))) -> 476 | D75: =INDEX(Rohdaten_tab2!$1:$1048576,ROW(Rohdaten_tab2!C61),COLUMN(Rohdaten_tab2!C61)+(4*(Steuerung!$A$3-1))) -> 71 | E75: =INDEX(Rohdaten_tab2!$1:$1048576,ROW(Rohdaten_tab2!D61),COLUMN(Rohdaten_tab2!D61)+(4*(Steuerung!$A$3-1))) -> 88 | F75: =INDEX(Rohdaten_tab2!$1:$1048576,ROW(Rohdaten_tab2!E61),COLUMN(Rohdaten_tab2!E61)+(4*(Steuerung!$A$3-1))) -> 4
A76: April 2008 | C76: =INDEX(Rohdaten_tab2!$1:$1048576,ROW(Rohdaten_tab2!B62),COLUMN(Rohdaten_tab2!B62)+(4*(Steuerung!$A$3-1))) -> 429 | D76: =INDEX(Rohdaten_tab2!$1:$1048576,ROW(Rohdaten_tab2!C62),COLUMN(Rohdaten_tab2!C62)+(4*(Steuerung!$A$3-1))) -> 70 | E76: =INDEX(Rohdaten_tab2!$1:$1048576,ROW(Rohdaten_tab2!D62),COLUMN(Rohdaten_tab2!D62)+(4*(Steuerung!$A$3-1))) -> 67 | F76: =INDEX(Rohdaten_tab2!$1:$1048576,ROW(Rohdaten_tab2!E62),COLUMN(Rohdaten_tab2!E62)+(4*(Steuerung!$A$3-1))) -> 3
A77: Mai 2008 | C77: =INDEX(Rohdaten_tab2!$1:$1048576,ROW(Rohdaten_tab2!B63),COLUMN(Rohdaten_tab2!B63)+(4*(Steuerung!$A$3-1))) -> 385 | D77: =INDEX(Rohdaten_tab2!$1:$1048576,ROW(Rohdaten_tab2!C63),COLUMN(Rohdaten_tab2!C63)+(4*(Steuerung!$A$3-1))) -> 63 | E77: =INDEX(Rohdaten_tab2!$1:$1048576,ROW(Rohdaten_tab2!D63),COLUMN(Rohdaten_tab2!D63)+(4*(Steuerung!$A$3-1))) -> 58 | F77: =INDEX(Rohdaten_tab2!$1:$1048576,ROW(Rohdaten_tab2!E63),COLUMN(Rohdaten_tab2!E63)+(4*(Steuerung!$A$3-1))) -> 3
A78: Juni 2008 | C78: =INDEX(Rohdaten_tab2!$1:$1048576,ROW(Rohdaten_tab2!B64),COLUMN(Rohdaten_tab2!B64)+(4*(Steuerung!$A$3-1))) -> 370 | D78: =INDEX(Rohdaten_tab2!$1:$1048576,ROW(Rohdaten_tab2!C64),COLUMN(Rohdaten_tab2!C64)+(4*(Steuerung!$A$3-1))) -> 61 | E78: =INDEX(Rohdaten_tab2!$1:$1048576,ROW(Rohdaten_tab2!D64),COLUMN(Rohdaten_tab2!D64)+(4*(Steuerung!$A$3-1))) -> 51 | F78: =INDEX(Rohdaten_tab2!$1:$1048576,ROW(Rohdaten_tab2!E64),COLUMN(Rohdaten_tab2!E64)+(4*(Steuerung!$A$3-1))) -> 4
A79: Juli 2008 | C79: =INDEX(Rohdaten_tab2!$1:$1048576,ROW(Rohdaten_tab2!B65),COLUMN(Rohdaten_tab2!B65)+(4*(Steuerung!$A$3-1))) -> 355 | D79: =INDEX(Rohdaten_tab2!$1:$1048576,ROW(Rohdaten_tab2!C65),COLUMN(Rohdaten_tab2!C65)+(4*(Steuerung!$A$3-1))) -> 57 | E79: =INDEX(Rohdaten_tab2!$1:$1048576,ROW(Rohdaten_tab2!D65),COLUMN(Rohdaten_tab2!D65)+(4*(Steuerung!$A$3-1))) -> 54 | F79: =INDEX(Rohdaten_tab2!$1:$1048576,ROW(Rohdaten_tab2!E65),COLUMN(Rohdaten_tab2!E65)+(4*(Steuerung!$A$3-1))) -> 4
A80: August 2008 | C80: =INDEX(Rohdaten_tab2!$1:$1048576,ROW(Rohdaten_tab2!B66),COLUMN(Rohdaten_tab2!B66)+(4*(Steuerung!$A$3-1))) -> 315 | D80: =INDEX(Rohdaten_tab2!$1:$1048576,ROW(Rohdaten_tab2!C66),COLUMN(Rohdaten_tab2!C66)+(4*(Steuerung!$A$3-1))) -> 41 | E80: =INDEX(Rohdaten_tab2!$1:$1048576,ROW(Rohdaten_tab2!D66),COLUMN(Rohdaten_tab2!D66)+(4*(Steuerung!$A$3-1))) -> 53 | F80: =INDEX(Rohdaten_tab2!$1:$1048576,ROW(Rohdaten_tab2!E66),COLUMN(Rohdaten_tab2!E66)+(4*(Steuerung!$A$3-1))) -> 6
A81: September 2008 | C81: =INDEX(Rohdaten_tab2!$1:$1048576,ROW(Rohdaten_tab2!B67),COLUMN(Rohdaten_tab2!B67)+(4*(Steuerung!$A$3-1))) -> 289 | D81: =INDEX(Rohdaten_tab2!$1:$1048576,ROW(Rohdaten_tab2!C67),COLUMN(Rohdaten_tab2!C67)+(4*(Steuerung!$A$3-1))) -> 67 | E81: =INDEX(Rohdaten_tab2!$1:$1048576,ROW(Rohdaten_tab2!D67),COLUMN(Rohdaten_tab2!D67)+(4*(Steuerung!$A$3-1))) -> 69 | F81: =INDEX(Rohdaten_tab2!$1:$1048576,ROW(Rohdaten_tab2!E67),COLUMN(Rohdaten_tab2!E67)+(4*(Steuerung!$A$3-1))) -> 7
A82: Oktober 2008 | C82: =INDEX(Rohdaten_tab2!$1:$1048576,ROW(Rohdaten_tab2!B68),COLUMN(Rohdaten_tab2!B68)+(4*(Steuerung!$A$3-1))) -> 241 | D82: =INDEX(Rohdaten_tab2!$1:$1048576,ROW(Rohdaten_tab2!C68),COLUMN(Rohdaten_tab2!C68)+(4*(Steuerung!$A$3-1))) -> 70 | E82: =INDEX(Rohdaten_tab2!$1:$1048576,ROW(Rohdaten_tab2!D68),COLUMN(Rohdaten_tab2!D68)+(4*(Steuerung!$A$3-1))) -> 46 | F82: =INDEX(Rohdaten_tab2!$1:$1048576,ROW(Rohdaten_tab2!E68),COLUMN(Rohdaten_tab2!E68)+(4*(Steuerung!$A$3-1))) -> 5
... A296: August 2026 | C296: =INDEX(Rohdaten_tab2!$1:$1048576,ROW(Rohdaten_tab2!B282),COLUMN(Rohdaten_tab2!B282)+(4*(Steuerung!$A$3-1))) -> 177 | D296: =INDEX(Rohdaten_tab2!$1:$1048576,ROW(Rohdaten_tab2!C282),COLUMN(Rohdaten_tab2!C282)+(4*(Steuerung!$A$3-1))) -> 26 | E296: =INDEX(Rohdaten_tab2!$1:$1048576,ROW(Rohdaten_tab2!D282),COLUMN(Rohdaten_tab2!D282)+(4*(Steuerung!$A$3-1))) -> 26 | F296: =INDEX(Rohdaten_tab2!$1:$1048576,ROW(Rohdaten_tab2!E282),COLUMN(Rohdaten_tab2!E282)+(4*(Steuerung!$A$3-1))) -> 95
F297: © Statistik der Bundesagentur für Arbeit
A299: 1) Das Merkmal "nicht arbeitslos" wird über den Arbeitsvermittlungsstatus ermittelt. Die Daruntergrößen werden als separate Größen ausgewiesen. Daher ergibt die Summe der Einzelgrößen nicht die Leistungsbeziehenden mit Arbeitslosengeld mit dem Arbeitsvermittlungsstatus "nicht arbeitslos".
A300: Hinweis:
A301: Die Zählweise von Ausländern hat sich im Vergleich zu früheren Publikationen geändert. Staatenlose und Personen ohne Angabe zur Staatsangehörigkeit werden nun nicht mehr unter „Keine Angabe“, sondern zu den Ausländern gezählt. Details dazu finden Sie in der Hintergrundinfo „Statistiken nach Staatsangehörigkeit – neue Zuordnung von Staatenlosen und Personen ohne Angabe der Staatsangehörigkeit“ auf unserer Internetseite Grundlagen > Methodik und Qualität > Methodenberichte und Hintergrundinfos > Übergreifende Themen.

Sheet Tab 3
F1: Arbeitslosengeld nach dem SGB III
A3: =CONCATENATE("3. Zugang an Anspruchsberechtigten und Leistungsbeziehenden", Auswahl_Text) -> 3. Zugang an Anspruchsberechtigten und Leistungsbeziehenden
A4: Hildburghausen (Gebietsstand Oktober 2026)
A5: Zeitreihe
A7: Daten zu Arbeitslosengeld nach dem SGB III (Alg) nach einer Wartezeit von 2 Monaten.
A8: Auf Grund von methodisch-technisch bedingten Anpassungen sind die Bewegungen im Berichtsmonat November 2020 in der Arbeitslosengeldstatistik überzeichnet.
A12: Jahressumme/ Berichtsmonat | C12: in Anspruchs- berechtigung | D12: in Leistungs- bezug | E12: dav. (Sp. 2) von Arbeitslosengeld
E13: bei Arbeitslosigkeit | F13: bei Weiterbildung
C15: 1 | D15: 2 | E15: 3 | F15: 4
A16: =IF(INDEX(Rohdaten_tab3!$A:$A,ROW(Rohdaten_tab3!$A2),COLUMN(Rohdaten_tab3!$A:$A))<>"",INDEX(Rohdaten_tab3!$A:$A,ROW(Rohdaten_tab3!$A2),COLUMN(Rohdaten_tab3!$A:$A)),"") -> 2006 | C16: =INDEX(Rohdaten_tab3!$1:$1048576,ROW(Rohdaten_tab3!B2),COLUMN(Rohdaten_tab3!B2)+(4*(Steuerung!$A$3-1))) -> 4722 | D16: =INDEX(Rohdaten_tab3!$1:$1048576,ROW(Rohdaten_tab3!C2),COLUMN(Rohdaten_tab3!C2)+(4*(Steuerung!$A$3-1))) -> 4803 | E16: =INDEX(Rohdaten_tab3!$1:$1048576,ROW(Rohdaten_tab3!D2),COLUMN(Rohdaten_tab3!D2)+(4*(Steuerung!$A$3-1))) -> 4760 | F16: =INDEX(Rohdaten_tab3!$1:$1048576,ROW(Rohdaten_tab3!E2),COLUMN(Rohdaten_tab3!E2)+(4*(Steuerung!$A$3-1))) -> 43
A17: =IF(INDEX(Rohdaten_tab3!$A:$A,ROW(Rohdaten_tab3!$A3),COLUMN(Rohdaten_tab3!$A:$A))<>"",INDEX(Rohdaten_tab3!$A:$A,ROW(Rohdaten_tab3!$A3),COLUMN(Rohdaten_tab3!$A:$A)),"") -> 2007 | C17: =INDEX(Rohdaten_tab3!$1:$1048576,ROW(Rohdaten_tab3!B3),COLUMN(Rohdaten_tab3!B3)+(4*(Steuerung!$A$3-1))) -> 3894 | D17: =INDEX(Rohdaten_tab3!$1:$1048576,ROW(Rohdaten_tab3!C3),COLUMN(Rohdaten_tab3!C3)+(4*(Steuerung!$A$3-1))) -> 4047 | E17: =INDEX(Rohdaten_tab3!$1:$1048576,ROW(Rohdaten_tab3!D3),COLUMN(Rohdaten_tab3!D3)+(4*(Steuerung!$A$3-1))) -> 4033 | F17: =INDEX(Rohdaten_tab3!$1:$1048576,ROW(Rohdaten_tab3!E3),COLUMN(Rohdaten_tab3!E3)+(4*(Steuerung!$A$3-1))) -> 14
A18: =IF(INDEX(Rohdaten_tab3!$A:$A,ROW(Rohdaten_tab3!$A4),COLUMN(Rohdaten_tab3!$A:$A))<>"",INDEX(Rohdaten_tab3!$A:$A,ROW(Rohdaten_tab3!$A4),COLUMN(Rohdaten_tab3!$A:$A)),"") -> 2008 | C18: =INDEX(Rohdaten_tab3!$1:$1048576,ROW(Rohdaten_tab3!B4),COLUMN(Rohdaten_tab3!B4)+(4*(Steuerung!$A$3-1))) -> 3781 | D18: =INDEX(Rohdaten_tab3!$1:$1048576,ROW(Rohdaten_tab3!C4),COLUMN(Rohdaten_tab3!C4)+(4*(Steuerung!$A$3-1))) -> 3963 | E18: =INDEX(Rohdaten_tab3!$1:$1048576,ROW(Rohdaten_tab3!D4),COLUMN(Rohdaten_tab3!D4)+(4*(Steuerung!$A$3-1))) -> 3943 | F18: =INDEX(Rohdaten_tab3!$1:$1048576,ROW(Rohdaten_tab3!E4),COLUMN(Rohdaten_tab3!E4)+(4*(Steuerung!$A$3-1))) -> 20
A19: =IF(INDEX(Rohdaten_tab3!$A:$A,ROW(Rohdaten_tab3!$A5),COLUMN(Rohdaten_tab3!$A:$A))<>"",INDEX(Rohdaten_tab3!$A:$A,ROW(Rohdaten_tab3!$A5),COLUMN(Rohdaten_tab3!$A:$A)),"") -> 2009 | C19: =INDEX(Rohdaten_tab3!$1:$1048576,ROW(Rohdaten_tab3!B5),COLUMN(Rohdaten_tab3!B5)+(4*(Steuerung!$A$3-1))) -> 4469 | D19: =INDEX(Rohdaten_tab3!$1:$1048576,ROW(Rohdaten_tab3!C5),COLUMN(Rohdaten_tab3!C5)+(4*(Steuerung!$A$3-1))) -> 4654 | E19: =INDEX(Rohdaten_tab3!$1:$1048576,ROW(Rohdaten_tab3!D5),COLUMN(Rohdaten_tab3!D5)+(4*(Steuerung!$A$3-1))) -> 4634 | F19: =INDEX(Rohdaten_tab3!$1:$1048576,ROW(Rohdaten_tab3!E5),COLUMN(Rohdaten_tab3!E5)+(4*(Steuerung!$A$3-1))) -> 20
A20: =IF(INDEX(Rohdaten_tab3!$A:$A,ROW(Rohdaten_tab3!$A6),COLUMN(Rohdaten_tab3!$A:$A))<>"",INDEX(Rohdaten_tab3!$A:$A,ROW(Rohdaten_tab3!$A6),COLUMN(Rohdaten_tab3!$A:$A)),"") -> 2010 | C20: =INDEX(Rohdaten_tab3!$1:$1048576,ROW(Rohdaten_tab3!B6),COLUMN(Rohdaten_tab3!B6)+(4*(Steuerung!$A$3-1))) -> 3669 | D20: =INDEX(Rohdaten_tab3!$1:$1048576,ROW(Rohdaten_tab3!C6),COLUMN(Rohdaten_tab3!C6)+(4*(Steuerung!$A$3-1))) -> 3798 | E20: =INDEX(Rohdaten_tab3!$1:$1048576,ROW(Rohdaten_tab3!D6),COLUMN(Rohdaten_tab3!D6)+(4*(Steuerung!$A$3-1))) -> 3757 | F20: =INDEX(Rohdaten_tab3!$1:$1048576,ROW(Rohdaten_tab3!E6),COLUMN(Rohdaten_tab3!E6)+(4*(Steuerung!$A$3-1))) -> 41
A21: =IF(INDEX(Rohdaten_tab3!$A:$A,ROW(Rohdaten_tab3!$A7),COLUMN(Rohdaten_tab3!$A:$A))<>"",INDEX(Rohdaten_tab3!$A:$A,ROW(Rohdaten_tab3!$A7),COLUMN(Rohdaten_tab3!$A:$A)),"") -> 2011 | C21: =INDEX(Rohdaten_tab3!$1:$1048576,ROW(Rohdaten_tab3!B7),COLUMN(Rohdaten_tab3!B7)+(4*(Steuerung!$A$3-1))) -> 3024 | D21: =INDEX(Rohdaten_tab3!$1:$1048576,ROW(Rohdaten_tab3!C7),COLUMN(Rohdaten_tab3!C7)+(4*(Steuerung!$A$3-1))) -> 3106 | E21: =INDEX(Rohdaten_tab3!$1:$1048576,ROW(Rohdaten_tab3!D7),COLUMN(Rohdaten_tab3!D7)+(4*(Steuerung!$A$3-1))) -> 3088 | F21: =INDEX(Rohdaten_tab3!$1:$1048576,ROW(Rohdaten_tab3!E7),COLUMN(Rohdaten_tab3!E7)+(4*(Steuerung!$A$3-1))) -> 18
A22: =IF(INDEX(Rohdaten_tab3!$A:$A,ROW(Rohdaten_tab3!$A8),COLUMN(Rohdaten_tab3!$A:$A))<>"",INDEX(Rohdaten_tab3!$A:$A,ROW(Rohdaten_tab3!$A8),COLUMN(Rohdaten_tab3!$A:$A)),"") -> 2012 | C22: =INDEX(Rohdaten_tab3!$1:$1048576,ROW(Rohdaten_tab3!B8),COLUMN(Rohdaten_tab3!B8)+(4*(Steuerung!$A$3-1))) -> 2995 | D22: =INDEX(Rohdaten_tab3!$1:$1048576,ROW(Rohdaten_tab3!C8),COLUMN(Rohdaten_tab3!C8)+(4*(Steuerung!$A$3-1))) -> 3036 | E22: =INDEX(Rohdaten_tab3!$1:$1048576,ROW(Rohdaten_tab3!D8),COLUMN(Rohdaten_tab3!D8)+(4*(Steuerung!$A$3-1))) -> 3019 | F22: =INDEX(Rohdaten_tab3!$1:$1048576,ROW(Rohdaten_tab3!E8),COLUMN(Rohdaten_tab3!E8)+(4*(Steuerung!$A$3-1))) -> 17
A23: =IF(INDEX(Rohdaten_tab3!$A:$A,ROW(Rohdaten_tab3!$A9),COLUMN(Rohdaten_tab3!$A:$A))<>"",INDEX(Rohdaten_tab3!$A:$A,ROW(Rohdaten_tab3!$A9),COLUMN(Rohdaten_tab3!$A:$A)),"") -> 2013 | C23: =INDEX(Rohdaten_tab3!$1:$1048576,ROW(Rohdaten_tab3!B9),COLUMN(Rohdaten_tab3!B9)+(4*(Steuerung!$A$3-1))) -> 2930 | D23: =INDEX(Rohdaten_tab3!$1:$1048576,ROW(Rohdaten_tab3!C9),COLUMN(Rohdaten_tab3!C9)+(4*(Steuerung!$A$3-1))) -> 3019 | E23: =INDEX(Rohdaten_tab3!$1:$1048576,ROW(Rohdaten_tab3!D9),COLUMN(Rohdaten_tab3!D9)+(4*(Steuerung!$A$3-1))) -> 3008 | F23: =INDEX(Rohdaten_tab3!$1:$1048576,ROW(Rohdaten_tab3!E9),COLUMN(Rohdaten_tab3!E9)+(4*(Steuerung!$A$3-1))) -> 11
A24: =IF(INDEX(Rohdaten_tab3!$A:$A,ROW(Rohdaten_tab3!$A10),COLUMN(Rohdaten_tab3!$A:$A))<>"",INDEX(Rohdaten_tab3!$A:$A,ROW(Rohdaten_tab3!$A10),COLUMN(Rohdaten_tab3!$A:$A)),"") -> 2014 | C24: =INDEX(Rohdaten_tab3!$1:$1048576,ROW(Rohdaten_tab3!B10),COLUMN(Rohdaten_tab3!B10)+(4*(Steuerung!$A$3-1))) -> 2593 | D24: =INDEX(Rohdaten_tab3!$1:$1048576,ROW(Rohdaten_tab3!C10),COLUMN(Rohdaten_tab3!C10)+(4*(Steuerung!$A$3-1))) -> 2599 | E24: =INDEX(Rohdaten_tab3!$1:$1048576,ROW(Rohdaten_tab3!D10),COLUMN(Rohdaten_tab3!D10)+(4*(Steuerung!$A$3-1))) -> 2580 | F24: =INDEX(Rohdaten_tab3!$1:$1048576,ROW(Rohdaten_tab3!E10),COLUMN(Rohdaten_tab3!E10)+(4*(Steuerung!$A$3-1))) -> 19
A25: =IF(INDEX(Rohdaten_tab3!$A:$A,ROW(Rohdaten_tab3!$A11),COLUMN(Rohdaten_tab3!$A:$A))<>"",INDEX(Rohdaten_tab3!$A:$A,ROW(Rohdaten_tab3!$A11),COLUMN(Rohdaten_tab3!$A:$A)),"") -> 2015 | C25: =INDEX(Rohdaten_tab3!$1:$1048576,ROW(Rohdaten_tab3!B11),COLUMN(Rohdaten_tab3!B11)+(4*(Steuerung!$A$3-1))) -> 2370 | D25: =INDEX(Rohdaten_tab3!$1:$1048576,ROW(Rohdaten_tab3!C11),COLUMN(Rohdaten_tab3!C11)+(4*(Steuerung!$A$3-1))) -> 2406 | E25: =INDEX(Rohdaten_tab3!$1:$1048576,ROW(Rohdaten_tab3!D11),COLUMN(Rohdaten_tab3!D11)+(4*(Steuerung!$A$3-1))) -> 2391 | F25: =INDEX(Rohdaten_tab3!$1:$1048576,ROW(Rohdaten_tab3!E11),COLUMN(Rohdaten_tab3!E11)+(4*(Steuerung!$A$3-1))) -> 15
A26: =IF(INDEX(Rohdaten_tab3!$A:$A,ROW(Rohdaten_tab3!$A12),COLUMN(Rohdaten_tab3!$A:$A))<>"",INDEX(Rohdaten_tab3!$A:$A,ROW(Rohdaten_tab3!$A12),COLUMN(Rohdaten_tab3!$A:$A)),"") -> 2016 | C26: =INDEX(Rohdaten_tab3!$1:$1048576,ROW(Rohdaten_tab3!B12),COLUMN(Rohdaten_tab3!B12)+(4*(Steuerung!$A$3-1))) -> 2147 | D26: =INDEX(Rohdaten_tab3!$1:$1048576,ROW(Rohdaten_tab3!C12),COLUMN(Rohdaten_tab3!C12)+(4*(Steuerung!$A$3-1))) -> 2194 | E26: =INDEX(Rohdaten_tab3!$1:$1048576,ROW(Rohdaten_tab3!D12),COLUMN(Rohdaten_tab3!D12)+(4*(Steuerung!$A$3-1))) -> 2182 | F26: =INDEX(Rohdaten_tab3!$1:$1048576,ROW(Rohdaten_tab3!E12),COLUMN(Rohdaten_tab3!E12)+(4*(Steuerung!$A$3-1))) -> 12
A27: =IF(INDEX(Rohdaten_tab3!$A:$A,ROW(Rohdaten_tab3!$A13),COLUMN(Rohdaten_tab3!$A:$A))<>"",INDEX(Rohdaten_tab3!$A:$A,ROW(Rohdaten_tab3!$A13),COLUMN(Rohdaten_tab3!$A:$A)),"") -> 2017 | C27: =INDEX(Rohdaten_tab3!$1:$1048576,ROW(Rohdaten_tab3!B13),COLUMN(Rohdaten_tab3!B13)+(4*(Steuerung!$A$3-1))) -> 1917 | D27: =INDEX(Rohdaten_tab3!$1:$1048576,ROW(Rohdaten_tab3!C13),COLUMN(Rohdaten_tab3!C13)+(4*(Steuerung!$A$3-1))) -> 1917 | E27: =INDEX(Rohdaten_tab3!$1:$1048576,ROW(Rohdaten_tab3!D13),COLUMN(Rohdaten_tab3!D13)+(4*(Steuerung!$A$3-1))) -> 1897 | F27: =INDEX(Rohdaten_tab3!$1:$1048576,ROW(Rohdaten_tab3!E13),COLUMN(Rohdaten_tab3!E13)+(4*(Steuerung!$A$3-1))) -> 20
... A70: =IF(INDEX(Rohdaten_tab3!$A:$A,ROW(Rohdaten_tab3!$A56),COLUMN(Rohdaten_tab3!$A:$A))<>"",INDEX(Rohdaten_tab3!$A:$A,ROW(Rohdaten_tab3!$A56),COLUMN(Rohdaten_tab3!$A:$A)),"") -> November 2008 | C70: =INDEX(Rohdaten_tab3!$1:$1048576,ROW(Rohdaten_tab3!B56),COLUMN(Rohdaten_tab3!B56)+(4*(Steuerung!$A$3-1))) -> 279 | D70: =INDEX(Rohdaten_tab3!$1:$1048576,ROW(Rohdaten_tab3!C56),COLUMN(Rohdaten_tab3!C56)+(4*(Steuerung!$A$3-1))) -> * | E70: =INDEX(Rohdaten_tab3!$1:$1048576,ROW(Rohdaten_tab3!D56),COLUMN(Rohdaten_tab3!D56)+(4*(Steuerung!$A$3-1))) -> 295 | F70: =INDEX(Rohdaten_tab3!$1:$1048576,ROW(Rohdaten_tab3!E56),COLUMN(Rohdaten_tab3!E56)+(4*(Steuerung!$A$3-1))) -> *
A71: Dezember 2008 | C71: =INDEX(Rohdaten_tab3!$1:$1048576,ROW(Rohdaten_tab3!B57),COLUMN(Rohdaten_tab3!B57)+(4*(Steuerung!$A$3-1))) -> 346 | D71: =INDEX(Rohdaten_tab3!$1:$1048576,ROW(Rohdaten_tab3!C57),COLUMN(Rohdaten_tab3!C57)+(4*(Steuerung!$A$3-1))) -> * | E71: =INDEX(Rohdaten_tab3!$1:$1048576,ROW(Rohdaten_tab3!D57),COLUMN(Rohdaten_tab3!D57)+(4*(Steuerung!$A$3-1))) -> 343 | F71: =INDEX(Rohdaten_tab3!$1:$1048576,ROW(Rohdaten_tab3!E57),COLUMN(Rohdaten_tab3!E57)+(4*(Steuerung!$A$3-1))) -> *
A72: Januar 2009 | C72: =INDEX(Rohdaten_tab3!$1:$1048576,ROW(Rohdaten_tab3!B58),COLUMN(Rohdaten_tab3!B58)+(4*(Steuerung!$A$3-1))) -> 812 | D72: =INDEX(Rohdaten_tab3!$1:$1048576,ROW(Rohdaten_tab3!C58),COLUMN(Rohdaten_tab3!C58)+(4*(Steuerung!$A$3-1))) -> 824 | E72: =INDEX(Rohdaten_tab3!$1:$1048576,ROW(Rohdaten_tab3!D58),COLUMN(Rohdaten_tab3!D58)+(4*(Steuerung!$A$3-1))) -> 824 | F72: =INDEX(Rohdaten_tab3!$1:$1048576,ROW(Rohdaten_tab3!E58),COLUMN(Rohdaten_tab3!E58)+(4*(Steuerung!$A$3-1))) -> 0
A73: Februar 2009 | C73: =INDEX(Rohdaten_tab3!$1:$1048576,ROW(Rohdaten_tab3!B59),COLUMN(Rohdaten_tab3!B59)+(4*(Steuerung!$A$3-1))) -> 409 | D73: =INDEX(Rohdaten_tab3!$1:$1048576,ROW(Rohdaten_tab3!C59),COLUMN(Rohdaten_tab3!C59)+(4*(Steuerung!$A$3-1))) -> * | E73: =INDEX(Rohdaten_tab3!$1:$1048576,ROW(Rohdaten_tab3!D59),COLUMN(Rohdaten_tab3!D59)+(4*(Steuerung!$A$3-1))) -> 426 | F73: =INDEX(Rohdaten_tab3!$1:$1048576,ROW(Rohdaten_tab3!E59),COLUMN(Rohdaten_tab3!E59)+(4*(Steuerung!$A$3-1))) -> *
A74: März 2009 | C74: =INDEX(Rohdaten_tab3!$1:$1048576,ROW(Rohdaten_tab3!B60),COLUMN(Rohdaten_tab3!B60)+(4*(Steuerung!$A$3-1))) -> 369 | D74: =INDEX(Rohdaten_tab3!$1:$1048576,ROW(Rohdaten_tab3!C60),COLUMN(Rohdaten_tab3!C60)+(4*(Steuerung!$A$3-1))) -> 385 | E74: =INDEX(Rohdaten_tab3!$1:$1048576,ROW(Rohdaten_tab3!D60),COLUMN(Rohdaten_tab3!D60)+(4*(Steuerung!$A$3-1))) -> 385 | F74: =INDEX(Rohdaten_tab3!$1:$1048576,ROW(Rohdaten_tab3!E60),COLUMN(Rohdaten_tab3!E60)+(4*(Steuerung!$A$3-1))) -> 0
A75: April 2009 | C75: =INDEX(Rohdaten_tab3!$1:$1048576,ROW(Rohdaten_tab3!B61),COLUMN(Rohdaten_tab3!B61)+(4*(Steuerung!$A$3-1))) -> 356 | D75: =INDEX(Rohdaten_tab3!$1:$1048576,ROW(Rohdaten_tab3!C61),COLUMN(Rohdaten_tab3!C61)+(4*(Steuerung!$A$3-1))) -> 377 | E75: =INDEX(Rohdaten_tab3!$1:$1048576,ROW(Rohdaten_tab3!D61),COLUMN(Rohdaten_tab3!D61)+(4*(Steuerung!$A$3-1))) -> 374 | F75: =INDEX(Rohdaten_tab3!$1:$1048576,ROW(Rohdaten_tab3!E61),COLUMN(Rohdaten_tab3!E61)+(4*(Steuerung!$A$3-1))) -> 3
A76: Mai 2009 | C76: =INDEX(Rohdaten_tab3!$1:$1048576,ROW(Rohdaten_tab3!B62),COLUMN(Rohdaten_tab3!B62)+(4*(Steuerung!$A$3-1))) -> 305 | D76: =INDEX(Rohdaten_tab3!$1:$1048576,ROW(Rohdaten_tab3!C62),COLUMN(Rohdaten_tab3!C62)+(4*(Steuerung!$A$3-1))) -> * | E76: =INDEX(Rohdaten_tab3!$1:$1048576,ROW(Rohdaten_tab3!D62),COLUMN(Rohdaten_tab3!D62)+(4*(Steuerung!$A$3-1))) -> 326 | F76: =INDEX(Rohdaten_tab3!$1:$1048576,ROW(Rohdaten_tab3!E62),COLUMN(Rohdaten_tab3!E62)+(4*(Steuerung!$A$3-1))) -> *
A77: Juni 2009 | C77: =INDEX(Rohdaten_tab3!$1:$1048576,ROW(Rohdaten_tab3!B63),COLUMN(Rohdaten_tab3!B63)+(4*(Steuerung!$A$3-1))) -> 353 | D77: =INDEX(Rohdaten_tab3!$1:$1048576,ROW(Rohdaten_tab3!C63),COLUMN(Rohdaten_tab3!C63)+(4*(Steuerung!$A$3-1))) -> * | E77: =INDEX(Rohdaten_tab3!$1:$1048576,ROW(Rohdaten_tab3!D63),COLUMN(Rohdaten_tab3!D63)+(4*(Steuerung!$A$3-1))) -> 373 | F77: =INDEX(Rohdaten_tab3!$1:$1048576,ROW(Rohdaten_tab3!E63),COLUMN(Rohdaten_tab3!E63)+(4*(Steuerung!$A$3-1))) -> *
A78: Juli 2009 | C78: =INDEX(Rohdaten_tab3!$1:$1048576,ROW(Rohdaten_tab3!B64),COLUMN(Rohdaten_tab3!B64)+(4*(Steuerung!$A$3-1))) -> 382 | D78: =INDEX(Rohdaten_tab3!$1:$1048576,ROW(Rohdaten_tab3!C64),COLUMN(Rohdaten_tab3!C64)+(4*(Steuerung!$A$3-1))) -> 387 | E78: =INDEX(Rohdaten_tab3!$1:$1048576,ROW(Rohdaten_tab3!D64),COLUMN(Rohdaten_tab3!D64)+(4*(Steuerung!$A$3-1))) -> 387 | F78: =INDEX(Rohdaten_tab3!$1:$1048576,ROW(Rohdaten_tab3!E64),COLUMN(Rohdaten_tab3!E64)+(4*(Steuerung!$A$3-1))) -> 0
A79: August 2009 | C79: =INDEX(Rohdaten_tab3!$1:$1048576,ROW(Rohdaten_tab3!B65),COLUMN(Rohdaten_tab3!B65)+(4*(Steuerung!$A$3-1))) -> 290 | D79: =INDEX(Rohdaten_tab3!$1:$1048576,ROW(Rohdaten_tab3!C65),COLUMN(Rohdaten_tab3!C65)+(4*(Steuerung!$A$3-1))) -> 298 | E79: =INDEX(Rohdaten_tab3!$1:$1048576,ROW(Rohdaten_tab3!D65),COLUMN(Rohdaten_tab3!D65)+(4*(Steuerung!$A$3-1))) -> 298 | F79: =INDEX(Rohdaten_tab3!$1:$1048576,ROW(Rohdaten_tab3!E65),COLUMN(Rohdaten_tab3!E65)+(4*(Steuerung!$A$3-1))) -> 0
A80: September 2009 | C80: =INDEX(Rohdaten_tab3!$1:$1048576,ROW(Rohdaten_tab3!B66),COLUMN(Rohdaten_tab3!B66)+(4*(Steuerung!$A$3-1))) -> 270 | D80: =INDEX(Rohdaten_tab3!$1:$1048576,ROW(Rohdaten_tab3!C66),COLUMN(Rohdaten_tab3!C66)+(4*(Steuerung!$A$3-1))) -> 284 | E80: =INDEX(Rohdaten_tab3!$1:$1048576,ROW(Rohdaten_tab3!D66),COLUMN(Rohdaten_tab3!D66)+(4*(Steuerung!$A$3-1))) -> 279 | F80: =INDEX(Rohdaten_tab3!$1:$1048576,ROW(Rohdaten_tab3!E66),COLUMN(Rohdaten_tab3!E66)+(4*(Steuerung!$A$3-1))) -> 5
A81: Oktober 2009 | C81: =INDEX(Rohdaten_tab3!$1:$1048576,ROW(Rohdaten_tab3!B67),COLUMN(Rohdaten_tab3!B67)+(4*(Steuerung!$A$3-1))) -> 307 | D81: =INDEX(Rohdaten_tab3!$1:$1048576,ROW(Rohdaten_tab3!C67),COLUMN(Rohdaten_tab3!C67)+(4*(Steuerung!$A$3-1))) -> 323 | E81: =INDEX(Rohdaten_tab3!$1:$1048576,ROW(Rohdaten_tab3!D67),COLUMN(Rohdaten_tab3!D67)+(4*(Steuerung!$A$3-1))) -> 319 | F81: =INDEX(Rohdaten_tab3!$1:$1048576,ROW(Rohdaten_tab3!E67),COLUMN(Rohdaten_tab3!E67)+(4*(Steuerung!$A$3-1))) -> 4
A82: November 2009 | C82: =INDEX(Rohdaten_tab3!$1:$1048576,ROW(Rohdaten_tab3!B68),COLUMN(Rohdaten_tab3!B68)+(4*(Steuerung!$A$3-1))) -> 262 | D82: =INDEX(Rohdaten_tab3!$1:$1048576,ROW(Rohdaten_tab3!C68),COLUMN(Rohdaten_tab3!C68)+(4*(Steuerung!$A$3-1))) -> 284 | E82: =INDEX(Rohdaten_tab3!$1:$1048576,ROW(Rohdaten_tab3!D68),COLUMN(Rohdaten_tab3!D68)+(4*(Steuerung!$A$3-1))) -> 281 | F82: =INDEX(Rohdaten_tab3!$1:$1048576,ROW(Rohdaten_tab3!E68),COLUMN(Rohdaten_tab3!E68)+(4*(Steuerung!$A$3-1))) -> 3
... A283: August 2026 | C283: =INDEX(Rohdaten_tab3!$1:$1048576,ROW(Rohdaten_tab3!B269),COLUMN(Rohdaten_tab3!B269)+(4*(Steuerung!$A$3-1))) -> 155 | D283: =INDEX(Rohdaten_tab3!$1:$1048576,ROW(Rohdaten_tab3!C269),COLUMN(Rohdaten_tab3!C269)+(4*(Steuerung!$A$3-1))) -> 165 | E283: =INDEX(Rohdaten_tab3!$1:$1048576,ROW(Rohdaten_tab3!D269),COLUMN(Rohdaten_tab3!D269)+(4*(Steuerung!$A$3-1))) -> 165 | F283: =INDEX(Rohdaten_tab3!$1:$1048576,ROW(Rohdaten_tab3!E269),COLUMN(Rohdaten_tab3!E269)+(4*(Steuerung!$A$3-1))) -> 0
F284: © Statistik der Bundesagentur für Arbeit
A286: Hinweis:
A287: Die Zählweise von Ausländern hat sich im Vergleich zu früheren Publikationen geändert. Staatenlose und Personen ohne Angabe zur Staatsangehörigkeit werden nun nicht mehr unter „Keine Angabe“, sondern zu den Ausländern gezählt. Details dazu finden Sie in der Hintergrundinfo „Statistiken nach Staatsangehörigkeit – neue Zuordnung von Staatenlosen und Personen ohne Angabe der Staatsangehörigkeit“ auf unserer Internetseite Grundlagen > Methodik und Qualität > Methodenberichte und Hintergrundinfos > Übergreifende Themen.

Sheet Tab 4
F1: Arbeitslosengeld nach dem SGB III
A3: =CONCATENATE("4. Abgang von Anspruchsberechtigten und Leistungsbeziehenden",Auswahl_Text) -> 4. Abgang von Anspruchsberechtigten und Leistungsbeziehenden
A4: Hildburghausen (Gebietsstand Oktober 2026)
A5: Zeitreihe
A7: Daten zu Arbeitslosengeld nach dem SGB III (Alg) nach einer Wartezeit von 2 Monaten.
A8: Auf Grund von methodisch-technisch bedingten Anpassungen sind die Bewegungen im Berichtsmonat November 2020 in der Arbeitslosengeldstatistik überzeichnet.
A12: Jahressumme/ Berichtsmonat | C12: aus Anspruchs- berechtigung | D12: aus Leistungs- bezug | E12: dav. (Sp. 2) von Arbeitslosengeld
E13: bei Arbeitslosigkeit | F13: bei Weiterbildung
C15: 1 | D15: 2 | E15: 3 | F15: 4
A16: =IF(INDEX(Rohdaten_tab4!$A:$A,ROW(Rohdaten_tab4!$A2),COLUMN(Rohdaten_tab4!$A:$A))<>"",INDEX(Rohdaten_tab4!$A:$A,ROW(Rohdaten_tab4!$A2),COLUMN(Rohdaten_tab4!$A:$A)),"") -> 2006 | C16: =INDEX(Rohdaten_tab4!$1:$1048576,ROW(Rohdaten_tab4!B2),COLUMN(Rohdaten_tab4!B2)+(4*(Steuerung!$A$3-1))) -> 5381 | D16: =INDEX(Rohdaten_tab4!$1:$1048576,ROW(Rohdaten_tab4!C2),COLUMN(Rohdaten_tab4!C2)+(4*(Steuerung!$A$3-1))) -> 5480 | E16: =INDEX(Rohdaten_tab4!$1:$1048576,ROW(Rohdaten_tab4!D2),COLUMN(Rohdaten_tab4!D2)+(4*(Steuerung!$A$3-1))) -> 5374 | F16: =INDEX(Rohdaten_tab4!$1:$1048576,ROW(Rohdaten_tab4!E2),COLUMN(Rohdaten_tab4!E2)+(4*(Steuerung!$A$3-1))) -> 106
A17: =IF(INDEX(Rohdaten_tab4!$A:$A,ROW(Rohdaten_tab4!$A3),COLUMN(Rohdaten_tab4!$A:$A))<>"",INDEX(Rohdaten_tab4!$A:$A,ROW(Rohdaten_tab4!$A3),COLUMN(Rohdaten_tab4!$A:$A)),"") -> 2007 | C17: =INDEX(Rohdaten_tab4!$1:$1048576,ROW(Rohdaten_tab4!B3),COLUMN(Rohdaten_tab4!B3)+(4*(Steuerung!$A$3-1))) -> 4318 | D17: =INDEX(Rohdaten_tab4!$1:$1048576,ROW(Rohdaten_tab4!C3),COLUMN(Rohdaten_tab4!C3)+(4*(Steuerung!$A$3-1))) -> 4476 | E17: =INDEX(Rohdaten_tab4!$1:$1048576,ROW(Rohdaten_tab4!D3),COLUMN(Rohdaten_tab4!D3)+(4*(Steuerung!$A$3-1))) -> 4388 | F17: =INDEX(Rohdaten_tab4!$1:$1048576,ROW(Rohdaten_tab4!E3),COLUMN(Rohdaten_tab4!E3)+(4*(Steuerung!$A$3-1))) -> 88
A18: =IF(INDEX(Rohdaten_tab4!$A:$A,ROW(Rohdaten_tab4!$A4),COLUMN(Rohdaten_tab4!$A:$A))<>"",INDEX(Rohdaten_tab4!$A:$A,ROW(Rohdaten_tab4!$A4),COLUMN(Rohdaten_tab4!$A:$A)),"") -> 2008 | C18: =INDEX(Rohdaten_tab4!$1:$1048576,ROW(Rohdaten_tab4!B4),COLUMN(Rohdaten_tab4!B4)+(4*(Steuerung!$A$3-1))) -> 3823 | D18: =INDEX(Rohdaten_tab4!$1:$1048576,ROW(Rohdaten_tab4!C4),COLUMN(Rohdaten_tab4!C4)+(4*(Steuerung!$A$3-1))) -> 4018 | E18: =INDEX(Rohdaten_tab4!$1:$1048576,ROW(Rohdaten_tab4!D4),COLUMN(Rohdaten_tab4!D4)+(4*(Steuerung!$A$3-1))) -> 3965 | F18: =INDEX(Rohdaten_tab4!$1:$1048576,ROW(Rohdaten_tab4!E4),COLUMN(Rohdaten_tab4!E4)+(4*(Steuerung!$A$3-1))) -> 53
