Workbook
Name Auswahl: Steuerung!$A$4:$A$10
Name Auswahl_Text: Steuerung!$E$2
Name Print_Area: Hinweis_Arbeitslosengeld!$A$1:$B$31
Name Print_Area: Hinweis_Beweg_Arbeitslosengeld!$A$1:$B$34
Name Print_Area: Hinweis_Dauern_Arbeitslosengeld!$A$1:$B$34
Name Print_Titles: Hinweis_Arbeitslosengeld!$1:$3
Name Print_Titles: Hinweis_Beweg_Arbeitslosengeld!$1:$3
Name Print_Titles: Hinweis_Dauern_Arbeitslosengeld!$1:$3

Sheet Deckblatt

Sheet Impressum
A4: Impressum
A6: Produktlinie/Reihe: | B6: Tabellen
A8: Produkt-ID: | B8: 1624
A10: Titel: | B10: Arbeitslosengeld (Zeitreihe Monats- und Jahreszahlen ab 2005)
A12: Region: | B12: Hildburghausen (Gebietsstand Oktober 2026)
A14: Berichtsmonat: | B14: 46235
A16: Erstellungsdatum: | B16: 45707
A18: Periodizität: | B18: monatlich
A20: Nächster Veröffentlichungstermin: | B20: 46353
A22: Hinweise:
A24: Herausgeberin: | B24: Bundesagentur für Arbeit
B25: Statistik
A26: Rückfragen an: | B26: Statistik-Service Ost
B27: Friedrichstraße 34
B28: 10969 Berlin
A29: E-Mail: | B29: Statistik-Service-Ost@arbeitsagentur.de
A30: Hotline: | B30: 030/555599-7373
A33: Internet: | B33: https://statistik.arbeitsagentur.de
A35: Zitierhinweis: | B35: Statistik der Bundesagentur für Arbeit
B36: Tabellen, Arbeitslosengeld (Zeitreihen), Berlin, Oktober 2026
A38: Nutzungsbedingungen: | B38: © Statistik der Bundesagentur für Arbeit
B39: Die Produkte unterliegen dem Urheberrecht (siehe Impressum).
B40: Daten und Tabellen dürfen uneingeschränkt verwendet werden. Informationen dürfen (auch auszugsweise) gespeichert und mit Quellenangabe weitergegeben, vervielfältigt und verbreitet werden. Die Inhalte dürfen nicht verändert oder verfälscht werden. Eigene Berechnungen sind erlaubt, jedoch als solche kenntlich zu machen. Im Fall einer Veröffentlichung im Internet soll dies mit einer Verlinkung auf die Homepage der Statistik der Bundesagentur für Arbeit erfolgen.

Sheet Inhaltsverzeichnis
G1: Arbeitslosengeld nach dem SGB III
A4: Inhaltsverzeichnis
A7: Arbeitslosengeld (Zeitreihe Monats- und Jahreszahlen ab 2005)
A8: Hildburghausen (Gebietsstand Oktober 2026)
A9: Zeitreihe
A11: Tabelle
A13: Tab 1 | B13: =MID('Tab 1'!A3,4,1000) -> Bestand an Anspruchsberechtigten und Leistungsbeziehenden
A14: Tab 2 | B14: =MID('Tab 2'!A3,4,1000) -> Bestand an nicht arbeitslosen Leistungsbeziehenden
A15: Tab 3 | B15: =MID('Tab 3'!A3,4,1000) -> Zugang an Anspruchsberechtigten und Leistungsbeziehenden
A16: Tab 4 | B16: =MID('Tab 4'!A3,4,1000) -> Abgang von Anspruchsberechtigten und Leistungsbeziehenden
A17: Tab 5 | B17: =MID('Tab 5'!A3,4,1000) -> Abgang aus Leistungsbezug nach Abgangsgründen
A18: Tab 6 | B18: =MID('Tab 6'!A3,4,SEARCH("Euro",'Tab 6'!A3,1)) -> Durchschnittliche Anspruchshöhe von Leistungsbeziehenden bei Arbeitslosigkeit in Euro
B19: =MID(Auswahl_Text,4,50)
A22: Zeichenerklärungen
A24: X | B24: kein Nachweis vorhanden
A25: .X | B25: Veränderung größer 250 Prozent
A26: … | B26: Angaben fallen später an
A27: - | B27: nichts vorhanden
A28: . | B28: Nachweis nicht sinnvoll
A29: * | B29: Die erhobenen Daten unterliegen grundsätzlich der Geheimhaltung nach § 16 BStatG. Eine Übermittlung von Einzelangaben ist daher ausgeschlossen. Aus diesem Grund werden bei den Ihnen zur Verfügung gestellten Daten auch Zahlenwerte kleiner 3 und Daten, aus denen rechnerisch auf einen Zahlenwert kleiner 3 geschlossen werden kann, anonymisiert oder zu Gruppen zusammengefasst.

Sheet Tab 1
G1: Arbeitslosengeld nach dem SGB III
A3: =CONCATENATE("1. Bestand an Anspruchsberechtigten und Leistungsbeziehenden",Auswahl_Text) -> 1. Bestand an Anspruchsberechtigten und Leistungsbeziehenden
A4: Hildburghausen (Gebietsstand Oktober 2026)
A5: Zeitreihe
A7: Daten zu Arbeitslosengeld nach dem SGB III (Alg) nach einer Wartezeit von 2 Monaten. Werte für den aktuellen Monat und den Vormonat wurden auf Basis vorläufiger Daten sowie Erfahrungswerten der Vergangenheit hochgerechnet.
A12: Jahresdurchschnitt/ Berichtsmonat | C12: Anspruchs- berechtigte 1) | D12: dav. (Sp. 1)
D13: Leistungs- beziehende | E13: dav. (Sp. 2) von Arbeitslosengeld | G13: in Sperrzeit 2)
E14: bei Arbeitslosigkeit | F14: bei Weiterbildung
C15: 1 | D15: 2 | E15: 3 | F15: 4 | G15: 5
A16: =IF(INDEX(Rohdaten_tab1!$A:$A,ROW(Rohdaten_tab1!$A2),COLUMN(Rohdaten_tab1!$A:$A))<>"",INDEX(Rohdaten_tab1!$A:$A,ROW(Rohdaten_tab1!$A2),COLUMN(Rohdaten_tab1!$A:$A)),"") -> 2005 | C16: =INDEX(Rohdaten_tab1!$1:$1048576,ROW(Rohdaten_tab1!B2),COLUMN(Rohdaten_tab1!B2)+(5*(Steuerung!$A$3-1))) -> 2684.5 | D16: =INDEX(Rohdaten_tab1!$1:$1048576,ROW(Rohdaten_tab1!C2),COLUMN(Rohdaten_tab1!C2)+(5*(Steuerung!$A$3-1))) -> 2683.5 | E16: =INDEX(Rohdaten_tab1!$1:$1048576,ROW(Rohdaten_tab1!D2),COLUMN(Rohdaten_tab1!D2)+(5*(Steuerung!$A$3-1))) -> 2541.5 | F16: =INDEX(Rohdaten_tab1!$1:$1048576,ROW(Rohdaten_tab1!E2),COLUMN(Rohdaten_tab1!E2)+(5*(Steuerung!$A$3-1))) -> 142 | G16: =INDEX(Rohdaten_tab1!$1:$1048576,ROW(Rohdaten_tab1!F2),COLUMN(Rohdaten_tab1!F2)+(5*(Steuerung!$A$3-1))) -> X
A17: =IF(INDEX(Rohdaten_tab1!$A:$A,ROW(Rohdaten_tab1!$A3),COLUMN(Rohdaten_tab1!$A:$A))<>"",INDEX(Rohdaten_tab1!$A:$A,ROW(Rohdaten_tab1!$A3),COLUMN(Rohdaten_tab1!$A:$A)),"") -> 2006 | C17: =INDEX(Rohdaten_tab1!$1:$1048576,ROW(Rohdaten_tab1!B3),COLUMN(Rohdaten_tab1!B3)+(5*(Steuerung!$A$3-1))) -> 2225 | D17: =INDEX(Rohdaten_tab1!$1:$1048576,ROW(Rohdaten_tab1!C3),COLUMN(Rohdaten_tab1!C3)+(5*(Steuerung!$A$3-1))) -> 2204.5 | E17: =INDEX(Rohdaten_tab1!$1:$1048576,ROW(Rohdaten_tab1!D3),COLUMN(Rohdaten_tab1!D3)+(5*(Steuerung!$A$3-1))) -> 2098.25 | F17: =INDEX(Rohdaten_tab1!$1:$1048576,ROW(Rohdaten_tab1!E3),COLUMN(Rohdaten_tab1!E3)+(5*(Steuerung!$A$3-1))) -> 106.25 | G17: =INDEX(Rohdaten_tab1!$1:$1048576,ROW(Rohdaten_tab1!F3),COLUMN(Rohdaten_tab1!F3)+(5*(Steuerung!$A$3-1))) -> X
A18: =IF(INDEX(Rohdaten_tab1!$A:$A,ROW(Rohdaten_tab1!$A4),COLUMN(Rohdaten_tab1!$A:$A))<>"",INDEX(Rohdaten_tab1!$A:$A,ROW(Rohdaten_tab1!$A4),COLUMN(Rohdaten_tab1!$A:$A)),"") -> 2007 | C18: =INDEX(Rohdaten_tab1!$1:$1048576,ROW(Rohdaten_tab1!B4),COLUMN(Rohdaten_tab1!B4)+(5*(Steuerung!$A$3-1))) -> 1515.4167 | D18: =INDEX(Rohdaten_tab1!$1:$1048576,ROW(Rohdaten_tab1!C4),COLUMN(Rohdaten_tab1!C4)+(5*(Steuerung!$A$3-1))) -> 1490.25 | E18: =INDEX(Rohdaten_tab1!$1:$1048576,ROW(Rohdaten_tab1!D4),COLUMN(Rohdaten_tab1!D4)+(5*(Steuerung!$A$3-1))) -> 1395.9167 | F18: =INDEX(Rohdaten_tab1!$1:$1048576,ROW(Rohdaten_tab1!E4),COLUMN(Rohdaten_tab1!E4)+(5*(Steuerung!$A$3-1))) -> 94.333333 | G18: =INDEX(Rohdaten_tab1!$1:$1048576,ROW(Rohdaten_tab1!F4),COLUMN(Rohdaten_tab1!F4)+(5*(Steuerung!$A$3-1))) -> 25.166667
A19: =IF(INDEX(Rohdaten_tab1!$A:$A,ROW(Rohdaten_tab1!$A5),COLUMN(Rohdaten_tab1!$A:$A))<>"",INDEX(Rohdaten_tab1!$A:$A,ROW(Rohdaten_tab1!$A5),COLUMN(Rohdaten_tab1!$A:$A)),"") -> 2008 | C19: =INDEX(Rohdaten_tab1!$1:$1048576,ROW(Rohdaten_tab1!B5),COLUMN(Rohdaten_tab1!B5)+(5*(Steuerung!$A$3-1))) -> 1245.4167 | D19: =INDEX(Rohdaten_tab1!$1:$1048576,ROW(Rohdaten_tab1!C5),COLUMN(Rohdaten_tab1!C5)+(5*(Steuerung!$A$3-1))) -> 1215.75 | E19: =INDEX(Rohdaten_tab1!$1:$1048576,ROW(Rohdaten_tab1!D5),COLUMN(Rohdaten_tab1!D5)+(5*(Steuerung!$A$3-1))) -> 1154.25 | F19: =INDEX(Rohdaten_tab1!$1:$1048576,ROW(Rohdaten_tab1!E5),COLUMN(Rohdaten_tab1!E5)+(5*(Steuerung!$A$3-1))) -> 61.5 | G19: =INDEX(Rohdaten_tab1!$1:$1048576,ROW(Rohdaten_tab1!F5),COLUMN(Rohdaten_tab1!F5)+(5*(Steuerung!$A$3-1))) -> 29.666667
A20: =IF(INDEX(Rohdaten_tab1!$A:$A,ROW(Rohdaten_tab1!$A6),COLUMN(Rohdaten_tab1!$A:$A))<>"",INDEX(Rohdaten_tab1!$A:$A,ROW(Rohdaten_tab1!$A6),COLUMN(Rohdaten_tab1!$A:$A)),"") -> 2009 | C20: =INDEX(Rohdaten_tab1!$1:$1048576,ROW(Rohdaten_tab1!B6),COLUMN(Rohdaten_tab1!B6)+(5*(Steuerung!$A$3-1))) -> 1586.25 | D20: =INDEX(Rohdaten_tab1!$1:$1048576,ROW(Rohdaten_tab1!C6),COLUMN(Rohdaten_tab1!C6)+(5*(Steuerung!$A$3-1))) -> 1553.9167 | E20: =INDEX(Rohdaten_tab1!$1:$1048576,ROW(Rohdaten_tab1!D6),COLUMN(Rohdaten_tab1!D6)+(5*(Steuerung!$A$3-1))) -> 1472 | F20: =INDEX(Rohdaten_tab1!$1:$1048576,ROW(Rohdaten_tab1!E6),COLUMN(Rohdaten_tab1!E6)+(5*(Steuerung!$A$3-1))) -> 81.916667 | G20: =INDEX(Rohdaten_tab1!$1:$1048576,ROW(Rohdaten_tab1!F6),COLUMN(Rohdaten_tab1!F6)+(5*(Steuerung!$A$3-1))) -> 32.333333
A21: =IF(INDEX(Rohdaten_tab1!$A:$A,ROW(Rohdaten_tab1!$A7),COLUMN(Rohdaten_tab1!$A:$A))<>"",INDEX(Rohdaten_tab1!$A:$A,ROW(Rohdaten_tab1!$A7),COLUMN(Rohdaten_tab1!$A:$A)),"") -> 2010 | C21: =INDEX(Rohdaten_tab1!$1:$1048576,ROW(Rohdaten_tab1!B7),COLUMN(Rohdaten_tab1!B7)+(5*(Steuerung!$A$3-1))) -> 1245.0833 | D21: =INDEX(Rohdaten_tab1!$1:$1048576,ROW(Rohdaten_tab1!C7),COLUMN(Rohdaten_tab1!C7)+(5*(Steuerung!$A$3-1))) -> 1214.75 | E21: =INDEX(Rohdaten_tab1!$1:$1048576,ROW(Rohdaten_tab1!D7),COLUMN(Rohdaten_tab1!D7)+(5*(Steuerung!$A$3-1))) -> 1132.0833 | F21: =INDEX(Rohdaten_tab1!$1:$1048576,ROW(Rohdaten_tab1!E7),COLUMN(Rohdaten_tab1!E7)+(5*(Steuerung!$A$3-1))) -> 82.666667 | G21: =INDEX(Rohdaten_tab1!$1:$1048576,ROW(Rohdaten_tab1!F7),COLUMN(Rohdaten_tab1!F7)+(5*(Steuerung!$A$3-1))) -> 30.333333
A22: =IF(INDEX(Rohdaten_tab1!$A:$A,ROW(Rohdaten_tab1!$A8),COLUMN(Rohdaten_tab1!$A:$A))<>"",INDEX(Rohdaten_tab1!$A:$A,ROW(Rohdaten_tab1!$A8),COLUMN(Rohdaten_tab1!$A:$A)),"") -> 2011 | C22: =INDEX(Rohdaten_tab1!$1:$1048576,ROW(Rohdaten_tab1!B8),COLUMN(Rohdaten_tab1!B8)+(5*(Steuerung!$A$3-1))) -> 904.41667 | D22: =INDEX(Rohdaten_tab1!$1:$1048576,ROW(Rohdaten_tab1!C8),COLUMN(Rohdaten_tab1!C8)+(5*(Steuerung!$A$3-1))) -> 878 | E22: =INDEX(Rohdaten_tab1!$1:$1048576,ROW(Rohdaten_tab1!D8),COLUMN(Rohdaten_tab1!D8)+(5*(Steuerung!$A$3-1))) -> 794.91667 | F22: =INDEX(Rohdaten_tab1!$1:$1048576,ROW(Rohdaten_tab1!E8),COLUMN(Rohdaten_tab1!E8)+(5*(Steuerung!$A$3-1))) -> 83.083333 | G22: =INDEX(Rohdaten_tab1!$1:$1048576,ROW(Rohdaten_tab1!F8),COLUMN(Rohdaten_tab1!F8)+(5*(Steuerung!$A$3-1))) -> 26.416667
A23: =IF(INDEX(Rohdaten_tab1!$A:$A,ROW(Rohdaten_tab1!$A9),COLUMN(Rohdaten_tab1!$A:$A))<>"",INDEX(Rohdaten_tab1!$A:$A,ROW(Rohdaten_tab1!$A9),COLUMN(Rohdaten_tab1!$A:$A)),"") -> 2012 | C23: =INDEX(Rohdaten_tab1!$1:$1048576,ROW(Rohdaten_tab1!B9),COLUMN(Rohdaten_tab1!B9)+(5*(Steuerung!$A$3-1))) -> 935.83333 | D23: =INDEX(Rohdaten_tab1!$1:$1048576,ROW(Rohdaten_tab1!C9),COLUMN(Rohdaten_tab1!C9)+(5*(Steuerung!$A$3-1))) -> 910.75 | E23: =INDEX(Rohdaten_tab1!$1:$1048576,ROW(Rohdaten_tab1!D9),COLUMN(Rohdaten_tab1!D9)+(5*(Steuerung!$A$3-1))) -> 844.41667 | F23: =INDEX(Rohdaten_tab1!$1:$1048576,ROW(Rohdaten_tab1!E9),COLUMN(Rohdaten_tab1!E9)+(5*(Steuerung!$A$3-1))) -> 66.333333 | G23: =INDEX(Rohdaten_tab1!$1:$1048576,ROW(Rohdaten_tab1!F9),COLUMN(Rohdaten_tab1!F9)+(5*(Steuerung!$A$3-1))) -> 25.083333
A24: =IF(INDEX(Rohdaten_tab1!$A:$A,ROW(Rohdaten_tab1!$A10),COLUMN(Rohdaten_tab1!$A:$A))<>"",INDEX(Rohdaten_tab1!$A:$A,ROW(Rohdaten_tab1!$A10),COLUMN(Rohdaten_tab1!$A:$A)),"") -> 2013 | C24: =INDEX(Rohdaten_tab1!$1:$1048576,ROW(Rohdaten_tab1!B10),COLUMN(Rohdaten_tab1!B10)+(5*(Steuerung!$A$3-1))) -> 1001.4167 | D24: =INDEX(Rohdaten_tab1!$1:$1048576,ROW(Rohdaten_tab1!C10),COLUMN(Rohdaten_tab1!C10)+(5*(Steuerung!$A$3-1))) -> 977.66667 | E24: =INDEX(Rohdaten_tab1!$1:$1048576,ROW(Rohdaten_tab1!D10),COLUMN(Rohdaten_tab1!D10)+(5*(Steuerung!$A$3-1))) -> 909.16667 | F24: =INDEX(Rohdaten_tab1!$1:$1048576,ROW(Rohdaten_tab1!E10),COLUMN(Rohdaten_tab1!E10)+(5*(Steuerung!$A$3-1))) -> 68.5 | G24: =INDEX(Rohdaten_tab1!$1:$1048576,ROW(Rohdaten_tab1!F10),COLUMN(Rohdaten_tab1!F10)+(5*(Steuerung!$A$3-1))) -> 23.75
A25: =IF(INDEX(Rohdaten_tab1!$A:$A,ROW(Rohdaten_tab1!$A11),COLUMN(Rohdaten_tab1!$A:$A))<>"",INDEX(Rohdaten_tab1!$A:$A,ROW(Rohdaten_tab1!$A11),COLUMN(Rohdaten_tab1!$A:$A)),"") -> 2014 | C25: =INDEX(Rohdaten_tab1!$1:$1048576,ROW(Rohdaten_tab1!B11),COLUMN(Rohdaten_tab1!B11)+(5*(Steuerung!$A$3-1))) -> 902 | D25: =INDEX(Rohdaten_tab1!$1:$1048576,ROW(Rohdaten_tab1!C11),COLUMN(Rohdaten_tab1!C11)+(5*(Steuerung!$A$3-1))) -> 881 | E25: =INDEX(Rohdaten_tab1!$1:$1048576,ROW(Rohdaten_tab1!D11),COLUMN(Rohdaten_tab1!D11)+(5*(Steuerung!$A$3-1))) -> 809 | F25: =INDEX(Rohdaten_tab1!$1:$1048576,ROW(Rohdaten_tab1!E11),COLUMN(Rohdaten_tab1!E11)+(5*(Steuerung!$A$3-1))) -> 72 | G25: =INDEX(Rohdaten_tab1!$1:$1048576,ROW(Rohdaten_tab1!F11),COLUMN(Rohdaten_tab1!F11)+(5*(Steuerung!$A$3-1))) -> 21
A26: =IF(INDEX(Rohdaten_tab1!$A:$A,ROW(Rohdaten_tab1!$A12),COLUMN(Rohdaten_tab1!$A:$A))<>"",INDEX(Rohdaten_tab1!$A:$A,ROW(Rohdaten_tab1!$A12),COLUMN(Rohdaten_tab1!$A:$A)),"") -> 2015 | C26: =INDEX(Rohdaten_tab1!$1:$1048576,ROW(Rohdaten_tab1!B12),COLUMN(Rohdaten_tab1!B12)+(5*(Steuerung!$A$3-1))) -> 810.5 | D26: =INDEX(Rohdaten_tab1!$1:$1048576,ROW(Rohdaten_tab1!C12),COLUMN(Rohdaten_tab1!C12)+(5*(Steuerung!$A$3-1))) -> 792.33333 | E26: =INDEX(Rohdaten_tab1!$1:$1048576,ROW(Rohdaten_tab1!D12),COLUMN(Rohdaten_tab1!D12)+(5*(Steuerung!$A$3-1))) -> 727.91667 | F26: =INDEX(Rohdaten_tab1!$1:$1048576,ROW(Rohdaten_tab1!E12),COLUMN(Rohdaten_tab1!E12)+(5*(Steuerung!$A$3-1))) -> 64.416667 | G26: =INDEX(Rohdaten_tab1!$1:$1048576,ROW(Rohdaten_tab1!F12),COLUMN(Rohdaten_tab1!F12)+(5*(Steuerung!$A$3-1))) -> 18.166667
A27: =IF(INDEX(Rohdaten_tab1!$A:$A,ROW(Rohdaten_tab1!$A13),COLUMN(Rohdaten_tab1!$A:$A))<>"",INDEX(Rohdaten_tab1!$A:$A,ROW(Rohdaten_tab1!$A13),COLUMN(Rohdaten_tab1!$A:$A)),"") -> 2016 | C27: =INDEX(Rohdaten_tab1!$1:$1048576,ROW(Rohdaten_tab1!B13),COLUMN(Rohdaten_tab1!B13)+(5*(Steuerung!$A$3-1))) -> 733.58333 | D27: =INDEX(Rohdaten_tab1!$1:$1048576,ROW(Rohdaten_tab1!C13),COLUMN(Rohdaten_tab1!C13)+(5*(Steuerung!$A$3-1))) -> 715.33333 | E27: =INDEX(Rohdaten_tab1!$1:$1048576,ROW(Rohdaten_tab1!D13),COLUMN(Rohdaten_tab1!D13)+(5*(Steuerung!$A$3-1))) -> 636.75 | F27: =INDEX(Rohdaten_tab1!$1:$1048576,ROW(Rohdaten_tab1!E13),COLUMN(Rohdaten_tab1!E13)+(5*(Steuerung!$A$3-1))) -> 78.583333 | G27: =INDEX(Rohdaten_tab1!$1:$1048576,ROW(Rohdaten_tab1!F13),COLUMN(Rohdaten_tab1!F13)+(5*(Steuerung!$A$3-1))) -> 18.25
... A70: =IF(INDEX(Rohdaten_tab1!$A:$A,ROW(Rohdaten_tab1!$A56),COLUMN(Rohdaten_tab1!$A:$A))<>"",INDEX(Rohdaten_tab1!$A:$A,ROW(Rohdaten_tab1!$A56),COLUMN(Rohdaten_tab1!$A:$A)),"") -> Oktober 2007 | C70: =INDEX(Rohdaten_tab1!$1:$1048576,ROW(Rohdaten_tab1!B56),COLUMN(Rohdaten_tab1!B56)+(5*(Steuerung!$A$3-1))) -> 1129 | D70: =INDEX(Rohdaten_tab1!$1:$1048576,ROW(Rohdaten_tab1!C56),COLUMN(Rohdaten_tab1!C56)+(5*(Steuerung!$A$3-1))) -> 1104 | E70: =INDEX(Rohdaten_tab1!$1:$1048576,ROW(Rohdaten_tab1!D56),COLUMN(Rohdaten_tab1!D56)+(5*(Steuerung!$A$3-1))) -> 1035 | F70: =INDEX(Rohdaten_tab1!$1:$1048576,ROW(Rohdaten_tab1!E56),COLUMN(Rohdaten_tab1!E56)+(5*(Steuerung!$A$3-1))) -> 69 | G70: =INDEX(Rohdaten_tab1!$1:$1048576,ROW(Rohdaten_tab1!F56),COLUMN(Rohdaten_tab1!F56)+(5*(Steuerung!$A$3-1))) -> 25
A71: November 2007 | C71: =INDEX(Rohdaten_tab1!$1:$1048576,ROW(Rohdaten_tab1!B57),COLUMN(Rohdaten_tab1!B57)+(5*(Steuerung!$A$3-1))) -> 1130 | D71: =INDEX(Rohdaten_tab1!$1:$1048576,ROW(Rohdaten_tab1!C57),COLUMN(Rohdaten_tab1!C57)+(5*(Steuerung!$A$3-1))) -> 1109 | E71: =INDEX(Rohdaten_tab1!$1:$1048576,ROW(Rohdaten_tab1!D57),COLUMN(Rohdaten_tab1!D57)+(5*(Steuerung!$A$3-1))) -> 1038 | F71: =INDEX(Rohdaten_tab1!$1:$1048576,ROW(Rohdaten_tab1!E57),COLUMN(Rohdaten_tab1!E57)+(5*(Steuerung!$A$3-1))) -> 71 | G71: =INDEX(Rohdaten_tab1!$1:$1048576,ROW(Rohdaten_tab1!F57),COLUMN(Rohdaten_tab1!F57)+(5*(Steuerung!$A$3-1))) -> 21
A72: Dezember 2007 | C72: =INDEX(Rohdaten_tab1!$1:$1048576,ROW(Rohdaten_tab1!B58),COLUMN(Rohdaten_tab1!B58)+(5*(Steuerung!$A$3-1))) -> 1234 | D72: =INDEX(Rohdaten_tab1!$1:$1048576,ROW(Rohdaten_tab1!C58),COLUMN(Rohdaten_tab1!C58)+(5*(Steuerung!$A$3-1))) -> 1204 | E72: =INDEX(Rohdaten_tab1!$1:$1048576,ROW(Rohdaten_tab1!D58),COLUMN(Rohdaten_tab1!D58)+(5*(Steuerung!$A$3-1))) -> 1150 | F72: =INDEX(Rohdaten_tab1!$1:$1048576,ROW(Rohdaten_tab1!E58),COLUMN(Rohdaten_tab1!E58)+(5*(Steuerung!$A$3-1))) -> 54 | G72: =INDEX(Rohdaten_tab1!$1:$1048576,ROW(Rohdaten_tab1!F58),COLUMN(Rohdaten_tab1!F58)+(5*(Steuerung!$A$3-1))) -> 30
A73: Januar 2008 | C73: =INDEX(Rohdaten_tab1!$1:$1048576,ROW(Rohdaten_tab1!B59),COLUMN(Rohdaten_tab1!B59)+(5*(Steuerung!$A$3-1))) -> 1713 | D73: =INDEX(Rohdaten_tab1!$1:$1048576,ROW(Rohdaten_tab1!C59),COLUMN(Rohdaten_tab1!C59)+(5*(Steuerung!$A$3-1))) -> 1679 | E73: =INDEX(Rohdaten_tab1!$1:$1048576,ROW(Rohdaten_tab1!D59),COLUMN(Rohdaten_tab1!D59)+(5*(Steuerung!$A$3-1))) -> 1628 | F73: =INDEX(Rohdaten_tab1!$1:$1048576,ROW(Rohdaten_tab1!E59),COLUMN(Rohdaten_tab1!E59)+(5*(Steuerung!$A$3-1))) -> 51 | G73: =INDEX(Rohdaten_tab1!$1:$1048576,ROW(Rohdaten_tab1!F59),COLUMN(Rohdaten_tab1!F59)+(5*(Steuerung!$A$3-1))) -> 34
A74: Februar 2008 | C74: =INDEX(Rohdaten_tab1!$1:$1048576,ROW(Rohdaten_tab1!B60),COLUMN(Rohdaten_tab1!B60)+(5*(Steuerung!$A$3-1))) -> 1722 | D74: =INDEX(Rohdaten_tab1!$1:$1048576,ROW(Rohdaten_tab1!C60),COLUMN(Rohdaten_tab1!C60)+(5*(Steuerung!$A$3-1))) -> 1696 | E74: =INDEX(Rohdaten_tab1!$1:$1048576,ROW(Rohdaten_tab1!D60),COLUMN(Rohdaten_tab1!D60)+(5*(Steuerung!$A$3-1))) -> 1641 | F74: =INDEX(Rohdaten_tab1!$1:$1048576,ROW(Rohdaten_tab1!E60),COLUMN(Rohdaten_tab1!E60)+(5*(Steuerung!$A$3-1))) -> 55 | G74: =INDEX(Rohdaten_tab1!$1:$1048576,ROW(Rohdaten_tab1!F60),COLUMN(Rohdaten_tab1!F60)+(5*(Steuerung!$A$3-1))) -> 26
A75: März 2008 | C75: =INDEX(Rohdaten_tab1!$1:$1048576,ROW(Rohdaten_tab1!B61),COLUMN(Rohdaten_tab1!B61)+(5*(Steuerung!$A$3-1))) -> 1570 | D75: =INDEX(Rohdaten_tab1!$1:$1048576,ROW(Rohdaten_tab1!C61),COLUMN(Rohdaten_tab1!C61)+(5*(Steuerung!$A$3-1))) -> 1528 | E75: =INDEX(Rohdaten_tab1!$1:$1048576,ROW(Rohdaten_tab1!D61),COLUMN(Rohdaten_tab1!D61)+(5*(Steuerung!$A$3-1))) -> 1457 | F75: =INDEX(Rohdaten_tab1!$1:$1048576,ROW(Rohdaten_tab1!E61),COLUMN(Rohdaten_tab1!E61)+(5*(Steuerung!$A$3-1))) -> 71 | G75: =INDEX(Rohdaten_tab1!$1:$1048576,ROW(Rohdaten_tab1!F61),COLUMN(Rohdaten_tab1!F61)+(5*(Steuerung!$A$3-1))) -> 42
A76: April 2008 | C76: =INDEX(Rohdaten_tab1!$1:$1048576,ROW(Rohdaten_tab1!B62),COLUMN(Rohdaten_tab1!B62)+(5*(Steuerung!$A$3-1))) -> 1327 | D76: =INDEX(Rohdaten_tab1!$1:$1048576,ROW(Rohdaten_tab1!C62),COLUMN(Rohdaten_tab1!C62)+(5*(Steuerung!$A$3-1))) -> 1298 | E76: =INDEX(Rohdaten_tab1!$1:$1048576,ROW(Rohdaten_tab1!D62),COLUMN(Rohdaten_tab1!D62)+(5*(Steuerung!$A$3-1))) -> 1228 | F76: =INDEX(Rohdaten_tab1!$1:$1048576,ROW(Rohdaten_tab1!E62),COLUMN(Rohdaten_tab1!E62)+(5*(Steuerung!$A$3-1))) -> 70 | G76: =INDEX(Rohdaten_tab1!$1:$1048576,ROW(Rohdaten_tab1!F62),COLUMN(Rohdaten_tab1!F62)+(5*(Steuerung!$A$3-1))) -> 29
A77: Mai 2008 | C77: =INDEX(Rohdaten_tab1!$1:$1048576,ROW(Rohdaten_tab1!B63),COLUMN(Rohdaten_tab1!B63)+(5*(Steuerung!$A$3-1))) -> 1164 | D77: =INDEX(Rohdaten_tab1!$1:$1048576,ROW(Rohdaten_tab1!C63),COLUMN(Rohdaten_tab1!C63)+(5*(Steuerung!$A$3-1))) -> 1143 | E77: =INDEX(Rohdaten_tab1!$1:$1048576,ROW(Rohdaten_tab1!D63),COLUMN(Rohdaten_tab1!D63)+(5*(Steuerung!$A$3-1))) -> 1080 | F77: =INDEX(Rohdaten_tab1!$1:$1048576,ROW(Rohdaten_tab1!E63),COLUMN(Rohdaten_tab1!E63)+(5*(Steuerung!$A$3-1))) -> 63 | G77: =INDEX(Rohdaten_tab1!$1:$1048576,ROW(Rohdaten_tab1!F63),COLUMN(Rohdaten_tab1!F63)+(5*(Steuerung!$A$3-1))) -> 21
A78: Juni 2008 | C78: =INDEX(Rohdaten_tab1!$1:$1048576,ROW(Rohdaten_tab1!B64),COLUMN(Rohdaten_tab1!B64)+(5*(Steuerung!$A$3-1))) -> 1128 | D78: =INDEX(Rohdaten_tab1!$1:$1048576,ROW(Rohdaten_tab1!C64),COLUMN(Rohdaten_tab1!C64)+(5*(Steuerung!$A$3-1))) -> 1101 | E78: =INDEX(Rohdaten_tab1!$1:$1048576,ROW(Rohdaten_tab1!D64),COLUMN(Rohdaten_tab1!D64)+(5*(Steuerung!$A$3-1))) -> 1040 | F78: =INDEX(Rohdaten_tab1!$1:$1048576,ROW(Rohdaten_tab1!E64),COLUMN(Rohdaten_tab1!E64)+(5*(Steuerung!$A$3-1))) -> 61 | G78: =INDEX(Rohdaten_tab1!$1:$1048576,ROW(Rohdaten_tab1!F64),COLUMN(Rohdaten_tab1!F64)+(5*(Steuerung!$A$3-1))) -> 27
A79: Juli 2008 | C79: =INDEX(Rohdaten_tab1!$1:$1048576,ROW(Rohdaten_tab1!B65),COLUMN(Rohdaten_tab1!B65)+(5*(Steuerung!$A$3-1))) -> 1137 | D79: =INDEX(Rohdaten_tab1!$1:$1048576,ROW(Rohdaten_tab1!C65),COLUMN(Rohdaten_tab1!C65)+(5*(Steuerung!$A$3-1))) -> 1108 | E79: =INDEX(Rohdaten_tab1!$1:$1048576,ROW(Rohdaten_tab1!D65),COLUMN(Rohdaten_tab1!D65)+(5*(Steuerung!$A$3-1))) -> 1051 | F79: =INDEX(Rohdaten_tab1!$1:$1048576,ROW(Rohdaten_tab1!E65),COLUMN(Rohdaten_tab1!E65)+(5*(Steuerung!$A$3-1))) -> 57 | G79: =INDEX(Rohdaten_tab1!$1:$1048576,ROW(Rohdaten_tab1!F65),COLUMN(Rohdaten_tab1!F65)+(5*(Steuerung!$A$3-1))) -> 29
A80: August 2008 | C80: =INDEX(Rohdaten_tab1!$1:$1048576,ROW(Rohdaten_tab1!B66),COLUMN(Rohdaten_tab1!B66)+(5*(Steuerung!$A$3-1))) -> 1082 | D80: =INDEX(Rohdaten_tab1!$1:$1048576,ROW(Rohdaten_tab1!C66),COLUMN(Rohdaten_tab1!C66)+(5*(Steuerung!$A$3-1))) -> 1053 | E80: =INDEX(Rohdaten_tab1!$1:$1048576,ROW(Rohdaten_tab1!D66),COLUMN(Rohdaten_tab1!D66)+(5*(Steuerung!$A$3-1))) -> 1012 | F80: =INDEX(Rohdaten_tab1!$1:$1048576,ROW(Rohdaten_tab1!E66),COLUMN(Rohdaten_tab1!E66)+(5*(Steuerung!$A$3-1))) -> 41 | G80: =INDEX(Rohdaten_tab1!$1:$1048576,ROW(Rohdaten_tab1!F66),COLUMN(Rohdaten_tab1!F66)+(5*(Steuerung!$A$3-1))) -> 29
A81: September 2008 | C81: =INDEX(Rohdaten_tab1!$1:$1048576,ROW(Rohdaten_tab1!B67),COLUMN(Rohdaten_tab1!B67)+(5*(Steuerung!$A$3-1))) -> 960 | D81: =INDEX(Rohdaten_tab1!$1:$1048576,ROW(Rohdaten_tab1!C67),COLUMN(Rohdaten_tab1!C67)+(5*(Steuerung!$A$3-1))) -> 936 | E81: =INDEX(Rohdaten_tab1!$1:$1048576,ROW(Rohdaten_tab1!D67),COLUMN(Rohdaten_tab1!D67)+(5*(Steuerung!$A$3-1))) -> 869 | F81: =INDEX(Rohdaten_tab1!$1:$1048576,ROW(Rohdaten_tab1!E67),COLUMN(Rohdaten_tab1!E67)+(5*(Steuerung!$A$3-1))) -> 67 | G81: =INDEX(Rohdaten_tab1!$1:$1048576,ROW(Rohdaten_tab1!F67),COLUMN(Rohdaten_tab1!F67)+(5*(Steuerung!$A$3-1))) -> 24
A82: Oktober 2008 | C82: =INDEX(Rohdaten_tab1!$1:$1048576,ROW(Rohdaten_tab1!B68),COLUMN(Rohdaten_tab1!B68)+(5*(Steuerung!$A$3-1))) -> 933 | D82: =INDEX(Rohdaten_tab1!$1:$1048576,ROW(Rohdaten_tab1!C68),COLUMN(Rohdaten_tab1!C68)+(5*(Steuerung!$A$3-1))) -> 900 | E82: =INDEX(Rohdaten_tab1!$1:$1048576,ROW(Rohdaten_tab1!D68),COLUMN(Rohdaten_tab1!D68)+(5*(Steuerung!$A$3-1))) -> 830 | F82: =INDEX(Rohdaten_tab1!$1:$1048576,ROW(Rohdaten_tab1!E68),COLUMN(Rohdaten_tab1!E68)+(5*(Steuerung!$A$3-1))) -> 70 | G82: =INDEX(Rohdaten_tab1!$1:$1048576,ROW(Rohdaten_tab1!F68),COLUMN(Rohdaten_tab1!F68)+(5*(Steuerung!$A$3-1))) -> 33
... A298: Oktober 2026 | C298: =INDEX(Rohdaten_tab1!$1:$1048576,ROW(Rohdaten_tab1!B284),COLUMN(Rohdaten_tab1!B284)+(5*(Steuerung!$A$3-1))) -> ... | D298: =INDEX(Rohdaten_tab1!$1:$1048576,ROW(Rohdaten_tab1!C284),COLUMN(Rohdaten_tab1!C284)+(5*(Steuerung!$A$3-1))) -> ... | E298: =INDEX(Rohdaten_tab1!$1:$1048576,ROW(Rohdaten_tab1!D284),COLUMN(Rohdaten_tab1!D284)+(5*(Steuerung!$A$3-1))) -> 701 | F298: =INDEX(Rohdaten_tab1!$1:$1048576,ROW(Rohdaten_tab1!E284),COLUMN(Rohdaten_tab1!E284)+(5*(Steuerung!$A$3-1))) -> ... | G298: =INDEX(Rohdaten_tab1!$1:$1048576,ROW(Rohdaten_tab1!F284),COLUMN(Rohdaten_tab1!F284)+(5*(Steuerung!$A$3-1))) -> ...
G299: © Statistik der Bundesagentur für Arbeit
A301: 1) In den Berichtsjahren 2005 und 2006 erfolgt noch keine Berichterstattung über Anspruchsberechtigte in Sperrzeit. Dennoch werden in diesen Jahren Monatswerte zu Anspruchsberechtigten (AB) und zu Leistungsbeziehenden (LB) veröffentlicht. Aus der Differenzgröße von AB und LB kann in den betroffenen Jahren nicht auf die Größe der Anspruchsberechtigten in Sperrzeit geschlossen werden.
A302: 2) Das Merkmal enthält neben den Anspruchsberechtigten in Sperrzeit auch Anspruchsberechtigte mit Ruhenszeiten sowie Versagens- und Entziehenszeiten (VE-Zeiten) mit einer Minderungswirkung auf die Anspruchsdauer.
A303: Hinweis:
A304: Die Zählweise von Ausländern hat sich im Vergleich zu früheren Publikationen geändert. Staatenlose und Personen ohne Angabe zur Staatsangehörigkeit werden nun nicht mehr unter „Keine Angabe“, sondern zu den Ausländern gezählt. Details dazu finden Sie in der Hintergrundinfo „Statistiken nach Staatsangehörigkeit – neue Zuordnung von Staatenlosen und Personen ohne Angabe der Staatsangehörigkeit“ auf unserer Internetseite Grundlagen > Methodik und Qualität > Methodenberichte und Hintergrundinfos > Übergreifende Themen.

Sheet Tab 2
F1: Arbeitslosengeld nach dem SGB III
A3: =CONCATENATE("2. Bestand an nicht arbeitslosen Leistungsbeziehenden",Auswahl_Text) -> 2. Bestand an nicht arbeitslosen Leistungsbeziehenden
A4: Hildburghausen (Gebietsstand Oktober 2026)
A5: Zeitreihe
A7: Daten zu Arbeitslosengeld nach dem SGB III (Alg) nach einer Wartezeit von 2 Monaten.
A13: Jahresdurchschnitt/ Berichtsmonat | C13: nicht arbeitslose Leistungs- beziehende 1) | D13: dar. (Sp. 1)
D14: Arbeitslosengeld bei Weiterbildung | E14: Leistungsfortzahlung bei Arbeitsunfähigkeit | F14: Minderung der Leistungsfähigkeit
C15: 1 | D15: 2 | E15: 3 | F15: 4
A16: =IF(INDEX(Rohdaten_tab2!$A:$A,ROW(Rohdaten_tab2!$A2),COLUMN(Rohdaten_tab2!$A:$A))<>"",INDEX(Rohdaten_tab2!$A:$A,ROW(Rohdaten_tab2!$A2),COLUMN(Rohdaten_tab2!$A:$A)),"") -> 2005 | C16: =INDEX(Rohdaten_tab2!$1:$1048576,ROW(Rohdaten_tab2!B2),COLUMN(Rohdaten_tab2!B2)+(4*(Steuerung!$A$3-1))) -> X | D16: =INDEX(Rohdaten_tab2!$1:$1048576,ROW(Rohdaten_tab2!C2),COLUMN(Rohdaten_tab2!C2)+(4*(Steuerung!$A$3-1))) -> 142 | E16: =INDEX(Rohdaten_tab2!$1:$1048576,ROW(Rohdaten_tab2!D2),COLUMN(Rohdaten_tab2!D2)+(4*(Steuerung!$A$3-1))) -> 76.333333 | F16: =INDEX(Rohdaten_tab2!$1:$1048576,ROW(Rohdaten_tab2!E2),COLUMN(Rohdaten_tab2!E2)+(4*(Steuerung!$A$3-1))) -> 6.9166667
A17: =IF(INDEX(Rohdaten_tab2!$A:$A,ROW(Rohdaten_tab2!$A3),COLUMN(Rohdaten_tab2!$A:$A))<>"",INDEX(Rohdaten_tab2!$A:$A,ROW(Rohdaten_tab2!$A3),COLUMN(Rohdaten_tab2!$A:$A)),"") -> 2006 | C17: =INDEX(Rohdaten_tab2!$1:$1048576,ROW(Rohdaten_tab2!B3),COLUMN(Rohdaten_tab2!B3)+(4*(Steuerung!$A$3-1))) -> X | D17: =INDEX(Rohdaten_tab2!$1:$1048576,ROW(Rohdaten_tab2!C3),COLUMN(Rohdaten_tab2!C3)+(4*(Steuerung!$A$3-1))) -> 106.25 | E17: =INDEX(Rohdaten_tab2!$1:$1048576,ROW(Rohdaten_tab2!D3),COLUMN(Rohdaten_tab2!D3)+(4*(Steuerung!$A$3-1))) -> 57.583333 | F17: =INDEX(Rohdaten_tab2!$1:$1048576,ROW(Rohdaten_tab2!E3),COLUMN(Rohdaten_tab2!E3)+(4*(Steuerung!$A$3-1))) -> 13.083333
A18: =IF(INDEX(Rohdaten_tab2!$A:$A,ROW(Rohdaten_tab2!$A4),COLUMN(Rohdaten_tab2!$A:$A))<>"",INDEX(Rohdaten_tab2!$A:$A,ROW(Rohdaten_tab2!$A4),COLUMN(Rohdaten_tab2!$A:$A)),"") -> 2007 | C18: =INDEX(Rohdaten_tab2!$1:$1048576,ROW(Rohdaten_tab2!B4),COLUMN(Rohdaten_tab2!B4)+(4*(Steuerung!$A$3-1))) -> 527.83333 | D18: =INDEX(Rohdaten_tab2!$1:$1048576,ROW(Rohdaten_tab2!C4),COLUMN(Rohdaten_tab2!C4)+(4*(Steuerung!$A$3-1))) -> 94.333333 | E18: =INDEX(Rohdaten_tab2!$1:$1048576,ROW(Rohdaten_tab2!D4),COLUMN(Rohdaten_tab2!D4)+(4*(Steuerung!$A$3-1))) -> 61.25 | F18: =INDEX(Rohdaten_tab2!$1:$1048576,ROW(Rohdaten_tab2!E4),COLUMN(Rohdaten_tab2!E4)+(4*(Steuerung!$A$3-1))) -> 13.75
A19: =IF(INDEX(Rohdaten_tab2!$A:$A,ROW(Rohdaten_tab2!$A5),COLUMN(Rohdaten_tab2!$A:$A))<>"",INDEX(Rohdaten_tab2!$A:$A,ROW(Rohdaten_tab2!$A5),COLUMN(Rohdaten_tab2!$A:$A)),"") -> 2008 | C19: =INDEX(Rohdaten_tab2!$1:$1048576,ROW(Rohdaten_tab2!B5),COLUMN(Rohdaten_tab2!B5)+(4*(Steuerung!$A$3-1))) -> 356.75 | D19: =INDEX(Rohdaten_tab2!$1:$1048576,ROW(Rohdaten_tab2!C5),COLUMN(Rohdaten_tab2!C5)+(4*(Steuerung!$A$3-1))) -> 61.5 | E19: =INDEX(Rohdaten_tab2!$1:$1048576,ROW(Rohdaten_tab2!D5),COLUMN(Rohdaten_tab2!D5)+(4*(Steuerung!$A$3-1))) -> 64.416667 | F19: =INDEX(Rohdaten_tab2!$1:$1048576,ROW(Rohdaten_tab2!E5),COLUMN(Rohdaten_tab2!E5)+(4*(Steuerung!$A$3-1))) -> 5.1666667
A20: =IF(INDEX(Rohdaten_tab2!$A:$A,ROW(Rohdaten_tab2!$A6),COLUMN(Rohdaten_tab2!$A:$A))<>"",INDEX(Rohdaten_tab2!$A:$A,ROW(Rohdaten_tab2!$A6),COLUMN(Rohdaten_tab2!$A:$A)),"") -> 2009 | C20: =INDEX(Rohdaten_tab2!$1:$1048576,ROW(Rohdaten_tab2!B6),COLUMN(Rohdaten_tab2!B6)+(4*(Steuerung!$A$3-1))) -> 266.5 | D20: =INDEX(Rohdaten_tab2!$1:$1048576,ROW(Rohdaten_tab2!C6),COLUMN(Rohdaten_tab2!C6)+(4*(Steuerung!$A$3-1))) -> 81.916667 | E20: =INDEX(Rohdaten_tab2!$1:$1048576,ROW(Rohdaten_tab2!D6),COLUMN(Rohdaten_tab2!D6)+(4*(Steuerung!$A$3-1))) -> 72.666667 | F20: =INDEX(Rohdaten_tab2!$1:$1048576,ROW(Rohdaten_tab2!E6),COLUMN(Rohdaten_tab2!E6)+(4*(Steuerung!$A$3-1))) -> 16.25
A21: =IF(INDEX(Rohdaten_tab2!$A:$A,ROW(Rohdaten_tab2!$A7),COLUMN(Rohdaten_tab2!$A:$A))<>"",INDEX(Rohdaten_tab2!$A:$A,ROW(Rohdaten_tab2!$A7),COLUMN(Rohdaten_tab2!$A:$A)),"") -> 2010 | C21: =INDEX(Rohdaten_tab2!$1:$1048576,ROW(Rohdaten_tab2!B7),COLUMN(Rohdaten_tab2!B7)+(4*(Steuerung!$A$3-1))) -> 218.75 | D21: =INDEX(Rohdaten_tab2!$1:$1048576,ROW(Rohdaten_tab2!C7),COLUMN(Rohdaten_tab2!C7)+(4*(Steuerung!$A$3-1))) -> 82.666667 | E21: =INDEX(Rohdaten_tab2!$1:$1048576,ROW(Rohdaten_tab2!D7),COLUMN(Rohdaten_tab2!D7)+(4*(Steuerung!$A$3-1))) -> 70.5 | F21: =INDEX(Rohdaten_tab2!$1:$1048576,ROW(Rohdaten_tab2!E7),COLUMN(Rohdaten_tab2!E7)+(4*(Steuerung!$A$3-1))) -> 16.916667
A22: =IF(INDEX(Rohdaten_tab2!$A:$A,ROW(Rohdaten_tab2!$A8),COLUMN(Rohdaten_tab2!$A:$A))<>"",INDEX(Rohdaten_tab2!$A:$A,ROW(Rohdaten_tab2!$A8),COLUMN(Rohdaten_tab2!$A:$A)),"") -> 2011 | C22: =INDEX(Rohdaten_tab2!$1:$1048576,ROW(Rohdaten_tab2!B8),COLUMN(Rohdaten_tab2!B8)+(4*(Steuerung!$A$3-1))) -> 195.08333 | D22: =INDEX(Rohdaten_tab2!$1:$1048576,ROW(Rohdaten_tab2!C8),COLUMN(Rohdaten_tab2!C8)+(4*(Steuerung!$A$3-1))) -> 83.083333 | E22: =INDEX(Rohdaten_tab2!$1:$1048576,ROW(Rohdaten_tab2!D8),COLUMN(Rohdaten_tab2!D8)+(4*(Steuerung!$A$3-1))) -> 64.833333 | F22: =INDEX(Rohdaten_tab2!$1:$1048576,ROW(Rohdaten_tab2!E8),COLUMN(Rohdaten_tab2!E8)+(4*(Steuerung!$A$3-1))) -> 13.166667
A23: =IF(INDEX(Rohdaten_tab2!$A:$A,ROW(Rohdaten_tab2!$A9),COLUMN(Rohdaten_tab2!$A:$A))<>"",INDEX(Rohdaten_tab2!$A:$A,ROW(Rohdaten_tab2!$A9),COLUMN(Rohdaten_tab2!$A:$A)),"") -> 2012 | C23: =INDEX(Rohdaten_tab2!$1:$1048576,ROW(Rohdaten_tab2!B9),COLUMN(Rohdaten_tab2!B9)+(4*(Steuerung!$A$3-1))) -> 172.91667 | D23: =INDEX(Rohdaten_tab2!$1:$1048576,ROW(Rohdaten_tab2!C9),COLUMN(Rohdaten_tab2!C9)+(4*(Steuerung!$A$3-1))) -> 66.333333 | E23: =INDEX(Rohdaten_tab2!$1:$1048576,ROW(Rohdaten_tab2!D9),COLUMN(Rohdaten_tab2!D9)+(4*(Steuerung!$A$3-1))) -> 55.333333 | F23: =INDEX(Rohdaten_tab2!$1:$1048576,ROW(Rohdaten_tab2!E9),COLUMN(Rohdaten_tab2!E9)+(4*(Steuerung!$A$3-1))) -> 16.666667
A24: =IF(INDEX(Rohdaten_tab2!$A:$A,ROW(Rohdaten_tab2!$A10),COLUMN(Rohdaten_tab2!$A:$A))<>"",INDEX(Rohdaten_tab2!$A:$A,ROW(Rohdaten_tab2!$A10),COLUMN(Rohdaten_tab2!$A:$A)),"") -> 2013 | C24: =INDEX(Rohdaten_tab2!$1:$1048576,ROW(Rohdaten_tab2!B10),COLUMN(Rohdaten_tab2!B10)+(4*(Steuerung!$A$3-1))) -> 187.58333 | D24: =INDEX(Rohdaten_tab2!$1:$1048576,ROW(Rohdaten_tab2!C10),COLUMN(Rohdaten_tab2!C10)+(4*(Steuerung!$A$3-1))) -> 68.5 | E24: =INDEX(Rohdaten_tab2!$1:$1048576,ROW(Rohdaten_tab2!D10),COLUMN(Rohdaten_tab2!D10)+(4*(Steuerung!$A$3-1))) -> 64.583333 | F24: =INDEX(Rohdaten_tab2!$1:$1048576,ROW(Rohdaten_tab2!E10),COLUMN(Rohdaten_tab2!E10)+(4*(Steuerung!$A$3-1))) -> 24.083333
A25: =IF(INDEX(Rohdaten_tab2!$A:$A,ROW(Rohdaten_tab2!$A11),COLUMN(Rohdaten_tab2!$A:$A))<>"",INDEX(Rohdaten_tab2!$A:$A,ROW(Rohdaten_tab2!$A11),COLUMN(Rohdaten_tab2!$A:$A)),"") -> 2014 | C25: =INDEX(Rohdaten_tab2!$1:$1048576,ROW(Rohdaten_tab2!B11),COLUMN(Rohdaten_tab2!B11)+(4*(Steuerung!$A$3-1))) -> 182.33333 | D25: =INDEX(Rohdaten_tab2!$1:$1048576,ROW(Rohdaten_tab2!C11),COLUMN(Rohdaten_tab2!C11)+(4*(Steuerung!$A$3-1))) -> 72 | E25: =INDEX(Rohdaten_tab2!$1:$1048576,ROW(Rohdaten_tab2!D11),COLUMN(Rohdaten_tab2!D11)+(4*(Steuerung!$A$3-1))) -> 57.833333 | F25: =INDEX(Rohdaten_tab2!$1:$1048576,ROW(Rohdaten_tab2!E11),COLUMN(Rohdaten_tab2!E11)+(4*(Steuerung!$A$3-1))) -> 22.083333
A26: =IF(INDEX(Rohdaten_tab2!$A:$A,ROW(Rohdaten_tab2!$A12),COLUMN(Rohdaten_tab2!$A:$A))<>"",INDEX(Rohdaten_tab2!$A:$A,ROW(Rohdaten_tab2!$A12),COLUMN(Rohdaten_tab2!$A:$A)),"") -> 2015 | C26: =INDEX(Rohdaten_tab2!$1:$1048576,ROW(Rohdaten_tab2!B12),COLUMN(Rohdaten_tab2!B12)+(4*(Steuerung!$A$3-1))) -> 178.83333 | D26: =INDEX(Rohdaten_tab2!$1:$1048576,ROW(Rohdaten_tab2!C12),COLUMN(Rohdaten_tab2!C12)+(4*(Steuerung!$A$3-1))) -> 64.416667 | E26: =INDEX(Rohdaten_tab2!$1:$1048576,ROW(Rohdaten_tab2!D12),COLUMN(Rohdaten_tab2!D12)+(4*(Steuerung!$A$3-1))) -> 50.666667 | F26: =INDEX(Rohdaten_tab2!$1:$1048576,ROW(Rohdaten_tab2!E12),COLUMN(Rohdaten_tab2!E12)+(4*(Steuerung!$A$3-1))) -> 39.083333
A27: =IF(INDEX(Rohdaten_tab2!$A:$A,ROW(Rohdaten_tab2!$A13),COLUMN(Rohdaten_tab2!$A:$A))<>"",INDEX(Rohdaten_tab2!$A:$A,ROW(Rohdaten_tab2!$A13),COLUMN(Rohdaten_tab2!$A:$A)),"") -> 2016 | C27: =INDEX(Rohdaten_tab2!$1:$1048576,ROW(Rohdaten_tab2!B13),COLUMN(Rohdaten_tab2!B13)+(4*(Steuerung!$A$3-1))) -> 183.25 | D27: =INDEX(Rohdaten_tab2!$1:$1048576,ROW(Rohdaten_tab2!C13),COLUMN(Rohdaten_tab2!C13)+(4*(Steuerung!$A$3-1))) -> 78.583333 | E27: =INDEX(Rohdaten_tab2!$1:$1048576,ROW(Rohdaten_tab2!D13),COLUMN(Rohdaten_tab2!D13)+(4*(Steuerung!$A$3-1))) -> 45.583333 | F27: =INDEX(Rohdaten_tab2!$1:$1048576,ROW(Rohdaten_tab2!E13),COLUMN(Rohdaten_tab2!E13)+(4*(Steuerung!$A$3-1))) -> 34.083333
... A70: =IF(INDEX(Rohdaten_tab2!$A:$A,ROW(Rohdaten_tab2!$A56),COLUMN(Rohdaten_tab2!$A:$A))<>"",INDEX(Rohdaten_tab2!$A:$A,ROW(Rohdaten_tab2!$A56),COLUMN(Rohdaten_tab2!$A:$A)),"") -> Oktober 2007 | C70: =INDEX(Rohdaten_tab2!$1:$1048576,ROW(Rohdaten_tab2!B56),COLUMN(Rohdaten_tab2!B56)+(4*(Steuerung!$A$3-1))) -> 445 | D70: =INDEX(Rohdaten_tab2!$1:$1048576,ROW(Rohdaten_tab2!C56),COLUMN(Rohdaten_tab2!C56)+(4*(Steuerung!$A$3-1))) -> 69 | E70: =INDEX(Rohdaten_tab2!$1:$1048576,ROW(Rohdaten_tab2!D56),COLUMN(Rohdaten_tab2!D56)+(4*(Steuerung!$A$3-1))) -> 47 | F70: =INDEX(Rohdaten_tab2!$1:$1048576,ROW(Rohdaten_tab2!E56),COLUMN(Rohdaten_tab2!E56)+(4*(Steuerung!$A$3-1))) -> 13
A71: November 2007 | C71: =INDEX(Rohdaten_tab2!$1:$1048576,ROW(Rohdaten_tab2!B57),COLUMN(Rohdaten_tab2!B57)+(4*(Steuerung!$A$3-1))) -> 437 | D71: =INDEX(Rohdaten_tab2!$1:$1048576,ROW(Rohdaten_tab2!C57),COLUMN(Rohdaten_tab2!C57)+(4*(Steuerung!$A$3-1))) -> 71 | E71: =INDEX(Rohdaten_tab2!$1:$1048576,ROW(Rohdaten_tab2!D57),COLUMN(Rohdaten_tab2!D57)+(4*(Steuerung!$A$3-1))) -> 66 | F71: =INDEX(Rohdaten_tab2!$1:$1048576,ROW(Rohdaten_tab2!E57),COLUMN(Rohdaten_tab2!E57)+(4*(Steuerung!$A$3-1))) -> 11
A72: Dezember 2007 | C72: =INDEX(Rohdaten_tab2!$1:$1048576,ROW(Rohdaten_tab2!B58),COLUMN(Rohdaten_tab2!B58)+(4*(Steuerung!$A$3-1))) -> 440 | D72: =INDEX(Rohdaten_tab2!$1:$1048576,ROW(Rohdaten_tab2!C58),COLUMN(Rohdaten_tab2!C58)+(4*(Steuerung!$A$3-1))) -> 54 | E72: =INDEX(Rohdaten_tab2!$1:$1048576,ROW(Rohdaten_tab2!D58),COLUMN(Rohdaten_tab2!D58)+(4*(Steuerung!$A$3-1))) -> 73 | F72: =INDEX(Rohdaten_tab2!$1:$1048576,ROW(Rohdaten_tab2!E58),COLUMN(Rohdaten_tab2!E58)+(4*(Steuerung!$A$3-1))) -> 9
A73: Januar 2008 | C73: =INDEX(Rohdaten_tab2!$1:$1048576,ROW(Rohdaten_tab2!B59),COLUMN(Rohdaten_tab2!B59)+(4*(Steuerung!$A$3-1))) -> 449 | D73: =INDEX(Rohdaten_tab2!$1:$1048576,ROW(Rohdaten_tab2!C59),COLUMN(Rohdaten_tab2!C59)+(4*(Steuerung!$A$3-1))) -> 51 | E73: =INDEX(Rohdaten_tab2!$1:$1048576,ROW(Rohdaten_tab2!D59),COLUMN(Rohdaten_tab2!D59)+(4*(Steuerung!$A$3-1))) -> 62 | F73: =INDEX(Rohdaten_tab2!$1:$1048576,ROW(Rohdaten_tab2!E59),COLUMN(Rohdaten_tab2!E59)+(4*(Steuerung!$A$3-1))) -> 7
A74: Februar 2008 | C74: =INDEX(Rohdaten_tab2!$1:$1048576,ROW(Rohdaten_tab2!B60),COLUMN(Rohdaten_tab2!B60)+(4*(Steuerung!$A$3-1))) -> 489 | D74: =INDEX(Rohdaten_tab2!$1:$1048576,ROW(Rohdaten_tab2!C60),COLUMN(Rohdaten_tab2!C60)+(4*(Steuerung!$A$3-1))) -> 55 | E74: =INDEX(Rohdaten_tab2!$1:$1048576,ROW(Rohdaten_tab2!D60),COLUMN(Rohdaten_tab2!D60)+(4*(Steuerung!$A$3-1))) -> 97 | F74: =INDEX(Rohdaten_tab2!$1:$1048576,ROW(Rohdaten_tab2!E60),COLUMN(Rohdaten_tab2!E60)+(4*(Steuerung!$A$3-1))) -> 3
A75: März 2008 | C75: =INDEX(Rohdaten_tab2!$1:$1048576,ROW(Rohdaten_tab2!B61),COLUMN(Rohdaten_tab2!B61)+(4*(Steuerung!$A$3-1))) -> 476 | D75: =INDEX(Rohdaten_tab2!$1:$1048576,ROW(Rohdaten_tab2!C61),COLUMN(Rohdaten_tab2!C61)+(4*(Steuerung!$A$3-1))) -> 71 | E75: =INDEX(Rohdaten_tab2!$1:$1048576,ROW(Rohdaten_tab2!D61),COLUMN(Rohdaten_tab2!D61)+(4*(Steuerung!$A$3-1))) -> 88 | F75: =INDEX(Rohdaten_tab2!$1:$1048576,ROW(Rohdaten_tab2!E61),COLUMN(Rohdaten_tab2!E61)+(4*(Steuerung!$A$3-1))) -> 4
A76: April 2008 | C76: =INDEX(Rohdaten_tab2!$1:$1048576,ROW(Rohdaten_tab2!B62),COLUMN(Rohdaten_tab2!B62)+(4*(Steuerung!$A$3-1))) -> 429 | D76: =INDEX(Rohdaten_tab2!$1:$1048576,ROW(Rohdaten_tab2!C62),COLUMN(Rohdaten_tab2!C62)+(4*(Steuerung!$A$3-1))) -> 70 | E76: =INDEX(Rohdaten_tab2!$1:$1048576,ROW(Rohdaten_tab2!D62),COLUMN(Rohdaten_tab2!D62)+(4*(Steuerung!$A$3-1))) -> 67 | F76: =INDEX(Rohdaten_tab2!$1:$1048576,ROW(Rohdaten_tab2!E62),COLUMN(Rohdaten_tab2!E62)+(4*(Steuerung!$A$3-1))) -> 3
A77: Mai 2008 | C77: =INDEX(Rohdaten_tab2!$1:$1048576,ROW(Rohdaten_tab2!B63),COLUMN(Rohdaten_tab2!B63)+(4*(Steuerung!$A$3-1))) -> 385 | D77: =INDEX(Rohdaten_tab2!$1:$1048576,ROW(Rohdaten_tab2!C63),COLUMN(Rohdaten_tab2!C63)+(4*(Steuerung!$A$3-1))) -> 63 | E77: =INDEX(Rohdaten_tab2!$1:$1048576,ROW(Rohdaten_tab2!D63),COLUMN(Rohdaten_tab2!D63)+(4*(Steuerung!$A$3-1))) -> 58 | F77: =INDEX(Rohdaten_tab2!$1:$1048576,ROW(Rohdaten_tab2!E63),COLUMN(Rohdaten_tab2!E63)+(4*(Steuerung!$A$3-1))) -> 3
A78: Juni 2008 | C78: =INDEX(Rohdaten_tab2!$1:$1048576,ROW(Rohdaten_tab2!B64),COLUMN(Rohdaten_tab2!B64)+(4*(Steuerung!$A$3-1))) -> 370 | D78: =INDEX(Rohdaten_tab2!$1:$1048576,ROW(Rohdaten_tab2!C64),COLUMN(Rohdaten_tab2!C64)+(4*(Steuerung!$A$3-1))) -> 61 | E78: =INDEX(Rohdaten_tab2!$1:$1048576,ROW(Rohdaten_tab2!D64),COLUMN(Rohdaten_tab2!D64)+(4*(Steuerung!$A$3-1))) -> 51 | F78: =INDEX(Rohdaten_tab2!$1:$1048576,ROW(Rohdaten_tab2!E64),COLUMN(Rohdaten_tab2!E64)+(4*(Steuerung!$A$3-1))) -> 4
A79: Juli 2008 | C79: =INDEX(Rohdaten_tab2!$1:$1048576,ROW(Rohdaten_tab2!B65),COLUMN(Rohdaten_tab2!B65)+(4*(Steuerung!$A$3-1))) -> 355 | D79: =INDEX(Rohdaten_tab2!$1:$1048576,ROW(Rohdaten_tab2!C65),COLUMN(Rohdaten_tab2!C65)+(4*(Steuerung!$A$3-1))) -> 57 | E79: =INDEX(Rohdaten_tab2!$1:$1048576,ROW(Rohdaten_tab2!D65),COLUMN(Rohdaten_tab2!D65)+(4*(Steuerung!$A$3-1))) -> 54 | F79: =INDEX(Rohdaten_tab2!$1:$1048576,ROW(Rohdaten_tab2!E65),COLUMN(Rohdaten_tab2!E65)+(4*(Steuerung!$A$3-1))) -> 4
A80: August 2008 | C80: =INDEX(Rohdaten_tab2!$1:$1048576,ROW(Rohdaten_tab2!B66),COLUMN(Rohdaten_tab2!B66)+(4*(Steuerung!$A$3-1))) -> 315 | D80: =INDEX(Rohdaten_tab2!$1:$1048576,ROW(Rohdaten_tab2!C66),COLUMN(Rohdaten_tab2!C66)+(4*(Steuerung!$A$3-1))) -> 41 | E80: =INDEX(Rohdaten_tab2!$1:$1048576,ROW(Rohdaten_tab2!D66),COLUMN(Rohdaten_tab2!D66)+(4*(Steuerung!$A$3-1))) -> 53 | F80: =INDEX(Rohdaten_tab2!$1:$1048576,ROW(Rohdaten_tab2!E66),COLUMN(Rohdaten_tab2!E66)+(4*(Steuerung!$A$3-1))) -> 6
A81: September 2008 | C81: =INDEX(Rohdaten_tab2!$1:$1048576,ROW(Rohdaten_tab2!B67),COLUMN(Rohdaten_tab2!B67)+(4*(Steuerung!$A$3-1))) -> 289 | D81: =INDEX(Rohdaten_tab2!$1:$1048576,ROW(Rohdaten_tab2!C67),COLUMN(Rohdaten_tab2!C67)+(4*(Steuerung!$A$3-1))) -> 67 | E81: =INDEX(Rohdaten_tab2!$1:$1048576,ROW(Rohdaten_tab2!D67),COLUMN(Rohdaten_tab2!D67)+(4*(Steuerung!$A$3-1))) -> 69 | F81: =INDEX(Rohdaten_tab2!$1:$1048576,ROW(Rohdaten_tab2!E67),COLUMN(Rohdaten_tab2!E67)+(4*(Steuerung!$A$3-1))) -> 7
A82: Oktober 2008 | C82: =INDEX(Rohdaten_tab2!$1:$1048576,ROW(Rohdaten_tab2!B68),COLUMN(Rohdaten_tab2!B68)+(4*(Steuerung!$A$3-1))) -> 241 | D82: =INDEX(Rohdaten_tab2!$1:$1048576,ROW(Rohdaten_tab2!C68),COLUMN(Rohdaten_tab2!C68)+(4*(Steuerung!$A$3-1))) -> 70 | E82: =INDEX(Rohdaten_tab2!$1:$1048576,ROW(Rohdaten_tab2!D68),COLUMN(Rohdaten_tab2!D68)+(4*(Steuerung!$A$3-1))) -> 46 | F82: =INDEX(Rohdaten_tab2!$1:$1048576,ROW(Rohdaten_tab2!E68),COLUMN(Rohdaten_tab2!E68)+(4*(Steuerung!$A$3-1))) -> 5
... A296: August 2026 | C296: =INDEX(Rohdaten_tab2!$1:$1048576,ROW(Rohdaten_tab2!B282),COLUMN(Rohdaten_tab2!B282)+(4*(Steuerung!$A$3-1))) -> 177 | D296: =INDEX(Rohdaten_tab2!$1:$1048576,ROW(Rohdaten_tab2!C282),COLUMN(Rohdaten_tab2!C282)+(4*(Steuerung!$A$3-1))) -> 26 | E296: =INDEX(Rohdaten_tab2!$1:$1048576,ROW(Rohdaten_tab2!D282),COLUMN(Rohdaten_tab2!D282)+(4*(Steuerung!$A$3-1))) -> 26 | F296: =INDEX(Rohdaten_tab2!$1:$1048576,ROW(Rohdaten_tab2!E282),COLUMN(Rohdaten_tab2!E282)+(4*(Steuerung!$A$3-1))) -> 95
F297: © Statistik der Bundesagentur für Arbeit
A299: 1) Das Merkmal "nicht arbeitslos" wird über den Arbeitsvermittlungsstatus ermittelt. Die Daruntergrößen werden als separate Größen ausgewiesen. Daher ergibt die Summe der Einzelgrößen nicht die Leistungsbeziehenden mit Arbeitslosengeld mit dem Arbeitsvermittlungsstatus "nicht arbeitslos".
A300: Hinweis:
A301: Die Zählweise von Ausländern hat sich im Vergleich zu früheren Publikationen geändert. Staatenlose und Personen ohne Angabe zur Staatsangehörigkeit werden nun nicht mehr unter „Keine Angabe“, sondern zu den Ausländern gezählt. Details dazu finden Sie in der Hintergrundinfo „Statistiken nach Staatsangehörigkeit – neue Zuordnung von Staatenlosen und Personen ohne Angabe der Staatsangehörigkeit“ auf unserer Internetseite Grundlagen > Methodik und Qualität > Methodenberichte und Hintergrundinfos > Übergreifende Themen.

Sheet Tab 3
F1: Arbeitslosengeld nach dem SGB III
A3: =CONCATENATE("3. Zugang an Anspruchsberechtigten und Leistungsbeziehenden", Auswahl_Text) -> 3. Zugang an Anspruchsberechtigten und Leistungsbeziehenden
A4: Hildburghausen (Gebietsstand Oktober 2026)
A5: Zeitreihe
A7: Daten zu Arbeitslosengeld nach dem SGB III (Alg) nach einer Wartezeit von 2 Monaten.
A8: Auf Grund von methodisch-technisch bedingten Anpassungen sind die Bewegungen im Berichtsmonat November 2020 in der Arbeitslosengeldstatistik überzeichnet.
A12: Jahressumme/ Berichtsmonat | C12: in Anspruchs- berechtigung | D12: in Leistungs- bezug | E12: dav. (Sp. 2) von Arbeitslosengeld
E13: bei Arbeitslosigkeit | F13: bei Weiterbildung
C15: 1 | D15: 2 | E15: 3 | F15: 4
A16: =IF(INDEX(Rohdaten_tab3!$A:$A,ROW(Rohdaten_tab3!$A2),COLUMN(Rohdaten_tab3!$A:$A))<>"",INDEX(Rohdaten_tab3!$A:$A,ROW(Rohdaten_tab3!$A2),COLUMN(Rohdaten_tab3!$A:$A)),"") -> 2006 | C16: =INDEX(Rohdaten_tab3!$1:$1048576,ROW(Rohdaten_tab3!B2),COLUMN(Rohdaten_tab3!B2)+(4*(Steuerung!$A$3-1))) -> 4722 | D16: =INDEX(Rohdaten_tab3!$1:$1048576,ROW(Rohdaten_tab3!C2),COLUMN(Rohdaten_tab3!C2)+(4*(Steuerung!$A$3-1))) -> 4803 | E16: =INDEX(Rohdaten_tab3!$1:$1048576,ROW(Rohdaten_tab3!D2),COLUMN(Rohdaten_tab3!D2)+(4*(Steuerung!$A$3-1))) -> 4760 | F16: =INDEX(Rohdaten_tab3!$1:$1048576,ROW(Rohdaten_tab3!E2),COLUMN(Rohdaten_tab3!E2)+(4*(Steuerung!$A$3-1))) -> 43
A17: =IF(INDEX(Rohdaten_tab3!$A:$A,ROW(Rohdaten_tab3!$A3),COLUMN(Rohdaten_tab3!$A:$A))<>"",INDEX(Rohdaten_tab3!$A:$A,ROW(Rohdaten_tab3!$A3),COLUMN(Rohdaten_tab3!$A:$A)),"") -> 2007 | C17: =INDEX(Rohdaten_tab3!$1:$1048576,ROW(Rohdaten_tab3!B3),COLUMN(Rohdaten_tab3!B3)+(4*(Steuerung!$A$3-1))) -> 3894 | D17: =INDEX(Rohdaten_tab3!$1:$1048576,ROW(Rohdaten_tab3!C3),COLUMN(Rohdaten_tab3!C3)+(4*(Steuerung!$A$3-1))) -> 4047 | E17: =INDEX(Rohdaten_tab3!$1:$1048576,ROW(Rohdaten_tab3!D3),COLUMN(Rohdaten_tab3!D3)+(4*(Steuerung!$A$3-1))) -> 4033 | F17: =INDEX(Rohdaten_tab3!$1:$1048576,ROW(Rohdaten_tab3!E3),COLUMN(Rohdaten_tab3!E3)+(4*(Steuerung!$A$3-1))) -> 14
A18: =IF(INDEX(Rohdaten_tab3!$A:$A,ROW(Rohdaten_tab3!$A4),COLUMN(Rohdaten_tab3!$A:$A))<>"",INDEX(Rohdaten_tab3!$A:$A,ROW(Rohdaten_tab3!$A4),COLUMN(Rohdaten_tab3!$A:$A)),"") -> 2008 | C18: =INDEX(Rohdaten_tab3!$1:$1048576,ROW(Rohdaten_tab3!B4),COLUMN(Rohdaten_tab3!B4)+(4*(Steuerung!$A$3-1))) -> 3781 | D18: =INDEX(Rohdaten_tab3!$1:$1048576,ROW(Rohdaten_tab3!C4),COLUMN(Rohdaten_tab3!C4)+(4*(Steuerung!$A$3-1))) -> 3963 | E18: =INDEX(Rohdaten_tab3!$1:$1048576,ROW(Rohdaten_tab3!D4),COLUMN(Rohdaten_tab3!D4)+(4*(Steuerung!$A$3-1))) -> 3943 | F18: =INDEX(Rohdaten_tab3!$1:$1048576,ROW(Rohdaten_tab3!E4),COLUMN(Rohdaten_tab3!E4)+(4*(Steuerung!$A$3-1))) -> 20
A19: =IF(INDEX(Rohdaten_tab3!$A:$A,ROW(Rohdaten_tab3!$A5),COLUMN(Rohdaten_tab3!$A:$A))<>"",INDEX(Rohdaten_tab3!$A:$A,ROW(Rohdaten_tab3!$A5),COLUMN(Rohdaten_tab3!$A:$A)),"") -> 2009 | C19: =INDEX(Rohdaten_tab3!$1:$1048576,ROW(Rohdaten_tab3!B5),COLUMN(Rohdaten_tab3!B5)+(4*(Steuerung!$A$3-1))) -> 4469 | D19: =INDEX(Rohdaten_tab3!$1:$1048576,ROW(Rohdaten_tab3!C5),COLUMN(Rohdaten_tab3!C5)+(4*(Steuerung!$A$3-1))) -> 4654 | E19: =INDEX(Rohdaten_tab3!$1:$1048576,ROW(Rohdaten_tab3!D5),COLUMN(Rohdaten_tab3!D5)+(4*(Steuerung!$A$3-1))) -> 4634 | F19: =INDEX(Rohdaten_tab3!$1:$1048576,ROW(Rohdaten_tab3!E5),COLUMN(Rohdaten_tab3!E5)+(4*(Steuerung!$A$3-1))) -> 20
A20: =IF(INDEX(Rohdaten_tab3!$A:$A,ROW(Rohdaten_tab3!$A6),COLUMN(Rohdaten_tab3!$A:$A))<>"",INDEX(Rohdaten_tab3!$A:$A,ROW(Rohdaten_tab3!$A6),COLUMN(Rohdaten_tab3!$A:$A)),"") -> 2010 | C20: =INDEX(Rohdaten_tab3!$1:$1048576,ROW(Rohdaten_tab3!B6),COLUMN(Rohdaten_tab3!B6)+(4*(Steuerung!$A$3-1))) -> 3669 | D20: =INDEX(Rohdaten_tab3!$1:$1048576,ROW(Rohdaten_tab3!C6),COLUMN(Rohdaten_tab3!C6)+(4*(Steuerung!$A$3-1))) -> 3798 | E20: =INDEX(Rohdaten_tab3!$1:$1048576,ROW(Rohdaten_tab3!D6),COLUMN(Rohdaten_tab3!D6)+(4*(Steuerung!$A$3-1))) -> 3757 | F20: =INDEX(Rohdaten_tab3!$1:$1048576,ROW(Rohdaten_tab3!E6),COLUMN(Rohdaten_tab3!E6)+(4*(Steuerung!$A$3-1))) -> 41
A21: =IF(INDEX(Rohdaten_tab3!$A:$A,ROW(Rohdaten_tab3!$A7),COLUMN(Rohdaten_tab3!$A:$A))<>"",INDEX(Rohdaten_tab3!$A:$A,ROW(Rohdaten_tab3!$A7),COLUMN(Rohdaten_tab3!$A:$A)),"") -> 2011 | C21: =INDEX(Rohdaten_tab3!$1:$1048576,ROW(Rohdaten_tab3!B7),COLUMN(Rohdaten_tab3!B7)+(4*(Steuerung!$A$3-1))) -> 3024 | D21: =INDEX(Rohdaten_tab3!$1:$1048576,ROW(Rohdaten_tab3!C7),COLUMN(Rohdaten_tab3!C7)+(4*(Steuerung!$A$3-1))) -> 3106 | E21: =INDEX(Rohdaten_tab3!$1:$1048576,ROW(Rohdaten_tab3!D7),COLUMN(Rohdaten_tab3!D7)+(4*(Steuerung!$A$3-1))) -> 3088 | F21: =INDEX(Rohdaten_tab3!$1:$1048576,ROW(Rohdaten_tab3!E7),COLUMN(Rohdaten_tab3!E7)+(4*(Steuerung!$A$3-1))) -> 18
A22: =IF(INDEX(Rohdaten_tab3!$A:$A,ROW(Rohdaten_tab3!$A8),COLUMN(Rohdaten_tab3!$A:$A))<>"",INDEX(Rohdaten_tab3!$A:$A,ROW(Rohdaten_tab3!$A8),COLUMN(Rohdaten_tab3!$A:$A)),"") -> 2012 | C22: =INDEX(Rohdaten_tab3!$1:$1048576,ROW(Rohdaten_tab3!B8),COLUMN(Rohdaten_tab3!B8)+(4*(Steuerung!$A$3-1))) -> 2995 | D22: =INDEX(Rohdaten_tab3!$1:$1048576,ROW(Rohdaten_tab3!C8),COLUMN(Rohdaten_tab3!C8)+(4*(Steuerung!$A$3-1))) -> 3036 | E22: =INDEX(Rohdaten_tab3!$1:$1048576,ROW(Rohdaten_tab3!D8),COLUMN(Rohdaten_tab3!D8)+(4*(Steuerung!$A$3-1))) -> 3019 | F22: =INDEX(Rohdaten_tab3!$1:$1048576,ROW(Rohdaten_tab3!E8),COLUMN(Rohdaten_tab3!E8)+(4*(Steuerung!$A$3-1))) -> 17
A23: =IF(INDEX(Rohdaten_tab3!$A:$A,ROW(Rohdaten_tab3!$A9),COLUMN(Rohdaten_tab3!$A:$A))<>"",INDEX(Rohdaten_tab3!$A:$A,ROW(Rohdaten_tab3!$A9),COLUMN(Rohdaten_tab3!$A:$A)),"") -> 2013 | C23: =INDEX(Rohdaten_tab3!$1:$1048576,ROW(Rohdaten_tab3!B9),COLUMN(Rohdaten_tab3!B9)+(4*(Steuerung!$A$3-1))) -> 2930 | D23: =INDEX(Rohdaten_tab3!$1:$1048576,ROW(Rohdaten_tab3!C9),COLUMN(Rohdaten_tab3!C9)+(4*(Steuerung!$A$3-1))) -> 3019 | E23: =INDEX(Rohdaten_tab3!$1:$1048576,ROW(Rohdaten_tab3!D9),COLUMN(Rohdaten_tab3!D9)+(4*(Steuerung!$A$3-1))) -> 3008 | F23: =INDEX(Rohdaten_tab3!$1:$1048576,ROW(Rohdaten_tab3!E9),COLUMN(Rohdaten_tab3!E9)+(4*(Steuerung!$A$3-1))) -> 11
A24: =IF(INDEX(Rohdaten_tab3!$A:$A,ROW(Rohdaten_tab3!$A10),COLUMN(Rohdaten_tab3!$A:$A))<>"",INDEX(Rohdaten_tab3!$A:$A,ROW(Rohdaten_tab3!$A10),COLUMN(Rohdaten_tab3!$A:$A)),"") -> 2014 | C24: =INDEX(Rohdaten_tab3!$1:$1048576,ROW(Rohdaten_tab3!B10),COLUMN(Rohdaten_tab3!B10)+(4*(Steuerung!$A$3-1))) -> 2593 | D24: =INDEX(Rohdaten_tab3!$1:$1048576,ROW(Rohdaten_tab3!C10),COLUMN(Rohdaten_tab3!C10)+(4*(Steuerung!$A$3-1))) -> 2599 | E24: =INDEX(Rohdaten_tab3!$1:$1048576,ROW(Rohdaten_tab3!D10),COLUMN(Rohdaten_tab3!D10)+(4*(Steuerung!$A$3-1))) -> 2580 | F24: =INDEX(Rohdaten_tab3!$1:$1048576,ROW(Rohdaten_tab3!E10),COLUMN(Rohdaten_tab3!E10)+(4*(Steuerung!$A$3-1))) -> 19
A25: =IF(INDEX(Rohdaten_tab3!$A:$A,ROW(Rohdaten_tab3!$A11),COLUMN(Rohdaten_tab3!$A:$A))<>"",INDEX(Rohdaten_tab3!$A:$A,ROW(Rohdaten_tab3!$A11),COLUMN(Rohdaten_tab3!$A:$A)),"") -> 2015 | C25: =INDEX(Rohdaten_tab3!$1:$1048576,ROW(Rohdaten_tab3!B11),COLUMN(Rohdaten_tab3!B11)+(4*(Steuerung!$A$3-1))) -> 2370 | D25: =INDEX(Rohdaten_tab3!$1:$1048576,ROW(Rohdaten_tab3!C11),COLUMN(Rohdaten_tab3!C11)+(4*(Steuerung!$A$3-1))) -> 2406 | E25: =INDEX(Rohdaten_tab3!$1:$1048576,ROW(Rohdaten_tab3!D11),COLUMN(Rohdaten_tab3!D11)+(4*(Steuerung!$A$3-1))) -> 2391 | F25: =INDEX(Rohdaten_tab3!$1:$1048576,ROW(Rohdaten_tab3!E11),COLUMN(Rohdaten_tab3!E11)+(4*(Steuerung!$A$3-1))) -> 15
A26: =IF(INDEX(Rohdaten_tab3!$A:$A,ROW(Rohdaten_tab3!$A12),COLUMN(Rohdaten_tab3!$A:$A))<>"",INDEX(Rohdaten_tab3!$A:$A,ROW(Rohdaten_tab3!$A12),COLUMN(Rohdaten_tab3!$A:$A)),"") -> 2016 | C26: =INDEX(Rohdaten_tab3!$1:$1048576,ROW(Rohdaten_tab3!B12),COLUMN(Rohdaten_tab3!B12)+(4*(Steuerung!$A$3-1))) -> 2147 | D26: =INDEX(Rohdaten_tab3!$1:$1048576,ROW(Rohdaten_tab3!C12),COLUMN(Rohdaten_tab3!C12)+(4*(Steuerung!$A$3-1))) -> 2194 | E26: =INDEX(Rohdaten_tab3!$1:$1048576,ROW(Rohdaten_tab3!D12),COLUMN(Rohdaten_tab3!D12)+(4*(Steuerung!$A$3-1))) -> 2182 | F26: =INDEX(Rohdaten_tab3!$1:$1048576,ROW(Rohdaten_tab3!E12),COLUMN(Rohdaten_tab3!E12)+(4*(Steuerung!$A$3-1))) -> 12
A27: =IF(INDEX(Rohdaten_tab3!$A:$A,ROW(Rohdaten_tab3!$A13),COLUMN(Rohdaten_tab3!$A:$A))<>"",INDEX(Rohdaten_tab3!$A:$A,ROW(Rohdaten_tab3!$A13),COLUMN(Rohdaten_tab3!$A:$A)),"") -> 2017 | C27: =INDEX(Rohdaten_tab3!$1:$1048576,ROW(Rohdaten_tab3!B13),COLUMN(Rohdaten_tab3!B13)+(4*(Steuerung!$A$3-1))) -> 1917 | D27: =INDEX(Rohdaten_tab3!$1:$1048576,ROW(Rohdaten_tab3!C13),COLUMN(Rohdaten_tab3!C13)+(4*(Steuerung!$A$3-1))) -> 1917 | E27: =INDEX(Rohdaten_tab3!$1:$1048576,ROW(Rohdaten_tab3!D13),COLUMN(Rohdaten_tab3!D13)+(4*(Steuerung!$A$3-1))) -> 1897 | F27: =INDEX(Rohdaten_tab3!$1:$1048576,ROW(Rohdaten_tab3!E13),COLUMN(Rohdaten_tab3!E13)+(4*(Steuerung!$A$3-1))) -> 20
... A70: =IF(INDEX(Rohdaten_tab3!$A:$A,ROW(Rohdaten_tab3!$A56),COLUMN(Rohdaten_tab3!$A:$A))<>"",INDEX(Rohdaten_tab3!$A:$A,ROW(Rohdaten_tab3!$A56),COLUMN(Rohdaten_tab3!$A:$A)),"") -> November 2008 | C70: =INDEX(Rohdaten_tab3!$1:$1048576,ROW(Rohdaten_tab3!B56),COLUMN(Rohdaten_tab3!B56)+(4*(Steuerung!$A$3-1))) -> 279 | D70: =INDEX(Rohdaten_tab3!$1:$1048576,ROW(Rohdaten_tab3!C56),COLUMN(Rohdaten_tab3!C56)+(4*(Steuerung!$A$3-1))) -> * | E70: =INDEX(Rohdaten_tab3!$1:$1048576,ROW(Rohdaten_tab3!D56),COLUMN(Rohdaten_tab3!D56)+(4*(Steuerung!$A$3-1))) -> 295 | F70: =INDEX(Rohdaten_tab3!$1:$1048576,ROW(Rohdaten_tab3!E56),COLUMN(Rohdaten_tab3!E56)+(4*(Steuerung!$A$3-1))) -> *
A71: Dezember 2008 | C71: =INDEX(Rohdaten_tab3!$1:$1048576,ROW(Rohdaten_tab3!B57),COLUMN(Rohdaten_tab3!B57)+(4*(Steuerung!$A$3-1))) -> 346 | D71: =INDEX(Rohdaten_tab3!$1:$1048576,ROW(Rohdaten_tab3!C57),COLUMN(Rohdaten_tab3!C57)+(4*(Steuerung!$A$3-1))) -> * | E71: =INDEX(Rohdaten_tab3!$1:$1048576,ROW(Rohdaten_tab3!D57),COLUMN(Rohdaten_tab3!D57)+(4*(Steuerung!$A$3-1))) -> 343 | F71: =INDEX(Rohdaten_tab3!$1:$1048576,ROW(Rohdaten_tab3!E57),COLUMN(Rohdaten_tab3!E57)+(4*(Steuerung!$A$3-1))) -> *
A72: Januar 2009 | C72: =INDEX(Rohdaten_tab3!$1:$1048576,ROW(Rohdaten_tab3!B58),COLUMN(Rohdaten_tab3!B58)+(4*(Steuerung!$A$3-1))) -> 812 | D72: =INDEX(Rohdaten_tab3!$1:$1048576,ROW(Rohdaten_tab3!C58),COLUMN(Rohdaten_tab3!C58)+(4*(Steuerung!$A$3-1))) -> 824 | E72: =INDEX(Rohdaten_tab3!$1:$1048576,ROW(Rohdaten_tab3!D58),COLUMN(Rohdaten_tab3!D58)+(4*(Steuerung!$A$3-1))) -> 824 | F72: =INDEX(Rohdaten_tab3!$1:$1048576,ROW(Rohdaten_tab3!E58),COLUMN(Rohdaten_tab3!E58)+(4*(Steuerung!$A$3-1))) -> 0
A73: Februar 2009 | C73: =INDEX(Rohdaten_tab3!$1:$1048576,ROW(Rohdaten_tab3!B59),COLUMN(Rohdaten_tab3!B59)+(4*(Steuerung!$A$3-1))) -> 409 | D73: =INDEX(Rohdaten_tab3!$1:$1048576,ROW(Rohdaten_tab3!C59),COLUMN(Rohdaten_tab3!C59)+(4*(Steuerung!$A$3-1))) -> * | E73: =INDEX(Rohdaten_tab3!$1:$1048576,ROW(Rohdaten_tab3!D59),COLUMN(Rohdaten_tab3!D59)+(4*(Steuerung!$A$3-1))) -> 426 | F73: =INDEX(Rohdaten_tab3!$1:$1048576,ROW(Rohdaten_tab3!E59),COLUMN(Rohdaten_tab3!E59)+(4*(Steuerung!$A$3-1))) -> *
A74: März 2009 | C74: =INDEX(Rohdaten_tab3!$1:$1048576,ROW(Rohdaten_tab3!B60),COLUMN(Rohdaten_tab3!B60)+(4*(Steuerung!$A$3-1))) -> 369 | D74: =INDEX(Rohdaten_tab3!$1:$1048576,ROW(Rohdaten_tab3!C60),COLUMN(Rohdaten_tab3!C60)+(4*(Steuerung!$A$3-1))) -> 385 | E74: =INDEX(Rohdaten_tab3!$1:$1048576,ROW(Rohdaten_tab3!D60),COLUMN(Rohdaten_tab3!D60)+(4*(Steuerung!$A$3-1))) -> 385 | F74: =INDEX(Rohdaten_tab3!$1:$1048576,ROW(Rohdaten_tab3!E60),COLUMN(Rohdaten_tab3!E60)+(4*(Steuerung!$A$3-1))) -> 0
A75: April 2009 | C75: =INDEX(Rohdaten_tab3!$1:$1048576,ROW(Rohdaten_tab3!B61),COLUMN(Rohdaten_tab3!B61)+(4*(Steuerung!$A$3-1))) -> 356 | D75: =INDEX(Rohdaten_tab3!$1:$1048576,ROW(Rohdaten_tab3!C61),COLUMN(Rohdaten_tab3!C61)+(4*(Steuerung!$A$3-1))) -> 377 | E75: =INDEX(Rohdaten_tab3!$1:$1048576,ROW(Rohdaten_tab3!D61),COLUMN(Rohdaten_tab3!D61)+(4*(Steuerung!$A$3-1))) -> 374 | F75: =INDEX(Rohdaten_tab3!$1:$1048576,ROW(Rohdaten_tab3!E61),COLUMN(Rohdaten_tab3!E61)+(4*(Steuerung!$A$3-1))) -> 3
A76: Mai 2009 | C76: =INDEX(Rohdaten_tab3!$1:$1048576,ROW(Rohdaten_tab3!B62),COLUMN(Rohdaten_tab3!B62)+(4*(Steuerung!$A$3-1))) -> 305 | D76: =INDEX(Rohdaten_tab3!$1:$1048576,ROW(Rohdaten_tab3!C62),COLUMN(Rohdaten_tab3!C62)+(4*(Steuerung!$A$3-1))) -> * | E76: =INDEX(Rohdaten_tab3!$1:$1048576,ROW(Rohdaten_tab3!D62),COLUMN(Rohdaten_tab3!D62)+(4*(Steuerung!$A$3-1))) -> 326 | F76: =INDEX(Rohdaten_tab3!$1:$1048576,ROW(Rohdaten_tab3!E62),COLUMN(Rohdaten_tab3!E62)+(4*(Steuerung!$A$3-1))) -> *
A77: Juni 2009 | C77: =INDEX(Rohdaten_tab3!$1:$1048576,ROW(Rohdaten_tab3!B63),COLUMN(Rohdaten_tab3!B63)+(4*(Steuerung!$A$3-1))) -> 353 | D77: =INDEX(Rohdaten_tab3!$1:$1048576,ROW(Rohdaten_tab3!C63),COLUMN(Rohdaten_tab3!C63)+(4*(Steuerung!$A$3-1))) -> * | E77: =INDEX(Rohdaten_tab3!$1:$1048576,ROW(Rohdaten_tab3!D63),COLUMN(Rohdaten_tab3!D63)+(4*(Steuerung!$A$3-1))) -> 373 | F77: =INDEX(Rohdaten_tab3!$1:$1048576,ROW(Rohdaten_tab3!E63),COLUMN(Rohdaten_tab3!E63)+(4*(Steuerung!$A$3-1))) -> *
A78: Juli 2009 | C78: =INDEX(Rohdaten_tab3!$1:$1048576,ROW(Rohdaten_tab3!B64),COLUMN(Rohdaten_tab3!B64)+(4*(Steuerung!$A$3-1))) -> 382 | D78: =INDEX(Rohdaten_tab3!$1:$1048576,ROW(Rohdaten_tab3!C64),COLUMN(Rohdaten_tab3!C64)+(4*(Steuerung!$A$3-1))) -> 387 | E78: =INDEX(Rohdaten_tab3!$1:$1048576,ROW(Rohdaten_tab3!D64),COLUMN(Rohdaten_tab3!D64)+(4*(Steuerung!$A$3-1))) -> 387 | F78: =INDEX(Rohdaten_tab3!$1:$1048576,ROW(Rohdaten_tab3!E64),COLUMN(Rohdaten_tab3!E64)+(4*(Steuerung!$A$3-1))) -> 0
A79: August 2009 | C79: =INDEX(Rohdaten_tab3!$1:$1048576,ROW(Rohdaten_tab3!B65),COLUMN(Rohdaten_tab3!B65)+(4*(Steuerung!$A$3-1))) -> 290 | D79: =INDEX(Rohdaten_tab3!$1:$1048576,ROW(Rohdaten_tab3!C65),COLUMN(Rohdaten_tab3!C65)+(4*(Steuerung!$A$3-1))) -> 298 | E79: =INDEX(Rohdaten_tab3!$1:$1048576,ROW(Rohdaten_tab3!D65),COLUMN(Rohdaten_tab3!D65)+(4*(Steuerung!$A$3-1))) -> 298 | F79: =INDEX(Rohdaten_tab3!$1:$1048576,ROW(Rohdaten_tab3!E65),COLUMN(Rohdaten_tab3!E65)+(4*(Steuerung!$A$3-1))) -> 0
A80: September 2009 | C80: =INDEX(Rohdaten_tab3!$1:$1048576,ROW(Rohdaten_tab3!B66),COLUMN(Rohdaten_tab3!B66)+(4*(Steuerung!$A$3-1))) -> 270 | D80: =INDEX(Rohdaten_tab3!$1:$1048576,ROW(Rohdaten_tab3!C66),COLUMN(Rohdaten_tab3!C66)+(4*(Steuerung!$A$3-1))) -> 284 | E80: =INDEX(Rohdaten_tab3!$1:$1048576,ROW(Rohdaten_tab3!D66),COLUMN(Rohdaten_tab3!D66)+(4*(Steuerung!$A$3-1))) -> 279 | F80: =INDEX(Rohdaten_tab3!$1:$1048576,ROW(Rohdaten_tab3!E66),COLUMN(Rohdaten_tab3!E66)+(4*(Steuerung!$A$3-1))) -> 5
A81: Oktober 2009 | C81: =INDEX(Rohdaten_tab3!$1:$1048576,ROW(Rohdaten_tab3!B67),COLUMN(Rohdaten_tab3!B67)+(4*(Steuerung!$A$3-1))) -> 307 | D81: =INDEX(Rohdaten_tab3!$1:$1048576,ROW(Rohdaten_tab3!C67),COLUMN(Rohdaten_tab3!C67)+(4*(Steuerung!$A$3-1))) -> 323 | E81: =INDEX(Rohdaten_tab3!$1:$1048576,ROW(Rohdaten_tab3!D67),COLUMN(Rohdaten_tab3!D67)+(4*(Steuerung!$A$3-1))) -> 319 | F81: =INDEX(Rohdaten_tab3!$1:$1048576,ROW(Rohdaten_tab3!E67),COLUMN(Rohdaten_tab3!E67)+(4*(Steuerung!$A$3-1))) -> 4
A82: November 2009 | C82: =INDEX(Rohdaten_tab3!$1:$1048576,ROW(Rohdaten_tab3!B68),COLUMN(Rohdaten_tab3!B68)+(4*(Steuerung!$A$3-1))) -> 262 | D82: =INDEX(Rohdaten_tab3!$1:$1048576,ROW(Rohdaten_tab3!C68),COLUMN(Rohdaten_tab3!C68)+(4*(Steuerung!$A$3-1))) -> 284 | E82: =INDEX(Rohdaten_tab3!$1:$1048576,ROW(Rohdaten_tab3!D68),COLUMN(Rohdaten_tab3!D68)+(4*(Steuerung!$A$3-1))) -> 281 | F82: =INDEX(Rohdaten_tab3!$1:$1048576,ROW(Rohdaten_tab3!E68),COLUMN(Rohdaten_tab3!E68)+(4*(Steuerung!$A$3-1))) -> 3
... A283: August 2026 | C283: =INDEX(Rohdaten_tab3!$1:$1048576,ROW(Rohdaten_tab3!B269),COLUMN(Rohdaten_tab3!B269)+(4*(Steuerung!$A$3-1))) -> 155 | D283: =INDEX(Rohdaten_tab3!$1:$1048576,ROW(Rohdaten_tab3!C269),COLUMN(Rohdaten_tab3!C269)+(4*(Steuerung!$A$3-1))) -> 165 | E283: =INDEX(Rohdaten_tab3!$1:$1048576,ROW(Rohdaten_tab3!D269),COLUMN(Rohdaten_tab3!D269)+(4*(Steuerung!$A$3-1))) -> 165 | F283: =INDEX(Rohdaten_tab3!$1:$1048576,ROW(Rohdaten_tab3!E269),COLUMN(Rohdaten_tab3!E269)+(4*(Steuerung!$A$3-1))) -> 0
F284: © Statistik der Bundesagentur für Arbeit
A286: Hinweis:
A287: Die Zählweise von Ausländern hat sich im Vergleich zu früheren Publikationen geändert. Staatenlose und Personen ohne Angabe zur Staatsangehörigkeit werden nun nicht mehr unter „Keine Angabe“, sondern zu den Ausländern gezählt. Details dazu finden Sie in der Hintergrundinfo „Statistiken nach Staatsangehörigkeit – neue Zuordnung von Staatenlosen und Personen ohne Angabe der Staatsangehörigkeit“ auf unserer Internetseite Grundlagen > Methodik und Qualität > Methodenberichte und Hintergrundinfos > Übergreifende Themen.

Sheet Tab 4
F1: Arbeitslosengeld nach dem SGB III
A3: =CONCATENATE("4. Abgang von Anspruchsberechtigten und Leistungsbeziehenden",Auswahl_Text) -> 4. Abgang von Anspruchsberechtigten und Leistungsbeziehenden
A4: Hildburghausen (Gebietsstand Oktober 2026)
A5: Zeitreihe
A7: Daten zu Arbeitslosengeld nach dem SGB III (Alg) nach einer Wartezeit von 2 Monaten.
A8: Auf Grund von methodisch-technisch bedingten Anpassungen sind die Bewegungen im Berichtsmonat November 2020 in der Arbeitslosengeldstatistik überzeichnet.
A12: Jahressumme/ Berichtsmonat | C12: aus Anspruchs- berechtigung | D12: aus Leistungs- bezug | E12: dav. (Sp. 2) von Arbeitslosengeld
E13: bei Arbeitslosigkeit | F13: bei Weiterbildung
C15: 1 | D15: 2 | E15: 3 | F15: 4
A16: =IF(INDEX(Rohdaten_tab4!$A:$A,ROW(Rohdaten_tab4!$A2),COLUMN(Rohdaten_tab4!$A:$A))<>"",INDEX(Rohdaten_tab4!$A:$A,ROW(Rohdaten_tab4!$A2),COLUMN(Rohdaten_tab4!$A:$A)),"") -> 2006 | C16: =INDEX(Rohdaten_tab4!$1:$1048576,ROW(Rohdaten_tab4!B2),COLUMN(Rohdaten_tab4!B2)+(4*(Steuerung!$A$3-1))) -> 5381 | D16: =INDEX(Rohdaten_tab4!$1:$1048576,ROW(Rohdaten_tab4!C2),COLUMN(Rohdaten_tab4!C2)+(4*(Steuerung!$A$3-1))) -> 5480 | E16: =INDEX(Rohdaten_tab4!$1:$1048576,ROW(Rohdaten_tab4!D2),COLUMN(Rohdaten_tab4!D2)+(4*(Steuerung!$A$3-1))) -> 5374 | F16: =INDEX(Rohdaten_tab4!$1:$1048576,ROW(Rohdaten_tab4!E2),COLUMN(Rohdaten_tab4!E2)+(4*(Steuerung!$A$3-1))) -> 106
A17: =IF(INDEX(Rohdaten_tab4!$A:$A,ROW(Rohdaten_tab4!$A3),COLUMN(Rohdaten_tab4!$A:$A))<>"",INDEX(Rohdaten_tab4!$A:$A,ROW(Rohdaten_tab4!$A3),COLUMN(Rohdaten_tab4!$A:$A)),"") -> 2007 | C17: =INDEX(Rohdaten_tab4!$1:$1048576,ROW(Rohdaten_tab4!B3),COLUMN(Rohdaten_tab4!B3)+(4*(Steuerung!$A$3-1))) -> 4318 | D17: =INDEX(Rohdaten_tab4!$1:$1048576,ROW(Rohdaten_tab4!C3),COLUMN(Rohdaten_tab4!C3)+(4*(Steuerung!$A$3-1))) -> 4476 | E17: =INDEX(Rohdaten_tab4!$1:$1048576,ROW(Rohdaten_tab4!D3),COLUMN(Rohdaten_tab4!D3)+(4*(Steuerung!$A$3-1))) -> 4388 | F17: =INDEX(Rohdaten_tab4!$1:$1048576,ROW(Rohdaten_tab4!E3),COLUMN(Rohdaten_tab4!E3)+(4*(Steuerung!$A$3-1))) -> 88
A18: =IF(INDEX(Rohdaten_tab4!$A:$A,ROW(Rohdaten_tab4!$A4),COLUMN(Rohdaten_tab4!$A:$A))<>"",INDEX(Rohdaten_tab4!$A:$A,ROW(Rohdaten_tab4!$A4),COLUMN(Rohdaten_tab4!$A:$A)),"") -> 2008 | C18: =INDEX(Rohdaten_tab4!$1:$1048576,ROW(Rohdaten_tab4!B4),COLUMN(Rohdaten_tab4!B4)+(4*(Steuerung!$A$3-1))) -> 3823 | D18: =INDEX(Rohdaten_tab4!$1:$1048576,ROW(Rohdaten_tab4!C4),COLUMN(Rohdaten_tab4!C4)+(4*(Steuerung!$A$3-1))) -> 4018 | E18: =INDEX(Rohdaten_tab4!$1:$1048576,ROW(Rohdaten_tab4!D4),COLUMN(Rohdaten_tab4!D4)+(4*(Steuerung!$A$3-1))) -> 3965 | F18: =INDEX(Rohdaten_tab4!$1:$1048576,ROW(Rohdaten_tab4!E4),COLUMN(Rohdaten_tab4!E4)+(4*(Steuerung!$A$3-1))) -> 53
A19: =IF(INDEX(Rohdaten_tab4!$A:$A,ROW(Rohdaten_tab4!$A5),COLUMN(Rohdaten_tab4!$A:$A))<>"",INDEX(Rohdaten_tab4!$A:$A,ROW(Rohdaten_tab4!$A5),COLUMN(Rohdaten_tab4!$A:$A)),"") -> 2009 | C19: =INDEX(Rohdaten_tab4!$1:$1048576,ROW(Rohdaten_tab4!B5),COLUMN(Rohdaten_tab4!B5)+(4*(Steuerung!$A$3-1))) -> 4203 | D19: =INDEX(Rohdaten_tab4!$1:$1048576,ROW(Rohdaten_tab4!C5),COLUMN(Rohdaten_tab4!C5)+(4*(Steuerung!$A$3-1))) -> 4383 | E19: =INDEX(Rohdaten_tab4!$1:$1048576,ROW(Rohdaten_tab4!D5),COLUMN(Rohdaten_tab4!D5)+(4*(Steuerung!$A$3-1))) -> 4334 | F19: =INDEX(Rohdaten_tab4!$1:$1048576,ROW(Rohdaten_tab4!E5),COLUMN(Rohdaten_tab4!E5)+(4*(Steuerung!$A$3-1))) -> 49
A20: =IF(INDEX(Rohdaten_tab4!$A:$A,ROW(Rohdaten_tab4!$A6),COLUMN(Rohdaten_tab4!$A:$A))<>"",INDEX(Rohdaten_tab4!$A:$A,ROW(Rohdaten_tab4!$A6),COLUMN(Rohdaten_tab4!$A:$A)),"") -> 2010 | C20: =INDEX(Rohdaten_tab4!$1:$1048576,ROW(Rohdaten_tab4!B6),COLUMN(Rohdaten_tab4!B6)+(4*(Steuerung!$A$3-1))) -> 4161 | D20: =INDEX(Rohdaten_tab4!$1:$1048576,ROW(Rohdaten_tab4!C6),COLUMN(Rohdaten_tab4!C6)+(4*(Steuerung!$A$3-1))) -> 4297 | E20: =INDEX(Rohdaten_tab4!$1:$1048576,ROW(Rohdaten_tab4!D6),COLUMN(Rohdaten_tab4!D6)+(4*(Steuerung!$A$3-1))) -> 4222 | F20: =INDEX(Rohdaten_tab4!$1:$1048576,ROW(Rohdaten_tab4!E6),COLUMN(Rohdaten_tab4!E6)+(4*(Steuerung!$A$3-1))) -> 75
A21: =IF(INDEX(Rohdaten_tab4!$A:$A,ROW(Rohdaten_tab4!$A7),COLUMN(Rohdaten_tab4!$A:$A))<>"",INDEX(Rohdaten_tab4!$A:$A,ROW(Rohdaten_tab4!$A7),COLUMN(Rohdaten_tab4!$A:$A)),"") -> 2011 | C21: =INDEX(Rohdaten_tab4!$1:$1048576,ROW(Rohdaten_tab4!B7),COLUMN(Rohdaten_tab4!B7)+(4*(Steuerung!$A$3-1))) -> 3104 | D21: =INDEX(Rohdaten_tab4!$1:$1048576,ROW(Rohdaten_tab4!C7),COLUMN(Rohdaten_tab4!C7)+(4*(Steuerung!$A$3-1))) -> 3177 | E21: =INDEX(Rohdaten_tab4!$1:$1048576,ROW(Rohdaten_tab4!D7),COLUMN(Rohdaten_tab4!D7)+(4*(Steuerung!$A$3-1))) -> 3120 | F21: =INDEX(Rohdaten_tab4!$1:$1048576,ROW(Rohdaten_tab4!E7),COLUMN(Rohdaten_tab4!E7)+(4*(Steuerung!$A$3-1))) -> 57
A22: =IF(INDEX(Rohdaten_tab4!$A:$A,ROW(Rohdaten_tab4!$A8),COLUMN(Rohdaten_tab4!$A:$A))<>"",INDEX(Rohdaten_tab4!$A:$A,ROW(Rohdaten_tab4!$A8),COLUMN(Rohdaten_tab4!$A:$A)),"") -> 2012 | C22: =INDEX(Rohdaten_tab4!$1:$1048576,ROW(Rohdaten_tab4!B8),COLUMN(Rohdaten_tab4!B8)+(4*(Steuerung!$A$3-1))) -> 2852 | D22: =INDEX(Rohdaten_tab4!$1:$1048576,ROW(Rohdaten_tab4!C8),COLUMN(Rohdaten_tab4!C8)+(4*(Steuerung!$A$3-1))) -> 2897 | E22: =INDEX(Rohdaten_tab4!$1:$1048576,ROW(Rohdaten_tab4!D8),COLUMN(Rohdaten_tab4!D8)+(4*(Steuerung!$A$3-1))) -> 2834 | F22: =INDEX(Rohdaten_tab4!$1:$1048576,ROW(Rohdaten_tab4!E8),COLUMN(Rohdaten_tab4!E8)+(4*(Steuerung!$A$3-1))) -> 63
A23: =IF(INDEX(Rohdaten_tab4!$A:$A,ROW(Rohdaten_tab4!$A9),COLUMN(Rohdaten_tab4!$A:$A))<>"",INDEX(Rohdaten_tab4!$A:$A,ROW(Rohdaten_tab4!$A9),COLUMN(Rohdaten_tab4!$A:$A)),"") -> 2013 | C23: =INDEX(Rohdaten_tab4!$1:$1048576,ROW(Rohdaten_tab4!B9),COLUMN(Rohdaten_tab4!B9)+(4*(Steuerung!$A$3-1))) -> 2955 | D23: =INDEX(Rohdaten_tab4!$1:$1048576,ROW(Rohdaten_tab4!C9),COLUMN(Rohdaten_tab4!C9)+(4*(Steuerung!$A$3-1))) -> 3034 | E23: =INDEX(Rohdaten_tab4!$1:$1048576,ROW(Rohdaten_tab4!D9),COLUMN(Rohdaten_tab4!D9)+(4*(Steuerung!$A$3-1))) -> 2986 | F23: =INDEX(Rohdaten_tab4!$1:$1048576,ROW(Rohdaten_tab4!E9),COLUMN(Rohdaten_tab4!E9)+(4*(Steuerung!$A$3-1))) -> 48
A24: =IF(INDEX(Rohdaten_tab4!$A:$A,ROW(Rohdaten_tab4!$A10),COLUMN(Rohdaten_tab4!$A:$A))<>"",INDEX(Rohdaten_tab4!$A:$A,ROW(Rohdaten_tab4!$A10),COLUMN(Rohdaten_tab4!$A:$A)),"") -> 2014 | C24: =INDEX(Rohdaten_tab4!$1:$1048576,ROW(Rohdaten_tab4!B10),COLUMN(Rohdaten_tab4!B10)+(4*(Steuerung!$A$3-1))) -> 2687 | D24: =INDEX(Rohdaten_tab4!$1:$1048576,ROW(Rohdaten_tab4!C10),COLUMN(Rohdaten_tab4!C10)+(4*(Steuerung!$A$3-1))) -> 2706 | E24: =INDEX(Rohdaten_tab4!$1:$1048576,ROW(Rohdaten_tab4!D10),COLUMN(Rohdaten_tab4!D10)+(4*(Steuerung!$A$3-1))) -> 2662 | F24: =INDEX(Rohdaten_tab4!$1:$1048576,ROW(Rohdaten_tab4!E10),COLUMN(Rohdaten_tab4!E10)+(4*(Steuerung!$A$3-1))) -> 44
A25: =IF(INDEX(Rohdaten_tab4!$A:$A,ROW(Rohdaten_tab4!$A11),COLUMN(Rohdaten_tab4!$A:$A))<>"",INDEX(Rohdaten_tab4!$A:$A,ROW(Rohdaten_tab4!$A11),COLUMN(Rohdaten_tab4!$A:$A)),"") -> 2015 | C25: =INDEX(Rohdaten_tab4!$1:$1048576,ROW(Rohdaten_tab4!B11),COLUMN(Rohdaten_tab4!B11)+(4*(Steuerung!$A$3-1))) -> 2433 | D25: =INDEX(Rohdaten_tab4!$1:$1048576,ROW(Rohdaten_tab4!C11),COLUMN(Rohdaten_tab4!C11)+(4*(Steuerung!$A$3-1))) -> 2462 | E25: =INDEX(Rohdaten_tab4!$1:$1048576,ROW(Rohdaten_tab4!D11),COLUMN(Rohdaten_tab4!D11)+(4*(Steuerung!$A$3-1))) -> 2430 | F25: =INDEX(Rohdaten_tab4!$1:$1048576,ROW(Rohdaten_tab4!E11),COLUMN(Rohdaten_tab4!E11)+(4*(Steuerung!$A$3-1))) -> 32
A26: =IF(INDEX(Rohdaten_tab4!$A:$A,ROW(Rohdaten_tab4!$A12),COLUMN(Rohdaten_tab4!$A:$A))<>"",INDEX(Rohdaten_tab4!$A:$A,ROW(Rohdaten_tab4!$A12),COLUMN(Rohdaten_tab4!$A:$A)),"") -> 2016 | C26: =INDEX(Rohdaten_tab4!$1:$1048576,ROW(Rohdaten_tab4!B12),COLUMN(Rohdaten_tab4!B12)+(4*(Steuerung!$A$3-1))) -> 2222 | D26: =INDEX(Rohdaten_tab4!$1:$1048576,ROW(Rohdaten_tab4!C12),COLUMN(Rohdaten_tab4!C12)+(4*(Steuerung!$A$3-1))) -> 2268 | E26: =INDEX(Rohdaten_tab4!$1:$1048576,ROW(Rohdaten_tab4!D12),COLUMN(Rohdaten_tab4!D12)+(4*(Steuerung!$A$3-1))) -> 2219 | F26: =INDEX(Rohdaten_tab4!$1:$1048576,ROW(Rohdaten_tab4!E12),COLUMN(Rohdaten_tab4!E12)+(4*(Steuerung!$A$3-1))) -> 49
A27: =IF(INDEX(Rohdaten_tab4!$A:$A,ROW(Rohdaten_tab4!$A13),COLUMN(Rohdaten_tab4!$A:$A))<>"",INDEX(Rohdaten_tab4!$A:$A,ROW(Rohdaten_tab4!$A13),COLUMN(Rohdaten_tab4!$A:$A)),"") -> 2017 | C27: =INDEX(Rohdaten_tab4!$1:$1048576,ROW(Rohdaten_tab4!B13),COLUMN(Rohdaten_tab4!B13)+(4*(Steuerung!$A$3-1))) -> 1961 | D27: =INDEX(Rohdaten_tab4!$1:$1048576,ROW(Rohdaten_tab4!C13),COLUMN(Rohdaten_tab4!C13)+(4*(Steuerung!$A$3-1))) -> 1956 | E27: =INDEX(Rohdaten_tab4!$1:$1048576,ROW(Rohdaten_tab4!D13),COLUMN(Rohdaten_tab4!D13)+(4*(Steuerung!$A$3-1))) -> 1908 | F27: =INDEX(Rohdaten_tab4!$1:$1048576,ROW(Rohdaten_tab4!E13),COLUMN(Rohdaten_tab4!E13)+(4*(Steuerung!$A$3-1))) -> 48
... A70: =IF(INDEX(Rohdaten_tab4!$A:$A,ROW(Rohdaten_tab4!$A56),COLUMN(Rohdaten_tab4!$A:$A))<>"",INDEX(Rohdaten_tab4!$A:$A,ROW(Rohdaten_tab4!$A56),COLUMN(Rohdaten_tab4!$A:$A)),"") -> November 2008 | C70: =INDEX(Rohdaten_tab4!$1:$1048576,ROW(Rohdaten_tab4!B56),COLUMN(Rohdaten_tab4!B56)+(4*(Steuerung!$A$3-1))) -> 181 | D70: =INDEX(Rohdaten_tab4!$1:$1048576,ROW(Rohdaten_tab4!C56),COLUMN(Rohdaten_tab4!C56)+(4*(Steuerung!$A$3-1))) -> 190 | E70: =INDEX(Rohdaten_tab4!$1:$1048576,ROW(Rohdaten_tab4!D56),COLUMN(Rohdaten_tab4!D56)+(4*(Steuerung!$A$3-1))) -> 187 | F70: =INDEX(Rohdaten_tab4!$1:$1048576,ROW(Rohdaten_tab4!E56),COLUMN(Rohdaten_tab4!E56)+(4*(Steuerung!$A$3-1))) -> 3
A71: Dezember 2008 | C71: =INDEX(Rohdaten_tab4!$1:$1048576,ROW(Rohdaten_tab4!B57),COLUMN(Rohdaten_tab4!B57)+(4*(Steuerung!$A$3-1))) -> 196 | D71: =INDEX(Rohdaten_tab4!$1:$1048576,ROW(Rohdaten_tab4!C57),COLUMN(Rohdaten_tab4!C57)+(4*(Steuerung!$A$3-1))) -> 207 | E71: =INDEX(Rohdaten_tab4!$1:$1048576,ROW(Rohdaten_tab4!D57),COLUMN(Rohdaten_tab4!D57)+(4*(Steuerung!$A$3-1))) -> 203 | F71: =INDEX(Rohdaten_tab4!$1:$1048576,ROW(Rohdaten_tab4!E57),COLUMN(Rohdaten_tab4!E57)+(4*(Steuerung!$A$3-1))) -> 4
A72: Januar 2009 | C72: =INDEX(Rohdaten_tab4!$1:$1048576,ROW(Rohdaten_tab4!B58),COLUMN(Rohdaten_tab4!B58)+(4*(Steuerung!$A$3-1))) -> 240 | D72: =INDEX(Rohdaten_tab4!$1:$1048576,ROW(Rohdaten_tab4!C58),COLUMN(Rohdaten_tab4!C58)+(4*(Steuerung!$A$3-1))) -> * | E72: =INDEX(Rohdaten_tab4!$1:$1048576,ROW(Rohdaten_tab4!D58),COLUMN(Rohdaten_tab4!D58)+(4*(Steuerung!$A$3-1))) -> 251 | F72: =INDEX(Rohdaten_tab4!$1:$1048576,ROW(Rohdaten_tab4!E58),COLUMN(Rohdaten_tab4!E58)+(4*(Steuerung!$A$3-1))) -> *
A73: Februar 2009 | C73: =INDEX(Rohdaten_tab4!$1:$1048576,ROW(Rohdaten_tab4!B59),COLUMN(Rohdaten_tab4!B59)+(4*(Steuerung!$A$3-1))) -> 250 | D73: =INDEX(Rohdaten_tab4!$1:$1048576,ROW(Rohdaten_tab4!C59),COLUMN(Rohdaten_tab4!C59)+(4*(Steuerung!$A$3-1))) -> * | E73: =INDEX(Rohdaten_tab4!$1:$1048576,ROW(Rohdaten_tab4!D59),COLUMN(Rohdaten_tab4!D59)+(4*(Steuerung!$A$3-1))) -> 270 | F73: =INDEX(Rohdaten_tab4!$1:$1048576,ROW(Rohdaten_tab4!E59),COLUMN(Rohdaten_tab4!E59)+(4*(Steuerung!$A$3-1))) -> *
A74: März 2009 | C74: =INDEX(Rohdaten_tab4!$1:$1048576,ROW(Rohdaten_tab4!B60),COLUMN(Rohdaten_tab4!B60)+(4*(Steuerung!$A$3-1))) -> 340 | D74: =INDEX(Rohdaten_tab4!$1:$1048576,ROW(Rohdaten_tab4!C60),COLUMN(Rohdaten_tab4!C60)+(4*(Steuerung!$A$3-1))) -> * | E74: =INDEX(Rohdaten_tab4!$1:$1048576,ROW(Rohdaten_tab4!D60),COLUMN(Rohdaten_tab4!D60)+(4*(Steuerung!$A$3-1))) -> 359 | F74: =INDEX(Rohdaten_tab4!$1:$1048576,ROW(Rohdaten_tab4!E60),COLUMN(Rohdaten_tab4!E60)+(4*(Steuerung!$A$3-1))) -> *
A75: April 2009 | C75: =INDEX(Rohdaten_tab4!$1:$1048576,ROW(Rohdaten_tab4!B61),COLUMN(Rohdaten_tab4!B61)+(4*(Steuerung!$A$3-1))) -> 593 | D75: =INDEX(Rohdaten_tab4!$1:$1048576,ROW(Rohdaten_tab4!C61),COLUMN(Rohdaten_tab4!C61)+(4*(Steuerung!$A$3-1))) -> 605 | E75: =INDEX(Rohdaten_tab4!$1:$1048576,ROW(Rohdaten_tab4!D61),COLUMN(Rohdaten_tab4!D61)+(4*(Steuerung!$A$3-1))) -> 599 | F75: =INDEX(Rohdaten_tab4!$1:$1048576,ROW(Rohdaten_tab4!E61),COLUMN(Rohdaten_tab4!E61)+(4*(Steuerung!$A$3-1))) -> 6
A76: Mai 2009 | C76: =INDEX(Rohdaten_tab4!$1:$1048576,ROW(Rohdaten_tab4!B62),COLUMN(Rohdaten_tab4!B62)+(4*(Steuerung!$A$3-1))) -> 404 | D76: =INDEX(Rohdaten_tab4!$1:$1048576,ROW(Rohdaten_tab4!C62),COLUMN(Rohdaten_tab4!C62)+(4*(Steuerung!$A$3-1))) -> 412 | E76: =INDEX(Rohdaten_tab4!$1:$1048576,ROW(Rohdaten_tab4!D62),COLUMN(Rohdaten_tab4!D62)+(4*(Steuerung!$A$3-1))) -> 406 | F76: =INDEX(Rohdaten_tab4!$1:$1048576,ROW(Rohdaten_tab4!E62),COLUMN(Rohdaten_tab4!E62)+(4*(Steuerung!$A$3-1))) -> 6
A77: Juni 2009 | C77: =INDEX(Rohdaten_tab4!$1:$1048576,ROW(Rohdaten_tab4!B63),COLUMN(Rohdaten_tab4!B63)+(4*(Steuerung!$A$3-1))) -> 346 | D77: =INDEX(Rohdaten_tab4!$1:$1048576,ROW(Rohdaten_tab4!C63),COLUMN(Rohdaten_tab4!C63)+(4*(Steuerung!$A$3-1))) -> 372 | E77: =INDEX(Rohdaten_tab4!$1:$1048576,ROW(Rohdaten_tab4!D63),COLUMN(Rohdaten_tab4!D63)+(4*(Steuerung!$A$3-1))) -> 368 | F77: =INDEX(Rohdaten_tab4!$1:$1048576,ROW(Rohdaten_tab4!E63),COLUMN(Rohdaten_tab4!E63)+(4*(Steuerung!$A$3-1))) -> 4
A78: Juli 2009 | C78: =INDEX(Rohdaten_tab4!$1:$1048576,ROW(Rohdaten_tab4!B64),COLUMN(Rohdaten_tab4!B64)+(4*(Steuerung!$A$3-1))) -> 345 | D78: =INDEX(Rohdaten_tab4!$1:$1048576,ROW(Rohdaten_tab4!C64),COLUMN(Rohdaten_tab4!C64)+(4*(Steuerung!$A$3-1))) -> * | E78: =INDEX(Rohdaten_tab4!$1:$1048576,ROW(Rohdaten_tab4!D64),COLUMN(Rohdaten_tab4!D64)+(4*(Steuerung!$A$3-1))) -> 354 | F78: =INDEX(Rohdaten_tab4!$1:$1048576,ROW(Rohdaten_tab4!E64),COLUMN(Rohdaten_tab4!E64)+(4*(Steuerung!$A$3-1))) -> *
A79: August 2009 | C79: =INDEX(Rohdaten_tab4!$1:$1048576,ROW(Rohdaten_tab4!B65),COLUMN(Rohdaten_tab4!B65)+(4*(Steuerung!$A$3-1))) -> 406 | D79: =INDEX(Rohdaten_tab4!$1:$1048576,ROW(Rohdaten_tab4!C65),COLUMN(Rohdaten_tab4!C65)+(4*(Steuerung!$A$3-1))) -> 411 | E79: =INDEX(Rohdaten_tab4!$1:$1048576,ROW(Rohdaten_tab4!D65),COLUMN(Rohdaten_tab4!D65)+(4*(Steuerung!$A$3-1))) -> 406 | F79: =INDEX(Rohdaten_tab4!$1:$1048576,ROW(Rohdaten_tab4!E65),COLUMN(Rohdaten_tab4!E65)+(4*(Steuerung!$A$3-1))) -> 5
A80: September 2009 | C80: =INDEX(Rohdaten_tab4!$1:$1048576,ROW(Rohdaten_tab4!B66),COLUMN(Rohdaten_tab4!B66)+(4*(Steuerung!$A$3-1))) -> 425 | D80: =INDEX(Rohdaten_tab4!$1:$1048576,ROW(Rohdaten_tab4!C66),COLUMN(Rohdaten_tab4!C66)+(4*(Steuerung!$A$3-1))) -> 435 | E80: =INDEX(Rohdaten_tab4!$1:$1048576,ROW(Rohdaten_tab4!D66),COLUMN(Rohdaten_tab4!D66)+(4*(Steuerung!$A$3-1))) -> 429 | F80: =INDEX(Rohdaten_tab4!$1:$1048576,ROW(Rohdaten_tab4!E66),COLUMN(Rohdaten_tab4!E66)+(4*(Steuerung!$A$3-1))) -> 6
A81: Oktober 2009 | C81: =INDEX(Rohdaten_tab4!$1:$1048576,ROW(Rohdaten_tab4!B67),COLUMN(Rohdaten_tab4!B67)+(4*(Steuerung!$A$3-1))) -> 343 | D81: =INDEX(Rohdaten_tab4!$1:$1048576,ROW(Rohdaten_tab4!C67),COLUMN(Rohdaten_tab4!C67)+(4*(Steuerung!$A$3-1))) -> 371 | E81: =INDEX(Rohdaten_tab4!$1:$1048576,ROW(Rohdaten_tab4!D67),COLUMN(Rohdaten_tab4!D67)+(4*(Steuerung!$A$3-1))) -> 367 | F81: =INDEX(Rohdaten_tab4!$1:$1048576,ROW(Rohdaten_tab4!E67),COLUMN(Rohdaten_tab4!E67)+(4*(Steuerung!$A$3-1))) -> 4
A82: November 2009 | C82: =INDEX(Rohdaten_tab4!$1:$1048576,ROW(Rohdaten_tab4!B68),COLUMN(Rohdaten_tab4!B68)+(4*(Steuerung!$A$3-1))) -> 266 | D82: =INDEX(Rohdaten_tab4!$1:$1048576,ROW(Rohdaten_tab4!C68),COLUMN(Rohdaten_tab4!C68)+(4*(Steuerung!$A$3-1))) -> 281 | E82: =INDEX(Rohdaten_tab4!$1:$1048576,ROW(Rohdaten_tab4!D68),COLUMN(Rohdaten_tab4!D68)+(4*(Steuerung!$A$3-1))) -> 276 | F82: =INDEX(Rohdaten_tab4!$1:$1048576,ROW(Rohdaten_tab4!E68),COLUMN(Rohdaten_tab4!E68)+(4*(Steuerung!$A$3-1))) -> 5
... A283: August 2026 | C283: =INDEX(Rohdaten_tab4!$1:$1048576,ROW(Rohdaten_tab4!B269),COLUMN(Rohdaten_tab4!B269)+(4*(Steuerung!$A$3-1))) -> 129 | D283: =INDEX(Rohdaten_tab4!$1:$1048576,ROW(Rohdaten_tab4!C269),COLUMN(Rohdaten_tab4!C269)+(4*(Steuerung!$A$3-1))) -> * | E283: =INDEX(Rohdaten_tab4!$1:$1048576,ROW(Rohdaten_tab4!D269),COLUMN(Rohdaten_tab4!D269)+(4*(Steuerung!$A$3-1))) -> 137 | F283: =INDEX(Rohdaten_tab4!$1:$1048576,ROW(Rohdaten_tab4!E269),COLUMN(Rohdaten_tab4!E269)+(4*(Steuerung!$A$3-1))) -> *
F284: © Statistik der Bundesagentur für Arbeit
A286: Hinweis:
A287: Die Zählweise von Ausländern hat sich im Vergleich zu früheren Publikationen geändert. Staatenlose und Personen ohne Angabe zur Staatsangehörigkeit werden nun nicht mehr unter „Keine Angabe“, sondern zu den Ausländern gezählt. Details dazu finden Sie in der Hintergrundinfo „Statistiken nach Staatsangehörigkeit – neue Zuordnung von Staatenlosen und Personen ohne Angabe der Staatsangehörigkeit“ auf unserer Internetseite Grundlagen > Methodik und Qualität > Methodenberichte und Hintergrundinfos > Übergreifende Themen.

Sheet Tab 5
L1: Arbeitslosengeld nach dem SGB III
A3: =CONCATENATE("5. Abgang aus Leistungsbezug nach Abgangsgründen",Auswahl_Text) -> 5. Abgang aus Leistungsbezug nach Abgangsgründen
A4: Hildburghausen (Gebietsstand Oktober 2026)
A5: Zeitreihe
A7: Daten zu Arbeitslosengeld nach dem SGB III (Alg) nach einer Wartezeit von 2 Monaten.
A8: Auf Grund von methodisch-technisch bedingten Anpassungen sind die Bewegungen im Berichtsmonat November 2020 in der Arbeitslosengeldstatistik überzeichnet.
A12: Jahressumme/ Berichtsmonat | C12: Leistungs- beziehende | D12: dar. (Sp. 1) von Arbeitslosengeld
D13: bei Arbeits- losigkeit | E13: dav. (Sp. 2) nach Abgangsgründen 3)
E14: Aufnahme einer abhängigen Beschäfti- gung | F14: Aufnahme einer selb- ständigen Tätigkeit | G14: Ende des Anspruchs- zeitraums | H14: Bezug von anderen Leistungen 1) | I14: Bezugs von Renten-leistungen | J14: Schule/ Ausbildung | K14: eigene Abmeldung | L14: andere Gründe 2)
C15: 1 | D15: 2 | E15: 3 | F15: 4 | G15: 5 | H15: 6 | I15: 7 | J15: 8 | K15: 9 | L15: 10
A16: =IF(INDEX(Rohdaten_tab5!$A:$A,ROW(Rohdaten_tab5!$A2),COLUMN(Rohdaten_tab5!$A:$A))<>"",INDEX(Rohdaten_tab5!$A:$A,ROW(Rohdaten_tab5!$A2),COLUMN(Rohdaten_tab5!$A:$A)),"") -> 2006 | C16: =INDEX(Rohdaten_tab5!$1:$1048576,ROW(Rohdaten_tab5!B2),COLUMN(Rohdaten_tab5!B2)+(10*(Steuerung!$A$3-1))) -> 5480 | D16: =INDEX(Rohdaten_tab5!$1:$1048576,ROW(Rohdaten_tab5!C2),COLUMN(Rohdaten_tab5!C2)+(10*(Steuerung!$A$3-1))) -> 5374 | E16: =INDEX(Rohdaten_tab5!$1:$1048576,ROW(Rohdaten_tab5!D2),COLUMN(Rohdaten_tab5!D2)+(10*(Steuerung!$A$3-1))) -> 3303 | F16: =INDEX(Rohdaten_tab5!$1:$1048576,ROW(Rohdaten_tab5!E2),COLUMN(Rohdaten_tab5!E2)+(10*(Steuerung!$A$3-1))) -> 0 | G16: =INDEX(Rohdaten_tab5!$1:$1048576,ROW(Rohdaten_tab5!F2),COLUMN(Rohdaten_tab5!F2)+(10*(Steuerung!$A$3-1))) -> 1226 | H16: =INDEX(Rohdaten_tab5!$1:$1048576,ROW(Rohdaten_tab5!G2),COLUMN(Rohdaten_tab5!G2)+(10*(Steuerung!$A$3-1))) -> 71 | I16: =INDEX(Rohdaten_tab5!$1:$1048576,ROW(Rohdaten_tab5!H2),COLUMN(Rohdaten_tab5!H2)+(10*(Steuerung!$A$3-1))) -> 101 | J16: =INDEX(Rohdaten_tab5!$1:$1048576,ROW(Rohdaten_tab5!I2),COLUMN(Rohdaten_tab5!I2)+(10*(Steuerung!$A$3-1))) -> 10 | ... L16: =INDEX(Rohdaten_tab5!$1:$1048576,ROW(Rohdaten_tab5!K2),COLUMN(Rohdaten_tab5!K2)+(10*(Steuerung!$A$3-1))) -> 410
A17: =IF(INDEX(Rohdaten_tab5!$A:$A,ROW(Rohdaten_tab5!$A3),COLUMN(Rohdaten_tab5!$A:$A))<>"",INDEX(Rohdaten_tab5!$A:$A,ROW(Rohdaten_tab5!$A3),COLUMN(Rohdaten_tab5!$A:$A)),"") -> 2007 | C17: =INDEX(Rohdaten_tab5!$1:$1048576,ROW(Rohdaten_tab5!B3),COLUMN(Rohdaten_tab5!B3)+(10*(Steuerung!$A$3-1))) -> 4476 | D17: =INDEX(Rohdaten_tab5!$1:$1048576,ROW(Rohdaten_tab5!C3),COLUMN(Rohdaten_tab5!C3)+(10*(Steuerung!$A$3-1))) -> 4388 | E17: =INDEX(Rohdaten_tab5!$1:$1048576,ROW(Rohdaten_tab5!D3),COLUMN(Rohdaten_tab5!D3)+(10*(Steuerung!$A$3-1))) -> 2654 | F17: =INDEX(Rohdaten_tab5!$1:$1048576,ROW(Rohdaten_tab5!E3),COLUMN(Rohdaten_tab5!E3)+(10*(Steuerung!$A$3-1))) -> 0 | G17: =INDEX(Rohdaten_tab5!$1:$1048576,ROW(Rohdaten_tab5!F3),COLUMN(Rohdaten_tab5!F3)+(10*(Steuerung!$A$3-1))) -> 862 | H17: =INDEX(Rohdaten_tab5!$1:$1048576,ROW(Rohdaten_tab5!G3),COLUMN(Rohdaten_tab5!G3)+(10*(Steuerung!$A$3-1))) -> 71 | I17: =INDEX(Rohdaten_tab5!$1:$1048576,ROW(Rohdaten_tab5!H3),COLUMN(Rohdaten_tab5!H3)+(10*(Steuerung!$A$3-1))) -> 82 | J17: =INDEX(Rohdaten_tab5!$1:$1048576,ROW(Rohdaten_tab5!I3),COLUMN(Rohdaten_tab5!I3)+(10*(Steuerung!$A$3-1))) -> 21 | ... L17: =INDEX(Rohdaten_tab5!$1:$1048576,ROW(Rohdaten_tab5!K3),COLUMN(Rohdaten_tab5!K3)+(10*(Steuerung!$A$3-1))) -> 489
A18: =IF(INDEX(Rohdaten_tab5!$A:$A,ROW(Rohdaten_tab5!$A4),COLUMN(Rohdaten_tab5!$A:$A))<>"",INDEX(Rohdaten_tab5!$A:$A,ROW(Rohdaten_tab5!$A4),COLUMN(Rohdaten_tab5!$A:$A)),"") -> 2008 | C18: =INDEX(Rohdaten_tab5!$1:$1048576,ROW(Rohdaten_tab5!B4),COLUMN(Rohdaten_tab5!B4)+(10*(Steuerung!$A$3-1))) -> 4018 | D18: =INDEX(Rohdaten_tab5!$1:$1048576,ROW(Rohdaten_tab5!C4),COLUMN(Rohdaten_tab5!C4)+(10*(Steuerung!$A$3-1))) -> 3965 | E18: =INDEX(Rohdaten_tab5!$1:$1048576,ROW(Rohdaten_tab5!D4),COLUMN(Rohdaten_tab5!D4)+(10*(Steuerung!$A$3-1))) -> 2347 | F18: =INDEX(Rohdaten_tab5!$1:$1048576,ROW(Rohdaten_tab5!E4),COLUMN(Rohdaten_tab5!E4)+(10*(Steuerung!$A$3-1))) -> 8 | G18: =INDEX(Rohdaten_tab5!$1:$1048576,ROW(Rohdaten_tab5!F4),COLUMN(Rohdaten_tab5!F4)+(10*(Steuerung!$A$3-1))) -> 774 | H18: =INDEX(Rohdaten_tab5!$1:$1048576,ROW(Rohdaten_tab5!G4),COLUMN(Rohdaten_tab5!G4)+(10*(Steuerung!$A$3-1))) -> 61 | I18: =INDEX(Rohdaten_tab5!$1:$1048576,ROW(Rohdaten_tab5!H4),COLUMN(Rohdaten_tab5!H4)+(10*(Steuerung!$A$3-1))) -> 79 | J18: =INDEX(Rohdaten_tab5!$1:$1048576,ROW(Rohdaten_tab5!I4),COLUMN(Rohdaten_tab5!I4)+(10*(Steuerung!$A$3-1))) -> 19 | ... L18: =INDEX(Rohdaten_tab5!$1:$1048576,ROW(Rohdaten_tab5!K4),COLUMN(Rohdaten_tab5!K4)+(10*(Steuerung!$A$3-1))) -> 531
A19: =IF(INDEX(Rohdaten_tab5!$A:$A,ROW(Rohdaten_tab5!$A5),COLUMN(Rohdaten_tab5!$A:$A))<>"",INDEX(Rohdaten_tab5!$A:$A,ROW(Rohdaten_tab5!$A5),COLUMN(Rohdaten_tab5!$A:$A)),"") -> 2009 | C19: =INDEX(Rohdaten_tab5!$1:$1048576,ROW(Rohdaten_tab5!B5),COLUMN(Rohdaten_tab5!B5)+(10*(Steuerung!$A$3-1))) -> 4383 | D19: =INDEX(Rohdaten_tab5!$1:$1048576,ROW(Rohdaten_tab5!C5),COLUMN(Rohdaten_tab5!C5)+(10*(Steuerung!$A$3-1))) -> 4334 | E19: =INDEX(Rohdaten_tab5!$1:$1048576,ROW(Rohdaten_tab5!D5),COLUMN(Rohdaten_tab5!D5)+(10*(Steuerung!$A$3-1))) -> 2710 | F19: =INDEX(Rohdaten_tab5!$1:$1048576,ROW(Rohdaten_tab5!E5),COLUMN(Rohdaten_tab5!E5)+(10*(Steuerung!$A$3-1))) -> 83 | G19: =INDEX(Rohdaten_tab5!$1:$1048576,ROW(Rohdaten_tab5!F5),COLUMN(Rohdaten_tab5!F5)+(10*(Steuerung!$A$3-1))) -> 787 | H19: =INDEX(Rohdaten_tab5!$1:$1048576,ROW(Rohdaten_tab5!G5),COLUMN(Rohdaten_tab5!G5)+(10*(Steuerung!$A$3-1))) -> 64 | I19: =INDEX(Rohdaten_tab5!$1:$1048576,ROW(Rohdaten_tab5!H5),COLUMN(Rohdaten_tab5!H5)+(10*(Steuerung!$A$3-1))) -> 76 | J19: =INDEX(Rohdaten_tab5!$1:$1048576,ROW(Rohdaten_tab5!I5),COLUMN(Rohdaten_tab5!I5)+(10*(Steuerung!$A$3-1))) -> 37 | ... L19: =INDEX(Rohdaten_tab5!$1:$1048576,ROW(Rohdaten_tab5!K5),COLUMN(Rohdaten_tab5!K5)+(10*(Steuerung!$A$3-1))) -> 490
A20: =IF(INDEX(Rohdaten_tab5!$A:$A,ROW(Rohdaten_tab5!$A6),COLUMN(Rohdaten_tab5!$A:$A))<>"",INDEX(Rohdaten_tab5!$A:$A,ROW(Rohdaten_tab5!$A6),COLUMN(Rohdaten_tab5!$A:$A)),"") -> 2010 | C20: =INDEX(Rohdaten_tab5!$1:$1048576,ROW(Rohdaten_tab5!B6),COLUMN(Rohdaten_tab5!B6)+(10*(Steuerung!$A$3-1))) -> 4297 | D20: =INDEX(Rohdaten_tab5!$1:$1048576,ROW(Rohdaten_tab5!C6),COLUMN(Rohdaten_tab5!C6)+(10*(Steuerung!$A$3-1))) -> 4222 | E20: =INDEX(Rohdaten_tab5!$1:$1048576,ROW(Rohdaten_tab5!D6),COLUMN(Rohdaten_tab5!D6)+(10*(Steuerung!$A$3-1))) -> 2624 | F20: =INDEX(Rohdaten_tab5!$1:$1048576,ROW(Rohdaten_tab5!E6),COLUMN(Rohdaten_tab5!E6)+(10*(Steuerung!$A$3-1))) -> 104 | G20: =INDEX(Rohdaten_tab5!$1:$1048576,ROW(Rohdaten_tab5!F6),COLUMN(Rohdaten_tab5!F6)+(10*(Steuerung!$A$3-1))) -> 798 | H20: =INDEX(Rohdaten_tab5!$1:$1048576,ROW(Rohdaten_tab5!G6),COLUMN(Rohdaten_tab5!G6)+(10*(Steuerung!$A$3-1))) -> 72 | I20: =INDEX(Rohdaten_tab5!$1:$1048576,ROW(Rohdaten_tab5!H6),COLUMN(Rohdaten_tab5!H6)+(10*(Steuerung!$A$3-1))) -> 97 | J20: =INDEX(Rohdaten_tab5!$1:$1048576,ROW(Rohdaten_tab5!I6),COLUMN(Rohdaten_tab5!I6)+(10*(Steuerung!$A$3-1))) -> 32 | ... L20: =INDEX(Rohdaten_tab5!$1:$1048576,ROW(Rohdaten_tab5!K6),COLUMN(Rohdaten_tab5!K6)+(10*(Steuerung!$A$3-1))) -> 450
A21: =IF(INDEX(Rohdaten_tab5!$A:$A,ROW(Rohdaten_tab5!$A7),COLUMN(Rohdaten_tab5!$A:$A))<>"",INDEX(Rohdaten_tab5!$A:$A,ROW(Rohdaten_tab5!$A7),COLUMN(Rohdaten_tab5!$A:$A)),"") -> 2011 | C21: =INDEX(Rohdaten_tab5!$1:$1048576,ROW(Rohdaten_tab5!B7),COLUMN(Rohdaten_tab5!B7)+(10*(Steuerung!$A$3-1))) -> 3177 | D21: =INDEX(Rohdaten_tab5!$1:$1048576,ROW(Rohdaten_tab5!C7),COLUMN(Rohdaten_tab5!C7)+(10*(Steuerung!$A$3-1))) -> 3120 | E21: =INDEX(Rohdaten_tab5!$1:$1048576,ROW(Rohdaten_tab5!D7),COLUMN(Rohdaten_tab5!D7)+(10*(Steuerung!$A$3-1))) -> 1960 | F21: =INDEX(Rohdaten_tab5!$1:$1048576,ROW(Rohdaten_tab5!E7),COLUMN(Rohdaten_tab5!E7)+(10*(Steuerung!$A$3-1))) -> 100 | G21: =INDEX(Rohdaten_tab5!$1:$1048576,ROW(Rohdaten_tab5!F7),COLUMN(Rohdaten_tab5!F7)+(10*(Steuerung!$A$3-1))) -> 496 | H21: =INDEX(Rohdaten_tab5!$1:$1048576,ROW(Rohdaten_tab5!G7),COLUMN(Rohdaten_tab5!G7)+(10*(Steuerung!$A$3-1))) -> 85 | I21: =INDEX(Rohdaten_tab5!$1:$1048576,ROW(Rohdaten_tab5!H7),COLUMN(Rohdaten_tab5!H7)+(10*(Steuerung!$A$3-1))) -> 72 | J21: =INDEX(Rohdaten_tab5!$1:$1048576,ROW(Rohdaten_tab5!I7),COLUMN(Rohdaten_tab5!I7)+(10*(Steuerung!$A$3-1))) -> 27 | ... L21: =INDEX(Rohdaten_tab5!$1:$1048576,ROW(Rohdaten_tab5!K7),COLUMN(Rohdaten_tab5!K7)+(10*(Steuerung!$A$3-1))) -> 347
A22: =IF(INDEX(Rohdaten_tab5!$A:$A,ROW(Rohdaten_tab5!$A8),COLUMN(Rohdaten_tab5!$A:$A))<>"",INDEX(Rohdaten_tab5!$A:$A,ROW(Rohdaten_tab5!$A8),COLUMN(Rohdaten_tab5!$A:$A)),"") -> 2012 | C22: =INDEX(Rohdaten_tab5!$1:$1048576,ROW(Rohdaten_tab5!B8),COLUMN(Rohdaten_tab5!B8)+(10*(Steuerung!$A$3-1))) -> 2897 | D22: =INDEX(Rohdaten_tab5!$1:$1048576,ROW(Rohdaten_tab5!C8),COLUMN(Rohdaten_tab5!C8)+(10*(Steuerung!$A$3-1))) -> 2834 | E22: =INDEX(Rohdaten_tab5!$1:$1048576,ROW(Rohdaten_tab5!D8),COLUMN(Rohdaten_tab5!D8)+(10*(Steuerung!$A$3-1))) -> 1785 | F22: =INDEX(Rohdaten_tab5!$1:$1048576,ROW(Rohdaten_tab5!E8),COLUMN(Rohdaten_tab5!E8)+(10*(Steuerung!$A$3-1))) -> 47 | G22: =INDEX(Rohdaten_tab5!$1:$1048576,ROW(Rohdaten_tab5!F8),COLUMN(Rohdaten_tab5!F8)+(10*(Steuerung!$A$3-1))) -> 482 | H22: =INDEX(Rohdaten_tab5!$1:$1048576,ROW(Rohdaten_tab5!G8),COLUMN(Rohdaten_tab5!G8)+(10*(Steuerung!$A$3-1))) -> 102 | I22: =INDEX(Rohdaten_tab5!$1:$1048576,ROW(Rohdaten_tab5!H8),COLUMN(Rohdaten_tab5!H8)+(10*(Steuerung!$A$3-1))) -> 97 | J22: =INDEX(Rohdaten_tab5!$1:$1048576,ROW(Rohdaten_tab5!I8),COLUMN(Rohdaten_tab5!I8)+(10*(Steuerung!$A$3-1))) -> 20 | ... L22: =INDEX(Rohdaten_tab5!$1:$1048576,ROW(Rohdaten_tab5!K8),COLUMN(Rohdaten_tab5!K8)+(10*(Steuerung!$A$3-1))) -> 271
A23: =IF(INDEX(Rohdaten_tab5!$A:$A,ROW(Rohdaten_tab5!$A9),COLUMN(Rohdaten_tab5!$A:$A))<>"",INDEX(Rohdaten_tab5!$A:$A,ROW(Rohdaten_tab5!$A9),COLUMN(Rohdaten_tab5!$A:$A)),"") -> 2013 | C23: =INDEX(Rohdaten_tab5!$1:$1048576,ROW(Rohdaten_tab5!B9),COLUMN(Rohdaten_tab5!B9)+(10*(Steuerung!$A$3-1))) -> 3034 | D23: =INDEX(Rohdaten_tab5!$1:$1048576,ROW(Rohdaten_tab5!C9),COLUMN(Rohdaten_tab5!C9)+(10*(Steuerung!$A$3-1))) -> 2986 | E23: =INDEX(Rohdaten_tab5!$1:$1048576,ROW(Rohdaten_tab5!D9),COLUMN(Rohdaten_tab5!D9)+(10*(Steuerung!$A$3-1))) -> 1852 | F23: =INDEX(Rohdaten_tab5!$1:$1048576,ROW(Rohdaten_tab5!E9),COLUMN(Rohdaten_tab5!E9)+(10*(Steuerung!$A$3-1))) -> 61 | G23: =INDEX(Rohdaten_tab5!$1:$1048576,ROW(Rohdaten_tab5!F9),COLUMN(Rohdaten_tab5!F9)+(10*(Steuerung!$A$3-1))) -> 534 | H23: =INDEX(Rohdaten_tab5!$1:$1048576,ROW(Rohdaten_tab5!G9),COLUMN(Rohdaten_tab5!G9)+(10*(Steuerung!$A$3-1))) -> 126 | I23: =INDEX(Rohdaten_tab5!$1:$1048576,ROW(Rohdaten_tab5!H9),COLUMN(Rohdaten_tab5!H9)+(10*(Steuerung!$A$3-1))) -> 107 | J23: =INDEX(Rohdaten_tab5!$1:$1048576,ROW(Rohdaten_tab5!I9),COLUMN(Rohdaten_tab5!I9)+(10*(Steuerung!$A$3-1))) -> 12 | ... L23: =INDEX(Rohdaten_tab5!$1:$1048576,ROW(Rohdaten_tab5!K9),COLUMN(Rohdaten_tab5!K9)+(10*(Steuerung!$A$3-1))) -> 268
A24: =IF(INDEX(Rohdaten_tab5!$A:$A,ROW(Rohdaten_tab5!$A10),COLUMN(Rohdaten_tab5!$A:$A))<>"",INDEX(Rohdaten_tab5!$A:$A,ROW(Rohdaten_tab5!$A10),COLUMN(Rohdaten_tab5!$A:$A)),"") -> 2014 | C24: =INDEX(Rohdaten_tab5!$1:$1048576,ROW(Rohdaten_tab5!B10),COLUMN(Rohdaten_tab5!B10)+(10*(Steuerung!$A$3-1))) -> 2706 | D24: =INDEX(Rohdaten_tab5!$1:$1048576,ROW(Rohdaten_tab5!C10),COLUMN(Rohdaten_tab5!C10)+(10*(Steuerung!$A$3-1))) -> 2662 | E24: =INDEX(Rohdaten_tab5!$1:$1048576,ROW(Rohdaten_tab5!D10),COLUMN(Rohdaten_tab5!D10)+(10*(Steuerung!$A$3-1))) -> 1678 | F24: =INDEX(Rohdaten_tab5!$1:$1048576,ROW(Rohdaten_tab5!E10),COLUMN(Rohdaten_tab5!E10)+(10*(Steuerung!$A$3-1))) -> 36 | G24: =INDEX(Rohdaten_tab5!$1:$1048576,ROW(Rohdaten_tab5!F10),COLUMN(Rohdaten_tab5!F10)+(10*(Steuerung!$A$3-1))) -> 509 | H24: =INDEX(Rohdaten_tab5!$1:$1048576,ROW(Rohdaten_tab5!G10),COLUMN(Rohdaten_tab5!G10)+(10*(Steuerung!$A$3-1))) -> 72 | I24: =INDEX(Rohdaten_tab5!$1:$1048576,ROW(Rohdaten_tab5!H10),COLUMN(Rohdaten_tab5!H10)+(10*(Steuerung!$A$3-1))) -> 129 | J24: =INDEX(Rohdaten_tab5!$1:$1048576,ROW(Rohdaten_tab5!I10),COLUMN(Rohdaten_tab5!I10)+(10*(Steuerung!$A$3-1))) -> 15 | ... L24: =INDEX(Rohdaten_tab5!$1:$1048576,ROW(Rohdaten_tab5!K10),COLUMN(Rohdaten_tab5!K10)+(10*(Steuerung!$A$3-1))) -> 198
A25: =IF(INDEX(Rohdaten_tab5!$A:$A,ROW(Rohdaten_tab5!$A11),COLUMN(Rohdaten_tab5!$A:$A))<>"",INDEX(Rohdaten_tab5!$A:$A,ROW(Rohdaten_tab5!$A11),COLUMN(Rohdaten_tab5!$A:$A)),"") -> 2015 | C25: =INDEX(Rohdaten_tab5!$1:$1048576,ROW(Rohdaten_tab5!B11),COLUMN(Rohdaten_tab5!B11)+(10*(Steuerung!$A$3-1))) -> 2462 | D25: =INDEX(Rohdaten_tab5!$1:$1048576,ROW(Rohdaten_tab5!C11),COLUMN(Rohdaten_tab5!C11)+(10*(Steuerung!$A$3-1))) -> 2430 | E25: =INDEX(Rohdaten_tab5!$1:$1048576,ROW(Rohdaten_tab5!D11),COLUMN(Rohdaten_tab5!D11)+(10*(Steuerung!$A$3-1))) -> 1532 | F25: =INDEX(Rohdaten_tab5!$1:$1048576,ROW(Rohdaten_tab5!E11),COLUMN(Rohdaten_tab5!E11)+(10*(Steuerung!$A$3-1))) -> 30 | G25: =INDEX(Rohdaten_tab5!$1:$1048576,ROW(Rohdaten_tab5!F11),COLUMN(Rohdaten_tab5!F11)+(10*(Steuerung!$A$3-1))) -> 418 | H25: =INDEX(Rohdaten_tab5!$1:$1048576,ROW(Rohdaten_tab5!G11),COLUMN(Rohdaten_tab5!G11)+(10*(Steuerung!$A$3-1))) -> 89 | I25: =INDEX(Rohdaten_tab5!$1:$1048576,ROW(Rohdaten_tab5!H11),COLUMN(Rohdaten_tab5!H11)+(10*(Steuerung!$A$3-1))) -> 118 | J25: =INDEX(Rohdaten_tab5!$1:$1048576,ROW(Rohdaten_tab5!I11),COLUMN(Rohdaten_tab5!I11)+(10*(Steuerung!$A$3-1))) -> * | ... L25: =INDEX(Rohdaten_tab5!$1:$1048576,ROW(Rohdaten_tab5!K11),COLUMN(Rohdaten_tab5!K11)+(10*(Steuerung!$A$3-1))) -> 210
A26: =IF(INDEX(Rohdaten_tab5!$A:$A,ROW(Rohdaten_tab5!$A12),COLUMN(Rohdaten_tab5!$A:$A))<>"",INDEX(Rohdaten_tab5!$A:$A,ROW(Rohdaten_tab5!$A12),COLUMN(Rohdaten_tab5!$A:$A)),"") -> 2016 | C26: =INDEX(Rohdaten_tab5!$1:$1048576,ROW(Rohdaten_tab5!B12),COLUMN(Rohdaten_tab5!B12)+(10*(Steuerung!$A$3-1))) -> 2268 | D26: =INDEX(Rohdaten_tab5!$1:$1048576,ROW(Rohdaten_tab5!C12),COLUMN(Rohdaten_tab5!C12)+(10*(Steuerung!$A$3-1))) -> 2219 | E26: =INDEX(Rohdaten_tab5!$1:$1048576,ROW(Rohdaten_tab5!D12),COLUMN(Rohdaten_tab5!D12)+(10*(Steuerung!$A$3-1))) -> 1323 | F26: =INDEX(Rohdaten_tab5!$1:$1048576,ROW(Rohdaten_tab5!E12),COLUMN(Rohdaten_tab5!E12)+(10*(Steuerung!$A$3-1))) -> 41 | G26: =INDEX(Rohdaten_tab5!$1:$1048576,ROW(Rohdaten_tab5!F12),COLUMN(Rohdaten_tab5!F12)+(10*(Steuerung!$A$3-1))) -> 394 | H26: =INDEX(Rohdaten_tab5!$1:$1048576,ROW(Rohdaten_tab5!G12),COLUMN(Rohdaten_tab5!G12)+(10*(Steuerung!$A$3-1))) -> 86 | I26: =INDEX(Rohdaten_tab5!$1:$1048576,ROW(Rohdaten_tab5!H12),COLUMN(Rohdaten_tab5!H12)+(10*(Steuerung!$A$3-1))) -> 99 | J26: =INDEX(Rohdaten_tab5!$1:$1048576,ROW(Rohdaten_tab5!I12),COLUMN(Rohdaten_tab5!I12)+(10*(Steuerung!$A$3-1))) -> 11 | ... L26: =INDEX(Rohdaten_tab5!$1:$1048576,ROW(Rohdaten_tab5!K12),COLUMN(Rohdaten_tab5!K12)+(10*(Steuerung!$A$3-1))) -> 243
A27: =IF(INDEX(Rohdaten_tab5!$A:$A,ROW(Rohdaten_tab5!$A13),COLUMN(Rohdaten_tab5!$A:$A))<>"",INDEX(Rohdaten_tab5!$A:$A,ROW(Rohdaten_tab5!$A13),COLUMN(Rohdaten_tab5!$A:$A)),"") -> 2017 | C27: =INDEX(Rohdaten_tab5!$1:$1048576,ROW(Rohdaten_tab5!B13),COLUMN(Rohdaten_tab5!B13)+(10*(Steuerung!$A$3-1))) -> 1956 | D27: =INDEX(Rohdaten_tab5!$1:$1048576,ROW(Rohdaten_tab5!C13),COLUMN(Rohdaten_tab5!C13)+(10*(Steuerung!$A$3-1))) -> 1908 | E27: =INDEX(Rohdaten_tab5!$1:$1048576,ROW(Rohdaten_tab5!D13),COLUMN(Rohdaten_tab5!D13)+(10*(Steuerung!$A$3-1))) -> 1138 | F27: =INDEX(Rohdaten_tab5!$1:$1048576,ROW(Rohdaten_tab5!E13),COLUMN(Rohdaten_tab5!E13)+(10*(Steuerung!$A$3-1))) -> 28 | G27: =INDEX(Rohdaten_tab5!$1:$1048576,ROW(Rohdaten_tab5!F13),COLUMN(Rohdaten_tab5!F13)+(10*(Steuerung!$A$3-1))) -> 291 | H27: =INDEX(Rohdaten_tab5!$1:$1048576,ROW(Rohdaten_tab5!G13),COLUMN(Rohdaten_tab5!G13)+(10*(Steuerung!$A$3-1))) -> 97 | I27: =INDEX(Rohdaten_tab5!$1:$1048576,ROW(Rohdaten_tab5!H13),COLUMN(Rohdaten_tab5!H13)+(10*(Steuerung!$A$3-1))) -> 129 | J27: =INDEX(Rohdaten_tab5!$1:$1048576,ROW(Rohdaten_tab5!I13),COLUMN(Rohdaten_tab5!I13)+(10*(Steuerung!$A$3-1))) -> 13 | ... L27: =INDEX(Rohdaten_tab5!$1:$1048576,ROW(Rohdaten_tab5!K13),COLUMN(Rohdaten_tab5!K13)+(10*(Steuerung!$A$3-1))) -> 192
... A70: =IF(INDEX(Rohdaten_tab5!$A:$A,ROW(Rohdaten_tab5!$A56),COLUMN(Rohdaten_tab5!$A:$A))<>"",INDEX(Rohdaten_tab5!$A:$A,ROW(Rohdaten_tab5!$A56),COLUMN(Rohdaten_tab5!$A:$A)),"") -> November 2008 | C70: =INDEX(Rohdaten_tab5!$1:$1048576,ROW(Rohdaten_tab5!B56),COLUMN(Rohdaten_tab5!B56)+(10*(Steuerung!$A$3-1))) -> 190 | D70: =INDEX(Rohdaten_tab5!$1:$1048576,ROW(Rohdaten_tab5!C56),COLUMN(Rohdaten_tab5!C56)+(10*(Steuerung!$A$3-1))) -> 187 | E70: =INDEX(Rohdaten_tab5!$1:$1048576,ROW(Rohdaten_tab5!D56),COLUMN(Rohdaten_tab5!D56)+(10*(Steuerung!$A$3-1))) -> 94 | F70: =INDEX(Rohdaten_tab5!$1:$1048576,ROW(Rohdaten_tab5!E56),COLUMN(Rohdaten_tab5!E56)+(10*(Steuerung!$A$3-1))) -> * | G70: =INDEX(Rohdaten_tab5!$1:$1048576,ROW(Rohdaten_tab5!F56),COLUMN(Rohdaten_tab5!F56)+(10*(Steuerung!$A$3-1))) -> 47 | H70: =INDEX(Rohdaten_tab5!$1:$1048576,ROW(Rohdaten_tab5!G56),COLUMN(Rohdaten_tab5!G56)+(10*(Steuerung!$A$3-1))) -> 6 | I70: =INDEX(Rohdaten_tab5!$1:$1048576,ROW(Rohdaten_tab5!H56),COLUMN(Rohdaten_tab5!H56)+(10*(Steuerung!$A$3-1))) -> 5 | J70: =INDEX(Rohdaten_tab5!$1:$1048576,ROW(Rohdaten_tab5!I56),COLUMN(Rohdaten_tab5!I56)+(10*(Steuerung!$A$3-1))) -> * | ... L70: =INDEX(Rohdaten_tab5!$1:$1048576,ROW(Rohdaten_tab5!K56),COLUMN(Rohdaten_tab5!K56)+(10*(Steuerung!$A$3-1))) -> 30
A71: Dezember 2008 | C71: =INDEX(Rohdaten_tab5!$1:$1048576,ROW(Rohdaten_tab5!B57),COLUMN(Rohdaten_tab5!B57)+(10*(Steuerung!$A$3-1))) -> 207 | D71: =INDEX(Rohdaten_tab5!$1:$1048576,ROW(Rohdaten_tab5!C57),COLUMN(Rohdaten_tab5!C57)+(10*(Steuerung!$A$3-1))) -> 203 | E71: =INDEX(Rohdaten_tab5!$1:$1048576,ROW(Rohdaten_tab5!D57),COLUMN(Rohdaten_tab5!D57)+(10*(Steuerung!$A$3-1))) -> 100 | F71: =INDEX(Rohdaten_tab5!$1:$1048576,ROW(Rohdaten_tab5!E57),COLUMN(Rohdaten_tab5!E57)+(10*(Steuerung!$A$3-1))) -> * | G71: =INDEX(Rohdaten_tab5!$1:$1048576,ROW(Rohdaten_tab5!F57),COLUMN(Rohdaten_tab5!F57)+(10*(Steuerung!$A$3-1))) -> 58 | H71: =INDEX(Rohdaten_tab5!$1:$1048576,ROW(Rohdaten_tab5!G57),COLUMN(Rohdaten_tab5!G57)+(10*(Steuerung!$A$3-1))) -> 7 | I71: =INDEX(Rohdaten_tab5!$1:$1048576,ROW(Rohdaten_tab5!H57),COLUMN(Rohdaten_tab5!H57)+(10*(Steuerung!$A$3-1))) -> 7 | J71: =INDEX(Rohdaten_tab5!$1:$1048576,ROW(Rohdaten_tab5!I57),COLUMN(Rohdaten_tab5!I57)+(10*(Steuerung!$A$3-1))) -> 0 | ... L71: =INDEX(Rohdaten_tab5!$1:$1048576,ROW(Rohdaten_tab5!K57),COLUMN(Rohdaten_tab5!K57)+(10*(Steuerung!$A$3-1))) -> 24
A72: Januar 2009 | C72: =INDEX(Rohdaten_tab5!$1:$1048576,ROW(Rohdaten_tab5!B58),COLUMN(Rohdaten_tab5!B58)+(10*(Steuerung!$A$3-1))) -> * | D72: =INDEX(Rohdaten_tab5!$1:$1048576,ROW(Rohdaten_tab5!C58),COLUMN(Rohdaten_tab5!C58)+(10*(Steuerung!$A$3-1))) -> 251 | E72: =INDEX(Rohdaten_tab5!$1:$1048576,ROW(Rohdaten_tab5!D58),COLUMN(Rohdaten_tab5!D58)+(10*(Steuerung!$A$3-1))) -> 118 | F72: =INDEX(Rohdaten_tab5!$1:$1048576,ROW(Rohdaten_tab5!E58),COLUMN(Rohdaten_tab5!E58)+(10*(Steuerung!$A$3-1))) -> 6 | G72: =INDEX(Rohdaten_tab5!$1:$1048576,ROW(Rohdaten_tab5!F58),COLUMN(Rohdaten_tab5!F58)+(10*(Steuerung!$A$3-1))) -> 65 | H72: =INDEX(Rohdaten_tab5!$1:$1048576,ROW(Rohdaten_tab5!G58),COLUMN(Rohdaten_tab5!G58)+(10*(Steuerung!$A$3-1))) -> 6 | I72: =INDEX(Rohdaten_tab5!$1:$1048576,ROW(Rohdaten_tab5!H58),COLUMN(Rohdaten_tab5!H58)+(10*(Steuerung!$A$3-1))) -> 9 | J72: =INDEX(Rohdaten_tab5!$1:$1048576,ROW(Rohdaten_tab5!I58),COLUMN(Rohdaten_tab5!I58)+(10*(Steuerung!$A$3-1))) -> 0 | ... L72: =INDEX(Rohdaten_tab5!$1:$1048576,ROW(Rohdaten_tab5!K58),COLUMN(Rohdaten_tab5!K58)+(10*(Steuerung!$A$3-1))) -> 37
A73: Februar 2009 | C73: =INDEX(Rohdaten_tab5!$1:$1048576,ROW(Rohdaten_tab5!B59),COLUMN(Rohdaten_tab5!B59)+(10*(Steuerung!$A$3-1))) -> * | D73: =INDEX(Rohdaten_tab5!$1:$1048576,ROW(Rohdaten_tab5!C59),COLUMN(Rohdaten_tab5!C59)+(10*(Steuerung!$A$3-1))) -> 270 | E73: =INDEX(Rohdaten_tab5!$1:$1048576,ROW(Rohdaten_tab5!D59),COLUMN(Rohdaten_tab5!D59)+(10*(Steuerung!$A$3-1))) -> 175 | F73: =INDEX(Rohdaten_tab5!$1:$1048576,ROW(Rohdaten_tab5!E59),COLUMN(Rohdaten_tab5!E59)+(10*(Steuerung!$A$3-1))) -> * | G73: =INDEX(Rohdaten_tab5!$1:$1048576,ROW(Rohdaten_tab5!F59),COLUMN(Rohdaten_tab5!F59)+(10*(Steuerung!$A$3-1))) -> 48 | H73: =INDEX(Rohdaten_tab5!$1:$1048576,ROW(Rohdaten_tab5!G59),COLUMN(Rohdaten_tab5!G59)+(10*(Steuerung!$A$3-1))) -> 10 | I73: =INDEX(Rohdaten_tab5!$1:$1048576,ROW(Rohdaten_tab5!H59),COLUMN(Rohdaten_tab5!H59)+(10*(Steuerung!$A$3-1))) -> 0 | J73: =INDEX(Rohdaten_tab5!$1:$1048576,ROW(Rohdaten_tab5!I59),COLUMN(Rohdaten_tab5!I59)+(10*(Steuerung!$A$3-1))) -> * | ... L73: =INDEX(Rohdaten_tab5!$1:$1048576,ROW(Rohdaten_tab5!K59),COLUMN(Rohdaten_tab5!K59)+(10*(Steuerung!$A$3-1))) -> 28
A74: März 2009 | C74: =INDEX(Rohdaten_tab5!$1:$1048576,ROW(Rohdaten_tab5!B60),COLUMN(Rohdaten_tab5!B60)+(10*(Steuerung!$A$3-1))) -> * | D74: =INDEX(Rohdaten_tab5!$1:$1048576,ROW(Rohdaten_tab5!C60),COLUMN(Rohdaten_tab5!C60)+(10*(Steuerung!$A$3-1))) -> 359 | E74: =INDEX(Rohdaten_tab5!$1:$1048576,ROW(Rohdaten_tab5!D60),COLUMN(Rohdaten_tab5!D60)+(10*(Steuerung!$A$3-1))) -> 221 | F74: =INDEX(Rohdaten_tab5!$1:$1048576,ROW(Rohdaten_tab5!E60),COLUMN(Rohdaten_tab5!E60)+(10*(Steuerung!$A$3-1))) -> * | G74: =INDEX(Rohdaten_tab5!$1:$1048576,ROW(Rohdaten_tab5!F60),COLUMN(Rohdaten_tab5!F60)+(10*(Steuerung!$A$3-1))) -> 71 | H74: =INDEX(Rohdaten_tab5!$1:$1048576,ROW(Rohdaten_tab5!G60),COLUMN(Rohdaten_tab5!G60)+(10*(Steuerung!$A$3-1))) -> * | I74: =INDEX(Rohdaten_tab5!$1:$1048576,ROW(Rohdaten_tab5!H60),COLUMN(Rohdaten_tab5!H60)+(10*(Steuerung!$A$3-1))) -> 5 | J74: =INDEX(Rohdaten_tab5!$1:$1048576,ROW(Rohdaten_tab5!I60),COLUMN(Rohdaten_tab5!I60)+(10*(Steuerung!$A$3-1))) -> 0 | ... L74: =INDEX(Rohdaten_tab5!$1:$1048576,ROW(Rohdaten_tab5!K60),COLUMN(Rohdaten_tab5!K60)+(10*(Steuerung!$A$3-1))) -> 48
A75: April 2009 | C75: =INDEX(Rohdaten_tab5!$1:$1048576,ROW(Rohdaten_tab5!B61),COLUMN(Rohdaten_tab5!B61)+(10*(Steuerung!$A$3-1))) -> 605 | D75: =INDEX(Rohdaten_tab5!$1:$1048576,ROW(Rohdaten_tab5!C61),COLUMN(Rohdaten_tab5!C61)+(10*(Steuerung!$A$3-1))) -> 599 | E75: =INDEX(Rohdaten_tab5!$1:$1048576,ROW(Rohdaten_tab5!D61),COLUMN(Rohdaten_tab5!D61)+(10*(Steuerung!$A$3-1))) -> 446 | F75: =INDEX(Rohdaten_tab5!$1:$1048576,ROW(Rohdaten_tab5!E61),COLUMN(Rohdaten_tab5!E61)+(10*(Steuerung!$A$3-1))) -> 11 | G75: =INDEX(Rohdaten_tab5!$1:$1048576,ROW(Rohdaten_tab5!F61),COLUMN(Rohdaten_tab5!F61)+(10*(Steuerung!$A$3-1))) -> 79 | H75: =INDEX(Rohdaten_tab5!$1:$1048576,ROW(Rohdaten_tab5!G61),COLUMN(Rohdaten_tab5!G61)+(10*(Steuerung!$A$3-1))) -> 9 | I75: =INDEX(Rohdaten_tab5!$1:$1048576,ROW(Rohdaten_tab5!H61),COLUMN(Rohdaten_tab5!H61)+(10*(Steuerung!$A$3-1))) -> * | J75: =INDEX(Rohdaten_tab5!$1:$1048576,ROW(Rohdaten_tab5!I61),COLUMN(Rohdaten_tab5!I61)+(10*(Steuerung!$A$3-1))) -> * | ... L75: =INDEX(Rohdaten_tab5!$1:$1048576,ROW(Rohdaten_tab5!K61),COLUMN(Rohdaten_tab5!K61)+(10*(Steuerung!$A$3-1))) -> 38
A76: Mai 2009 | C76: =INDEX(Rohdaten_tab5!$1:$1048576,ROW(Rohdaten_tab5!B62),COLUMN(Rohdaten_tab5!B62)+(10*(Steuerung!$A$3-1))) -> 412 | D76: =INDEX(Rohdaten_tab5!$1:$1048576,ROW(Rohdaten_tab5!C62),COLUMN(Rohdaten_tab5!C62)+(10*(Steuerung!$A$3-1))) -> 406 | E76: =INDEX(Rohdaten_tab5!$1:$1048576,ROW(Rohdaten_tab5!D62),COLUMN(Rohdaten_tab5!D62)+(10*(Steuerung!$A$3-1))) -> 294 | F76: =INDEX(Rohdaten_tab5!$1:$1048576,ROW(Rohdaten_tab5!E62),COLUMN(Rohdaten_tab5!E62)+(10*(Steuerung!$A$3-1))) -> 5 | G76: =INDEX(Rohdaten_tab5!$1:$1048576,ROW(Rohdaten_tab5!F62),COLUMN(Rohdaten_tab5!F62)+(10*(Steuerung!$A$3-1))) -> 57 | H76: =INDEX(Rohdaten_tab5!$1:$1048576,ROW(Rohdaten_tab5!G62),COLUMN(Rohdaten_tab5!G62)+(10*(Steuerung!$A$3-1))) -> 4 | I76: =INDEX(Rohdaten_tab5!$1:$1048576,ROW(Rohdaten_tab5!H62),COLUMN(Rohdaten_tab5!H62)+(10*(Steuerung!$A$3-1))) -> 8 | J76: =INDEX(Rohdaten_tab5!$1:$1048576,ROW(Rohdaten_tab5!I62),COLUMN(Rohdaten_tab5!I62)+(10*(Steuerung!$A$3-1))) -> 0 | ... L76: =INDEX(Rohdaten_tab5!$1:$1048576,ROW(Rohdaten_tab5!K62),COLUMN(Rohdaten_tab5!K62)+(10*(Steuerung!$A$3-1))) -> 29
A77: Juni 2009 | C77: =INDEX(Rohdaten_tab5!$1:$1048576,ROW(Rohdaten_tab5!B63),COLUMN(Rohdaten_tab5!B63)+(10*(Steuerung!$A$3-1))) -> 372 | D77: =INDEX(Rohdaten_tab5!$1:$1048576,ROW(Rohdaten_tab5!C63),COLUMN(Rohdaten_tab5!C63)+(10*(Steuerung!$A$3-1))) -> 368 | E77: =INDEX(Rohdaten_tab5!$1:$1048576,ROW(Rohdaten_tab5!D63),COLUMN(Rohdaten_tab5!D63)+(10*(Steuerung!$A$3-1))) -> 225 | F77: =INDEX(Rohdaten_tab5!$1:$1048576,ROW(Rohdaten_tab5!E63),COLUMN(Rohdaten_tab5!E63)+(10*(Steuerung!$A$3-1))) -> 8 | G77: =INDEX(Rohdaten_tab5!$1:$1048576,ROW(Rohdaten_tab5!F63),COLUMN(Rohdaten_tab5!F63)+(10*(Steuerung!$A$3-1))) -> 61 | H77: =INDEX(Rohdaten_tab5!$1:$1048576,ROW(Rohdaten_tab5!G63),COLUMN(Rohdaten_tab5!G63)+(10*(Steuerung!$A$3-1))) -> 4 | I77: =INDEX(Rohdaten_tab5!$1:$1048576,ROW(Rohdaten_tab5!H63),COLUMN(Rohdaten_tab5!H63)+(10*(Steuerung!$A$3-1))) -> 6 | J77: =INDEX(Rohdaten_tab5!$1:$1048576,ROW(Rohdaten_tab5!I63),COLUMN(Rohdaten_tab5!I63)+(10*(Steuerung!$A$3-1))) -> 0 | ... L77: =INDEX(Rohdaten_tab5!$1:$1048576,ROW(Rohdaten_tab5!K63),COLUMN(Rohdaten_tab5!K63)+(10*(Steuerung!$A$3-1))) -> 59
A78: Juli 2009 | C78: =INDEX(Rohdaten_tab5!$1:$1048576,ROW(Rohdaten_tab5!B64),COLUMN(Rohdaten_tab5!B64)+(10*(Steuerung!$A$3-1))) -> * | D78: =INDEX(Rohdaten_tab5!$1:$1048576,ROW(Rohdaten_tab5!C64),COLUMN(Rohdaten_tab5!C64)+(10*(Steuerung!$A$3-1))) -> 354 | E78: =INDEX(Rohdaten_tab5!$1:$1048576,ROW(Rohdaten_tab5!D64),COLUMN(Rohdaten_tab5!D64)+(10*(Steuerung!$A$3-1))) -> 225 | F78: =INDEX(Rohdaten_tab5!$1:$1048576,ROW(Rohdaten_tab5!E64),COLUMN(Rohdaten_tab5!E64)+(10*(Steuerung!$A$3-1))) -> 10 | G78: =INDEX(Rohdaten_tab5!$1:$1048576,ROW(Rohdaten_tab5!F64),COLUMN(Rohdaten_tab5!F64)+(10*(Steuerung!$A$3-1))) -> 68 | H78: =INDEX(Rohdaten_tab5!$1:$1048576,ROW(Rohdaten_tab5!G64),COLUMN(Rohdaten_tab5!G64)+(10*(Steuerung!$A$3-1))) -> * | I78: =INDEX(Rohdaten_tab5!$1:$1048576,ROW(Rohdaten_tab5!H64),COLUMN(Rohdaten_tab5!H64)+(10*(Steuerung!$A$3-1))) -> 8 | J78: =INDEX(Rohdaten_tab5!$1:$1048576,ROW(Rohdaten_tab5!I64),COLUMN(Rohdaten_tab5!I64)+(10*(Steuerung!$A$3-1))) -> 0 | ... L78: =INDEX(Rohdaten_tab5!$1:$1048576,ROW(Rohdaten_tab5!K64),COLUMN(Rohdaten_tab5!K64)+(10*(Steuerung!$A$3-1))) -> 36
A79: August 2009 | C79: =INDEX(Rohdaten_tab5!$1:$1048576,ROW(Rohdaten_tab5!B65),COLUMN(Rohdaten_tab5!B65)+(10*(Steuerung!$A$3-1))) -> 411 | D79: =INDEX(Rohdaten_tab5!$1:$1048576,ROW(Rohdaten_tab5!C65),COLUMN(Rohdaten_tab5!C65)+(10*(Steuerung!$A$3-1))) -> 406 | E79: =INDEX(Rohdaten_tab5!$1:$1048576,ROW(Rohdaten_tab5!D65),COLUMN(Rohdaten_tab5!D65)+(10*(Steuerung!$A$3-1))) -> 265 | F79: =INDEX(Rohdaten_tab5!$1:$1048576,ROW(Rohdaten_tab5!E65),COLUMN(Rohdaten_tab5!E65)+(10*(Steuerung!$A$3-1))) -> 7 | G79: =INDEX(Rohdaten_tab5!$1:$1048576,ROW(Rohdaten_tab5!F65),COLUMN(Rohdaten_tab5!F65)+(10*(Steuerung!$A$3-1))) -> 64 | H79: =INDEX(Rohdaten_tab5!$1:$1048576,ROW(Rohdaten_tab5!G65),COLUMN(Rohdaten_tab5!G65)+(10*(Steuerung!$A$3-1))) -> 4 | I79: =INDEX(Rohdaten_tab5!$1:$1048576,ROW(Rohdaten_tab5!H65),COLUMN(Rohdaten_tab5!H65)+(10*(Steuerung!$A$3-1))) -> 8 | J79: =INDEX(Rohdaten_tab5!$1:$1048576,ROW(Rohdaten_tab5!I65),COLUMN(Rohdaten_tab5!I65)+(10*(Steuerung!$A$3-1))) -> 11 | ... L79: =INDEX(Rohdaten_tab5!$1:$1048576,ROW(Rohdaten_tab5!K65),COLUMN(Rohdaten_tab5!K65)+(10*(Steuerung!$A$3-1))) -> 36
A80: September 2009 | C80: =INDEX(Rohdaten_tab5!$1:$1048576,ROW(Rohdaten_tab5!B66),COLUMN(Rohdaten_tab5!B66)+(10*(Steuerung!$A$3-1))) -> 435 | D80: =INDEX(Rohdaten_tab5!$1:$1048576,ROW(Rohdaten_tab5!C66),COLUMN(Rohdaten_tab5!C66)+(10*(Steuerung!$A$3-1))) -> 429 | E80: =INDEX(Rohdaten_tab5!$1:$1048576,ROW(Rohdaten_tab5!D66),COLUMN(Rohdaten_tab5!D66)+(10*(Steuerung!$A$3-1))) -> 254 | F80: =INDEX(Rohdaten_tab5!$1:$1048576,ROW(Rohdaten_tab5!E66),COLUMN(Rohdaten_tab5!E66)+(10*(Steuerung!$A$3-1))) -> * | G80: =INDEX(Rohdaten_tab5!$1:$1048576,ROW(Rohdaten_tab5!F66),COLUMN(Rohdaten_tab5!F66)+(10*(Steuerung!$A$3-1))) -> 89 | H80: =INDEX(Rohdaten_tab5!$1:$1048576,ROW(Rohdaten_tab5!G66),COLUMN(Rohdaten_tab5!G66)+(10*(Steuerung!$A$3-1))) -> 16 | I80: =INDEX(Rohdaten_tab5!$1:$1048576,ROW(Rohdaten_tab5!H66),COLUMN(Rohdaten_tab5!H66)+(10*(Steuerung!$A$3-1))) -> 10 | J80: =INDEX(Rohdaten_tab5!$1:$1048576,ROW(Rohdaten_tab5!I66),COLUMN(Rohdaten_tab5!I66)+(10*(Steuerung!$A$3-1))) -> * | ... L80: =INDEX(Rohdaten_tab5!$1:$1048576,ROW(Rohdaten_tab5!K66),COLUMN(Rohdaten_tab5!K66)+(10*(Steuerung!$A$3-1))) -> 32
A81: Oktober 2009 | C81: =INDEX(Rohdaten_tab5!$1:$1048576,ROW(Rohdaten_tab5!B67),COLUMN(Rohdaten_tab5!B67)+(10*(Steuerung!$A$3-1))) -> 371 | D81: =INDEX(Rohdaten_tab5!$1:$1048576,ROW(Rohdaten_tab5!C67),COLUMN(Rohdaten_tab5!C67)+(10*(Steuerung!$A$3-1))) -> 367 | E81: =INDEX(Rohdaten_tab5!$1:$1048576,ROW(Rohdaten_tab5!D67),COLUMN(Rohdaten_tab5!D67)+(10*(Steuerung!$A$3-1))) -> 198 | F81: =INDEX(Rohdaten_tab5!$1:$1048576,ROW(Rohdaten_tab5!E67),COLUMN(Rohdaten_tab5!E67)+(10*(Steuerung!$A$3-1))) -> 8 | G81: =INDEX(Rohdaten_tab5!$1:$1048576,ROW(Rohdaten_tab5!F67),COLUMN(Rohdaten_tab5!F67)+(10*(Steuerung!$A$3-1))) -> 70 | H81: =INDEX(Rohdaten_tab5!$1:$1048576,ROW(Rohdaten_tab5!G67),COLUMN(Rohdaten_tab5!G67)+(10*(Steuerung!$A$3-1))) -> * | I81: =INDEX(Rohdaten_tab5!$1:$1048576,ROW(Rohdaten_tab5!H67),COLUMN(Rohdaten_tab5!H67)+(10*(Steuerung!$A$3-1))) -> * | J81: =INDEX(Rohdaten_tab5!$1:$1048576,ROW(Rohdaten_tab5!I67),COLUMN(Rohdaten_tab5!I67)+(10*(Steuerung!$A$3-1))) -> 18 | ... L81: =INDEX(Rohdaten_tab5!$1:$1048576,ROW(Rohdaten_tab5!K67),COLUMN(Rohdaten_tab5!K67)+(10*(Steuerung!$A$3-1))) -> 63
A82: November 2009 | C82: =INDEX(Rohdaten_tab5!$1:$1048576,ROW(Rohdaten_tab5!B68),COLUMN(Rohdaten_tab5!B68)+(10*(Steuerung!$A$3-1))) -> 281 | D82: =INDEX(Rohdaten_tab5!$1:$1048576,ROW(Rohdaten_tab5!C68),COLUMN(Rohdaten_tab5!C68)+(10*(Steuerung!$A$3-1))) -> 276 | E82: =INDEX(Rohdaten_tab5!$1:$1048576,ROW(Rohdaten_tab5!D68),COLUMN(Rohdaten_tab5!D68)+(10*(Steuerung!$A$3-1))) -> 149 | F82: =INDEX(Rohdaten_tab5!$1:$1048576,ROW(Rohdaten_tab5!E68),COLUMN(Rohdaten_tab5!E68)+(10*(Steuerung!$A$3-1))) -> 7 | G82: =INDEX(Rohdaten_tab5!$1:$1048576,ROW(Rohdaten_tab5!F68),COLUMN(Rohdaten_tab5!F68)+(10*(Steuerung!$A$3-1))) -> 61 | H82: =INDEX(Rohdaten_tab5!$1:$1048576,ROW(Rohdaten_tab5!G68),COLUMN(Rohdaten_tab5!G68)+(10*(Steuerung!$A$3-1))) -> * | I82: =INDEX(Rohdaten_tab5!$1:$1048576,ROW(Rohdaten_tab5!H68),COLUMN(Rohdaten_tab5!H68)+(10*(Steuerung!$A$3-1))) -> * | J82: =INDEX(Rohdaten_tab5!$1:$1048576,ROW(Rohdaten_tab5!I68),COLUMN(Rohdaten_tab5!I68)+(10*(Steuerung!$A$3-1))) -> 0 | ... L82: =INDEX(Rohdaten_tab5!$1:$1048576,ROW(Rohdaten_tab5!K68),COLUMN(Rohdaten_tab5!K68)+(10*(Steuerung!$A$3-1))) -> 47
... A283: August 2026 | C283: =INDEX(Rohdaten_tab5!$1:$1048576,ROW(Rohdaten_tab5!B269),COLUMN(Rohdaten_tab5!B269)+(10*(Steuerung!$A$3-1))) -> * | D283: =INDEX(Rohdaten_tab5!$1:$1048576,ROW(Rohdaten_tab5!C269),COLUMN(Rohdaten_tab5!C269)+(10*(Steuerung!$A$3-1))) -> 137 | E283: =INDEX(Rohdaten_tab5!$1:$1048576,ROW(Rohdaten_tab5!D269),COLUMN(Rohdaten_tab5!D269)+(10*(Steuerung!$A$3-1))) -> 52 | F283: =INDEX(Rohdaten_tab5!$1:$1048576,ROW(Rohdaten_tab5!E269),COLUMN(Rohdaten_tab5!E269)+(10*(Steuerung!$A$3-1))) -> * | G283: =INDEX(Rohdaten_tab5!$1:$1048576,ROW(Rohdaten_tab5!F269),COLUMN(Rohdaten_tab5!F269)+(10*(Steuerung!$A$3-1))) -> 34 | H283: =INDEX(Rohdaten_tab5!$1:$1048576,ROW(Rohdaten_tab5!G269),COLUMN(Rohdaten_tab5!G269)+(10*(Steuerung!$A$3-1))) -> * | I283: =INDEX(Rohdaten_tab5!$1:$1048576,ROW(Rohdaten_tab5!H269),COLUMN(Rohdaten_tab5!H269)+(10*(Steuerung!$A$3-1))) -> 12 | J283: =INDEX(Rohdaten_tab5!$1:$1048576,ROW(Rohdaten_tab5!I269),COLUMN(Rohdaten_tab5!I269)+(10*(Steuerung!$A$3-1))) -> 0 | ... L283: =INDEX(Rohdaten_tab5!$1:$1048576,ROW(Rohdaten_tab5!K269),COLUMN(Rohdaten_tab5!K269)+(10*(Steuerung!$A$3-1))) -> 28
L284: © Statistik der Bundesagentur für Arbeit
A286: 1) Andere Leistungen können sein: Unterhaltsgeld, Mutterschaftsgeld, Berufsausbildungsbeihilfe, Reha-Maßnahme mit/ohne Übergangsgeld (ab Juli 2011), ausländische Sozialleistung.
A287: 2) Andere Gründe können sein: Auslandsaufenthalt, mangelnde Mitwirkung, Wegfall der Verfügbarkeit, Abwesenheit, Wehr-/Zivildienst und sonstige Gründe (einschl. Sperrzeiten).
A288: 3) Durch eine verbesserte Ermittlung aus den in der Leistungsbewilligung erfassten Angaben wurde die Zuordnung des Beendigungsgrundes zu Abgängen im Berichtsmonat März 2021 rückwirkend korrigiert.
A289: Hinweis:
A290: Die Zählweise von Ausländern hat sich im Vergleich zu früheren Publikationen geändert. Staatenlose und Personen ohne Angabe zur Staatsangehörigkeit werden nun nicht mehr unter „Keine Angabe“, sondern zu den Ausländern gezählt. Details dazu finden Sie in der Hintergrundinfo „Statistiken nach Staatsangehörigkeit – neue Zuordnung von Staatenlosen und Personen ohne Angabe der Staatsangehörigkeit“ auf unserer Internetseite Grundlagen > Methodik und Qualität > Methodenberichte und Hintergrundinfos > Übergreifende Themen.

Sheet Tab 6
H1: Arbeitslosengeld nach dem SGB III
A3: =CONCATENATE("6. Durchschnittliche Anspruchshöhe von Leistungsbeziehenden bei Arbeitslosigkeit in Euro", Auswahl_Text) -> 6. Durchschnittliche Anspruchshöhe von Leistungsbeziehenden bei Arbeitslosigkeit in Euro
A4: Hildburghausen (Gebietsstand Oktober 2026)
A5: Zeitreihe
A7: Daten zu Arbeitslosengeld nach dem SGB III (Alg) nach einer Wartezeit von 2 Monaten.
A12: Jahresdurchschnitt/ Berichtsmonat | C12: Anspruch einschl. Sozialver- sicherungs- beiträge 1) | D12: dav. (Sp. 1)
D13: Anspruch | E13: Sozialver- sicherungs- beiträge | F13: dav. (Sp. 3)
F14: Renten-versicherung | G14: Kranken- versicherung | H14: Pflege- versicherung
C15: 1 | D15: 2 | E15: 3 | F15: 4 | G15: 5 | H15: 6
A16: =IF(INDEX(Rohdaten_tab6!$A:$A,ROW(Rohdaten_tab6!$A2),COLUMN(Rohdaten_tab6!$A:$A))<>"",INDEX(Rohdaten_tab6!$A:$A,ROW(Rohdaten_tab6!$A2),COLUMN(Rohdaten_tab6!$A:$A)),"") -> 2005 | C16: =INDEX(Rohdaten_tab6!$1:$1048576,ROW(Rohdaten_tab6!B2),COLUMN(Rohdaten_tab6!B2)+(6*(Steuerung!$A$3-1))) -> X | D16: =INDEX(Rohdaten_tab6!$1:$1048576,ROW(Rohdaten_tab6!C2),COLUMN(Rohdaten_tab6!C2)+(6*(Steuerung!$A$3-1))) -> 675.43199 | E16: =INDEX(Rohdaten_tab6!$1:$1048576,ROW(Rohdaten_tab6!D2),COLUMN(Rohdaten_tab6!D2)+(6*(Steuerung!$A$3-1))) -> X | F16: =INDEX(Rohdaten_tab6!$1:$1048576,ROW(Rohdaten_tab6!E2),COLUMN(Rohdaten_tab6!E2)+(6*(Steuerung!$A$3-1))) -> X | G16: =INDEX(Rohdaten_tab6!$1:$1048576,ROW(Rohdaten_tab6!F2),COLUMN(Rohdaten_tab6!F2)+(6*(Steuerung!$A$3-1))) -> X | H16: =INDEX(Rohdaten_tab6!$1:$1048576,ROW(Rohdaten_tab6!G2),COLUMN(Rohdaten_tab6!G2)+(6*(Steuerung!$A$3-1))) -> X
A17: =IF(INDEX(Rohdaten_tab6!$A:$A,ROW(Rohdaten_tab6!$A3),COLUMN(Rohdaten_tab6!$A:$A))<>"",INDEX(Rohdaten_tab6!$A:$A,ROW(Rohdaten_tab6!$A3),COLUMN(Rohdaten_tab6!$A:$A)),"") -> 2006 | C17: =INDEX(Rohdaten_tab6!$1:$1048576,ROW(Rohdaten_tab6!B3),COLUMN(Rohdaten_tab6!B3)+(6*(Steuerung!$A$3-1))) -> X | D17: =INDEX(Rohdaten_tab6!$1:$1048576,ROW(Rohdaten_tab6!C3),COLUMN(Rohdaten_tab6!C3)+(6*(Steuerung!$A$3-1))) -> 685.66703 | E17: =INDEX(Rohdaten_tab6!$1:$1048576,ROW(Rohdaten_tab6!D3),COLUMN(Rohdaten_tab6!D3)+(6*(Steuerung!$A$3-1))) -> X | F17: =INDEX(Rohdaten_tab6!$1:$1048576,ROW(Rohdaten_tab6!E3),COLUMN(Rohdaten_tab6!E3)+(6*(Steuerung!$A$3-1))) -> X | G17: =INDEX(Rohdaten_tab6!$1:$1048576,ROW(Rohdaten_tab6!F3),COLUMN(Rohdaten_tab6!F3)+(6*(Steuerung!$A$3-1))) -> X | H17: =INDEX(Rohdaten_tab6!$1:$1048576,ROW(Rohdaten_tab6!G3),COLUMN(Rohdaten_tab6!G3)+(6*(Steuerung!$A$3-1))) -> X
A18: =IF(INDEX(Rohdaten_tab6!$A:$A,ROW(Rohdaten_tab6!$A4),COLUMN(Rohdaten_tab6!$A:$A))<>"",INDEX(Rohdaten_tab6!$A:$A,ROW(Rohdaten_tab6!$A4),COLUMN(Rohdaten_tab6!$A:$A)),"") -> 2007 | C18: =INDEX(Rohdaten_tab6!$1:$1048576,ROW(Rohdaten_tab6!B4),COLUMN(Rohdaten_tab6!B4)+(6*(Steuerung!$A$3-1))) -> 1149.448 | D18: =INDEX(Rohdaten_tab6!$1:$1048576,ROW(Rohdaten_tab6!C4),COLUMN(Rohdaten_tab6!C4)+(6*(Steuerung!$A$3-1))) -> 687.10654 | E18: =INDEX(Rohdaten_tab6!$1:$1048576,ROW(Rohdaten_tab6!D4),COLUMN(Rohdaten_tab6!D4)+(6*(Steuerung!$A$3-1))) -> 462.34144 | F18: =INDEX(Rohdaten_tab6!$1:$1048576,ROW(Rohdaten_tab6!E4),COLUMN(Rohdaten_tab6!E4)+(6*(Steuerung!$A$3-1))) -> 255.27401 | G18: =INDEX(Rohdaten_tab6!$1:$1048576,ROW(Rohdaten_tab6!F4),COLUMN(Rohdaten_tab6!F4)+(6*(Steuerung!$A$3-1))) -> 185.30601 | H18: =INDEX(Rohdaten_tab6!$1:$1048576,ROW(Rohdaten_tab6!G4),COLUMN(Rohdaten_tab6!G4)+(6*(Steuerung!$A$3-1))) -> 21.761417
A19: =IF(INDEX(Rohdaten_tab6!$A:$A,ROW(Rohdaten_tab6!$A5),COLUMN(Rohdaten_tab6!$A:$A))<>"",INDEX(Rohdaten_tab6!$A:$A,ROW(Rohdaten_tab6!$A5),COLUMN(Rohdaten_tab6!$A:$A)),"") -> 2008 | C19: =INDEX(Rohdaten_tab6!$1:$1048576,ROW(Rohdaten_tab6!B5),COLUMN(Rohdaten_tab6!B5)+(6*(Steuerung!$A$3-1))) -> 1152.5419 | D19: =INDEX(Rohdaten_tab6!$1:$1048576,ROW(Rohdaten_tab6!C5),COLUMN(Rohdaten_tab6!C5)+(6*(Steuerung!$A$3-1))) -> 688.57975 | E19: =INDEX(Rohdaten_tab6!$1:$1048576,ROW(Rohdaten_tab6!D5),COLUMN(Rohdaten_tab6!D5)+(6*(Steuerung!$A$3-1))) -> 463.96212 | F19: =INDEX(Rohdaten_tab6!$1:$1048576,ROW(Rohdaten_tab6!E5),COLUMN(Rohdaten_tab6!E5)+(6*(Steuerung!$A$3-1))) -> 257.09404 | G19: =INDEX(Rohdaten_tab6!$1:$1048576,ROW(Rohdaten_tab6!F5),COLUMN(Rohdaten_tab6!F5)+(6*(Steuerung!$A$3-1))) -> 183.94213 | H19: =INDEX(Rohdaten_tab6!$1:$1048576,ROW(Rohdaten_tab6!G5),COLUMN(Rohdaten_tab6!G5)+(6*(Steuerung!$A$3-1))) -> 22.925948
A20: =IF(INDEX(Rohdaten_tab6!$A:$A,ROW(Rohdaten_tab6!$A6),COLUMN(Rohdaten_tab6!$A:$A))<>"",INDEX(Rohdaten_tab6!$A:$A,ROW(Rohdaten_tab6!$A6),COLUMN(Rohdaten_tab6!$A:$A)),"") -> 2009 | C20: =INDEX(Rohdaten_tab6!$1:$1048576,ROW(Rohdaten_tab6!B6),COLUMN(Rohdaten_tab6!B6)+(6*(Steuerung!$A$3-1))) -> 1142.2412 | D20: =INDEX(Rohdaten_tab6!$1:$1048576,ROW(Rohdaten_tab6!C6),COLUMN(Rohdaten_tab6!C6)+(6*(Steuerung!$A$3-1))) -> 676.31771 | E20: =INDEX(Rohdaten_tab6!$1:$1048576,ROW(Rohdaten_tab6!D6),COLUMN(Rohdaten_tab6!D6)+(6*(Steuerung!$A$3-1))) -> 465.92347 | F20: =INDEX(Rohdaten_tab6!$1:$1048576,ROW(Rohdaten_tab6!E6),COLUMN(Rohdaten_tab6!E6)+(6*(Steuerung!$A$3-1))) -> 251.1297 | G20: =INDEX(Rohdaten_tab6!$1:$1048576,ROW(Rohdaten_tab6!F6),COLUMN(Rohdaten_tab6!F6)+(6*(Steuerung!$A$3-1))) -> 190.43516 | H20: =INDEX(Rohdaten_tab6!$1:$1048576,ROW(Rohdaten_tab6!G6),COLUMN(Rohdaten_tab6!G6)+(6*(Steuerung!$A$3-1))) -> 24.358611
A21: =IF(INDEX(Rohdaten_tab6!$A:$A,ROW(Rohdaten_tab6!$A7),COLUMN(Rohdaten_tab6!$A:$A))<>"",INDEX(Rohdaten_tab6!$A:$A,ROW(Rohdaten_tab6!$A7),COLUMN(Rohdaten_tab6!$A:$A)),"") -> 2010 | C21: =INDEX(Rohdaten_tab6!$1:$1048576,ROW(Rohdaten_tab6!B7),COLUMN(Rohdaten_tab6!B7)+(6*(Steuerung!$A$3-1))) -> 1185.1992 | D21: =INDEX(Rohdaten_tab6!$1:$1048576,ROW(Rohdaten_tab6!C7),COLUMN(Rohdaten_tab6!C7)+(6*(Steuerung!$A$3-1))) -> 702.18185 | E21: =INDEX(Rohdaten_tab6!$1:$1048576,ROW(Rohdaten_tab6!D7),COLUMN(Rohdaten_tab6!D7)+(6*(Steuerung!$A$3-1))) -> 483.01736 | F21: =INDEX(Rohdaten_tab6!$1:$1048576,ROW(Rohdaten_tab6!E7),COLUMN(Rohdaten_tab6!E7)+(6*(Steuerung!$A$3-1))) -> 262.54423 | G21: =INDEX(Rohdaten_tab6!$1:$1048576,ROW(Rohdaten_tab6!F7),COLUMN(Rohdaten_tab6!F7)+(6*(Steuerung!$A$3-1))) -> 194.97995 | H21: =INDEX(Rohdaten_tab6!$1:$1048576,ROW(Rohdaten_tab6!G7),COLUMN(Rohdaten_tab6!G7)+(6*(Steuerung!$A$3-1))) -> 25.493176
A22: =IF(INDEX(Rohdaten_tab6!$A:$A,ROW(Rohdaten_tab6!$A8),COLUMN(Rohdaten_tab6!$A:$A))<>"",INDEX(Rohdaten_tab6!$A:$A,ROW(Rohdaten_tab6!$A8),COLUMN(Rohdaten_tab6!$A:$A)),"") -> 2011 | C22: =INDEX(Rohdaten_tab6!$1:$1048576,ROW(Rohdaten_tab6!B8),COLUMN(Rohdaten_tab6!B8)+(6*(Steuerung!$A$3-1))) -> 1249.9101 | D22: =INDEX(Rohdaten_tab6!$1:$1048576,ROW(Rohdaten_tab6!C8),COLUMN(Rohdaten_tab6!C8)+(6*(Steuerung!$A$3-1))) -> 737.33245 | E22: =INDEX(Rohdaten_tab6!$1:$1048576,ROW(Rohdaten_tab6!D8),COLUMN(Rohdaten_tab6!D8)+(6*(Steuerung!$A$3-1))) -> 512.57769 | F22: =INDEX(Rohdaten_tab6!$1:$1048576,ROW(Rohdaten_tab6!E8),COLUMN(Rohdaten_tab6!E8)+(6*(Steuerung!$A$3-1))) -> 275.02619 | G22: =INDEX(Rohdaten_tab6!$1:$1048576,ROW(Rohdaten_tab6!F8),COLUMN(Rohdaten_tab6!F8)+(6*(Steuerung!$A$3-1))) -> 210.98196 | H22: =INDEX(Rohdaten_tab6!$1:$1048576,ROW(Rohdaten_tab6!G8),COLUMN(Rohdaten_tab6!G8)+(6*(Steuerung!$A$3-1))) -> 26.569546
A23: =IF(INDEX(Rohdaten_tab6!$A:$A,ROW(Rohdaten_tab6!$A9),COLUMN(Rohdaten_tab6!$A:$A))<>"",INDEX(Rohdaten_tab6!$A:$A,ROW(Rohdaten_tab6!$A9),COLUMN(Rohdaten_tab6!$A:$A)),"") -> 2012 | C23: =INDEX(Rohdaten_tab6!$1:$1048576,ROW(Rohdaten_tab6!B9),COLUMN(Rohdaten_tab6!B9)+(6*(Steuerung!$A$3-1))) -> 1291.0372 | D23: =INDEX(Rohdaten_tab6!$1:$1048576,ROW(Rohdaten_tab6!C9),COLUMN(Rohdaten_tab6!C9)+(6*(Steuerung!$A$3-1))) -> 762.50932 | E23: =INDEX(Rohdaten_tab6!$1:$1048576,ROW(Rohdaten_tab6!D9),COLUMN(Rohdaten_tab6!D9)+(6*(Steuerung!$A$3-1))) -> 528.52788 | F23: =INDEX(Rohdaten_tab6!$1:$1048576,ROW(Rohdaten_tab6!E9),COLUMN(Rohdaten_tab6!E9)+(6*(Steuerung!$A$3-1))) -> 281.4548 | G23: =INDEX(Rohdaten_tab6!$1:$1048576,ROW(Rohdaten_tab6!F9),COLUMN(Rohdaten_tab6!F9)+(6*(Steuerung!$A$3-1))) -> 219.50396 | H23: =INDEX(Rohdaten_tab6!$1:$1048576,ROW(Rohdaten_tab6!G9),COLUMN(Rohdaten_tab6!G9)+(6*(Steuerung!$A$3-1))) -> 27.569121
A24: =IF(INDEX(Rohdaten_tab6!$A:$A,ROW(Rohdaten_tab6!$A10),COLUMN(Rohdaten_tab6!$A:$A))<>"",INDEX(Rohdaten_tab6!$A:$A,ROW(Rohdaten_tab6!$A10),COLUMN(Rohdaten_tab6!$A:$A)),"") -> 2013 | C24: =INDEX(Rohdaten_tab6!$1:$1048576,ROW(Rohdaten_tab6!B10),COLUMN(Rohdaten_tab6!B10)+(6*(Steuerung!$A$3-1))) -> 1301.2223 | D24: =INDEX(Rohdaten_tab6!$1:$1048576,ROW(Rohdaten_tab6!C10),COLUMN(Rohdaten_tab6!C10)+(6*(Steuerung!$A$3-1))) -> 773.59056 | E24: =INDEX(Rohdaten_tab6!$1:$1048576,ROW(Rohdaten_tab6!D10),COLUMN(Rohdaten_tab6!D10)+(6*(Steuerung!$A$3-1))) -> 527.63178 | F24: =INDEX(Rohdaten_tab6!$1:$1048576,ROW(Rohdaten_tab6!E10),COLUMN(Rohdaten_tab6!E10)+(6*(Steuerung!$A$3-1))) -> 275.66299 | G24: =INDEX(Rohdaten_tab6!$1:$1048576,ROW(Rohdaten_tab6!F10),COLUMN(Rohdaten_tab6!F10)+(6*(Steuerung!$A$3-1))) -> 222.65901 | H24: =INDEX(Rohdaten_tab6!$1:$1048576,ROW(Rohdaten_tab6!G10),COLUMN(Rohdaten_tab6!G10)+(6*(Steuerung!$A$3-1))) -> 29.30978
A25: =IF(INDEX(Rohdaten_tab6!$A:$A,ROW(Rohdaten_tab6!$A11),COLUMN(Rohdaten_tab6!$A:$A))<>"",INDEX(Rohdaten_tab6!$A:$A,ROW(Rohdaten_tab6!$A11),COLUMN(Rohdaten_tab6!$A:$A)),"") -> 2014 | C25: =INDEX(Rohdaten_tab6!$1:$1048576,ROW(Rohdaten_tab6!B11),COLUMN(Rohdaten_tab6!B11)+(6*(Steuerung!$A$3-1))) -> 1321.8735 | D25: =INDEX(Rohdaten_tab6!$1:$1048576,ROW(Rohdaten_tab6!C11),COLUMN(Rohdaten_tab6!C11)+(6*(Steuerung!$A$3-1))) -> 786.68427 | E25: =INDEX(Rohdaten_tab6!$1:$1048576,ROW(Rohdaten_tab6!D11),COLUMN(Rohdaten_tab6!D11)+(6*(Steuerung!$A$3-1))) -> 535.18925 | F25: =INDEX(Rohdaten_tab6!$1:$1048576,ROW(Rohdaten_tab6!E11),COLUMN(Rohdaten_tab6!E11)+(6*(Steuerung!$A$3-1))) -> 279.74215 | G25: =INDEX(Rohdaten_tab6!$1:$1048576,ROW(Rohdaten_tab6!F11),COLUMN(Rohdaten_tab6!F11)+(6*(Steuerung!$A$3-1))) -> 225.71119 | H25: =INDEX(Rohdaten_tab6!$1:$1048576,ROW(Rohdaten_tab6!G11),COLUMN(Rohdaten_tab6!G11)+(6*(Steuerung!$A$3-1))) -> 29.735909
A26: =IF(INDEX(Rohdaten_tab6!$A:$A,ROW(Rohdaten_tab6!$A12),COLUMN(Rohdaten_tab6!$A:$A))<>"",INDEX(Rohdaten_tab6!$A:$A,ROW(Rohdaten_tab6!$A12),COLUMN(Rohdaten_tab6!$A:$A)),"") -> 2015 | C26: =INDEX(Rohdaten_tab6!$1:$1048576,ROW(Rohdaten_tab6!B12),COLUMN(Rohdaten_tab6!B12)+(6*(Steuerung!$A$3-1))) -> 1356.151 | D26: =INDEX(Rohdaten_tab6!$1:$1048576,ROW(Rohdaten_tab6!C12),COLUMN(Rohdaten_tab6!C12)+(6*(Steuerung!$A$3-1))) -> 806.20925 | E26: =INDEX(Rohdaten_tab6!$1:$1048576,ROW(Rohdaten_tab6!D12),COLUMN(Rohdaten_tab6!D12)+(6*(Steuerung!$A$3-1))) -> 549.94173 | F26: =INDEX(Rohdaten_tab6!$1:$1048576,ROW(Rohdaten_tab6!E12),COLUMN(Rohdaten_tab6!E12)+(6*(Steuerung!$A$3-1))) -> 285.89155 | G26: =INDEX(Rohdaten_tab6!$1:$1048576,ROW(Rohdaten_tab6!F12),COLUMN(Rohdaten_tab6!F12)+(6*(Steuerung!$A$3-1))) -> 229.2135 | H26: =INDEX(Rohdaten_tab6!$1:$1048576,ROW(Rohdaten_tab6!G12),COLUMN(Rohdaten_tab6!G12)+(6*(Steuerung!$A$3-1))) -> 34.83668
A27: =IF(INDEX(Rohdaten_tab6!$A:$A,ROW(Rohdaten_tab6!$A13),COLUMN(Rohdaten_tab6!$A:$A))<>"",INDEX(Rohdaten_tab6!$A:$A,ROW(Rohdaten_tab6!$A13),COLUMN(Rohdaten_tab6!$A:$A)),"") -> 2016 | C27: =INDEX(Rohdaten_tab6!$1:$1048576,ROW(Rohdaten_tab6!B13),COLUMN(Rohdaten_tab6!B13)+(6*(Steuerung!$A$3-1))) -> 1382.8875 | D27: =INDEX(Rohdaten_tab6!$1:$1048576,ROW(Rohdaten_tab6!C13),COLUMN(Rohdaten_tab6!C13)+(6*(Steuerung!$A$3-1))) -> 821.10852 | E27: =INDEX(Rohdaten_tab6!$1:$1048576,ROW(Rohdaten_tab6!D13),COLUMN(Rohdaten_tab6!D13)+(6*(Steuerung!$A$3-1))) -> 561.77899 | F27: =INDEX(Rohdaten_tab6!$1:$1048576,ROW(Rohdaten_tab6!E13),COLUMN(Rohdaten_tab6!E13)+(6*(Steuerung!$A$3-1))) -> 290.59564 | G27: =INDEX(Rohdaten_tab6!$1:$1048576,ROW(Rohdaten_tab6!F13),COLUMN(Rohdaten_tab6!F13)+(6*(Steuerung!$A$3-1))) -> 235.28406 | H27: =INDEX(Rohdaten_tab6!$1:$1048576,ROW(Rohdaten_tab6!G13),COLUMN(Rohdaten_tab6!G13)+(6*(Steuerung!$A$3-1))) -> 35.899293
... A70: =IF(INDEX(Rohdaten_tab6!$A:$A,ROW(Rohdaten_tab6!$A56),COLUMN(Rohdaten_tab6!$A:$A))<>"",INDEX(Rohdaten_tab6!$A:$A,ROW(Rohdaten_tab6!$A56),COLUMN(Rohdaten_tab6!$A:$A)),"") -> Oktober 2007 | C70: =INDEX(Rohdaten_tab6!$1:$1048576,ROW(Rohdaten_tab6!B56),COLUMN(Rohdaten_tab6!B56)+(6*(Steuerung!$A$3-1))) -> 1113.978 | D70: =INDEX(Rohdaten_tab6!$1:$1048576,ROW(Rohdaten_tab6!C56),COLUMN(Rohdaten_tab6!C56)+(6*(Steuerung!$A$3-1))) -> 663.79942 | E70: =INDEX(Rohdaten_tab6!$1:$1048576,ROW(Rohdaten_tab6!D56),COLUMN(Rohdaten_tab6!D56)+(6*(Steuerung!$A$3-1))) -> 450.17855 | F70: =INDEX(Rohdaten_tab6!$1:$1048576,ROW(Rohdaten_tab6!E56),COLUMN(Rohdaten_tab6!E56)+(6*(Steuerung!$A$3-1))) -> 247.84928 | G70: =INDEX(Rohdaten_tab6!$1:$1048576,ROW(Rohdaten_tab6!F56),COLUMN(Rohdaten_tab6!F56)+(6*(Steuerung!$A$3-1))) -> 181.15884 | H70: =INDEX(Rohdaten_tab6!$1:$1048576,ROW(Rohdaten_tab6!G56),COLUMN(Rohdaten_tab6!G56)+(6*(Steuerung!$A$3-1))) -> 21.170435
A71: November 2007 | C71: =INDEX(Rohdaten_tab6!$1:$1048576,ROW(Rohdaten_tab6!B57),COLUMN(Rohdaten_tab6!B57)+(6*(Steuerung!$A$3-1))) -> 1126.1098 | D71: =INDEX(Rohdaten_tab6!$1:$1048576,ROW(Rohdaten_tab6!C57),COLUMN(Rohdaten_tab6!C57)+(6*(Steuerung!$A$3-1))) -> 671.68844 | E71: =INDEX(Rohdaten_tab6!$1:$1048576,ROW(Rohdaten_tab6!D57),COLUMN(Rohdaten_tab6!D57)+(6*(Steuerung!$A$3-1))) -> 454.42139 | F71: =INDEX(Rohdaten_tab6!$1:$1048576,ROW(Rohdaten_tab6!E57),COLUMN(Rohdaten_tab6!E57)+(6*(Steuerung!$A$3-1))) -> 250.18728 | G71: =INDEX(Rohdaten_tab6!$1:$1048576,ROW(Rohdaten_tab6!F57),COLUMN(Rohdaten_tab6!F57)+(6*(Steuerung!$A$3-1))) -> 182.8474 | H71: =INDEX(Rohdaten_tab6!$1:$1048576,ROW(Rohdaten_tab6!G57),COLUMN(Rohdaten_tab6!G57)+(6*(Steuerung!$A$3-1))) -> 21.386705
A72: Dezember 2007 | C72: =INDEX(Rohdaten_tab6!$1:$1048576,ROW(Rohdaten_tab6!B58),COLUMN(Rohdaten_tab6!B58)+(6*(Steuerung!$A$3-1))) -> 1154.2448 | D72: =INDEX(Rohdaten_tab6!$1:$1048576,ROW(Rohdaten_tab6!C58),COLUMN(Rohdaten_tab6!C58)+(6*(Steuerung!$A$3-1))) -> 689.34704 | E72: =INDEX(Rohdaten_tab6!$1:$1048576,ROW(Rohdaten_tab6!D58),COLUMN(Rohdaten_tab6!D58)+(6*(Steuerung!$A$3-1))) -> 464.89774 | F72: =INDEX(Rohdaten_tab6!$1:$1048576,ROW(Rohdaten_tab6!E58),COLUMN(Rohdaten_tab6!E58)+(6*(Steuerung!$A$3-1))) -> 256.48043 | G72: =INDEX(Rohdaten_tab6!$1:$1048576,ROW(Rohdaten_tab6!F58),COLUMN(Rohdaten_tab6!F58)+(6*(Steuerung!$A$3-1))) -> 186.55461 | H72: =INDEX(Rohdaten_tab6!$1:$1048576,ROW(Rohdaten_tab6!G58),COLUMN(Rohdaten_tab6!G58)+(6*(Steuerung!$A$3-1))) -> 21.862696
A73: Januar 2008 | C73: =INDEX(Rohdaten_tab6!$1:$1048576,ROW(Rohdaten_tab6!B59),COLUMN(Rohdaten_tab6!B59)+(6*(Steuerung!$A$3-1))) -> 1193.9187 | D73: =INDEX(Rohdaten_tab6!$1:$1048576,ROW(Rohdaten_tab6!C59),COLUMN(Rohdaten_tab6!C59)+(6*(Steuerung!$A$3-1))) -> 714.15092 | E73: =INDEX(Rohdaten_tab6!$1:$1048576,ROW(Rohdaten_tab6!D59),COLUMN(Rohdaten_tab6!D59)+(6*(Steuerung!$A$3-1))) -> 479.76781 | F73: =INDEX(Rohdaten_tab6!$1:$1048576,ROW(Rohdaten_tab6!E59),COLUMN(Rohdaten_tab6!E59)+(6*(Steuerung!$A$3-1))) -> 266.14588 | G73: =INDEX(Rohdaten_tab6!$1:$1048576,ROW(Rohdaten_tab6!F59),COLUMN(Rohdaten_tab6!F59)+(6*(Steuerung!$A$3-1))) -> 190.9078 | H73: =INDEX(Rohdaten_tab6!$1:$1048576,ROW(Rohdaten_tab6!G59),COLUMN(Rohdaten_tab6!G59)+(6*(Steuerung!$A$3-1))) -> 22.714128
A74: Februar 2008 | C74: =INDEX(Rohdaten_tab6!$1:$1048576,ROW(Rohdaten_tab6!B60),COLUMN(Rohdaten_tab6!B60)+(6*(Steuerung!$A$3-1))) -> 1184.7856 | D74: =INDEX(Rohdaten_tab6!$1:$1048576,ROW(Rohdaten_tab6!C60),COLUMN(Rohdaten_tab6!C60)+(6*(Steuerung!$A$3-1))) -> 709.01316 | E74: =INDEX(Rohdaten_tab6!$1:$1048576,ROW(Rohdaten_tab6!D60),COLUMN(Rohdaten_tab6!D60)+(6*(Steuerung!$A$3-1))) -> 475.77239 | F74: =INDEX(Rohdaten_tab6!$1:$1048576,ROW(Rohdaten_tab6!E60),COLUMN(Rohdaten_tab6!E60)+(6*(Steuerung!$A$3-1))) -> 264.15558 | G74: =INDEX(Rohdaten_tab6!$1:$1048576,ROW(Rohdaten_tab6!F60),COLUMN(Rohdaten_tab6!F60)+(6*(Steuerung!$A$3-1))) -> 189.07806 | H74: =INDEX(Rohdaten_tab6!$1:$1048576,ROW(Rohdaten_tab6!G60),COLUMN(Rohdaten_tab6!G60)+(6*(Steuerung!$A$3-1))) -> 22.538757
A75: März 2008 | C75: =INDEX(Rohdaten_tab6!$1:$1048576,ROW(Rohdaten_tab6!B61),COLUMN(Rohdaten_tab6!B61)+(6*(Steuerung!$A$3-1))) -> 1171.8768 | D75: =INDEX(Rohdaten_tab6!$1:$1048576,ROW(Rohdaten_tab6!C61),COLUMN(Rohdaten_tab6!C61)+(6*(Steuerung!$A$3-1))) -> 701.65553 | E75: =INDEX(Rohdaten_tab6!$1:$1048576,ROW(Rohdaten_tab6!D61),COLUMN(Rohdaten_tab6!D61)+(6*(Steuerung!$A$3-1))) -> 470.22128 | F75: =INDEX(Rohdaten_tab6!$1:$1048576,ROW(Rohdaten_tab6!E61),COLUMN(Rohdaten_tab6!E61)+(6*(Steuerung!$A$3-1))) -> 261.16184 | G75: =INDEX(Rohdaten_tab6!$1:$1048576,ROW(Rohdaten_tab6!F61),COLUMN(Rohdaten_tab6!F61)+(6*(Steuerung!$A$3-1))) -> 186.78099 | H75: =INDEX(Rohdaten_tab6!$1:$1048576,ROW(Rohdaten_tab6!G61),COLUMN(Rohdaten_tab6!G61)+(6*(Steuerung!$A$3-1))) -> 22.278449
A76: April 2008 | C76: =INDEX(Rohdaten_tab6!$1:$1048576,ROW(Rohdaten_tab6!B62),COLUMN(Rohdaten_tab6!B62)+(6*(Steuerung!$A$3-1))) -> 1160.593 | D76: =INDEX(Rohdaten_tab6!$1:$1048576,ROW(Rohdaten_tab6!C62),COLUMN(Rohdaten_tab6!C62)+(6*(Steuerung!$A$3-1))) -> 694.08713 | E76: =INDEX(Rohdaten_tab6!$1:$1048576,ROW(Rohdaten_tab6!D62),COLUMN(Rohdaten_tab6!D62)+(6*(Steuerung!$A$3-1))) -> 466.50586 | F76: =INDEX(Rohdaten_tab6!$1:$1048576,ROW(Rohdaten_tab6!E62),COLUMN(Rohdaten_tab6!E62)+(6*(Steuerung!$A$3-1))) -> 259.24813 | G76: =INDEX(Rohdaten_tab6!$1:$1048576,ROW(Rohdaten_tab6!F62),COLUMN(Rohdaten_tab6!F62)+(6*(Steuerung!$A$3-1))) -> 185.22508 | H76: =INDEX(Rohdaten_tab6!$1:$1048576,ROW(Rohdaten_tab6!G62),COLUMN(Rohdaten_tab6!G62)+(6*(Steuerung!$A$3-1))) -> 22.032655
A77: Mai 2008 | C77: =INDEX(Rohdaten_tab6!$1:$1048576,ROW(Rohdaten_tab6!B63),COLUMN(Rohdaten_tab6!B63)+(6*(Steuerung!$A$3-1))) -> 1159.6217 | D77: =INDEX(Rohdaten_tab6!$1:$1048576,ROW(Rohdaten_tab6!C63),COLUMN(Rohdaten_tab6!C63)+(6*(Steuerung!$A$3-1))) -> 692.26556 | E77: =INDEX(Rohdaten_tab6!$1:$1048576,ROW(Rohdaten_tab6!D63),COLUMN(Rohdaten_tab6!D63)+(6*(Steuerung!$A$3-1))) -> 467.35611 | F77: =INDEX(Rohdaten_tab6!$1:$1048576,ROW(Rohdaten_tab6!E63),COLUMN(Rohdaten_tab6!E63)+(6*(Steuerung!$A$3-1))) -> 259.53722 | G77: =INDEX(Rohdaten_tab6!$1:$1048576,ROW(Rohdaten_tab6!F63),COLUMN(Rohdaten_tab6!F63)+(6*(Steuerung!$A$3-1))) -> 185.7775 | H77: =INDEX(Rohdaten_tab6!$1:$1048576,ROW(Rohdaten_tab6!G63),COLUMN(Rohdaten_tab6!G63)+(6*(Steuerung!$A$3-1))) -> 22.041389
A78: Juni 2008 | C78: =INDEX(Rohdaten_tab6!$1:$1048576,ROW(Rohdaten_tab6!B64),COLUMN(Rohdaten_tab6!B64)+(6*(Steuerung!$A$3-1))) -> 1163.5232 | D78: =INDEX(Rohdaten_tab6!$1:$1048576,ROW(Rohdaten_tab6!C64),COLUMN(Rohdaten_tab6!C64)+(6*(Steuerung!$A$3-1))) -> 695.16635 | E78: =INDEX(Rohdaten_tab6!$1:$1048576,ROW(Rohdaten_tab6!D64),COLUMN(Rohdaten_tab6!D64)+(6*(Steuerung!$A$3-1))) -> 468.35683 | F78: =INDEX(Rohdaten_tab6!$1:$1048576,ROW(Rohdaten_tab6!E64),COLUMN(Rohdaten_tab6!E64)+(6*(Steuerung!$A$3-1))) -> 260.05702 | G78: =INDEX(Rohdaten_tab6!$1:$1048576,ROW(Rohdaten_tab6!F64),COLUMN(Rohdaten_tab6!F64)+(6*(Steuerung!$A$3-1))) -> 186.23019 | H78: =INDEX(Rohdaten_tab6!$1:$1048576,ROW(Rohdaten_tab6!G64),COLUMN(Rohdaten_tab6!G64)+(6*(Steuerung!$A$3-1))) -> 22.069615
A79: Juli 2008 | C79: =INDEX(Rohdaten_tab6!$1:$1048576,ROW(Rohdaten_tab6!B65),COLUMN(Rohdaten_tab6!B65)+(6*(Steuerung!$A$3-1))) -> 1153.6373 | D79: =INDEX(Rohdaten_tab6!$1:$1048576,ROW(Rohdaten_tab6!C65),COLUMN(Rohdaten_tab6!C65)+(6*(Steuerung!$A$3-1))) -> 688.28906 | E79: =INDEX(Rohdaten_tab6!$1:$1048576,ROW(Rohdaten_tab6!D65),COLUMN(Rohdaten_tab6!D65)+(6*(Steuerung!$A$3-1))) -> 465.34824 | F79: =INDEX(Rohdaten_tab6!$1:$1048576,ROW(Rohdaten_tab6!E65),COLUMN(Rohdaten_tab6!E65)+(6*(Steuerung!$A$3-1))) -> 257.19905 | G79: =INDEX(Rohdaten_tab6!$1:$1048576,ROW(Rohdaten_tab6!F65),COLUMN(Rohdaten_tab6!F65)+(6*(Steuerung!$A$3-1))) -> 183.9314 | H79: =INDEX(Rohdaten_tab6!$1:$1048576,ROW(Rohdaten_tab6!G65),COLUMN(Rohdaten_tab6!G65)+(6*(Steuerung!$A$3-1))) -> 24.217793
A80: August 2008 | C80: =INDEX(Rohdaten_tab6!$1:$1048576,ROW(Rohdaten_tab6!B66),COLUMN(Rohdaten_tab6!B66)+(6*(Steuerung!$A$3-1))) -> 1114.1149 | D80: =INDEX(Rohdaten_tab6!$1:$1048576,ROW(Rohdaten_tab6!C66),COLUMN(Rohdaten_tab6!C66)+(6*(Steuerung!$A$3-1))) -> 663.90682 | E80: =INDEX(Rohdaten_tab6!$1:$1048576,ROW(Rohdaten_tab6!D66),COLUMN(Rohdaten_tab6!D66)+(6*(Steuerung!$A$3-1))) -> 450.2081 | F80: =INDEX(Rohdaten_tab6!$1:$1048576,ROW(Rohdaten_tab6!E66),COLUMN(Rohdaten_tab6!E66)+(6*(Steuerung!$A$3-1))) -> 248.91285 | G80: =INDEX(Rohdaten_tab6!$1:$1048576,ROW(Rohdaten_tab6!F66),COLUMN(Rohdaten_tab6!F66)+(6*(Steuerung!$A$3-1))) -> 177.77579 | H80: =INDEX(Rohdaten_tab6!$1:$1048576,ROW(Rohdaten_tab6!G66),COLUMN(Rohdaten_tab6!G66)+(6*(Steuerung!$A$3-1))) -> 23.519466
A81: September 2008 | C81: =INDEX(Rohdaten_tab6!$1:$1048576,ROW(Rohdaten_tab6!B67),COLUMN(Rohdaten_tab6!B67)+(6*(Steuerung!$A$3-1))) -> 1091.5699 | D81: =INDEX(Rohdaten_tab6!$1:$1048576,ROW(Rohdaten_tab6!C67),COLUMN(Rohdaten_tab6!C67)+(6*(Steuerung!$A$3-1))) -> 648.46295 | E81: =INDEX(Rohdaten_tab6!$1:$1048576,ROW(Rohdaten_tab6!D67),COLUMN(Rohdaten_tab6!D67)+(6*(Steuerung!$A$3-1))) -> 443.1069 | F81: =INDEX(Rohdaten_tab6!$1:$1048576,ROW(Rohdaten_tab6!E67),COLUMN(Rohdaten_tab6!E67)+(6*(Steuerung!$A$3-1))) -> 244.75857 | G81: =INDEX(Rohdaten_tab6!$1:$1048576,ROW(Rohdaten_tab6!F67),COLUMN(Rohdaten_tab6!F67)+(6*(Steuerung!$A$3-1))) -> 175.19413 | H81: =INDEX(Rohdaten_tab6!$1:$1048576,ROW(Rohdaten_tab6!G67),COLUMN(Rohdaten_tab6!G67)+(6*(Steuerung!$A$3-1))) -> 23.1542
A82: Oktober 2008 | C82: =INDEX(Rohdaten_tab6!$1:$1048576,ROW(Rohdaten_tab6!B68),COLUMN(Rohdaten_tab6!B68)+(6*(Steuerung!$A$3-1))) -> 1109.721 | D82: =INDEX(Rohdaten_tab6!$1:$1048576,ROW(Rohdaten_tab6!C68),COLUMN(Rohdaten_tab6!C68)+(6*(Steuerung!$A$3-1))) -> 661.47831 | E82: =INDEX(Rohdaten_tab6!$1:$1048576,ROW(Rohdaten_tab6!D68),COLUMN(Rohdaten_tab6!D68)+(6*(Steuerung!$A$3-1))) -> 448.24265 | F82: =INDEX(Rohdaten_tab6!$1:$1048576,ROW(Rohdaten_tab6!E68),COLUMN(Rohdaten_tab6!E68)+(6*(Steuerung!$A$3-1))) -> 247.53325 | G82: =INDEX(Rohdaten_tab6!$1:$1048576,ROW(Rohdaten_tab6!F68),COLUMN(Rohdaten_tab6!F68)+(6*(Steuerung!$A$3-1))) -> 177.16735 | H82: =INDEX(Rohdaten_tab6!$1:$1048576,ROW(Rohdaten_tab6!G68),COLUMN(Rohdaten_tab6!G68)+(6*(Steuerung!$A$3-1))) -> 23.542048
... A296: August 2026 | C296: =INDEX(Rohdaten_tab6!$1:$1048576,ROW(Rohdaten_tab6!B282),COLUMN(Rohdaten_tab6!B282)+(6*(Steuerung!$A$3-1))) -> 2039.2326 | D296: =INDEX(Rohdaten_tab6!$1:$1048576,ROW(Rohdaten_tab6!C282),COLUMN(Rohdaten_tab6!C282)+(6*(Steuerung!$A$3-1))) -> 1177.9244 | E296: =INDEX(Rohdaten_tab6!$1:$1048576,ROW(Rohdaten_tab6!D282),COLUMN(Rohdaten_tab6!D282)+(6*(Steuerung!$A$3-1))) -> 861.30821 | F296: =INDEX(Rohdaten_tab6!$1:$1048576,ROW(Rohdaten_tab6!E282),COLUMN(Rohdaten_tab6!E282)+(6*(Steuerung!$A$3-1))) -> 402.53023 | G296: =INDEX(Rohdaten_tab6!$1:$1048576,ROW(Rohdaten_tab6!F282),COLUMN(Rohdaten_tab6!F282)+(6*(Steuerung!$A$3-1))) -> 381.44077 | H296: =INDEX(Rohdaten_tab6!$1:$1048576,ROW(Rohdaten_tab6!G282),COLUMN(Rohdaten_tab6!G282)+(6*(Steuerung!$A$3-1))) -> 77.337209
H297: © Statistik der Bundesagentur für Arbeit
A299: 1) Summe aus Anspruch auf Arbeitslosengeld und Sozialversicherungsbeiträgen
A300: Hinweis:
A301: Die Zählweise von Ausländern hat sich im Vergleich zu früheren Publikationen geändert. Staatenlose und Personen ohne Angabe zur Staatsangehörigkeit werden nun nicht mehr unter „Keine Angabe“, sondern zu den Ausländern gezählt. Details dazu finden Sie in der Hintergrundinfo „Statistiken nach Staatsangehörigkeit – neue Zuordnung von Staatenlosen und Personen ohne Angabe der Staatsangehörigkeit“ auf unserer Internetseite Grundlagen > Methodik und Qualität > Methodenberichte und Hintergrundinfos > Übergreifende Themen.

Sheet Hinweis_Arbeitslosengeld
A1: Leistungen nach dem SGB III
B2: Stand: 07.04.2025
B3: Methodische Hinweise zur Statistik über Arbeitslosengeld und Sperrzeiten
B4: Kurzbeschreibung
B5: Die Ergebnisse aus der Statistik über Arbeitslosengeld werden als wichtige Indikatoren für die Beurteilung der Lage auf dem nationalen Arbeitsmarkt, zur Konjunkturbeobachtung und für Finanzprognosen herangezogen. Die Zahlen über Empfänger von Arbeitslosengeld nach dem SGB III und deren Restanspruchsdauer, die auch einen voraussichtlichen Übergang zu einem Leistungsbezug nach dem SGB II erkennen lassen, sind von hohem politischen und öffentlichen Interesse. Sie werden auch für die Haushaltsplanungen der Bundesagentur für Arbeit genutzt. Die Statistik über Arbeitslosengeld wurde im März 2020 revidiert. Wesentliche Neuerung ist die differenzierte Darstellung von Personengruppen. Dadurch wird präzise über Anspruchsberechtigte, Anspruchsberechtigte in Sperrzeit, Leistungsbeziehende, Leistungsbeziehende von Arbeitslosengeld bei Arbeitslosigkeit und Leistungsbeziehende von Arbeitslosengeld bei Weiterbildung berichtet.
B10: Anspruchsberechtigt ist, wer Arbeitslosengeld bei Arbeitslosigkeit oder bei Weiterbildung als leistungsbeziehende Person tatsächlich bezieht oder dessen Leistungsbezug aufgrund des Eintritts einer Sperrzeit ruht. Neben Sperrzeiten zählen sonstige Ruhenszeiten sowie Versagens- und Entziehungszeiten zu Ereignissen, die eine mindernde Wirkung auf die Leistungsdauer nach sich ziehen können.
B12: Anspruch auf Arbeitslosengeld bei Arbeitslosigkeit haben Antragstellende nach § 137 Abs. 1 SGB III, die arbeitslos sind, sich bei der Agentur für Arbeit arbeitslos gemeldet und die Anwartschaftszeit erfüllt haben. Die Höhe des Arbeitslosengeldes beträgt 60 % bzw. 67 % des zuletzt erhaltenen pauschalierten Nettoarbeitsentgelts (§ 149 SGB III). Die Anspruchsdauer beträgt mindestens sechs Monate, bei älteren Arbeitslosen kann sie bis zu 24 Monaten betragen. Sie richtet sich nach der Dauer des Versicherungspflichtverhältnisses und dem Alter des oder der Arbeitslosen (§ 147 SGB III). Arbeitslos sind Personen nach § 16 Abs. 1 SGB III, die vorübergehend nicht in einem Beschäftigungsverhältnis stehen (Beschäftigungslosigkeit), eine versicherungspflichtige Beschäftigung suchen, um Beschäftigungslosigkeit zu beenden (Eigenbemühungen), und dabei den Vermittlungsbemühungen der Agentur für Arbeit zur Verfügung stehen (Verfügbarkeit). In folgenden Fallkonstellationen zählen Bezieher von Arbeitslosengeld nicht als arbeitslos: 1. Minderung der Leistungsfähigkeit i. S. v. § 145 SGB III 2. Leistungsfortzahlung anlässlich einer Arbeitsunfähigkeit nach § 146 SGB III 3. Teilnahme an Maßnahmen der aktiven Arbeitsmarktpolitik (§16 Abs. 2 SGB III)
B14: Arbeitslosengeld bei Weiterbildung (AlgW), früher Unterhaltsgeld (Uhg), erhalten Personen, die Anspruch auf Arbeitslosengeld haben und sich in einer Weiterbildungsmaßnahme gemäß § 81 SGB III befinden. Arbeitslosigkeit ist für den Anspruch auf AlgW keine zwingende Voraussetzung, wenn diese Voraussetzungen alleine wegen der Weiterbildungsmaßnahme nicht erfüllt sind (§ 136 Abs. 1 Nr. 2 SGB III). Die Höhe des AlgW entspricht der des Arbeitslosengeldes bei Arbeitslosigkeit.
B16: Sperrzeiten treten ein, wenn sich Antragstellende oder Beziehende von Arbeitslosengeld bzw. Arbeitslosengeld bei Weiterbildung (AlgW) ohne wichtigen Grund versicherungswidrig verhalten haben. Dann ruht der Leistungsbezug für einen gesetzlich festgelegten Zeitraum. Gründe für versicherungswidriges Verhalten sind u. a. Arbeitsaufgabe, Ablehnung einer angebotenen Arbeit, unzureichende Bemühungen eine neue Anstellung zu finden, Ablehnung oder Abbruch einer beruflichen Eingliederungsmaßnahme, Meldeversäumnis und verspätete Arbeitsuchendmeldung (siehe § 159 Abs. 1 SGB III). Summieren sich die Sperrzeitdauern auf 21 Wochen, erlischt der Leistungsanspruch der Person (§ 161 Abs. 1 Nr. 2 SGB III).
B18: Zugänge in und Abgänge aus dem Bezug von Arbeitslosengeld bilden die Zahl der im Laufe des Berichtszeitraums begonnenen oder beendeten Leistungsfälle in einer Leistungsartgruppe ab; in einem Berichtszeitraum können mehrere Abgänge/Zugänge eines Empfängers von Arbeitslosengeld erfolgt sein, die alle zu zählen sind (Fallkonzept).
B20: Abgrenzung der Statistik über Arbeitslosengeld gegenüber monatlichen Abrechnungsergebnissen von Einnahmen und Ausgaben des BA-Haushalts im SGB III
B21: Während die Statistik über Arbeitslosengeld ausschließlich monatliche Geldbeträge solcher Empfänger von Arbeitslosengeld einbezieht, die zum statistischen Stichtag bestandsrelevant sind, bezieht die haushalterische Ausgabensumme in der Regel alle Ausgaben eines Zeitraums ein, also auch für Leistungsbeziehende, die nicht bestandsrelevant sind. Zudem werden die Zahlungsflüsse dem jeweiligen Monat zugerechnet, in dem die Zahlung erfolgt. In der Statistik über Arbeitslosengeld werden Bestände oder Zugänge dem Monat zugeordnet, für den ein Leistungsanspruch auf Arbeitslosengeld besteht.
B23: Weiterführende Informationen
... B30: Historie (Auszug) Die Daten wurden bis Dezember 2006 im DV-Verfahren coLei Alg/Alhi-Uhg (Computerunterstützte Leistungsgewährung) erhoben, das ab Oktober 2005 stufenweise von COLIBRI (Computerunterstütztes Leistungsberechnungs- und Informationssystem) abgelöst wurde. Die Bestandsdaten, die bis Dezember 2002 in der Statistischen Datenbank der Bundesagentur für Arbeit (STADA) erhoben wurden, sind uneingeschränkt vergleichbar. Ab Januar 2003 wurden sie mit einem neuen Verfahren im DataWarehouse (DWH) der Statistik aufbereitet. Ein Vergleich dieser Bestände mit denen der Statistischen Datenbank vor 2003 ist nur bedingt möglich. Die Bewegungsdaten werden erst seit Juli 2003 im DataWarehouse (DWH) der Statistik aufbereitet. Daten vor diesem Zeitpunkt liegen nicht vor.

Sheet Hinweis_Beweg_Arbeitslosengeld
A1: Leistungen nach dem SGB III
B2: Stand: 07.04.2025
B3: Methodische Hinweise zu Bewegungen in der Statistik über Arbeitslosengeld und Sperrzeiten
B4: Kurzbeschreibung
B5: Die Statistik über Arbeitslosengeld wurde im März 2020 revidiert. Bisher konnte nur zwischen Zu- und Abgängen von Leistungsempfängerinnen und Leistungsempfängern unterschieden werden. Zusätzlich wurde ein Wechsel zwischen den Leistungsarten Arbeitslosengeld bei Arbeitslosigkeit (AlgA) und Arbeitslosengeld bei Weiterbildung (AlgW) als Bewegung ausgewiesen. Für Leistungsempfängerinnen und Leistungsempfänger wurden nur Bewegungen berücksichtigt, wenn sie zu Beginn der Leistungsempfangsepisode zugegangen bzw. endgültig abgegangen waren. Zeiten, in denen sich die Personen in Sperrzeit befunden haben, und die Bewegungen, die diese Übergänge erzeugten, wurden bisher nicht gezählt. Die Revision der Statistik über Arbeitslosengeld und Sperrzeiten beinhaltet neben der differenzierten Darstellung von Personengruppen auch ein neues Bewegungsschema. Dadurch können jetzt Bewegungen von Anspruchsberechtigten in Sperrzeit abgebildet werden. Die Bewegungsmessungen sind in der Berichterstattung ab Berichtsmonat Januar 2006 verfügbar.
B7: Außer den Zu- und Abgängen der Anspruchsberechtigten bilden jetzt die Anspruchsberechtigten in Sperrzeit und die Leistungsbeziehenden separate Bewegungsebenen. Durch die Bewegungsmessungen werden Personengruppen eindeutig identifiziert und Übergänge vom Leistungsbezug (LB) in Anspruchsberechtigung (AB) in Sperrzeit und umgekehrt dargestellt.
B9: Bewegungskonzept
B23: Weiterführende Informationen
B24: Weitergehende Informationen finden Sie im Methodenbericht zur Revision der Statistik über Arbeitslosengeld, im Glossar der Statistik der BA sowie im Qualitätsbericht zur Statistik über Arbeitslosengeld nach dem SGB III:
B25: Methodenbericht zur Revision der Statistik über Arbeitslosengeld
B27: Methodenbericht zur Revision der Statistik über Arbeitslosengeld - Revisionseffekte
B29: Glossar der Statistik der Bundesagentur für Arbeit (BA)
B31: Qualitätsberichte zur Statistik über Arbeitslosengeld (SGB III)

Sheet Hinweis_Dauern_Arbeitslosengeld
A1: Leistungen nach dem SGB III
B2: Stand: 07.04.2025
B3: Methodische Hinweise zu Dauern in der Statistik über Arbeitslosengeld und Sperrzeiten
B4: Kurzbeschreibung
B5: Die Statistik über Arbeitslosengeld wurde im März 2020 revidiert. Bisher wurde die Bezugsdauer aus einer zur Bewilligung des Leistungsantrages gelieferten Information ermittelt. Mit der Revision wurde eine Schärfung vorgenommen. Die Messung von Dauern in der Arbeitslosengeldstatistik erfolgt, zusätzlich zu der aus dem Quellverfahren gelieferten Information zur ursprünglichen Gesamtanspruchsdauer, kalendertäglich anhand von Verlaufsmessungen der Anspruchsberechtigung und des Leistungsbezugs. Neben der bisher berichteten Bezugsdauer von Arbeitslosengeldempfängern (Dauer des Leistungsbezugs), können nach dem neuen Messmodell auch Dauern für weitere Episoden, wie der Anspruchsberechtigung (AB) und dem Leistungsbezug (LB), ermittelt werden. Folgende Betrachtungen sind möglich: 1. Dauer der AB bei Beständen und Abgängen 2. Dauer des LB bei Beständen und Abgängen 3. Dauer des LB von Arbeitslosengeld bei Arbeitslosigkeit (AlgA) bei Beständen, Zu- und Abgängen 4. Dauer des LB von Arbeitslosengeld bei Weiterbildung (AlgW) bei Beständen, Zu- und Abgängen 5. Dauer bis Ende der AB Es wird bei den statistischen Messungen zwischen Dauern unterschieden, die sich in die Vergangenheit erstrecken und die in die Zukunft ausgerichtet sind. Für die Betrachtung der Dauern in die Vergangenheit (Dauer AB, Dauer LB, Dauer LB AlgA, Dauer LB AlgW) wird jeweils die in der Vergangenheit bis zur Gegenwart verbrachte Zeit gemessen. Demgegenüber ist die Dauer bis zum Ende Anspruchsberechtigung die Betrachtung in die Zukunft. Sie soll ausdrücken, wieviel Zeit – nach aktuellem Kenntnisstand – voraussichtlich noch in der Phase der Anspruchsberechtigung verbracht wird.
B7: Die Dauern werden anhand der tatsächlichen Episoden des Leistungsbezugs berechnet. Dabei wird eine Lückenregelung von 31 Tagen berücksichtigt. Innerhalb eines Messrahmens werden alle aufeinanderfolgenden Episoden der Anspruchsberechtigungen zusammengefasst, die durch Lücken mit einer maximalen Länge von jeweils 31 Tagen unterbrochen sind. Ein Messrahmen wird erst durch eine Lücke beendet, in der die Person mehr als 31 aufeinanderfolgende Tage nicht anspruchsberechtigt ist. Die Episoden der Anspruchsberechtigung innerhalb eines Messrahmens können von mehreren kleinen Lücken unterbrochen sein, die zusammen mehr als 31 Tage ergeben können. Der definierte Messrahmen gilt für die Dauerberechnungen der Dauer der Anspruchsberechtigung, der Dauer des Leistungsbezugs, der Dauer des Leistungsbezugs AlgA und der Dauer des Leistungsbezugs AlgW.
B14: Im bisherigen Messkonzept wurden die Dauern des Bezugs von AlgW zusammen mit den Dauern des Bezugs von AlgA gemeinsam betrachtet. Dabei konnte die Bezugsdauer von AlgW nicht mit der bisher verbrauchten Anspruchsdauer gleichgesetzt werden. Beim Bezug von AlgW wird jeweils für zwei Tage in einer Weiterbildung die Anspruchsdauer auf Arbeitslosengeld nur um einen Tag gemindert und zwar nur so weit, dass nach Beendigung der Teilnahme an der Weiterbildungsmaßnahme in jedem Fall noch eine Anspruchsdauer auf AlgA von einem Monat (30 Tagen) verbleibt. Dementsprechend wurde im bisherigen Dauerkonzept die Dauer von Arbeitslosengeld bei Weiterbildung pauschal nur zur Hälfte berücksichtigt, um hohe Abweichungen zu vermeiden. Mit dem neuen Messkonzept können die Dauern getrennt voneinander betrachtet und entsprechend ihrer rechtlichen Grundlagen interpretiert werden.
B16: Die Dauer bis Ende Anspruchsberechtigung ersetzt die bisherige Restanspruchsdauer. Diese wird in die Zukunft gemessen und gibt für Bestände und Bewegungen an, wie lange für eine Person die aktuelle Episode der Anspruchsberechtigung noch dauert. Die Ermittlung erfolgt anhand der Differenz aus vergebener Gesamtanspruchsdauer in der zuletzt verfügbaren bestandsanzeigenden Anspruchsepisode und der bisherigen Dauer seit Beginn der betreffenden Episode.
B18: Entsprechend den gegenwärtig gültigen Rechtsgrundlagen besteht ein Anspruch auf Arbeitslosengeld von 12 Monaten. Personen im Alter von 50 bis unter 55 Jahren haben eine Anspruchsdauer von 15 und die im Alter von 55 bis unter 58 Jahren von 18 Monaten. Personen, die 58 Jahre und älter sind, haben Anspruch auf Arbeitslosengeld von 24 Monaten Dauer.
B20: Die Gesamtanspruchsdauer gibt den rechtlich definierten Anspruchszeitraum für den Bezug von Arbeitslosengeld an, den eine Person zu Beginn ihrer Anspruchsberechtigung hat. Es handelt sich dabei nicht um eine tatsächlich gemessene Dauer, sondern um ein im Rahmen der Leistungsbewilligung festgelegtes Merkmal. Dieses Merkmal wird für Bestände, für Zu- und für Abgänge gespeichert. Üblicherweise liegt zu allen Zeitpunkten dieselbe Gesamtanspruchsdauer vor, da sich diese im Regelfall nicht verändert. Diese Dauer liegt nur für Personen mit der Leistungsart AlgA vor, da während des Bezuges von AlgW die Beziehung zwischen dem Verbrauch des Anspruches und der ursprünglich vergebenen Gesamtanspruchsdauer aufgehoben ist.
B23: Weiterführende Informationen
B24: Weitergehende Informationen finden Sie in den Methodenberichten zur Revision der Statistik über Arbeitslosengeld, im Methodenbericht zu Dauern in der Arbeitslosengeldstatistik, im Glossar der Statistik der BA sowie im Qualitätsbericht zur Statistik über Arbeitslosengeld nach dem SGB III:
B25: Methodenbericht zur Revision der Statistik über Arbeitslosengeld
... B33: Methodenbericht zu Dauern in der Arbeitslosengeldstatistik

Sheet Statistik-Infoseite
G2: Stand: 16.04.2026
A3: Statistik-Infoseite
A6: Im Internet stehen statistische Informationen zu diesen Themen zur Verfügung:
B8: Fachstatistiken:
B9: Arbeitsuche, Arbeitslosigkeit und Unterbeschäftigung
B10: Ausbildungsmarkt
B11: Beschäftigung
B12: Einnahmen/Ausgaben
B13: Förderung und berufliche Rehabilitation
B14: Gemeldete Arbeitsstellen
B15: Grundsicherung für Arbeitsuchende (SGB II)
B16: Leistungen SGB III
B18: Themen im Fokus:
B19: Berufe
B20: Bildung
... B25: Frauen und Männer
A26: Jüngere | B26: Jüngere
B27: Langzeitarbeitslosigkeit
B28: Menschen mit Behinderungen
B29: Migration
B30: Regionale Mobilität
B31: Transformation
B32: Wirtschaftszweige
B33: Zeitarbeit
A35: Die Methodischen Hinweise der Statistik bieten ergänzende Informationen.
A37: Die Qualitätsberichte der Statistik erläutern die Entstehung und Aussagekraft der jeweiligen Fachstatistik.
A39: Das Glossar enthält Erläuterungen zu allen statistisch relevanten Begriffen, die in den verschiedenen Produkten der Statistik der BA Verwendung finden.
A42: Abkürzungen und Zeichen, die in den Produkten der Statistik der BA vorkommen, werden im
A43: Abkürzungsverzeichnis | C43: bzw. der Zeichenerklärung der Statistik der BA erläutert.

Sheet Rohdaten_tab1
A1: BM | B1: Tab_1_Insgesamt_LB | C1: Tab_1_Insgesamt_LE | D1: Tab_1_Insgesamt_LE_beiAlo | E1: Tab_1_Insgesamt_LE_beiWeitb | F1: Tab_1_Insgesamt_LB_inSperrz | G1: Tab_1_Männer_LB | H1: Tab_1_Männer_LE | I1: Tab_1_Männer_LE_beiAlo | J1: Tab_1_Männer_LE_beiWeitb | K1: Tab_1_Männer_LB_inSperrz | L1: Tab_1_Frauen_LB | M1: Tab_1_Frauen_LE | N1: Tab_1_Frauen_LE_beiAlo | O1: Tab_1_Frauen_LE_beiWeitb | P1: Tab_1_Frauen_LB_inSperrz | Q1: Tab_1_u25_LB | R1: Tab_1_u25_LE | S1: Tab_1_u25_LE_beiAlo | T1: Tab_1_u25_LE_beiWeitb | U1: Tab_1_u25_LB_inSperrz | V1: Tab_1_25-u55_LB | W1: Tab_1_25-u55_LE | X1: Tab_1_25-u55_LE_beiAlo | Y1: Tab_1_25-u55_LE_beiWeitb | Z1: Tab_1_25-u55_LB_inSperrz | AA1: Tab_1_55uä_LB | AB1: Tab_1_55uä_LE | AC1: Tab_1_55uä_LE_beiAlo | AD1: Tab_1_55uä_LE_beiWeitb | AE1: Tab_1_55uä_LB_inSperrz | AF1: Tab_1_Ausländer_LB | AG1: Tab_1_Ausländer_LE | AH1: Tab_1_Ausländer_LE_beiAlo | AI1: Tab_1_Ausländer_LE_beiWeitb | AJ1: Tab_1_Ausländer_LB_inSperrz
A2: 2005 | B2: 2684.5 | C2: 2683.5 | D2: 2541.5 | E2: 142 | F2: X | G2: 1590.1667 | H2: 1589.75 | I2: 1528.6667 | J2: 61.083333 | K2: X | L2: 1094.3333 | M2: 1093.75 | N2: 1012.8333 | O2: 80.916667 | P2: X | Q2: 492.25 | R2: 492 | S2: 460.25 | T2: 31.75 | U2: X | V2: 1626.6667 | W2: 1625.9167 | X2: 1516.3333 | Y2: 109.58333 | Z2: X | AA2: 565.58333 | AB2: 565.58333 | AC2: 564.91667 | AD2: 0.66666667 | AE2: X | AF2: 15.416667 | AG2: 15.416667 | AH2: 13.416667 | AI2: 2 | AJ2: X
A3: 2006 | B3: 2225 | C3: 2204.5 | D3: 2098.25 | E3: 106.25 | F3: X | G3: 1267.75 | H3: 1252.8333 | I3: 1204.5 | J3: 48.333333 | K3: X | L3: 957.25 | M3: 951.66667 | N3: 893.75 | O3: 57.916667 | P3: X | Q3: 344.25 | R3: 334.16667 | S3: 307.66667 | T3: 26.5 | U3: X | V3: 1262 | W3: 1252.3333 | X3: 1173.3333 | Y3: 79 | Z3: X | AA3: 618.75 | AB3: 618 | AC3: 617.25 | AD3: 0.75 | AE3: X | AF3: 11.333333 | AG3: 11.083333 | AH3: 10.666667 | AI3: 0.41666667 | AJ3: X
A4: 2007 | B4: 1515.4167 | C4: 1490.25 | D4: 1395.9167 | E4: 94.333333 | F4: 25.166667 | G4: 816.16667 | H4: 799.25 | I4: 753.25 | J4: 46 | K4: 16.916667 | L4: 699.25 | M4: 691 | N4: 642.66667 | O4: 48.333333 | P4: 8.25 | Q4: 241.75 | R4: 228.91667 | S4: 206.33333 | T4: 22.583333 | U4: 12.833333 | V4: 792.91667 | W4: 781.08333 | X4: 714.66667 | Y4: 66.416667 | Z4: 11.833333 | AA4: 480.75 | AB4: 480.25 | AC4: 474.91667 | AD4: 5.3333333 | AE4: 0.5 | AF4: 7.5833333 | AG4: 7.25 | AH4: 6.9166667 | AI4: 0.33333333 | AJ4: 0.33333333
A5: 2008 | B5: 1245.4167 | C5: 1215.75 | D5: 1154.25 | E5: 61.5 | F5: 29.666667 | G5: 659.16667 | H5: 638.91667 | I5: 612.58333 | J5: 26.333333 | K5: 20.25 | L5: 586.25 | M5: 576.83333 | N5: 541.66667 | O5: 35.166667 | P5: 9.4166667 | Q5: 179.91667 | R5: 168.33333 | S5: 152.66667 | T5: 15.666667 | U5: 11.583333 | V5: 720.25 | W5: 703.08333 | X5: 658.83333 | Y5: 44.25 | Z5: 17.166667 | AA5: 345.25 | AB5: 344.33333 | AC5: 342.75 | AD5: 1.5833333 | AE5: 0.91666667 | AF5: 9.5 | AG5: 8.8333333 | AH5: 7.5 | AI5: 1.3333333 | AJ5: 0.66666667
A6: 2009 | B6: 1586.25 | C6: 1553.9167 | D6: 1472 | E6: 81.916667 | F6: 32.333333 | G6: 920.58333 | H6: 896.75 | I6: 856.25 | J6: 40.5 | K6: 23.833333 | L6: 665.66667 | M6: 657.16667 | N6: 615.75 | O6: 41.416667 | P6: 8.5 | Q6: 259.25 | R6: 246.41667 | S6: 226.91667 | T6: 19.5 | U6: 12.833333 | V6: 1015.9167 | W6: 998 | X6: 939.08333 | Y6: 58.916667 | Z6: 17.916667 | AA6: 311.08333 | AB6: 309.5 | AC6: 306 | AD6: 3.5 | AE6: 1.5833333 | AF6: 11.333333 | AG6: 11.333333 | AH6: 10.75 | AI6: 0.58333333 | AJ6: 0
A7: 2010 | B7: 1245.0833 | C7: 1214.75 | D7: 1132.0833 | E7: 82.666667 | F7: 30.333333 | G7: 737.75 | H7: 715.25 | I7: 680.08333 | J7: 35.166667 | K7: 22.5 | L7: 507.33333 | M7: 499.5 | N7: 452 | O7: 47.5 | P7: 7.8333333 | Q7: 196.5 | R7: 182.08333 | S7: 162.91667 | T7: 19.166667 | U7: 14.416667 | V7: 738.75 | W7: 723.66667 | X7: 662.5 | Y7: 61.166667 | Z7: 15.083333 | AA7: 309.83333 | AB7: 309 | AC7: 306.66667 | AD7: 2.3333333 | AE7: 0.83333333 | AF7: 9.4166667 | AG7: 9.3333333 | AH7: 9.25 | AI7: * | AJ7: *
A8: 2011 | B8: 904.41667 | C8: 878 | D8: 794.91667 | E8: 83.083333 | F8: 26.416667 | G8: 485.75 | H8: 466.91667 | I8: 442.41667 | J8: 24.5 | K8: 18.833333 | L8: 418.66667 | M8: 411.08333 | N8: 352.5 | O8: 58.583333 | P8: 7.5833333 | Q8: 95.833333 | R8: 87.166667 | S8: 76.5 | T8: 10.666667 | U8: 8.6666667 | V8: 523.91667 | W8: 507.5 | X8: 444 | Y8: 63.5 | Z8: 16.416667 | AA8: 284.66667 | AB8: 283.33333 | AC8: 274.41667 | AD8: 8.9166667 | AE8: 1.3333333 | AF8: 7.4166667 | AG8: 7 | AH8: 6.8333333 | AI8: 0.16666667 | AJ8: 0.41666667
A9: 2012 | B9: 935.83333 | C9: 910.75 | D9: 844.41667 | E9: 66.333333 | F9: 25.083333 | G9: 493.75 | H9: 475.5 | I9: 457.25 | J9: 18.25 | K9: 18.25 | L9: 442.08333 | M9: 435.25 | N9: 387.16667 | O9: 48.083333 | P9: 6.8333333 | Q9: 81.333333 | R9: 74.583333 | S9: 66.416667 | T9: 8.1666667 | U9: 6.75 | V9: 573.16667 | W9: 556.25 | X9: 504.83333 | Y9: 51.416667 | Z9: 16.916667 | AA9: 281.33333 | AB9: 279.91667 | AC9: 273.16667 | AD9: 6.75 | AE9: 1.4166667 | AF9: 10.833333 | AG9: 9.5833333 | AH9: 9 | AI9: 0.58333333 | AJ9: 1.25
A10: 2013 | B10: 1001.4167 | C10: 977.66667 | D10: 909.16667 | E10: 68.5 | F10: 23.75 | G10: 583.5 | H10: 566.08333 | I10: 547.16667 | J10: 18.916667 | K10: 17.416667 | L10: 417.91667 | M10: 411.58333 | N10: 362 | O10: 49.583333 | P10: 6.3333333 | Q10: 86.666667 | R10: 79.666667 | S10: 72 | T10: 7.6666667 | U10: 7 | V10: 619.83333 | W10: 604.91667 | X10: 549.25 | Y10: 55.666667 | Z10: 14.916667 | AA10: 294.91667 | AB10: 293.08333 | AC10: 287.91667 | AD10: 5.1666667 | AE10: 1.8333333 | AF10: 11.083333 | AG10: 10.5 | AH10: 9.4166667 | AI10: 1.0833333 | AJ10: 0.58333333
A11: 2014 | B11: 902 | C11: 881 | D11: 809 | E11: 72 | F11: 21 | G11: 524.25 | H11: 508.58333 | I11: 486.83333 | J11: 21.75 | K11: 15.666667 | L11: 377.75 | M11: 372.41667 | N11: 322.16667 | O11: 50.25 | P11: 5.3333333 | Q11: 62.5 | R11: 57.5 | S11: 53.083333 | T11: 4.4166667 | U11: 5 | V11: 563 | W11: 548.91667 | X11: 484.33333 | Y11: 64.583333 | Z11: 14.083333 | AA11: 276.5 | AB11: 274.58333 | AC11: 271.58333 | AD11: 3 | AE11: 1.9166667 | AF11: 17.583333 | AG11: 17.083333 | AH11: 15.166667 | AI11: 1.9166667 | AJ11: 0.5
A12: 2015 | B12: 810.5 | C12: 792.33333 | D12: 727.91667 | E12: 64.416667 | F12: 18.166667 | G12: 447.08333 | H12: 436.08333 | I12: 415.25 | J12: 20.833333 | K12: 11 | L12: 363.41667 | M12: 356.25 | N12: 312.66667 | O12: 43.583333 | P12: 7.1666667 | Q12: 52.833333 | R12: 49.083333 | S12: 47.916667 | T12: 1.1666667 | U12: 3.75 | V12: 508 | W12: 496.25 | X12: 436.16667 | Y12: 60.083333 | Z12: 11.75 | AA12: 249.66667 | AB12: 247 | AC12: 243.83333 | AD12: 3.1666667 | AE12: 2.6666667 | AF12: 13 | AG12: 12.666667 | AH12: 10.75 | AI12: 1.9166667 | AJ12: 0.33333333
A13: 2016 | B13: 733.58333 | C13: 715.33333 | D13: 636.75 | E13: 78.583333 | F13: 18.25 | G13: 420.08333 | H13: 405.5 | I13: 374.08333 | J13: 31.416667 | K13: 14.583333 | L13: 313.5 | M13: 309.83333 | N13: 262.66667 | O13: 47.166667 | P13: 3.6666667 | Q13: 46.75 | R13: 41.5 | S13: 38.75 | T13: 2.75 | U13: 5.25 | V13: 451.66667 | W13: 440.5 | X13: 370.75 | Y13: 69.75 | Z13: 11.166667 | AA13: 235.16667 | AB13: 233.33333 | AC13: 227.25 | AD13: 6.0833333 | AE13: 1.8333333 | AF13: 14.666667 | AG13: 14.333333 | AH13: 11.833333 | AI13: 2.5 | AJ13: 0.33333333
A14: 2017 | B14: 639.5 | C14: 621.83333 | D14: 560.25 | E14: 61.583333 | F14: 17.666667 | G14: 352.33333 | H14: 339.83333 | I14: 315.16667 | J14: 24.666667 | K14: 12.5 | L14: 287.16667 | M14: 282 | N14: 245.08333 | O14: 36.916667 | P14: 5.1666667 | Q14: 38.833333 | R14: 35.5 | S14: 33.75 | T14: 1.75 | U14: 3.3333333 | V14: 363.41667 | W14: 350.91667 | X14: 296.66667 | Y14: 54.25 | Z14: 12.5 | AA14: 237.25 | AB14: 235.41667 | AC14: 229.83333 | AD14: 5.5833333 | AE14: 1.8333333 | AF14: 18.916667 | AG14: 17.916667 | AH14: 15.75 | AI14: 2.1666667 | AJ14: 1
A15: 2018 | B15: 600.91667 | C15: 583.41667 | D15: 530.41667 | E15: 53 | F15: 17.5 | G15: 335.08333 | H15: 323.25 | I15: 301.66667 | J15: 21.583333 | K15: 11.833333 | L15: 265.83333 | M15: 260.16667 | N15: 228.75 | O15: 31.416667 | P15: 5.6666667 | Q15: 40.416667 | R15: 36.333333 | S15: 33.583333 | T15: 2.75 | U15: 4.0833333 | V15: 338.08333 | W15: 326 | X15: 281 | Y15: 45 | Z15: 12.083333 | AA15: 222.41667 | AB15: 221.08333 | AC15: 215.83333 | AD15: 5.25 | AE15: 1.3333333 | AF15: 22.333333 | AG15: 20.583333 | AH15: 19 | AI15: 1.5833333 | AJ15: 1.75
A16: 2019 | B16: 596.33333 | C16: 580.25 | D16: 540.25 | E16: 40 | F16: 16.083333 | G16: 343.25 | H16: 331.5 | I16: 318.75 | J16: 12.75 | K16: 11.75 | L16: 253.08333 | M16: 248.75 | N16: 221.5 | O16: 27.25 | P16: 4.3333333 | Q16: 35.666667 | R16: 32.916667 | S16: 32.416667 | T16: * | U16: 2.75 | V16: 350.25 | W16: 338.91667 | X16: 301.75 | Y16: 37.166667 | Z16: 11.333333 | AA16: 210.41667 | AB16: 208.41667 | AC16: 206.08333 | AD16: * | AE16: 2 | AF16: 28.75 | AG16: 27.083333 | AH16: 26.75 | AI16: * | AJ16: 1.6666667
A17: 2020 | B17: 839 | C17: 825.08333 | D17: 795.16667 | E17: 29.916667 | F17: 13.916667 | G17: 498.66667 | H17: 488.41667 | I17: 476.08333 | J17: 12.333333 | K17: 10.25 | L17: 340.33333 | M17: 336.66667 | N17: 319.08333 | O17: 17.583333 | P17: 3.6666667 | Q17: 52.25 | R17: 50 | S17: 48.416667 | T17: 1.5833333 | U17: 2.25 | V17: 475.08333 | W17: 465.16667 | X17: 437.58333 | Y17: 27.583333 | Z17: 9.9166667 | AA17: 311.66667 | AB17: 309.91667 | AC17: 309.16667 | AD17: 0.75 | AE17: 1.75 | AF17: 42.583333 | AG17: 40.75 | AH17: 40.75 | AI17: 0 | AJ17: 1.8333333
A18: 2021 | B18: 722.41667 | C18: 707.16667 | D18: 694.91667 | E18: 12.25 | F18: 15.25 | G18: 435.58333 | H18: 424.33333 | I18: 419.66667 | J18: 4.6666667 | K18: 11.25 | L18: 286.83333 | M18: 282.83333 | N18: 275.25 | O18: 7.5833333 | P18: 4 | Q18: 52.25 | R18: 49.166667 | S18: 47.583333 | T18: 1.5833333 | U18: 3.0833333 | V18: 360 | W18: 349.83333 | X18: 340.08333 | Y18: 9.75 | Z18: 10.166667 | AA18: 310.16667 | AB18: 308.16667 | AC18: 307.25 | AD18: 0.91666667 | AE18: 2 | AF18: 40.25 | AG18: 38.5 | AH18: 38.5 | AI18: 0 | AJ18: 1.75
A19: 2022 | B19: 627.25 | C19: 611.16667 | D19: 601.58333 | E19: 9.5833333 | F19: 16.083333 | G19: 365.33333 | H19: 354.08333 | I19: 350 | J19: 4.0833333 | K19: 11.25 | L19: 261.91667 | M19: 257.08333 | N19: 251.58333 | O19: 5.5 | P19: 4.8333333 | Q19: 42.416667 | R19: 39.666667 | S19: 38.916667 | T19: 0.75 | U19: 2.75 | V19: 297.58333 | W19: 285.75 | X19: 277.91667 | Y19: 7.8333333 | Z19: 11.833333 | AA19: 287.25 | AB19: 285.75 | AC19: 284.75 | AD19: 1 | AE19: 1.5 | AF19: 42.666667 | AG19: 39.583333 | AH19: 39.5 | AI19: * | AJ19: 3.0833333
A20: 2023 | B20: 636 | C20: 620.83333 | D20: 605.25 | E20: 15.583333 | F20: 15.166667 | G20: 350.66667 | H20: 340.91667 | I20: 335.91667 | J20: 5 | K20: 9.75 | L20: 285.33333 | M20: 279.91667 | N20: 269.33333 | O20: 10.583333 | P20: 5.4166667 | Q20: 42.583333 | R20: 39.5 | S20: 39.333333 | T20: 0.16666667 | U20: 3.0833333 | V20: 311.33333 | W20: 300.41667 | X20: 286.25 | Y20: 14.166667 | Z20: 10.916667 | AA20: 282.08333 | AB20: 280.91667 | AC20: 279.66667 | AD20: 1.25 | AE20: 1.1666667 | AF20: 53.666667 | AG20: 51.666667 | AH20: 50.25 | AI20: 1.4166667 | AJ20: 2
A21: 2024 | B21: 772.16667 | C21: 753.33333 | D21: 733.25 | E21: 20.083333 | F21: 18.833333 | G21: 433.16667 | H21: 419.83333 | I21: 412.91667 | J21: 6.9166667 | K21: 13.333333 | L21: 339 | M21: 333.5 | N21: 320.33333 | O21: 13.166667 | P21: 5.5 | Q21: 46.083333 | R21: 43.083333 | S21: 42.416667 | T21: 0.66666667 | U21: 3 | V21: 400.41667 | W21: 386.41667 | X21: 367.66667 | Y21: 18.75 | Z21: 14 | AA21: 325.66667 | AB21: 323.83333 | AC21: 323.16667 | AD21: 0.66666667 | AE21: 1.8333333 | AF21: 64.416667 | AG21: 61.5 | AH21: 59.75 | AI21: 1.75 | AJ21: 2.9166667
A22: 2025 | B22: 781.75 | C22: 763.25 | D22: 741.66667 | E22: 21.583333 | F22: 18.5 | G22: 465.08333 | H22: 452.16667 | I22: 442.66667 | J22: 9.5 | K22: 12.916667 | L22: 316.66667 | M22: 311.08333 | N22: 299 | O22: 12.083333 | P22: 5.5833333 | Q22: 61.583333 | R22: 56.75 | S22: 55.083333 | T22: 1.6666667 | U22: 4.8333333 | V22: 384.41667 | W22: 372.75 | X22: 353.25 | Y22: 19.5 | Z22: 11.666667 | AA22: 335.75 | AB22: 333.75 | AC22: 333.33333 | AD22: 0.41666667 | AE22: 2 | AF22: 49.583333 | AG22: 46.666667 | AH22: 45.416667 | AI22: 1.25 | AJ22: 2.9166667
A23: Januar 2005 | B23: 3530 | C23: 3530 | D23: 3345 | E23: 185 | F23: X | G23: 2349 | H23: 2349 | I23: 2269 | J23: 80 | K23: X | L23: 1181 | M23: 1181 | N23: 1076 | O23: 105 | P23: X | Q23: 626 | R23: 626 | S23: 591 | T23: 35 | U23: X | V23: 2286 | W23: 2286 | X23: 2136 | Y23: 150 | Z23: X | AA23: 618 | AB23: 618 | AC23: 618 | AD23: 0 | AE23: X | AF23: 20 | AG23: 20 | AH23: 17 | AI23: 3 | AJ23: X
A24: Februar 2005 | B24: 3652 | C24: 3652 | D24: 3481 | E24: 171 | F24: X | G24: 2460 | H24: 2460 | I24: 2387 | J24: 73 | K24: X | L24: 1192 | M24: 1192 | N24: 1094 | O24: 98 | P24: X | Q24: 646 | R24: 646 | S24: 614 | T24: 32 | U24: X | V24: 2384 | W24: 2384 | X24: 2245 | Y24: 139 | Z24: X | AA24: 622 | AB24: 622 | AC24: 622 | AD24: 0 | AE24: X | AF24: 18 | AG24: 18 | AH24: 15 | AI24: 3 | AJ24: X
A25: März 2005 | B25: 3545 | C25: 3545 | D25: 3388 | E25: 157 | F25: X | G25: 2402 | H25: 2402 | I25: 2334 | J25: 68 | K25: X | L25: 1143 | M25: 1143 | N25: 1054 | O25: 89 | P25: X | Q25: * | R25: * | S25: 604 | T25: * | U25: X | V25: 2304 | W25: 2304 | X25: 2178 | Y25: 126 | Z25: X | AA25: * | AB25: * | AC25: 606 | AD25: * | AE25: X | AF25: 20 | AG25: 20 | AH25: 17 | AI25: 3 | AJ25: X
A26: April 2005 | B26: 2932 | C26: 2932 | D26: 2794 | E26: 138 | F26: X | G26: 1803 | H26: 1803 | I26: 1741 | J26: 62 | K26: X | L26: 1129 | M26: 1129 | N26: 1053 | O26: 76 | P26: X | Q26: * | R26: * | S26: 508 | T26: * | U26: X | V26: 1803 | W26: 1803 | X26: 1696 | Y26: 107 | Z26: X | AA26: * | AB26: * | AC26: 590 | AD26: * | AE26: X | AF26: 20 | AG26: 20 | AH26: 17 | AI26: 3 | AJ26: X
A27: Mai 2005 | B27: 2591 | C27: 2591 | D27: 2461 | E27: 130 | F27: X | G27: 1499 | H27: 1499 | I27: 1444 | J27: 55 | K27: X | L27: 1092 | M27: 1092 | N27: 1017 | O27: 75 | P27: X | Q27: * | R27: * | S27: 449 | T27: * | U27: X | V27: 1552 | W27: 1552 | X27: 1449 | Y27: 103 | Z27: X | AA27: * | AB27: * | AC27: 563 | AD27: * | AE27: X | AF27: * | AG27: * | AH27: 12 | AI27: * | AJ27: X
A28: Juni 2005 | B28: 2403 | C28: 2403 | D28: 2256 | E28: 147 | F28: X | G28: 1337 | H28: 1337 | I28: 1272 | J28: 65 | K28: X | L28: 1066 | M28: 1066 | N28: 984 | O28: 82 | P28: X | Q28: 413 | R28: 413 | S28: 370 | T28: 43 | U28: X | V28: 1426 | W28: 1426 | X28: 1322 | Y28: 104 | Z28: X | AA28: 564 | AB28: 564 | AC28: 564 | AD28: 0 | AE28: X | AF28: * | AG28: * | AH28: 13 | AI28: * | AJ28: X
A29: Juli 2005 | B29: 2445 | C29: 2445 | D29: 2311 | E29: 134 | F29: X | G29: 1290 | H29: 1290 | I29: 1231 | J29: 59 | K29: X | L29: 1155 | M29: 1155 | N29: 1080 | O29: 75 | P29: X | Q29: 459 | R29: 459 | S29: 423 | T29: 36 | U29: X | V29: 1422 | W29: 1422 | X29: 1324 | Y29: 98 | Z29: X | AA29: 564 | AB29: 564 | AC29: 564 | AD29: 0 | AE29: X | AF29: * | AG29: * | AH29: 15 | AI29: * | AJ29: X
A30: August 2005 | B30: 2385 | C30: 2385 | D30: 2255 | E30: 130 | F30: X | G30: 1240 | H30: 1240 | I30: 1181 | J30: 59 | K30: X | L30: 1145 | M30: 1145 | N30: 1074 | O30: 71 | P30: X | Q30: * | R30: * | S30: 448 | T30: * | U30: X | V30: 1381 | W30: 1381 | X30: 1284 | Y30: 97 | Z30: X | AA30: * | AB30: * | AC30: 523 | AD30: * | AE30: X | AF30: * | AG30: * | AH30: 13 | AI30: * | AJ30: X
A31: September 2005 | B31: 2225 | C31: 2225 | D31: 2098 | E31: 127 | F31: X | G31: 1174 | H31: 1174 | I31: 1120 | J31: 54 | K31: X | L31: 1051 | M31: 1051 | N31: 978 | O31: 73 | P31: X | Q31: * | R31: * | S31: 435 | T31: * | U31: X | V31: 1249 | W31: 1249 | X31: 1156 | Y31: 93 | Z31: X | AA31: * | AB31: * | AC31: 507 | AD31: * | AE31: X | AF31: * | AG31: * | AH31: 12 | AI31: * | AJ31: X
A32: Oktober 2005 | B32: 2105 | C32: 2105 | D32: 1979 | E32: 126 | F32: X | G32: 1104 | H32: 1104 | I32: 1055 | J32: 49 | K32: X | L32: 1001 | M32: 1001 | N32: 924 | O32: 77 | P32: X | Q32: * | R32: * | S32: 377 | T32: * | U32: X | V32: 1179 | W32: 1179 | X32: 1085 | Y32: 94 | Z32: X | AA32: * | AB32: * | AC32: 517 | AD32: * | AE32: X | AF32: * | AG32: * | AH32: 11 | AI32: * | AJ32: X
A33: November 2005 | B33: 2089 | C33: 2083 | D33: 1958 | E33: 125 | F33: X | G33: 1099 | H33: 1097 | I33: 1048 | J33: 49 | K33: X | L33: 990 | M33: 986 | N33: 910 | O33: 76 | P33: X | Q33: * | R33: * | S33: 347 | T33: * | U33: X | V33: 1183 | W33: 1178 | X33: 1081 | Y33: 97 | Z33: X | AA33: * | AB33: * | AC33: 530 | AD33: * | AE33: X | AF33: * | AG33: * | AH33: 9 | AI33: * | AJ33: X
A34: Dezember 2005 | B34: 2312 | C34: 2306 | D34: 2172 | E34: 134 | F34: X | G34: 1325 | H34: 1322 | I34: 1262 | J34: 60 | K34: X | L34: 987 | M34: 984 | N34: 910 | O34: 74 | P34: X | Q34: * | R34: * | S34: 357 | T34: * | U34: X | V34: 1351 | W34: 1347 | X34: 1240 | Y34: 107 | Z34: X | AA34: * | AB34: * | AC34: 575 | AD34: * | AE34: X | AF34: * | AG34: * | AH34: 10 | AI34: * | AJ34: X
A35: Januar 2006 | B35: 3175 | C35: 3163 | D35: 3029 | E35: 134 | F35: X | G35: 2042 | H35: 2036 | I35: 1974 | J35: 62 | K35: X | L35: 1133 | M35: 1127 | N35: 1055 | O35: 72 | P35: X | Q35: * | R35: * | S35: 425 | T35: * | U35: X | V35: 1996 | W35: 1990 | X35: 1896 | Y35: 94 | Z35: X | AA35: * | AB35: * | AC35: 708 | AD35: * | AE35: X | AF35: 15 | AG35: 15 | AH35: 15 | AI35: 0 | AJ35: X
A36: Februar 2006 | B36: 3353 | C36: 3337 | D36: 3204 | E36: 133 | F36: X | G36: 2210 | H36: 2197 | I36: 2141 | J36: 56 | K36: X | L36: 1143 | M36: 1140 | N36: 1063 | O36: 77 | P36: X | Q36: 497 | R36: 488 | S36: 457 | T36: 31 | U36: X | V36: 2128 | W36: 2121 | X36: 2022 | Y36: 99 | Z36: X | AA36: 728 | AB36: 728 | AC36: 725 | AD36: 3 | AE36: X | AF36: * | AG36: * | AH36: 14 | AI36: * | AJ36: X
A37: März 2006 | B37: 3203 | C37: 3179 | D37: 3061 | E37: 118 | F37: X | G37: 2128 | H37: 2110 | I37: 2055 | J37: 55 | K37: X | L37: 1075 | M37: 1069 | N37: 1006 | O37: 63 | P37: X | Q37: * | R37: * | S37: 428 | T37: * | U37: X | V37: 2028 | W37: 2016 | X37: 1930 | Y37: 86 | Z37: X | AA37: * | AB37: * | AC37: 703 | AD37: * | AE37: X | AF37: * | AG37: * | AH37: 16 | AI37: * | AJ37: X
A38: April 2006 | B38: 2665 | C38: 2644 | D38: 2538 | E38: 106 | F38: X | G38: 1662 | H38: 1648 | I38: 1600 | J38: 48 | K38: X | L38: 1003 | M38: 996 | N38: 938 | O38: 58 | P38: X | Q38: * | R38: * | S38: 362 | T38: * | U38: X | V38: 1595 | W38: 1586 | X38: 1497 | Y38: 89 | Z38: X | AA38: * | AB38: * | AC38: 679 | AD38: * | AE38: X | AF38: * | AG38: * | AH38: 12 | AI38: * | AJ38: X
A39: Mai 2006 | B39: 2132 | C39: 2108 | D39: 1994 | E39: 114 | F39: X | G39: 1158 | H39: 1142 | I39: 1086 | J39: 56 | K39: X | L39: 974 | M39: 966 | N39: 908 | O39: 58 | P39: X | Q39: * | R39: * | S39: 282 | T39: * | U39: X | V39: 1175 | W39: 1167 | X39: 1073 | Y39: 94 | Z39: X | AA39: * | AB39: * | AC39: 639 | AD39: * | AE39: X | AF39: * | AG39: * | AH39: 7 | AI39: * | AJ39: X
A40: Juni 2006 | B40: 1930 | C40: 1909 | D40: 1807 | E40: 102 | F40: X | G40: 1007 | H40: 994 | I40: 948 | J40: 46 | K40: X | L40: 923 | M40: 915 | N40: 859 | O40: 56 | P40: X | Q40: 269 | R40: 256 | S40: 240 | T40: 16 | U40: X | V40: 1033 | W40: 1027 | X40: 941 | Y40: 86 | Z40: X | AA40: 628 | AB40: 626 | AC40: 626 | AD40: 0 | AE40: X | AF40: * | AG40: * | AH40: 9 | AI40: * | AJ40: X
A41: Juli 2006 | B41: 1881 | C41: 1861 | D41: 1763 | E41: 98 | F41: X | G41: 918 | H41: 906 | I41: 862 | J41: 44 | K41: X | L41: 963 | M41: 955 | N41: 901 | O41: 54 | P41: X | Q41: 306 | R41: 295 | S41: 278 | T41: 17 | U41: X | V41: 970 | W41: 962 | X41: 881 | Y41: 81 | Z41: X | AA41: 605 | AB41: 604 | AC41: 604 | AD41: 0 | AE41: X | AF41: 12 | AG41: 12 | AH41: 12 | AI41: 0 | AJ41: X
A42: August 2006 | B42: 1841 | C42: 1818 | D42: 1715 | E42: 103 | F42: X | G42: 883 | H42: 865 | I42: 821 | J42: 44 | K42: X | L42: 958 | M42: 953 | N42: 894 | O42: 59 | P42: X | Q42: 315 | R42: 305 | S42: 267 | T42: 38 | U42: X | V42: 951 | W42: 941 | X42: 876 | Y42: 65 | Z42: X | AA42: 575 | AB42: 572 | AC42: 572 | AD42: 0 | AE42: X | AF42: 10 | AG42: 10 | AH42: 10 | AI42: 0 | AJ42: X
A43: September 2006 | B43: 1682 | C43: 1663 | D43: 1562 | E43: 101 | F43: X | G43: 813 | H43: 797 | I43: 754 | J43: 43 | K43: X | L43: 869 | M43: 866 | N43: 808 | O43: 58 | P43: X | Q43: 302 | R43: 295 | S43: 256 | T43: 39 | U43: X | V43: 833 | W43: 821 | X43: 759 | Y43: 62 | Z43: X | AA43: 547 | AB43: 547 | AC43: 547 | AD43: 0 | AE43: X | AF43: 9 | AG43: 9 | AH43: 9 | AI43: 0 | AJ43: X
A44: Oktober 2006 | B44: 1589 | C44: 1569 | D44: 1480 | E44: 89 | F44: X | G44: 753 | H44: 738 | I44: 696 | J44: 42 | K44: X | L44: 836 | M44: 831 | N44: 784 | O44: 47 | P44: X | Q44: 264 | R44: 255 | S44: 227 | T44: 28 | U44: X | V44: 783 | W44: 772 | X44: 711 | Y44: 61 | Z44: X | AA44: 542 | AB44: 542 | AC44: 542 | AD44: 0 | AE44: X | AF44: 9 | AG44: 8 | AH44: 8 | AI44: 0 | AJ44: X
A45: November 2006 | B45: 1591 | C45: 1570 | D45: 1482 | E45: 88 | F45: X | G45: 767 | H45: 749 | I45: 708 | J45: 41 | K45: X | L45: 824 | M45: 821 | N45: 774 | O45: 47 | P45: X | Q45: 262 | R45: 257 | S45: 232 | T45: 25 | U45: X | V45: 794 | W45: 779 | X45: 716 | Y45: 63 | Z45: X | AA45: 535 | AB45: 534 | AC45: 534 | AD45: 0 | AE45: X | AF45: 9 | AG45: 8 | AH45: 8 | AI45: 0 | AJ45: X
A46: Dezember 2006 | B46: 1658 | C46: 1633 | D46: 1544 | E46: 89 | F46: X | G46: 872 | H46: 852 | I46: 809 | J46: 43 | K46: X | L46: 786 | M46: 781 | N46: 735 | O46: 46 | P46: X | Q46: 271 | R46: 259 | S46: 238 | T46: 21 | U46: X | V46: 858 | W46: 846 | X46: 778 | Y46: 68 | Z46: X | AA46: 529 | AB46: 528 | AC46: 528 | AD46: 0 | AE46: X | AF46: 9 | AG46: 8 | AH46: 8 | AI46: 0 | AJ46: X
A47: Januar 2007 | B47: 2164 | C47: 2135 | D47: 2037 | E47: 98 | F47: 29 | G47: 1343 | H47: 1319 | I47: 1266 | J47: 53 | K47: 24 | L47: 821 | M47: 816 | N47: 771 | O47: 45 | P47: 5 | Q47: 339 | R47: 325 | S47: 308 | T47: 17 | U47: 14 | V47: * | W47: 1252 | X47: 1171 | Y47: 81 | Z47: * | AA47: * | AB47: 558 | AC47: 558 | AD47: 0 | AE47: * | AF47: * | AG47: 10 | AH47: 10 | AI47: 0 | AJ47: *
A48: Februar 2007 | B48: 2199 | C48: 2170 | D48: 2043 | E48: 127 | F48: 29 | G48: 1382 | H48: 1360 | I48: 1297 | J48: 63 | K48: 22 | L48: 817 | M48: 810 | N48: 746 | O48: 64 | P48: 7 | Q48: * | R48: * | S48: 288 | T48: * | U48: * | V48: * | W48: 1278 | X48: 1189 | Y48: 89 | Z48: * | AA48: * | AB48: * | AC48: 566 | AD48: * | AE48: 0 | AF48: * | AG48: 9 | AH48: 9 | AI48: 0 | AJ48: *
A49: März 2007 | B49: 2033 | C49: 2007 | D49: 1894 | E49: 113 | F49: 26 | G49: 1225 | H49: 1209 | I49: 1154 | J49: 55 | K49: 16 | L49: 808 | M49: 798 | N49: 740 | O49: 58 | P49: 10 | Q49: 325 | R49: * | S49: 277 | T49: * | U49: * | V49: * | W49: 1142 | X49: 1062 | Y49: 80 | Z49: * | AA49: * | AB49: * | AC49: 555 | AD49: * | AE49: * | AF49: 10 | AG49: 10 | AH49: 10 | AI49: 0 | AJ49: 0
A50: April 2007 | B50: 1650 | C50: 1631 | D50: 1507 | E50: 124 | F50: 19 | G50: 923 | H50: 912 | I50: 846 | J50: 66 | K50: 11 | L50: 727 | M50: 719 | N50: 661 | O50: 58 | P50: 8 | Q50: 247 | R50: 237 | S50: 196 | T50: 41 | U50: 10 | V50: 883 | W50: 874 | X50: 796 | Y50: 78 | Z50: 9 | AA50: 520 | AB50: 520 | AC50: 515 | AD50: 5 | AE50: 0 | AF50: 7 | AG50: 7 | AH50: 7 | AI50: 0 | AJ50: 0
A51: Mai 2007 | B51: 1485 | C51: 1471 | D51: 1358 | E51: 113 | F51: 14 | G51: 779 | H51: 770 | I51: 710 | J51: 60 | K51: 9 | L51: 706 | M51: 701 | N51: 648 | O51: 53 | P51: 5 | Q51: 212 | R51: 203 | S51: 170 | T51: 33 | U51: 9 | V51: * | W51: 769 | X51: 693 | Y51: 76 | Z51: * | AA51: * | AB51: 499 | AC51: 495 | AD51: 4 | AE51: * | AF51: * | AG51: 4 | AH51: 4 | AI51: 0 | AJ51: *
A52: Juni 2007 | B52: 1359 | C52: 1341 | D52: 1230 | E52: 111 | F52: 18 | G52: 674 | H52: 664 | I52: 603 | J52: 61 | K52: 10 | L52: 685 | M52: 677 | N52: 627 | O52: 50 | P52: 8 | Q52: * | R52: 174 | S52: 152 | T52: 22 | U52: * | V52: * | W52: 689 | X52: 606 | Y52: 83 | Z52: * | AA52: * | AB52: 478 | AC52: 472 | AD52: 6 | AE52: 0 | AF52: 5 | AG52: 5 | AH52: 5 | AI52: 0 | AJ52: 0
A53: Juli 2007 | B53: 1317 | C53: 1281 | D53: 1177 | E53: 104 | F53: 36 | G53: 624 | H53: 599 | I53: 545 | J53: 54 | K53: 25 | L53: 693 | M53: 682 | N53: 632 | O53: 50 | P53: 11 | Q53: * | R53: 195 | S53: 179 | T53: 16 | U53: * | V53: 640 | W53: 622 | X53: 543 | Y53: 79 | Z53: 18 | AA53: * | AB53: 464 | AC53: 455 | AD53: 9 | AE53: * | AF53: 4 | AG53: 4 | AH53: 4 | AI53: 0 | AJ53: 0
A54: August 2007 | B54: 1296 | C54: 1257 | D54: 1188 | E54: 69 | F54: 39 | G54: 596 | H54: 573 | I54: 542 | J54: 31 | K54: 23 | L54: 700 | M54: 684 | N54: 646 | O54: 38 | P54: 16 | Q54: 240 | R54: 220 | S54: 210 | T54: 10 | U54: 20 | V54: 593 | W54: 574 | X54: 523 | Y54: 51 | Z54: 19 | AA54: 463 | AB54: 463 | AC54: 455 | AD54: 8 | AE54: 0 | AF54: 7 | AG54: 7 | AH54: 7 | AI54: 0 | AJ54: 0
A55: September 2007 | B55: 1189 | C55: 1173 | D55: 1094 | E55: 79 | F55: 16 | G55: 543 | H55: 532 | I55: 500 | J55: 32 | K55: 11 | L55: 646 | M55: 641 | N55: 594 | O55: 47 | P55: 5 | Q55: * | R55: 220 | S55: 199 | T55: 21 | U55: * | V55: * | W55: 528 | X55: 478 | Y55: 50 | Z55: * | AA55: 425 | AB55: 425 | AC55: 417 | AD55: 8 | AE55: 0 | AF55: 8 | AG55: 8 | AH55: 8 | AI55: 0 | AJ55: 0
A56: Oktober 2007 | B56: 1129 | C56: 1104 | D56: 1035 | E56: 69 | F56: 25 | G56: 516 | H56: 496 | I56: 468 | J56: 28 | K56: 20 | L56: 613 | M56: 608 | N56: 567 | O56: 41 | P56: 5 | Q56: 198 | R56: 186 | S56: 170 | T56: 16 | U56: 12 | V56: 518 | W56: 505 | X56: 460 | Y56: 45 | Z56: 13 | AA56: 413 | AB56: 413 | AC56: 405 | AD56: 8 | AE56: 0 | AF56: * | AG56: * | AH56: 6 | AI56: * | AJ56: *
A57: November 2007 | B57: 1130 | C57: 1109 | D57: 1038 | E57: 71 | F57: 21 | G57: 538 | H57: 527 | I57: 497 | J57: 30 | K57: 11 | L57: 592 | M57: 582 | N57: 541 | O57: 41 | P57: 10 | Q57: 185 | R57: 175 | S57: 162 | T57: 13 | U57: 10 | V57: 536 | W57: 525 | X57: 477 | Y57: 48 | Z57: 11 | AA57: 409 | AB57: 409 | AC57: 399 | AD57: 10 | AE57: 0 | AF57: * | AG57: * | AH57: 7 | AI57: * | AJ57: 0
A58: Dezember 2007 | B58: 1234 | C58: 1204 | D58: 1150 | E58: 54 | F58: 30 | G58: 651 | H58: 630 | I58: 611 | J58: 19 | K58: 21 | L58: 583 | M58: 574 | N58: 539 | O58: 35 | P58: 9 | Q58: 196 | R58: 178 | S58: 165 | T58: 13 | U58: 18 | V58: 627 | W58: 615 | X58: 578 | Y58: 37 | Z58: 12 | AA58: 411 | AB58: 411 | AC58: 407 | AD58: 4 | AE58: 0 | AF58: * | AG58: * | AH58: 6 | AI58: * | AJ58: 0
A59: Januar 2008 | B59: 1713 | C59: 1679 | D59: 1628 | E59: 51 | F59: 34 | G59: 1090 | H59: 1064 | I59: 1037 | J59: 27 | K59: 26 | L59: 623 | M59: 615 | N59: 591 | O59: 24 | P59: 8 | Q59: * | R59: 236 | S59: 231 | T59: 5 | U59: * | V59: 1000 | W59: 981 | X59: 938 | Y59: 43 | Z59: 19 | AA59: * | AB59: 462 | AC59: 459 | AD59: 3 | AE59: * | AF59: * | AG59: * | AH59: 6 | AI59: * | AJ59: *
A60: Februar 2008 | B60: 1722 | C60: 1696 | D60: 1641 | E60: 55 | F60: 26 | G60: 1077 | H60: 1058 | I60: 1031 | J60: 27 | K60: 19 | L60: 645 | M60: 638 | N60: 610 | O60: 28 | P60: 7 | Q60: * | R60: 236 | S60: 226 | T60: 10 | U60: * | V60: 1002 | W60: 989 | X60: 947 | Y60: 42 | Z60: 13 | AA60: * | AB60: 471 | AC60: 468 | AD60: 3 | AE60: * | AF60: 9 | AG60: 9 | AH60: 6 | AI60: 3 | AJ60: 0
A61: März 2008 | B61: 1570 | C61: 1528 | D61: 1457 | E61: 71 | F61: 42 | G61: 932 | H61: 907 | I61: 874 | J61: 33 | K61: 25 | L61: 638 | M61: 621 | N61: 583 | O61: 38 | P61: 17 | Q61: * | R61: 213 | S61: 188 | T61: 25 | U61: * | V61: 903 | W61: 879 | X61: 833 | Y61: 46 | Z61: 24 | AA61: * | AB61: 436 | AC61: 436 | AD61: 0 | AE61: * | AF61: * | AG61: * | AH61: 7 | AI61: * | AJ61: 0
A62: April 2008 | B62: 1327 | C62: 1298 | D62: 1228 | E62: 70 | F62: 29 | G62: 708 | H62: 688 | I62: 659 | J62: 29 | K62: 20 | L62: 619 | M62: 610 | N62: 569 | O62: 41 | P62: 9 | Q62: * | R62: * | S62: 135 | T62: * | U62: * | V62: * | W62: 732 | X62: 688 | Y62: 44 | Z62: * | AA62: * | AB62: * | AC62: 405 | AD62: * | AE62: 0 | AF62: * | AG62: * | AH62: 8 | AI62: * | AJ62: 0
A63: Mai 2008 | B63: 1164 | C63: 1143 | D63: 1080 | E63: 63 | F63: 21 | G63: 578 | H63: 563 | I63: 538 | J63: 25 | K63: 15 | L63: 586 | M63: 580 | N63: 542 | O63: 38 | P63: 6 | Q63: * | R63: * | S63: 116 | T63: * | U63: * | V63: 642 | W63: 632 | X63: 591 | Y63: 41 | Z63: 10 | AA63: * | AB63: * | AC63: 373 | AD63: * | AE63: * | AF63: * | AG63: * | AH63: 8 | AI63: * | AJ63: 0
A64: Juni 2008 | B64: 1128 | C64: 1101 | D64: 1040 | E64: 61 | F64: 27 | G64: 515 | H64: 498 | I64: 475 | J64: 23 | K64: 17 | L64: 613 | M64: 603 | N64: 565 | O64: 38 | P64: 10 | Q64: * | R64: * | S64: 104 | T64: * | U64: * | V64: 639 | W64: 623 | X64: 578 | Y64: 45 | Z64: 16 | AA64: * | AB64: * | AC64: 358 | AD64: * | AE64: * | AF64: * | AG64: 11 | AH64: 11 | AI64: 0 | AJ64: *
A65: Juli 2008 | B65: 1137 | C65: 1108 | D65: 1051 | E65: 57 | F65: 29 | G65: 506 | H65: 489 | I65: 467 | J65: 22 | K65: 17 | L65: 631 | M65: 619 | N65: 584 | O65: 35 | P65: 12 | Q65: * | R65: 130 | S65: 116 | T65: 14 | U65: * | V65: 649 | W65: 631 | X65: 588 | Y65: 43 | Z65: 18 | AA65: * | AB65: 347 | AC65: 347 | AD65: 0 | AE65: * | AF65: 12 | AG65: 9 | AH65: 9 | AI65: 0 | AJ65: 3
A66: August 2008 | B66: 1082 | C66: 1053 | D66: 1012 | E66: 41 | F66: 29 | G66: 506 | H66: 484 | I66: 469 | J66: 15 | K66: 22 | L66: 576 | M66: 569 | N66: 543 | O66: 26 | P66: 7 | Q66: * | R66: * | S66: 145 | T66: * | U66: * | V66: * | W66: 580 | X66: 546 | Y66: 34 | Z66: * | AA66: * | AB66: * | AC66: 321 | AD66: * | AE66: 0 | AF66: 12 | AG66: 9 | AH66: 9 | AI66: 0 | AJ66: 3
A67: September 2008 | B67: 960 | C67: 936 | D67: 869 | E67: 67 | F67: 24 | G67: 436 | H67: 423 | I67: 397 | J67: 26 | K67: 13 | L67: 524 | M67: 513 | N67: 472 | O67: 41 | P67: 11 | Q67: * | R67: * | S67: 143 | T67: * | U67: * | V67: * | W67: 524 | X67: 474 | Y67: 50 | Z67: * | AA67: * | AB67: * | AC67: 252 | AD67: * | AE67: 0 | AF67: * | AG67: * | AH67: 8 | AI67: * | AJ67: 0
A68: Oktober 2008 | B68: 933 | C68: 900 | D68: 830 | E68: 70 | F68: 33 | G68: 417 | H68: 398 | I68: 370 | J68: 28 | K68: 19 | L68: 516 | M68: 502 | N68: 460 | O68: 42 | P68: 14 | Q68: * | R68: * | S68: 137 | T68: * | U68: * | V68: * | W68: 522 | X68: 471 | Y68: 51 | Z68: * | AA68: * | AB68: * | AC68: 222 | AD68: * | AE68: 0 | AF68: * | AG68: * | AH68: 6 | AI68: * | AJ68: 0
A69: November 2008 | B69: 1032 | C69: 1007 | D69: 937 | E69: 70 | F69: 25 | G69: 502 | H69: 482 | I69: 450 | J69: 32 | K69: 20 | L69: 530 | M69: 525 | N69: 487 | O69: 38 | P69: 5 | Q69: 171 | R69: 161 | S69: 144 | T69: 17 | U69: 10 | V69: 627 | W69: 612 | X69: 562 | Y69: 50 | Z69: 15 | AA69: 234 | AB69: 234 | AC69: 231 | AD69: 3 | AE69: 0 | AF69: * | AG69: * | AH69: 5 | AI69: * | AJ69: 0
A70: Dezember 2008 | B70: 1177 | C70: 1140 | D70: 1078 | E70: 62 | F70: 37 | G70: 643 | H70: 613 | I70: 584 | J70: 29 | K70: 30 | L70: 534 | M70: 527 | N70: 494 | O70: 33 | P70: 7 | Q70: 177 | R70: 164 | S70: 147 | T70: 17 | U70: 13 | V70: 756 | W70: 732 | X70: 690 | Y70: 42 | Z70: 24 | AA70: 244 | AB70: 244 | AC70: 241 | AD70: 3 | AE70: 0 | AF70: * | AG70: * | AH70: 7 | AI70: * | AJ70: 0
A71: Januar 2009 | B71: 1748 | C71: 1712 | D71: 1660 | E71: 52 | F71: 36 | G71: 1113 | H71: 1086 | I71: 1063 | J71: 23 | K71: 27 | L71: 635 | M71: 626 | N71: 597 | O71: 29 | P71: 9 | Q71: * | R71: 230 | S71: 220 | T71: 10 | U71: * | V71: 1194 | W71: 1169 | X71: 1130 | Y71: 39 | Z71: 25 | AA71: * | AB71: 313 | AC71: 310 | AD71: 3 | AE71: * | AF71: * | AG71: * | AH71: 11 | AI71: * | AJ71: 0
A72: Februar 2009 | B72: 1900 | C72: 1862 | D72: 1789 | E72: 73 | F72: 38 | G72: 1222 | H72: 1196 | I72: 1161 | J72: 35 | K72: 26 | L72: 678 | M72: 666 | N72: 628 | O72: 38 | P72: 12 | Q72: * | R72: 282 | S72: 263 | T72: 19 | U72: * | V72: 1273 | W72: 1252 | X72: 1201 | Y72: 51 | Z72: 21 | AA72: * | AB72: 328 | AC72: 325 | AD72: 3 | AE72: * | AF72: * | AG72: * | AH72: 12 | AI72: * | AJ72: 0
A73: März 2009 | B73: 1923 | C73: 1879 | D73: 1810 | E73: 69 | F73: 44 | G73: 1231 | H73: 1199 | I73: 1165 | J73: 34 | K73: 32 | L73: 692 | M73: 680 | N73: 645 | O73: 35 | P73: 12 | Q73: * | R73: * | S73: 271 | T73: * | U73: * | V73: 1276 | W73: 1253 | X73: 1201 | Y73: 52 | Z73: 23 | AA73: * | AB73: * | AC73: 338 | AD73: * | AE73: * | AF73: * | AG73: * | AH73: 11 | AI73: * | AJ73: 0
A74: April 2009 | B74: 1692 | C74: 1659 | D74: 1572 | E74: 87 | F74: 33 | G74: 1019 | H74: 993 | I74: 951 | J74: 42 | K74: 26 | L74: 673 | M74: 666 | N74: 621 | O74: 45 | P74: 7 | Q74: * | R74: * | S74: 239 | T74: * | U74: * | V74: 1100 | W74: 1076 | X74: 1024 | Y74: 52 | Z74: 24 | AA74: * | AB74: * | AC74: 309 | AD74: * | AE74: * | AF74: * | AG74: * | AH74: 12 | AI74: * | AJ74: 0
A75: Mai 2009 | B75: 1596 | C75: 1577 | D75: 1487 | E75: 90 | F75: 19 | G75: 917 | H75: 903 | I75: 866 | J75: 37 | K75: 14 | L75: 679 | M75: 674 | N75: 621 | O75: 53 | P75: 5 | Q75: 260 | R75: 253 | S75: 229 | T75: 24 | U75: 7 | V75: 1040 | W75: 1028 | X75: 965 | Y75: 63 | Z75: 12 | AA75: 296 | AB75: 296 | AC75: 293 | AD75: 3 | AE75: 0 | AF75: 11 | AG75: 11 | AH75: 11 | AI75: 0 | AJ75: 0
A76: Juni 2009 | B76: 1602 | C76: 1577 | D76: 1478 | E76: 99 | F76: 25 | G76: 881 | H76: 864 | I76: 814 | J76: 50 | K76: 17 | L76: 721 | M76: 713 | N76: 664 | O76: 49 | P76: 8 | Q76: 248 | R76: 238 | S76: 213 | T76: 25 | U76: 10 | V76: 1028 | W76: 1013 | X76: 943 | Y76: 70 | Z76: 15 | AA76: 326 | AB76: 326 | AC76: 322 | AD76: 4 | AE76: 0 | AF76: 11 | AG76: 11 | AH76: 11 | AI76: 0 | AJ76: 0
A77: Juli 2009 | B77: 1636 | C77: 1603 | D77: 1526 | E77: 77 | F77: 33 | G77: 850 | H77: 827 | I77: 791 | J77: 36 | K77: 23 | L77: 786 | M77: 776 | N77: 735 | O77: 41 | P77: 10 | Q77: * | R77: 269 | S77: 249 | T77: 20 | U77: * | V77: 1029 | W77: 1008 | X77: 955 | Y77: 53 | Z77: 21 | AA77: * | AB77: 326 | AC77: 322 | AD77: 4 | AE77: * | AF77: 10 | AG77: 10 | AH77: 10 | AI77: 0 | AJ77: 0
A78: August 2009 | B78: 1523 | C78: 1492 | D78: 1428 | E78: 64 | F78: 31 | G78: 820 | H78: 794 | I78: 763 | J78: 31 | K78: 26 | L78: 703 | M78: 698 | N78: 665 | O78: 33 | P78: 5 | Q78: * | R78: 249 | S78: 242 | T78: 7 | U78: * | V78: 939 | W78: 924 | X78: 871 | Y78: 53 | Z78: 15 | AA78: * | AB78: 319 | AC78: 315 | AD78: 4 | AE78: * | AF78: 12 | AG78: 12 | AH78: 12 | AI78: 0 | AJ78: 0
A79: September 2009 | B79: 1362 | C79: 1335 | D79: 1244 | E79: 91 | F79: 27 | G79: 737 | H79: 715 | I79: 665 | J79: 50 | K79: 22 | L79: 625 | M79: 620 | N79: 579 | O79: 41 | P79: 5 | Q79: 253 | R79: 245 | S79: 226 | T79: 19 | U79: 8 | V79: 821 | W79: 806 | X79: 739 | Y79: 67 | Z79: 15 | AA79: 288 | AB79: 284 | AC79: 279 | AD79: 5 | AE79: 4 | AF79: * | AG79: * | AH79: 9 | AI79: * | AJ79: 0
A80: Oktober 2009 | B80: 1320 | C80: 1281 | D80: 1196 | E80: 85 | F80: 39 | G80: 697 | H80: 667 | I80: 619 | J80: 48 | K80: 30 | L80: 623 | M80: 614 | N80: 577 | O80: 37 | P80: 9 | Q80: 235 | R80: 215 | S80: 197 | T80: 18 | U80: 20 | V80: 793 | W80: 778 | X80: 718 | Y80: 60 | Z80: 15 | AA80: 292 | AB80: 288 | AC80: 281 | AD80: 7 | AE80: 4 | AF80: 11 | AG80: 11 | AH80: 11 | AI80: 0 | AJ80: 0
A81: November 2009 | B81: 1314 | C81: 1283 | D81: 1183 | E81: 100 | F81: 31 | G81: 723 | H81: 702 | I81: 651 | J81: 51 | K81: 21 | L81: 591 | M81: 581 | N81: 532 | O81: 49 | P81: 10 | Q81: * | R81: 207 | S81: 184 | T81: 23 | U81: * | V81: 804 | W81: 788 | X81: 714 | Y81: 74 | Z81: 16 | AA81: * | AB81: 288 | AC81: 285 | AD81: 3 | AE81: * | AF81: * | AG81: * | AH81: 9 | AI81: * | AJ81: 0
A82: Dezember 2009 | B82: 1419 | C82: 1387 | D82: 1291 | E82: 96 | F82: 32 | G82: 837 | H82: 815 | I82: 766 | J82: 49 | K82: 22 | L82: 582 | M82: 572 | N82: 525 | O82: 47 | P82: 10 | Q82: 229 | R82: 210 | S82: 190 | T82: 20 | U82: 19 | V82: 894 | W82: 881 | X82: 808 | Y82: 73 | Z82: 13 | AA82: 296 | AB82: 296 | AC82: 293 | AD82: 3 | AE82: 0 | AF82: 10 | AG82: 10 | AH82: 10 | AI82: 0 | AJ82: 0
A83: Januar 2010 | B83: 1824 | C83: 1797 | D83: 1694 | E83: 103 | F83: 27 | G83: 1221 | H83: 1203 | I83: 1152 | J83: 51 | K83: 18 | L83: 603 | M83: 594 | N83: 542 | O83: 52 | P83: 9 | Q83: * | R83: 265 | S83: 244 | T83: 21 | U83: * | V83: 1177 | W83: 1163 | X83: 1084 | Y83: 79 | Z83: 14 | AA83: * | AB83: 369 | AC83: 366 | AD83: 3 | AE83: * | AF83: 14 | AG83: 14 | AH83: 14 | AI83: 0 | AJ83: 0
A84: Februar 2010 | B84: 1957 | C84: 1920 | D84: 1821 | E84: 99 | F84: 37 | G84: 1330 | H84: 1306 | I84: 1256 | J84: 50 | K84: 24 | L84: 627 | M84: 614 | N84: 565 | O84: 49 | P84: 13 | Q84: * | R84: 298 | S84: 279 | T84: 19 | U84: * | V84: 1246 | W84: 1227 | X84: 1150 | Y84: 77 | Z84: 19 | AA84: * | AB84: 395 | AC84: 392 | AD84: 3 | AE84: * | AF84: 16 | AG84: 16 | AH84: 16 | AI84: 0 | AJ84: 0
A85: März 2010 | B85: 1876 | C85: 1834 | D85: 1723 | E85: 111 | F85: 42 | G85: 1273 | H85: 1243 | I85: 1189 | J85: 54 | K85: 30 | L85: 603 | M85: 591 | N85: 534 | O85: 57 | P85: 12 | Q85: 313 | R85: 291 | S85: 260 | T85: 31 | U85: 22 | V85: * | W85: 1136 | X85: 1060 | Y85: 76 | Z85: * | AA85: * | AB85: 407 | AC85: 403 | AD85: 4 | AE85: * | AF85: 13 | AG85: 13 | AH85: 13 | AI85: 0 | AJ85: 0
A86: April 2010 | B86: 1418 | C86: 1393 | D86: 1287 | E86: 106 | F86: 25 | G86: 884 | H86: 865 | I86: 816 | J86: 49 | K86: 19 | L86: 534 | M86: 528 | N86: 471 | O86: 57 | P86: 6 | Q86: 222 | R86: 209 | S86: 177 | T86: 32 | U86: 13 | V86: 867 | W86: 855 | X86: 785 | Y86: 70 | Z86: 12 | AA86: 329 | AB86: 329 | AC86: 325 | AD86: 4 | AE86: 0 | AF86: * | AG86: * | AH86: 5 | AI86: 0 | AJ86: 0
A87: Mai 2010 | B87: 1243 | C87: 1213 | D87: 1114 | E87: 99 | F87: 30 | G87: 706 | H87: 684 | I87: 637 | J87: 47 | K87: 22 | L87: 537 | M87: 529 | N87: 477 | O87: 52 | P87: 8 | Q87: 205 | R87: 189 | S87: 159 | T87: 30 | U87: 16 | V87: 729 | W87: 715 | X87: 649 | Y87: 66 | Z87: 14 | AA87: 309 | AB87: 309 | AC87: 306 | AD87: 3 | AE87: 0 | AF87: 9 | AG87: 9 | AH87: 9 | AI87: 0 | AJ87: 0
A88: Juni 2010 | B88: 1103 | C88: 1072 | D88: 988 | E88: 84 | F88: 31 | G88: 576 | H88: 550 | I88: 512 | J88: 38 | K88: 26 | L88: 527 | M88: 522 | N88: 476 | O88: 46 | P88: 5 | Q88: 165 | R88: 148 | S88: 120 | T88: 28 | U88: 17 | V88: 643 | W88: 632 | X88: 579 | Y88: 53 | Z88: 11 | AA88: 295 | AB88: 292 | AC88: 289 | AD88: 3 | AE88: 3 | AF88: * | AG88: 9 | AH88: 9 | AI88: 0 | AJ88: *
A89: Juli 2010 | B89: 1090 | C89: 1061 | D89: 1004 | E89: 57 | F89: 29 | G89: 539 | H89: 519 | I89: 493 | J89: 26 | K89: 20 | L89: 551 | M89: 542 | N89: 511 | O89: 31 | P89: 9 | Q89: 178 | R89: 163 | S89: 151 | T89: 12 | U89: 15 | V89: 630 | W89: 616 | X89: 574 | Y89: 42 | Z89: 14 | AA89: 282 | AB89: 282 | AC89: 279 | AD89: 3 | AE89: 0 | AF89: 10 | AG89: 10 | AH89: 10 | AI89: 0 | AJ89: 0
A90: August 2010 | B90: 965 | C90: 941 | D90: 890 | E90: 51 | F90: 24 | G90: 501 | H90: 483 | I90: 465 | J90: 18 | K90: 18 | L90: 464 | M90: 458 | N90: 425 | O90: 33 | P90: 6 | Q90: * | R90: * | S90: 144 | T90: * | U90: * | V90: * | W90: 520 | X90: 477 | Y90: 43 | Z90: * | AA90: * | AB90: * | AC90: 269 | AD90: * | AE90: 0 | AF90: 5 | AG90: 5 | AH90: 5 | AI90: 0 | AJ90: 0
A91: September 2010 | B91: 909 | C91: 873 | D91: 805 | E91: 68 | F91: 36 | G91: 474 | H91: 447 | I91: 424 | J91: 23 | K91: 27 | L91: 435 | M91: 426 | N91: 381 | O91: 45 | P91: 9 | Q91: * | R91: * | S91: 129 | T91: * | U91: * | V91: 486 | W91: 468 | X91: 415 | Y91: 53 | Z91: 18 | AA91: * | AB91: * | AC91: 261 | AD91: * | AE91: * | AF91: 7 | AG91: 7 | AH91: 7 | AI91: 0 | AJ91: 0
A92: Oktober 2010 | B92: 846 | C92: 822 | D92: 749 | E92: 73 | F92: 24 | G92: 434 | H92: 416 | I92: 394 | J92: 22 | K92: 18 | L92: 412 | M92: 406 | N92: 355 | O92: 51 | P92: 6 | Q92: * | R92: * | S92: 111 | T92: * | U92: * | V92: 449 | W92: 437 | X92: 377 | Y92: 60 | Z92: 12 | AA92: * | AB92: * | AC92: 261 | AD92: * | AE92: * | AF92: 7 | AG92: 7 | AH92: 7 | AI92: 0 | AJ92: 0
A93: November 2010 | B93: 804 | C93: 782 | D93: 713 | E93: 69 | F93: 22 | G93: 411 | H93: 394 | I93: 373 | J93: 21 | K93: 17 | L93: 393 | M93: 388 | N93: 340 | O93: 48 | P93: 5 | Q93: * | R93: * | S93: 92 | T93: * | U93: * | V93: * | W93: 420 | X93: 364 | Y93: 56 | Z93: * | AA93: * | AB93: * | AC93: 257 | AD93: * | AE93: 0 | AF93: * | AG93: * | AH93: 8 | AI93: * | AJ93: 0
A94: Dezember 2010 | B94: 906 | C94: 869 | D94: 797 | E94: 72 | F94: 37 | G94: 504 | H94: 473 | I94: 450 | J94: 23 | K94: 31 | L94: 402 | M94: 396 | N94: 347 | O94: 49 | P94: 6 | Q94: * | R94: * | S94: 89 | T94: * | U94: * | V94: * | W94: 495 | X94: 436 | Y94: 59 | Z94: * | AA94: * | AB94: * | AC94: 272 | AD94: * | AE94: 0 | AF94: 8 | AG94: 8 | AH94: 8 | AI94: 0 | AJ94: 0
A95: Januar 2011 | B95: 1373 | C95: 1336 | D95: 1267 | E95: 69 | F95: 37 | G95: 918 | H95: 890 | I95: 868 | J95: 22 | K95: 28 | L95: 455 | M95: 446 | N95: 399 | O95: 47 | P95: 9 | Q95: * | R95: * | S95: 140 | T95: * | U95: * | V95: * | W95: 827 | X95: 769 | Y95: 58 | Z95: * | AA95: * | AB95: * | AC95: 358 | AD95: * | AE95: 0 | AF95: 7 | AG95: 7 | AH95: 7 | AI95: 0 | AJ95: 0
A96: Februar 2011 | B96: 1318 | C96: 1289 | D96: 1223 | E96: 66 | F96: 29 | G96: 865 | H96: 843 | I96: 819 | J96: 24 | K96: 22 | L96: 453 | M96: 446 | N96: 404 | O96: 42 | P96: 7 | Q96: * | R96: * | S96: 134 | T96: * | U96: * | V96: 797 | W96: 777 | X96: 721 | Y96: 56 | Z96: 20 | AA96: * | AB96: * | AC96: 368 | AD96: * | AE96: * | AF96: 7 | AG96: 7 | AH96: 7 | AI96: 0 | AJ96: 0
A97: März 2011 | B97: 1060 | C97: 1038 | D97: 946 | E97: 92 | F97: 22 | G97: 648 | H97: 632 | I97: 600 | J97: 32 | K97: 16 | L97: 412 | M97: 406 | N97: 346 | O97: 60 | P97: 6 | Q97: 119 | R97: 115 | S97: 106 | T97: 9 | U97: 4 | V97: 625 | W97: 607 | X97: 539 | Y97: 68 | Z97: 18 | AA97: 316 | AB97: 316 | AC97: 301 | AD97: 15 | AE97: 0 | AF97: 6 | AG97: 6 | AH97: 6 | AI97: 0 | AJ97: 0
A98: April 2011 | B98: 843 | C98: 823 | D98: 719 | E98: 104 | F98: 20 | G98: 455 | H98: 441 | I98: 405 | J98: 36 | K98: 14 | L98: 388 | M98: 382 | N98: 314 | O98: 68 | P98: 6 | Q98: * | R98: 79 | S98: 62 | T98: 17 | U98: * | V98: * | W98: 464 | X98: 391 | Y98: 73 | Z98: * | AA98: * | AB98: 280 | AC98: 266 | AD98: 14 | AE98: * | AF98: * | AG98: 3 | AH98: 3 | AI98: 0 | AJ98: *
A99: Mai 2011 | B99: 800 | C99: 775 | D99: 674 | E99: 101 | F99: 25 | G99: 391 | H99: 375 | I99: 345 | J99: 30 | K99: 16 | L99: 409 | M99: 400 | N99: 329 | O99: 71 | P99: 9 | Q99: * | R99: 65 | S99: 54 | T99: 11 | U99: * | V99: 450 | W99: 437 | X99: 361 | Y99: 76 | Z99: 13 | AA99: * | AB99: 273 | AC99: 259 | AD99: 14 | AE99: * | AF99: 5 | AG99: 5 | AH99: 5 | AI99: 0 | AJ99: 0
A100: Juni 2011 | B100: 769 | C100: 750 | D100: 655 | E100: 95 | F100: 19 | G100: 350 | H100: 338 | I100: 313 | J100: 25 | K100: 12 | L100: 419 | M100: 412 | N100: 342 | O100: 70 | P100: 7 | Q100: * | R100: 61 | S100: 53 | T100: 8 | U100: * | V100: 437 | W100: 425 | X100: 354 | Y100: 71 | Z100: 12 | AA100: * | AB100: 264 | AC100: 248 | AD100: 16 | AE100: * | AF100: 5 | AG100: 5 | AH100: 5 | AI100: 0 | AJ100: 0
...

Sheet Rohdaten_tab2
A1: BM | B1: Tab_2_Insgesamt_LE_nichtAlo | C1: Tab_2_Insgesamt_LE_nichtAlo_inWeitb | D1: Tab_2_Insgesamt_LE_nichtAlo_LeistfzbeiAU | E1: Tab_2_Insgesamt_LE_nichtAlo_MindLeistfä | F1: Tab_2_Männer_LE_nichtAlo | G1: Tab_2_Männer_LE_nichtAlo_inWeitb | H1: Tab_2_Männer_LE_nichtAlo_LeistfzbeiAU | I1: Tab_2_Männer_LE_nichtAlo_MindLeistfä | J1: Tab_2_Frauen_LE_nichtAlo | K1: Tab_2_Frauen_LE_nichtAlo_inWeitb | L1: Tab_2_Frauen_LE_nichtAlo_LeistfzbeiAU | M1: Tab_2_Frauen_LE_nichtAlo_MindLeistfä | N1: Tab_2_u25_LE_nichtAlo | O1: Tab_2_u25_LE_nichtAlo_inWeitb | P1: Tab_2_u25_LE_nichtAlo_LeistfzbeiAU | Q1: Tab_2_u25_LE_nichtAlo_MindLeistfä | R1: Tab_2_25-u55_LE_nichtAlo | S1: Tab_2_25-u55_LE_nichtAlo_inWeitb | T1: Tab_2_25-u55_LE_nichtAlo_LeistfzbeiAU | U1: Tab_2_25-u55_LE_nichtAlo_MindLeistfä | V1: Tab_2_55uä_LE_nichtAlo | W1: Tab_2_55uä_LE_nichtAlo_inWeitb | X1: Tab_2_55uä_LE_nichtAlo_LeistfzbeiAU | Y1: Tab_2_55uä_LE_nichtAlo_MindLeistfä | Z1: Tab_2_Ausländer_LE_nichtAlo | AA1: Tab_2_Ausländer_LE_nichtAlo_inWeitb | AB1: Tab_2_Ausländer_LE_nichtAlo_LeistfzbeiAU | AC1: Tab_2_Ausländer_LE_nichtAlo_MindLeistfä
A2: 2005 | B2: X | C2: 142 | D2: 76.333333 | E2: 6.9166667 | F2: X | G2: 61.083333 | H2: 45.75 | I2: 3.3333333 | J2: X | K2: 80.916667 | L2: 30.583333 | M2: 3.5833333 | N2: X | O2: 31.75 | P2: 11.416667 | Q2: * | R2: X | S2: 109.58333 | T2: 51 | U2: 5.4166667 | V2: X | W2: 0.66666667 | X2: 13.916667 | Y2: 1.1666667 | Z2: X | AA2: 2 | AB2: * | AC2: 0
A3: 2006 | B3: X | C3: 106.25 | D3: 57.583333 | E3: 13.083333 | F3: X | G3: 48.333333 | H3: 34.5 | I3: 6.1666667 | J3: X | K3: 57.916667 | L3: 23.083333 | M3: 6.9166667 | N3: X | O3: 26.5 | P3: 7.6666667 | Q3: 0.66666667 | R3: X | S3: 79 | T3: 37.083333 | U3: 10 | V3: X | W3: 0.75 | X3: 12.833333 | Y3: 2.4166667 | Z3: X | AA3: 0.41666667 | AB3: 0.25 | AC3: 0
A4: 2007 | B4: 527.83333 | C4: 94.333333 | D4: 61.25 | E4: 13.75 | F4: 287.41667 | G4: 46 | H4: 33.416667 | I4: 5.5833333 | J4: 240.41667 | K4: 48.333333 | L4: 27.833333 | M4: 8.1666667 | N4: 46.75 | O4: 22.583333 | P4: 10.166667 | Q4: * | R4: 133.66667 | S4: 66.416667 | T4: 35.666667 | U4: 7 | V4: 347.41667 | W4: 5.3333333 | X4: 15.416667 | Y4: 6.6666667 | Z4: 2.8333333 | AA4: 0.33333333 | AB4: * | AC4: 0
A5: 2008 | B5: 356.75 | C5: 61.5 | D5: 64.416667 | E5: 5.1666667 | F5: 184 | G5: 26.333333 | H5: 33.083333 | I5: 2.6666667 | J5: 172.75 | K5: 35.166667 | L5: 31.333333 | M5: 2.5 | N5: 33.083333 | O5: 15.666667 | P5: 7.3333333 | Q5: 0 | R5: 110.66667 | S5: 44.25 | T5: 42.5 | U5: 3.8333333 | V5: 213 | W5: 1.5833333 | X5: 14.583333 | Y5: 1.3333333 | Z5: 4 | AA5: 1.3333333 | AB5: 0.16666667 | AC5: *
A6: 2009 | B6: 266.5 | C6: 81.916667 | D6: 72.666667 | E6: 16.25 | F6: 149.83333 | G6: 40.5 | H6: 43.916667 | I6: 9.0833333 | J6: 116.66667 | K6: 41.416667 | L6: 28.75 | M6: 7.1666667 | N6: 43.583333 | O6: 19.5 | P6: 9.75 | Q6: 0 | R6: 146.66667 | S6: 58.916667 | T6: 48 | U6: 11.5 | V6: 76.25 | W6: 3.5 | X6: 14.916667 | Y6: 4.75 | Z6: 1.5833333 | AA6: 0.58333333 | AB6: 0.16666667 | AC6: 0.33333333
A7: 2010 | B7: 218.75 | C7: 82.666667 | D7: 70.5 | E7: 16.916667 | F7: 111 | G7: 35.166667 | H7: 40.333333 | I7: 8.5 | J7: 107.75 | K7: 47.5 | L7: 30.166667 | M7: 8.4166667 | N7: 38.416667 | O7: 19.166667 | P7: 10.333333 | Q7: 0.5 | R7: 136.83333 | S7: 61.166667 | T7: 42.583333 | U7: 11.75 | V7: 43.5 | W7: 2.3333333 | X7: 17.583333 | Y7: 4.6666667 | Z7: 0.83333333 | AA7: * | AB7: 0.33333333 | AC7: 0
A8: 2011 | B8: 195.08333 | C8: 83.083333 | D8: 64.833333 | E8: 13.166667 | F8: 84.166667 | G8: 24.5 | H8: 33 | I8: 7.1666667 | J8: 110.91667 | K8: 58.583333 | L8: 31.833333 | M8: 6 | N8: 23.833333 | O8: 10.666667 | P8: 6.0833333 | Q8: 0 | R8: 126.08333 | S8: 63.5 | T8: 36.583333 | U8: 6.75 | V8: 45.166667 | W8: 8.9166667 | X8: 22.166667 | Y8: 6.4166667 | Z8: 0.91666667 | AA8: 0.16666667 | AB8: 0.58333333 | AC8: 0
A9: 2012 | B9: 172.91667 | C9: 66.333333 | D9: 55.333333 | E9: 16.666667 | F9: 75 | G9: 18.25 | H9: 29.5 | I9: 9.8333333 | J9: 97.916667 | K9: 48.083333 | L9: 25.833333 | M9: 6.8333333 | N9: 17.75 | O9: 8.1666667 | P9: 4.1666667 | Q9: 0 | R9: 111.16667 | S9: 51.416667 | T9: 33.5 | U9: 8.4166667 | V9: 44 | W9: 6.75 | X9: 17.666667 | Y9: 8.25 | Z9: 1.5 | AA9: 0.58333333 | AB9: 0.75 | AC9: 0
A10: 2013 | B10: 187.58333 | C10: 68.5 | D10: 64.583333 | E10: 24.083333 | F10: 83.25 | G10: 18.916667 | H10: 37 | I10: 11 | J10: 104.33333 | K10: 49.583333 | L10: 27.583333 | M10: 13.083333 | N10: 15.5 | O10: 7.6666667 | P10: 5.25 | Q10: 0 | R10: 127.16667 | S10: 55.666667 | T10: 39.666667 | U10: 12.166667 | V10: 44.916667 | W10: 5.1666667 | X10: 19.666667 | Y10: 11.916667 | Z10: 3.4166667 | AA10: 1.0833333 | AB10: 0.83333333 | AC10: 0.33333333
A11: 2014 | B11: 182.33333 | C11: 72 | D11: 57.833333 | E11: 22.083333 | F11: 78.25 | G11: 21.75 | H11: 30.083333 | I11: 8.75 | J11: 104.08333 | K11: 50.25 | L11: 27.75 | M11: 13.333333 | N11: 9.5833333 | O11: 4.4166667 | P11: 2.75 | Q11: 0.33333333 | R11: 127.66667 | S11: 64.583333 | T11: 35.5 | U11: 9.5 | V11: 45.083333 | W11: 3 | X11: 19.583333 | Y11: 12.25 | Z11: 3.6666667 | AA11: 1.9166667 | AB11: 1.1666667 | AC11: 0
A12: 2015 | B12: 178.83333 | C12: 64.416667 | D12: 50.666667 | E12: 39.083333 | F12: 77.333333 | G12: 20.833333 | H12: 26.166667 | I12: 16.25 | J12: 101.5 | K12: 43.583333 | L12: 24.5 | M12: 22.833333 | N12: 7.3333333 | O12: 1.1666667 | P12: 2.4166667 | Q12: 0 | R12: 127 | S12: 60.083333 | T12: 31.5 | U12: 21.833333 | V12: 44.5 | W12: 3.1666667 | X12: 16.75 | Y12: 17.25 | Z12: 3.75 | AA12: 1.9166667 | AB12: 0.5 | AC12: 0
A13: 2016 | B13: 183.25 | C13: 78.583333 | D13: 45.583333 | E13: 34.083333 | F13: 87.5 | G13: 31.416667 | H13: 23.25 | I13: 17.583333 | J13: 95.75 | K13: 47.166667 | L13: 22.333333 | M13: 16.5 | N13: 9.4166667 | O13: 2.75 | P13: 2.9166667 | Q13: 0 | R13: 125.41667 | S13: 69.75 | T13: 26.833333 | U13: 13.916667 | V13: 48.416667 | W13: 6.0833333 | X13: 15.833333 | Y13: 20.166667 | Z13: 5.5833333 | AA13: 2.5 | AB13: 0.25 | AC13: 0.25
A14: 2017 | B14: 157 | C14: 61.583333 | D14: 42.833333 | E14: 35.666667 | F14: 76.583333 | G14: 24.666667 | H14: 23.5 | I14: 18.583333 | J14: 80.416667 | K14: 36.916667 | L14: 19.333333 | M14: 17.083333 | N14: 7.3333333 | O14: 1.75 | P14: 2.6666667 | Q14: 0.16666667 | R14: 103 | S14: 54.25 | T14: 26.083333 | U14: 15.166667 | V14: 46.666667 | W14: 5.5833333 | X14: 14.083333 | Y14: 20.333333 | Z14: 7.3333333 | AA14: 2.1666667 | AB14: 1 | AC14: 2.0833333
A15: 2018 | B15: 151.41667 | C15: 53 | D15: 42.083333 | E15: 36.333333 | F15: 74.833333 | G15: 21.583333 | H15: 22.416667 | I15: 18.083333 | J15: 76.583333 | K15: 31.416667 | L15: 19.666667 | M15: 18.25 | N15: 7.8333333 | O15: 2.75 | P15: 2.4166667 | Q15: 0.83333333 | R15: 95.166667 | S15: 45 | T15: 23 | U15: 16.833333 | V15: 48.416667 | W15: 5.25 | X15: 16.666667 | Y15: 18.666667 | Z15: 6.6666667 | AA15: 1.5833333 | AB15: 1.0833333 | AC15: 0.5
A16: 2019 | B16: 135.83333 | C16: 40 | D16: 34.666667 | E16: 40.166667 | F16: 62.666667 | G16: 12.75 | H16: 19.833333 | I16: 17.166667 | J16: 73.166667 | K16: 27.25 | L16: 14.833333 | M16: 23 | N16: 4.3333333 | O16: * | P16: 1.75 | Q16: 0 | R16: 84.25 | S16: 37.166667 | T16: 19.75 | U16: 16.75 | V16: 47.25 | W16: * | X16: 13.166667 | Y16: 23.416667 | Z16: 3.8333333 | AA16: * | AB16: 1.25 | AC16: 0
A17: 2020 | B17: 154.58333 | C17: 29.916667 | D17: 36.5 | E17: 64 | F17: 80.833333 | G17: 12.333333 | H17: 21.916667 | I17: 32 | J17: 73.75 | K17: 17.583333 | L17: 14.583333 | M17: 32 | N17: 6.75 | O17: 1.5833333 | P17: 1.8333333 | Q17: 0.5 | R17: 82.166667 | S17: 27.583333 | T17: 20 | U17: 22.916667 | V17: 65.666667 | W17: 0.75 | X17: 14.666667 | Y17: 40.583333 | Z17: 5.0833333 | AA17: 0 | AB17: 1.1666667 | AC17: 0.41666667
A18: 2021 | B18: 136.91667 | C18: 12.25 | D18: 27.666667 | E18: 73 | F18: 71.666667 | G18: 4.6666667 | H18: 17.666667 | I18: 33.416667 | J18: 65.25 | K18: 7.5833333 | L18: 10 | M18: 39.583333 | N18: 9.25 | O18: 1.5833333 | P18: 2.0833333 | Q18: 3.0833333 | R18: 60.916667 | S18: 9.75 | T18: 14.083333 | U18: 27.333333 | V18: 66.75 | W18: 0.91666667 | X18: 11.5 | Y18: 42.583333 | Z18: 4.1666667 | AA18: 0 | AB18: 0.83333333 | AC18: 0.58333333
A19: 2022 | B19: 158 | C19: 9.5833333 | D19: 29.833333 | E19: 92.083333 | F19: 75.583333 | G19: 4.0833333 | H19: 16.083333 | I19: 41.166667 | J19: 82.416667 | K19: 5.5 | L19: 13.75 | M19: 50.916667 | N19: 5.3333333 | O19: 0.75 | P19: 1.5 | Q19: 0.5 | R19: 66.5 | S19: 7.8333333 | T19: 13.666667 | U19: 34.083333 | V19: 86.166667 | W19: 1 | X19: 14.666667 | Y19: 57.5 | Z19: 5.9166667 | AA19: * | AB19: 1.5 | AC19: 0.66666667
A20: 2023 | B20: 173.91667 | C20: 15.583333 | D20: 29 | E20: 101.83333 | F20: 79.833333 | G20: 5 | H20: 13.916667 | I20: 45.416667 | J20: 94.083333 | K20: 10.583333 | L20: 15.083333 | M20: 56.416667 | N20: 3.75 | O20: 0.16666667 | P20: 1.4166667 | Q20: 0 | R20: 78.5 | S20: 14.166667 | T20: 13.333333 | U20: 37.25 | V20: 91.666667 | W20: 1.25 | X20: 14.25 | Y20: 64.583333 | Z20: 8.4166667 | AA20: 1.4166667 | AB20: 2.0833333 | AC20: 0.91666667
A21: 2024 | B21: 192.5 | C21: 20.083333 | D21: 30.166667 | E21: 114.33333 | F21: 96.083333 | G21: 6.9166667 | H21: 16.333333 | I21: 56.416667 | J21: 96.416667 | K21: 13.166667 | L21: 13.833333 | M21: 57.916667 | N21: 3.8333333 | O21: 0.66666667 | P21: 1.6666667 | Q21: * | R21: 90.333333 | S21: 18.75 | T21: 14.083333 | U21: 41.833333 | V21: 98.333333 | W21: 0.66666667 | X21: 14.416667 | Y21: 72.416667 | Z21: 11.5 | AA21: 1.75 | AB21: 2.25 | AC21: 2.75
A22: 2025 | B22: 177.66667 | C22: 21.583333 | D22: 30.25 | E22: 103.33333 | F22: 93 | G22: 9.5 | H22: 17.833333 | I22: 50.833333 | J22: 84.666667 | K22: 12.083333 | L22: 12.416667 | M22: 52.5 | N22: 8.5833333 | O22: 1.6666667 | P22: 1.9166667 | Q22: 2.4166667 | R22: 79.333333 | S22: 19.5 | T22: 16.416667 | U22: 30.666667 | V22: 89.75 | W22: 0.41666667 | X22: 11.916667 | Y22: 70.25 | Z22: 7.9166667 | AA22: 1.25 | AB22: 1.9166667 | AC22: 2.5
A23: Januar 2005 | B23: X | C23: 185 | D23: 116 | E23: 11 | F23: X | G23: 80 | H23: 74 | I23: 4 | J23: X | K23: 105 | L23: 42 | M23: 7 | N23: X | O23: 35 | P23: 14 | Q23: 0 | R23: X | S23: 150 | T23: 79 | U23: 10 | V23: X | W23: 0 | X23: 23 | Y23: 1 | Z23: X | AA23: 3 | AB23: 0 | AC23: 0
A24: Februar 2005 | B24: X | C24: 171 | D24: 124 | E24: 12 | F24: X | G24: 73 | H24: 76 | I24: 4 | J24: X | K24: 98 | L24: 48 | M24: 8 | N24: X | O24: 32 | P24: 13 | Q24: 0 | R24: X | S24: 139 | T24: 85 | U24: * | V24: X | W24: 0 | X24: 26 | Y24: * | Z24: X | AA24: 3 | AB24: 0 | AC24: 0
A25: März 2005 | B25: X | C25: 157 | D25: 97 | E25: 12 | F25: X | G25: 68 | H25: 61 | I25: 6 | J25: X | K25: 89 | L25: 36 | M25: 6 | N25: X | O25: * | P25: 17 | Q25: 0 | R25: X | S25: 126 | T25: 63 | U25: 9 | V25: X | W25: * | X25: 17 | Y25: 3 | Z25: X | AA25: 3 | AB25: 0 | AC25: 0
A26: April 2005 | B26: X | C26: 138 | D26: 92 | E26: 9 | F26: X | G26: 62 | H26: 60 | I26: 5 | J26: X | K26: 76 | L26: 32 | M26: 4 | N26: X | O26: * | P26: 9 | Q26: * | R26: X | S26: 107 | T26: 65 | U26: 5 | V26: X | W26: * | X26: 18 | Y26: * | Z26: X | AA26: 3 | AB26: 0 | AC26: 0
A27: Mai 2005 | B27: X | C27: 130 | D27: 72 | E27: 6 | F27: X | G27: 55 | H27: 41 | I27: * | J27: X | K27: 75 | L27: 31 | M27: * | N27: X | O27: * | P27: 14 | Q27: 0 | R27: X | S27: 103 | T27: 48 | U27: * | V27: X | W27: * | X27: 10 | Y27: * | Z27: X | AA27: * | AB27: 0 | AC27: 0
A28: Juni 2005 | B28: X | C28: 147 | D28: 81 | E28: * | F28: X | G28: 65 | H28: 53 | I28: * | J28: X | K28: 82 | L28: 28 | M28: * | N28: X | O28: 43 | P28: 16 | Q28: 0 | R28: X | S28: 104 | T28: 52 | U28: * | V28: X | W28: 0 | X28: 13 | Y28: * | Z28: X | AA28: * | AB28: 0 | AC28: 0
A29: Juli 2005 | B29: X | C29: 134 | D29: 53 | E29: * | F29: X | G29: 59 | H29: 35 | I29: * | J29: X | K29: 75 | L29: 18 | M29: * | N29: X | O29: 36 | P29: 9 | Q29: 0 | R29: X | S29: 98 | T29: 37 | U29: * | V29: X | W29: 0 | X29: 7 | Y29: 0 | Z29: X | AA29: * | AB29: 0 | AC29: 0
A30: August 2005 | B30: X | C30: 130 | D30: 69 | E30: 5 | F30: X | G30: 59 | H30: 37 | I30: * | J30: X | K30: 71 | L30: 32 | M30: * | N30: X | O30: * | P30: 17 | Q30: 0 | R30: X | S30: 97 | T30: 41 | U30: 5 | V30: X | W30: * | X30: 11 | Y30: 0 | Z30: X | AA30: * | AB30: 0 | AC30: 0
A31: September 2005 | B31: X | C31: 127 | D31: 60 | E31: 4 | F31: X | G31: 54 | H31: 26 | I31: * | J31: X | K31: 73 | L31: 34 | M31: * | N31: X | O31: * | P31: 10 | Q31: 0 | R31: X | S31: 93 | T31: 42 | U31: 4 | V31: X | W31: * | X31: 8 | Y31: 0 | Z31: X | AA31: * | AB31: * | AC31: 0
A32: Oktober 2005 | B32: X | C32: 126 | D32: 60 | E32: 6 | F32: X | G32: 49 | H32: 34 | I32: 3 | J32: X | K32: 77 | L32: 26 | M32: 3 | N32: X | O32: * | P32: 11 | Q32: 0 | R32: X | S32: 94 | T32: 39 | U32: * | V32: X | W32: * | X32: 10 | Y32: * | Z32: X | AA32: * | AB32: 0 | AC32: 0
