Workbook
Name DM: 1.95583
Name EUR: 1
Name Tab_1_Bew_Monat: roh_Tab_1_Bew!$B$8:$B$1048576
Name Tab_1_Bew_Region: roh_Tab_1_Bew!$A$8:$A$1048576
Name Tab_1_Bew_Status: roh_Tab_1_Bew!$D$7:$E$7
Name Tab_1_Bew_Werte: roh_Tab_1_Bew!$D$8:$E$1048576
Name Tab_1_Stellen_Monat: roh_Tab_1_Stellen!$B$8:$B$1048576
Name Tab_1_Stellen_Region: roh_Tab_1_Stellen!$A$8:$A$1048576
Name Tab_1_Stellen_Sonderprogramm: roh_Tab_1_Stellen!$D$7:$E$7
Name Tab_1_Stellen_Status: roh_Tab_1_Stellen!$D$6:$G$6
Name Tab_1_Stellen_Werte: roh_Tab_1_Stellen!$D$8:$G$1048576
Name Tab_2_Monat: roh_Tab_2!$D$7:$XFD$7
Name Tab_2_Region: roh_Tab_2!$A$8:$A$102
Name Tab_2_Status: roh_Tab_2!$B$8:$B$12
Name Tab_2_Werte: roh_Tab_2!$D$8:$XFD$102
Name Tab_3_Merkmal: 'LÖSCHEN_V roh_Tab_3'!$L$14:$L$43
Name Tab_3_Merkmal: roh_Tab_3!$B$9:$B$38
Name Tab_3_Monat: 'LÖSCHEN_V roh_Tab_3'!$N$12:$XFD$12
Name Tab_3_Monat: roh_Tab_3!$D$7:$XFD$7
Name Tab_3_Region: 'LÖSCHEN_V roh_Tab_3'!$K$14:$K$583
Name Tab_3_Region: roh_Tab_3!$A$9:$A$578
Name Tab_3_Status: 'LÖSCHEN_V roh_Tab_3'!$N$13:$R$13
Name Tab_3_Status: roh_Tab_3!$D$8:$H$8
Name Tab_3_Werte: 'LÖSCHEN_V roh_Tab_3'!$N$14:$XFD$583
Name Tab_3_Werte: roh_Tab_3!$D$9:$XFD$578
Name Tab_4_Merkmal_Verbleib: roh_Tab_4!$B$9:$B$29
Name Tab_4_Monat: roh_Tab_4!$D$7:$XFD$7
Name Tab_4_Region: roh_Tab_4!$A$9:$A$407
Name Tab_4_Status: roh_Tab_4!$D$8:$H$8
Name Tab_4_Werte: roh_Tab_4!$D$9:$XFD$407
Name Tab_5_Merkmal_Kammer: roh_Tab_5!$B$9:$B$22
Name Tab_5_Monat: roh_Tab_5!$D$6:$XFD$6
Name Tab_5_Region: roh_Tab_5!$A$9:$A$274
Name Tab_5_Sonderprogramme: roh_Tab_5!$D$8:$E$8
Name Tab_5_Status: roh_Tab_5!$D$7:$G$7
Name Tab_5_Werte: roh_Tab_5!$D$9:$XFD$274
Name Tab_6_Bew_Monat: roh_Tab_6_Bew!$C$7:$XFD$7
Name Tab_6_Bew_Region: roh_Tab_6_Bew!$A$9:$A$27
Name Tab_6_Bew_Status: roh_Tab_6_Bew!$C$8:$D$8
Name Tab_6_Bew_Werte: roh_Tab_6_Bew!$C$9:$XFD$27
Name Tab_6_Stellen_Monat: roh_Tab_6_Stellen!$C$6:$XFD$6
Name Tab_6_Stellen_Region: roh_Tab_6_Stellen!$A$9:$A$27
Name Tab_6_Stellen_Sonderprogramme: roh_Tab_6_Stellen!$C$8:$D$8
Name Tab_6_Stellen_Status: roh_Tab_6_Stellen!$C$7:$F$7
Name Tab_6_Stellen_Werte: roh_Tab_6_Stellen!$C$9:$XFD$27

Sheet Deckblatt
C1: September 2025 (Revidierte Daten)

Sheet Impressum
A4: Impressum
A6: Produktlinie/Reihe: | C6: Tabellen
A8: Titel: | C8: Bewerber und Berufsausbildungsstellen
A10: Region: | C10: Deutschland, West/Ost und Länder
A12: Berichtsmonat: | C12: Zeitreihe
A14: Erstellungsdatum: | C14: 46227
A16: Periodizität: | C16: jährlich
A18: nächster Veröffentlichungstermin: | C18: 46325
A20: Herausgeberin: | C20: Bundesagentur für Arbeit
C21: Statistik
A23: Rückfragen an: | C23: Zentraler Statistik-Service
C24: Regensburger Straße 104
C25: 90478 Nürnberg
A26: E-Mail: | C26: Zentraler-Statistik-Service@arbeitsagentur.de
A27: Hotline: | C27: 0911/179-3632
A29: Hinweise: | C29: Revidierte Daten für die gemeldeten Berufsausbildungsstellen im Berichtsjahr 2024/25. Es können Abweichungen gegenüber Auswertungen mit früherem Erstellungsdatum auftreten.
A31: Weiterführende statistische Informationen
A33: Internet: | C33: http://statistik.arbeitsagentur.de
A35: Zitierhinweis: | C35: Statistik der Bundesagentur für Arbeit
A38: Nutzungsbedingungen: | C38: © Statistik der Bundesagentur für Arbeit
C39: Sie können Informationen speichern, (auch auszugsweise) mit Quellen-
C40: angabe weitergeben, vervielfältigen und verbreiten. Die Inhalte dürfen
C41: nicht verändert oder verfälscht werden. Eigene Berechnungen sind
C42: erlaubt, jedoch als solche kenntlich zu machen.
C43: Im Falle einer Zugänglichmachung im Internet soll dies in Form einer
C44: Verlinkung auf die Homepage der Statistik der Bundesagentur für Arbeit
C45: erfolgen.
C46: Die Nutzung der Inhalte für gewerbliche Zwecke, ausgenommen Presse,
C47: Rundfunk und Fernsehen und wissenschaftliche Publikationen, bedarf
C48: der Genehmigung durch die Statistik der Bundesagentur für Arbeit.

Sheet Inhaltsverzeichnis
A4: Inhaltsverzeichnis
A7: Bewerber für Berufsausbildungsstellen und Berufsausbildungsstellen - Zeitreihe
A8: =Org!A1 -> Deutschland
A9: Zeitreihe
A11: Tabelle
A13: Tab_1 | B13: =Tab_1!A3 -> 1 Seit Beginn des jeweiligen Berichtsjahres gemeldete Berufsausbildungsstellen und gemeldete Bewerber für Berufsausbildungsstellen - monatlich
A14: Tab_2 | B14: =Tab_2!A3 -> 2 Seit Beginn des Berichtsjahres gemeldete Bewerber für Berufsausbildungsstellen nach dem Status der Ausbildungssuche jeweils zum 30.09.
A15: Tab_3 | B15: =Tab_3!A3 -> 3 Seit Beginn des Berichtsjahres gemeldete Bewerber nach Personenmerkmalen jeweils zum 30.09.
A16: Tab_4 | B16: =Tab_4!A3 -> 4 Seit Beginn des Berichtsjahres gemeldete Bewerber für Berufsausbildungsstellen nach der Art des Verbleibs jeweils zum 30.09.
A17: Tab_5 | B17: =Tab_5!A3 -> 5 Seit Beginn des Berichtsjahres gemeldete Berufsausbildungsstellen nach zuständiger Stelle jeweils zum 30.09.
A18: Tab_6 | B18: =Tab_6!A3 -> 6 Seit Beginn des Berichtsjahres gemeldete Berufsausbildungsstellen und gemeldete Bewerber für Berufsausbildungsstellen im Regionenvergleich jeweils zum 30.09.
A19: Hinweise AusbM | B19: Methodische Hinweise und Definitionen - Erläuterungen zu den Statistiken über den Ausbildungsstellenmarkt
A20: Info

Sheet Tab_1
K1: Ausbildungsmarkt
A3: =CONCATENATE("1 Seit Beginn des jeweiligen Berichtsjahres ",B9," und ",G9," - monatlich") -> 1 Seit Beginn des jeweiligen Berichtsjahres gemeldete Berufsausbildungsstellen und gemeldete Bewerber für Berufsausbildungsstellen - monatlich
A4: =Org!A1 -> Deutschland
A5: Zeitreihe
A7: Bitte beachten Sie die das Tabellenblatt "Hinweis_Ausbildungsmarkt" bei der Interpretation der Daten.
A8: Revidierte Daten für die gemeldeten Berufsausbildungsstellen im Berichtsjahr 2024/25. Es können Abweichungen gegenüber Auswertungen mit früherem Erstellungsdatum auftreten.
B9: =IF(Org!C29=1,Org!A26,IF(Org!C29=2,Org!A27,IF(Org!C29=3,Org!A28))) -> gemeldete Berufsausbildungsstellen | G9: =IF(Org!C29=1,Org!A24,IF(Org!C29=2,Org!A25,IF(Org!C29=3,Org!A24,))) -> gemeldete Bewerber für Berufsausbildungsstellen
A10: Berichtsmonate | B10: =RIGHT(Org!$A33,7) -> 2020/21 | C10: =RIGHT(Org!$A34,7) -> 2021/22 | D10: =RIGHT(Org!$A35,7) -> 2022/23 | E10: =RIGHT(Org!$A36,7) -> 2023/24 | F10: =RIGHT(Org!$A37,7) -> 2024/25 | G10: =B10 -> 2020/21 | H10: =C10 -> 2021/22 | I10: =D10 -> 2022/23 | J10: =E10 -> 2023/24 | K10: =F10 -> 2024/25
B11: 1 | C11: 2 | D11: 3 | E11: 4 | F11: 5 | G11: 6 | H11: 7 | I11: 8 | J11: 9 | K11: 10
A12: Oktober | B12: =IF(ISERROR(roh_Tab_1_Formel!B11),"",roh_Tab_1_Formel!B11) -> 255421 | C12: =IF(ISERROR(roh_Tab_1_Formel!C11),"",roh_Tab_1_Formel!C11) -> 261957 | D12: =IF(ISERROR(roh_Tab_1_Formel!D11),"",roh_Tab_1_Formel!D11) -> 281293 | E12: =IF(ISERROR(roh_Tab_1_Formel!E11),"",roh_Tab_1_Formel!E11) -> 284604 | F12: =IF(ISERROR(roh_Tab_1_Formel!F11),"",roh_Tab_1_Formel!F11) -> 279809 | G12: =IF(ISERROR(roh_Tab_1_Formel!G11),"",roh_Tab_1_Formel!G11) -> 147585 | H12: =IF(ISERROR(roh_Tab_1_Formel!H11),"",roh_Tab_1_Formel!H11) -> 133758 | I12: =IF(ISERROR(roh_Tab_1_Formel!I11),"",roh_Tab_1_Formel!I11) -> 136274 | ... K12: =IF(ISERROR(roh_Tab_1_Formel!K11),"",roh_Tab_1_Formel!K11) -> 150857
A13: November | B13: =IF(ISERROR(roh_Tab_1_Formel!B12),"",roh_Tab_1_Formel!B12) -> 300550 | C13: =IF(ISERROR(roh_Tab_1_Formel!C12),"",roh_Tab_1_Formel!C12) -> 312563 | D13: =IF(ISERROR(roh_Tab_1_Formel!D12),"",roh_Tab_1_Formel!D12) -> 325276 | E13: =IF(ISERROR(roh_Tab_1_Formel!E12),"",roh_Tab_1_Formel!E12) -> 330434 | F13: =IF(ISERROR(roh_Tab_1_Formel!F12),"",roh_Tab_1_Formel!F12) -> 325318 | G13: =IF(ISERROR(roh_Tab_1_Formel!G12),"",roh_Tab_1_Formel!G12) -> 196953 | H13: =IF(ISERROR(roh_Tab_1_Formel!H12),"",roh_Tab_1_Formel!H12) -> 177220 | I13: =IF(ISERROR(roh_Tab_1_Formel!I12),"",roh_Tab_1_Formel!I12) -> 178080 | ... K13: =IF(ISERROR(roh_Tab_1_Formel!K12),"",roh_Tab_1_Formel!K12) -> 193385
A14: Dezember | B14: =IF(ISERROR(roh_Tab_1_Formel!B13),"",roh_Tab_1_Formel!B13) -> 334648 | C14: =IF(ISERROR(roh_Tab_1_Formel!C13),"",roh_Tab_1_Formel!C13) -> 352517 | D14: =IF(ISERROR(roh_Tab_1_Formel!D13),"",roh_Tab_1_Formel!D13) -> 361946 | E14: =IF(ISERROR(roh_Tab_1_Formel!E13),"",roh_Tab_1_Formel!E13) -> 365915 | F14: =IF(ISERROR(roh_Tab_1_Formel!F13),"",roh_Tab_1_Formel!F13) -> 354177 | G14: =IF(ISERROR(roh_Tab_1_Formel!G13),"",roh_Tab_1_Formel!G13) -> 239358 | H14: =IF(ISERROR(roh_Tab_1_Formel!H13),"",roh_Tab_1_Formel!H13) -> 221563 | I14: =IF(ISERROR(roh_Tab_1_Formel!I13),"",roh_Tab_1_Formel!I13) -> 220589 | ... K14: =IF(ISERROR(roh_Tab_1_Formel!K13),"",roh_Tab_1_Formel!K13) -> 234996
A15: Januar | B15: =IF(ISERROR(roh_Tab_1_Formel!B14),"",roh_Tab_1_Formel!B14) -> 358716 | C15: =IF(ISERROR(roh_Tab_1_Formel!C14),"",roh_Tab_1_Formel!C14) -> 383282 | D15: =IF(ISERROR(roh_Tab_1_Formel!D14),"",roh_Tab_1_Formel!D14) -> 395535 | E15: =IF(ISERROR(roh_Tab_1_Formel!E14),"",roh_Tab_1_Formel!E14) -> 390059 | F15: =IF(ISERROR(roh_Tab_1_Formel!F14),"",roh_Tab_1_Formel!F14) -> 372137 | G15: =IF(ISERROR(roh_Tab_1_Formel!G14),"",roh_Tab_1_Formel!G14) -> 262410 | H15: =IF(ISERROR(roh_Tab_1_Formel!H14),"",roh_Tab_1_Formel!H14) -> 248094 | I15: =IF(ISERROR(roh_Tab_1_Formel!I14),"",roh_Tab_1_Formel!I14) -> 244182 | ... K15: =IF(ISERROR(roh_Tab_1_Formel!K14),"",roh_Tab_1_Formel!K14) -> 259660
A16: Februar | B16: =IF(ISERROR(roh_Tab_1_Formel!B15),"",roh_Tab_1_Formel!B15) -> 387704 | C16: =IF(ISERROR(roh_Tab_1_Formel!C15),"",roh_Tab_1_Formel!C15) -> 417095 | D16: =IF(ISERROR(roh_Tab_1_Formel!D15),"",roh_Tab_1_Formel!D15) -> 427613 | E16: =IF(ISERROR(roh_Tab_1_Formel!E15),"",roh_Tab_1_Formel!E15) -> 416530 | F16: =IF(ISERROR(roh_Tab_1_Formel!F15),"",roh_Tab_1_Formel!F15) -> 396890 | G16: =IF(ISERROR(roh_Tab_1_Formel!G15),"",roh_Tab_1_Formel!G15) -> 293916 | H16: =IF(ISERROR(roh_Tab_1_Formel!H15),"",roh_Tab_1_Formel!H15) -> 283922 | I16: =IF(ISERROR(roh_Tab_1_Formel!I15),"",roh_Tab_1_Formel!I15) -> 281973 | ... K16: =IF(ISERROR(roh_Tab_1_Formel!K15),"",roh_Tab_1_Formel!K15) -> 294488
A17: März | B17: =IF(ISERROR(roh_Tab_1_Formel!B16),"",roh_Tab_1_Formel!B16) -> 415651 | C17: =IF(ISERROR(roh_Tab_1_Formel!C16),"",roh_Tab_1_Formel!C16) -> 443407 | D17: =IF(ISERROR(roh_Tab_1_Formel!D16),"",roh_Tab_1_Formel!D16) -> 450798 | E17: =IF(ISERROR(roh_Tab_1_Formel!E16),"",roh_Tab_1_Formel!E16) -> 437637 | F17: =IF(ISERROR(roh_Tab_1_Formel!F16),"",roh_Tab_1_Formel!F16) -> 415886 | G17: =IF(ISERROR(roh_Tab_1_Formel!G16),"",roh_Tab_1_Formel!G16) -> 322779 | H17: =IF(ISERROR(roh_Tab_1_Formel!H16),"",roh_Tab_1_Formel!H16) -> 313401 | I17: =IF(ISERROR(roh_Tab_1_Formel!I16),"",roh_Tab_1_Formel!I16) -> 310992 | ... K17: =IF(ISERROR(roh_Tab_1_Formel!K16),"",roh_Tab_1_Formel!K16) -> 326670
A18: April | B18: =IF(ISERROR(roh_Tab_1_Formel!B17),"",roh_Tab_1_Formel!B17) -> 436800 | C18: =IF(ISERROR(roh_Tab_1_Formel!C17),"",roh_Tab_1_Formel!C17) -> 465954 | D18: =IF(ISERROR(roh_Tab_1_Formel!D17),"",roh_Tab_1_Formel!D17) -> 471983 | E18: =IF(ISERROR(roh_Tab_1_Formel!E17),"",roh_Tab_1_Formel!E17) -> 454523 | F18: =IF(ISERROR(roh_Tab_1_Formel!F17),"",roh_Tab_1_Formel!F17) -> 431565 | G18: =IF(ISERROR(roh_Tab_1_Formel!G17),"",roh_Tab_1_Formel!G17) -> 345006 | H18: =IF(ISERROR(roh_Tab_1_Formel!H17),"",roh_Tab_1_Formel!H17) -> 338940 | I18: =IF(ISERROR(roh_Tab_1_Formel!I17),"",roh_Tab_1_Formel!I17) -> 335816 | ... K18: =IF(ISERROR(roh_Tab_1_Formel!K17),"",roh_Tab_1_Formel!K17) -> 353941
A19: Mai | B19: =IF(ISERROR(roh_Tab_1_Formel!B18),"",roh_Tab_1_Formel!B18) -> 455281 | C19: =IF(ISERROR(roh_Tab_1_Formel!C18),"",roh_Tab_1_Formel!C18) -> 482986 | D19: =IF(ISERROR(roh_Tab_1_Formel!D18),"",roh_Tab_1_Formel!D18) -> 487429 | E19: =IF(ISERROR(roh_Tab_1_Formel!E18),"",roh_Tab_1_Formel!E18) -> 468784 | F19: =IF(ISERROR(roh_Tab_1_Formel!F18),"",roh_Tab_1_Formel!F18) -> 443852 | G19: =IF(ISERROR(roh_Tab_1_Formel!G18),"",roh_Tab_1_Formel!G18) -> 366722 | H19: =IF(ISERROR(roh_Tab_1_Formel!H18),"",roh_Tab_1_Formel!H18) -> 358349 | I19: =IF(ISERROR(roh_Tab_1_Formel!I18),"",roh_Tab_1_Formel!I18) -> 355632 | ... K19: =IF(ISERROR(roh_Tab_1_Formel!K18),"",roh_Tab_1_Formel!K18) -> 375393
A20: Juni | B20: =IF(ISERROR(roh_Tab_1_Formel!B19),"",roh_Tab_1_Formel!B19) -> 472596 | C20: =IF(ISERROR(roh_Tab_1_Formel!C19),"",roh_Tab_1_Formel!C19) -> 498733 | D20: =IF(ISERROR(roh_Tab_1_Formel!D19),"",roh_Tab_1_Formel!D19) -> 501664 | E20: =IF(ISERROR(roh_Tab_1_Formel!E19),"",roh_Tab_1_Formel!E19) -> 480457 | F20: =IF(ISERROR(roh_Tab_1_Formel!F19),"",roh_Tab_1_Formel!F19) -> 459910 | G20: =IF(ISERROR(roh_Tab_1_Formel!G19),"",roh_Tab_1_Formel!G19) -> 385042 | H20: =IF(ISERROR(roh_Tab_1_Formel!H19),"",roh_Tab_1_Formel!H19) -> 375715 | I20: =IF(ISERROR(roh_Tab_1_Formel!I19),"",roh_Tab_1_Formel!I19) -> 373806 | ... K20: =IF(ISERROR(roh_Tab_1_Formel!K19),"",roh_Tab_1_Formel!K19) -> 395736
A21: Juli | B21: =IF(ISERROR(roh_Tab_1_Formel!B20),"",roh_Tab_1_Formel!B20) -> 489717 | C21: =IF(ISERROR(roh_Tab_1_Formel!C20),"",roh_Tab_1_Formel!C20) -> 512018 | D21: =IF(ISERROR(roh_Tab_1_Formel!D20),"",roh_Tab_1_Formel!D20) -> 513953 | E21: =IF(ISERROR(roh_Tab_1_Formel!E20),"",roh_Tab_1_Formel!E20) -> 491834 | F21: =IF(ISERROR(roh_Tab_1_Formel!F20),"",roh_Tab_1_Formel!F20) -> 471653 | G21: =IF(ISERROR(roh_Tab_1_Formel!G20),"",roh_Tab_1_Formel!G20) -> 404443 | H21: =IF(ISERROR(roh_Tab_1_Formel!H20),"",roh_Tab_1_Formel!H20) -> 392276 | I21: =IF(ISERROR(roh_Tab_1_Formel!I20),"",roh_Tab_1_Formel!I20) -> 392190 | ... K21: =IF(ISERROR(roh_Tab_1_Formel!K20),"",roh_Tab_1_Formel!K20) -> 414126
A22: August | B22: =IF(ISERROR(roh_Tab_1_Formel!B21),"",roh_Tab_1_Formel!B21) -> 505635 | C22: =IF(ISERROR(roh_Tab_1_Formel!C21),"",roh_Tab_1_Formel!C21) -> 525559 | D22: =IF(ISERROR(roh_Tab_1_Formel!D21),"",roh_Tab_1_Formel!D21) -> 527460 | E22: =IF(ISERROR(roh_Tab_1_Formel!E21),"",roh_Tab_1_Formel!E21) -> 502356 | F22: =IF(ISERROR(roh_Tab_1_Formel!F21),"",roh_Tab_1_Formel!F21) -> 483541 | G22: =IF(ISERROR(roh_Tab_1_Formel!G21),"",roh_Tab_1_Formel!G21) -> 420273 | H22: =IF(ISERROR(roh_Tab_1_Formel!H21),"",roh_Tab_1_Formel!H21) -> 407642 | I22: =IF(ISERROR(roh_Tab_1_Formel!I21),"",roh_Tab_1_Formel!I21) -> 407588 | ... K22: =IF(ISERROR(roh_Tab_1_Formel!K21),"",roh_Tab_1_Formel!K21) -> 429608
A23: September | B23: =IF(ISERROR(roh_Tab_1_Formel!B22),"",roh_Tab_1_Formel!B22) -> 522867 | C23: =IF(ISERROR(roh_Tab_1_Formel!C22),"",roh_Tab_1_Formel!C22) -> 545960 | D23: =IF(ISERROR(roh_Tab_1_Formel!D22),"",roh_Tab_1_Formel!D22) -> 545039 | E23: =IF(ISERROR(roh_Tab_1_Formel!E22),"",roh_Tab_1_Formel!E22) -> 519399 | F23: =IF(ISERROR(roh_Tab_1_Formel!F22),"",roh_Tab_1_Formel!F22) -> 501338 | G23: =IF(ISERROR(roh_Tab_1_Formel!G22),"",roh_Tab_1_Formel!G22) -> 433543 | H23: =IF(ISERROR(roh_Tab_1_Formel!H22),"",roh_Tab_1_Formel!H22) -> 422400 | I23: =IF(ISERROR(roh_Tab_1_Formel!I22),"",roh_Tab_1_Formel!I22) -> 422059 | ... K23: =IF(ISERROR(roh_Tab_1_Formel!K22),"",roh_Tab_1_Formel!K22) -> 444335
K24: © Statistik der Bundesagentur für Arbeit
A26: =CONCATENATE("Seit Beginn des Berichtsjahres ",RIGHT(Org!B33,7)," ",B9," und ",G9,IF(Org!A1="Saarland"," im "," in "),Org!A1) -> Seit Beginn des Berichtsjahres 2024/25 gemeldete Berufsausbildungsstellen und gemeldete Bewerber für Berufsausbildungsstellen in Deutschland
B29: =B9 -> gemeldete Berufsausbildungsstellen | C29: =G9 -> gemeldete Bewerber für Berufsausbildungsstellen
A30: Berichtsmonate | B30: =IF(Org!$C$33=1,Tab_1!B10,IF(Org!$C$33=2,Tab_1!C10,IF(Org!$C$33=3,Tab_1!D10,IF(Org!$C$33=4,Tab_1!E10,IF(Org!$C$33=5,Tab_1!F10,))))) -> 2024/25 | C30: =IF(Org!$C$33=1,Tab_1!G10,IF(Org!$C$33=2,Tab_1!H10,IF(Org!$C$33=3,Tab_1!I10,IF(Org!$C$33=4,Tab_1!J10,IF(Org!$C$33=5,Tab_1!K10,))))) -> 2024/25
A31: Oktober | B31: =IF(ISERROR(INDEX($B$12:$K$23,MATCH($A31,$A$12:$A$23,0),MATCH(B$29,$B$9:$K$9,0)+MATCH(B$30,$B$10:$F$10,0)-1)),"",INDEX($B$12:$K$23,MATCH($A31,$A$12:$A$23,0),MATCH(B$29,$B$9:$K$9,0)+MATCH(B$30,$B$10:$F$10,0)-1)) -> 279809 | C31: =IF(ISERROR(INDEX($B$12:$K$23,MATCH($A31,$A$12:$A$23,0),MATCH(C$29,$B$9:$K$9,0)+MATCH(C$30,$B$10:$F$10,0)-1)),"",INDEX($B$12:$K$23,MATCH($A31,$A$12:$A$23,0),MATCH(C$29,$B$9:$K$9,0)+MATCH(C$30,$B$10:$F$10,0)-1)) -> 150857
A32: November | B32: =IF(ISERROR(INDEX($B$12:$K$23,MATCH($A32,$A$12:$A$23,0),MATCH(B$29,$B$9:$K$9,0)+MATCH(B$30,$B$10:$F$10,0)-1)),"",INDEX($B$12:$K$23,MATCH($A32,$A$12:$A$23,0),MATCH(B$29,$B$9:$K$9,0)+MATCH(B$30,$B$10:$F$10,0)-1)) -> 325318 | C32: =IF(ISERROR(INDEX($B$12:$K$23,MATCH($A32,$A$12:$A$23,0),MATCH(C$29,$B$9:$K$9,0)+MATCH(C$30,$B$10:$F$10,0)-1)),"",INDEX($B$12:$K$23,MATCH($A32,$A$12:$A$23,0),MATCH(C$29,$B$9:$K$9,0)+MATCH(C$30,$B$10:$F$10,0)-1)) -> 193385
A33: Dezember | B33: =IF(ISERROR(INDEX($B$12:$K$23,MATCH($A33,$A$12:$A$23,0),MATCH(B$29,$B$9:$K$9,0)+MATCH(B$30,$B$10:$F$10,0)-1)),"",INDEX($B$12:$K$23,MATCH($A33,$A$12:$A$23,0),MATCH(B$29,$B$9:$K$9,0)+MATCH(B$30,$B$10:$F$10,0)-1)) -> 354177 | C33: =IF(ISERROR(INDEX($B$12:$K$23,MATCH($A33,$A$12:$A$23,0),MATCH(C$29,$B$9:$K$9,0)+MATCH(C$30,$B$10:$F$10,0)-1)),"",INDEX($B$12:$K$23,MATCH($A33,$A$12:$A$23,0),MATCH(C$29,$B$9:$K$9,0)+MATCH(C$30,$B$10:$F$10,0)-1)) -> 234996
A34: Januar | B34: =IF(ISERROR(INDEX($B$12:$K$23,MATCH($A34,$A$12:$A$23,0),MATCH(B$29,$B$9:$K$9,0)+MATCH(B$30,$B$10:$F$10,0)-1)),"",INDEX($B$12:$K$23,MATCH($A34,$A$12:$A$23,0),MATCH(B$29,$B$9:$K$9,0)+MATCH(B$30,$B$10:$F$10,0)-1)) -> 372137 | C34: =IF(ISERROR(INDEX($B$12:$K$23,MATCH($A34,$A$12:$A$23,0),MATCH(C$29,$B$9:$K$9,0)+MATCH(C$30,$B$10:$F$10,0)-1)),"",INDEX($B$12:$K$23,MATCH($A34,$A$12:$A$23,0),MATCH(C$29,$B$9:$K$9,0)+MATCH(C$30,$B$10:$F$10,0)-1)) -> 259660
A35: Februar | B35: =IF(ISERROR(INDEX($B$12:$K$23,MATCH($A35,$A$12:$A$23,0),MATCH(B$29,$B$9:$K$9,0)+MATCH(B$30,$B$10:$F$10,0)-1)),"",INDEX($B$12:$K$23,MATCH($A35,$A$12:$A$23,0),MATCH(B$29,$B$9:$K$9,0)+MATCH(B$30,$B$10:$F$10,0)-1)) -> 396890 | C35: =IF(ISERROR(INDEX($B$12:$K$23,MATCH($A35,$A$12:$A$23,0),MATCH(C$29,$B$9:$K$9,0)+MATCH(C$30,$B$10:$F$10,0)-1)),"",INDEX($B$12:$K$23,MATCH($A35,$A$12:$A$23,0),MATCH(C$29,$B$9:$K$9,0)+MATCH(C$30,$B$10:$F$10,0)-1)) -> 294488
A36: März | B36: =IF(ISERROR(INDEX($B$12:$K$23,MATCH($A36,$A$12:$A$23,0),MATCH(B$29,$B$9:$K$9,0)+MATCH(B$30,$B$10:$F$10,0)-1)),"",INDEX($B$12:$K$23,MATCH($A36,$A$12:$A$23,0),MATCH(B$29,$B$9:$K$9,0)+MATCH(B$30,$B$10:$F$10,0)-1)) -> 415886 | C36: =IF(ISERROR(INDEX($B$12:$K$23,MATCH($A36,$A$12:$A$23,0),MATCH(C$29,$B$9:$K$9,0)+MATCH(C$30,$B$10:$F$10,0)-1)),"",INDEX($B$12:$K$23,MATCH($A36,$A$12:$A$23,0),MATCH(C$29,$B$9:$K$9,0)+MATCH(C$30,$B$10:$F$10,0)-1)) -> 326670
A37: April | B37: =IF(ISERROR(INDEX($B$12:$K$23,MATCH($A37,$A$12:$A$23,0),MATCH(B$29,$B$9:$K$9,0)+MATCH(B$30,$B$10:$F$10,0)-1)),"",INDEX($B$12:$K$23,MATCH($A37,$A$12:$A$23,0),MATCH(B$29,$B$9:$K$9,0)+MATCH(B$30,$B$10:$F$10,0)-1)) -> 431565 | C37: =IF(ISERROR(INDEX($B$12:$K$23,MATCH($A37,$A$12:$A$23,0),MATCH(C$29,$B$9:$K$9,0)+MATCH(C$30,$B$10:$F$10,0)-1)),"",INDEX($B$12:$K$23,MATCH($A37,$A$12:$A$23,0),MATCH(C$29,$B$9:$K$9,0)+MATCH(C$30,$B$10:$F$10,0)-1)) -> 353941
A38: Mai | B38: =IF(ISERROR(INDEX($B$12:$K$23,MATCH($A38,$A$12:$A$23,0),MATCH(B$29,$B$9:$K$9,0)+MATCH(B$30,$B$10:$F$10,0)-1)),"",INDEX($B$12:$K$23,MATCH($A38,$A$12:$A$23,0),MATCH(B$29,$B$9:$K$9,0)+MATCH(B$30,$B$10:$F$10,0)-1)) -> 443852 | C38: =IF(ISERROR(INDEX($B$12:$K$23,MATCH($A38,$A$12:$A$23,0),MATCH(C$29,$B$9:$K$9,0)+MATCH(C$30,$B$10:$F$10,0)-1)),"",INDEX($B$12:$K$23,MATCH($A38,$A$12:$A$23,0),MATCH(C$29,$B$9:$K$9,0)+MATCH(C$30,$B$10:$F$10,0)-1)) -> 375393
A39: Juni | B39: =IF(ISERROR(INDEX($B$12:$K$23,MATCH($A39,$A$12:$A$23,0),MATCH(B$29,$B$9:$K$9,0)+MATCH(B$30,$B$10:$F$10,0)-1)),"",INDEX($B$12:$K$23,MATCH($A39,$A$12:$A$23,0),MATCH(B$29,$B$9:$K$9,0)+MATCH(B$30,$B$10:$F$10,0)-1)) -> 459910 | C39: =IF(ISERROR(INDEX($B$12:$K$23,MATCH($A39,$A$12:$A$23,0),MATCH(C$29,$B$9:$K$9,0)+MATCH(C$30,$B$10:$F$10,0)-1)),"",INDEX($B$12:$K$23,MATCH($A39,$A$12:$A$23,0),MATCH(C$29,$B$9:$K$9,0)+MATCH(C$30,$B$10:$F$10,0)-1)) -> 395736
A40: Juli | B40: =IF(ISERROR(INDEX($B$12:$K$23,MATCH($A40,$A$12:$A$23,0),MATCH(B$29,$B$9:$K$9,0)+MATCH(B$30,$B$10:$F$10,0)-1)),"",INDEX($B$12:$K$23,MATCH($A40,$A$12:$A$23,0),MATCH(B$29,$B$9:$K$9,0)+MATCH(B$30,$B$10:$F$10,0)-1)) -> 471653 | C40: =IF(ISERROR(INDEX($B$12:$K$23,MATCH($A40,$A$12:$A$23,0),MATCH(C$29,$B$9:$K$9,0)+MATCH(C$30,$B$10:$F$10,0)-1)),"",INDEX($B$12:$K$23,MATCH($A40,$A$12:$A$23,0),MATCH(C$29,$B$9:$K$9,0)+MATCH(C$30,$B$10:$F$10,0)-1)) -> 414126
A41: August | B41: =IF(ISERROR(INDEX($B$12:$K$23,MATCH($A41,$A$12:$A$23,0),MATCH(B$29,$B$9:$K$9,0)+MATCH(B$30,$B$10:$F$10,0)-1)),"",INDEX($B$12:$K$23,MATCH($A41,$A$12:$A$23,0),MATCH(B$29,$B$9:$K$9,0)+MATCH(B$30,$B$10:$F$10,0)-1)) -> 483541 | C41: =IF(ISERROR(INDEX($B$12:$K$23,MATCH($A41,$A$12:$A$23,0),MATCH(C$29,$B$9:$K$9,0)+MATCH(C$30,$B$10:$F$10,0)-1)),"",INDEX($B$12:$K$23,MATCH($A41,$A$12:$A$23,0),MATCH(C$29,$B$9:$K$9,0)+MATCH(C$30,$B$10:$F$10,0)-1)) -> 429608
A42: September | B42: =IF(ISERROR(INDEX($B$12:$K$23,MATCH($A42,$A$12:$A$23,0),MATCH(B$29,$B$9:$K$9,0)+MATCH(B$30,$B$10:$F$10,0)-1)),"",INDEX($B$12:$K$23,MATCH($A42,$A$12:$A$23,0),MATCH(B$29,$B$9:$K$9,0)+MATCH(B$30,$B$10:$F$10,0)-1)) -> 501338 | C42: =IF(ISERROR(INDEX($B$12:$K$23,MATCH($A42,$A$12:$A$23,0),MATCH(C$29,$B$9:$K$9,0)+MATCH(C$30,$B$10:$F$10,0)-1)),"",INDEX($B$12:$K$23,MATCH($A42,$A$12:$A$23,0),MATCH(C$29,$B$9:$K$9,0)+MATCH(C$30,$B$10:$F$10,0)-1)) -> 444335

Sheet Tab_2
F1: Ausbildungsmarkt
A3: 2 Seit Beginn des Berichtsjahres gemeldete Bewerber für Berufsausbildungsstellen nach dem Status der Ausbildungssuche jeweils zum 30.09.
A4: =Org!A1 -> Deutschland
A5: Zeitreihe
A7: Bitte beachten Sie die das Tabellenblatt "Hinweis_Ausbildungsmarkt" bei der Interpretation der Daten.
A9: Status der Ausbildungssuche | B9: =RIGHT(Org!$A33,7) -> 2020/21 | C9: =RIGHT(Org!$A34,7) -> 2021/22 | D9: =RIGHT(Org!$A35,7) -> 2022/23 | E9: =RIGHT(Org!$A36,7) -> 2023/24 | F9: =RIGHT(Org!$A37,7) -> 2024/25
B10: 1 | C10: 2 | D10: 3 | E10: 4 | F10: 5
A11: Insgesamt | B11: =IF(ISERROR(roh_Tab_2_Formel!B10),"",roh_Tab_2_Formel!B10) -> 433543 | C11: =IF(ISERROR(roh_Tab_2_Formel!C10),"",roh_Tab_2_Formel!C10) -> 422400 | D11: =IF(ISERROR(roh_Tab_2_Formel!D10),"",roh_Tab_2_Formel!D10) -> 422059 | E11: =IF(ISERROR(roh_Tab_2_Formel!E10),"",roh_Tab_2_Formel!E10) -> 431552 | F11: =IF(ISERROR(roh_Tab_2_Formel!F10),"",roh_Tab_2_Formel!F10) -> 444335
A12: versorgte Bewerber | B12: =IF(ISERROR(roh_Tab_2_Formel!B11),"",roh_Tab_2_Formel!B11) -> 408929 | C12: =IF(ISERROR(roh_Tab_2_Formel!C11),"",roh_Tab_2_Formel!C11) -> 399715 | D12: =IF(ISERROR(roh_Tab_2_Formel!D11),"",roh_Tab_2_Formel!D11) -> 395678 | E12: =IF(ISERROR(roh_Tab_2_Formel!E11),"",roh_Tab_2_Formel!E11) -> 400401 | F12: =IF(ISERROR(roh_Tab_2_Formel!F11),"",roh_Tab_2_Formel!F11) -> 404467
A13: einmündende Bewerber | B13: =IF(ISERROR(roh_Tab_2_Formel!B12),"",roh_Tab_2_Formel!B12) -> 199547 | C13: =IF(ISERROR(roh_Tab_2_Formel!C12),"",roh_Tab_2_Formel!C12) -> 198684 | D13: =IF(ISERROR(roh_Tab_2_Formel!D12),"",roh_Tab_2_Formel!D12) -> 201615 | E13: =IF(ISERROR(roh_Tab_2_Formel!E12),"",roh_Tab_2_Formel!E12) -> 198143 | F13: =IF(ISERROR(roh_Tab_2_Formel!F12),"",roh_Tab_2_Formel!F12) -> 191163
A14: andere ehemalige Bewerber | B14: =IF(ISERROR(roh_Tab_2_Formel!B13),"",roh_Tab_2_Formel!B13) -> 166178 | C14: =IF(ISERROR(roh_Tab_2_Formel!C13),"",roh_Tab_2_Formel!C13) -> 163316 | D14: =IF(ISERROR(roh_Tab_2_Formel!D13),"",roh_Tab_2_Formel!D13) -> 156747 | E14: =IF(ISERROR(roh_Tab_2_Formel!E13),"",roh_Tab_2_Formel!E13) -> 163024 | F14: =IF(ISERROR(roh_Tab_2_Formel!F13),"",roh_Tab_2_Formel!F13) -> 168814
A15: Bewerber mit Alternative zum 30.09. | B15: =IF(ISERROR(roh_Tab_2_Formel!B14),"",roh_Tab_2_Formel!B14) -> 43204 | C15: =IF(ISERROR(roh_Tab_2_Formel!C14),"",roh_Tab_2_Formel!C14) -> 37715 | D15: =IF(ISERROR(roh_Tab_2_Formel!D14),"",roh_Tab_2_Formel!D14) -> 37316 | E15: =IF(ISERROR(roh_Tab_2_Formel!E14),"",roh_Tab_2_Formel!E14) -> 39234 | F15: =IF(ISERROR(roh_Tab_2_Formel!F14),"",roh_Tab_2_Formel!F14) -> 44490
A16: unversorgte Bewerber | B16: =IF(ISERROR(roh_Tab_2_Formel!B15),"",roh_Tab_2_Formel!B15) -> 24614 | C16: =IF(ISERROR(roh_Tab_2_Formel!C15),"",roh_Tab_2_Formel!C15) -> 22685 | D16: =IF(ISERROR(roh_Tab_2_Formel!D15),"",roh_Tab_2_Formel!D15) -> 26381 | E16: =IF(ISERROR(roh_Tab_2_Formel!E15),"",roh_Tab_2_Formel!E15) -> 31151 | F16: =IF(ISERROR(roh_Tab_2_Formel!F15),"",roh_Tab_2_Formel!F15) -> 39868
F17: © Statistik der Bundesagentur für Arbeit
A20: =CONCATENATE("Anteile in Prozent der seit dem Beginn des Berichtsjahres gemeldeten Bewerber für Berufsausbildungsstellen nach dem Status der Ausbildungssuche jeweils zum 30.09.",IF(Org!A1="Saarland"," im "," in "),Org!A1) -> Anteile in Prozent der seit dem Beginn des Berichtsjahres gemeldeten Bewerber für Berufsausbildungsstellen nach dem Status der Ausbildungssuche jeweils zum 30.09. in Deutschland

Sheet Tab_3
F1: Ausbildungsmarkt
A3: =CONCATENATE("3 Seit Beginn des Berichtsjahres gemeldete Bewerber nach Personenmerkmalen jeweils zum 30.09.",IF(B9="Insgesamt","",CONCATENATE(" - ",B9))) -> 3 Seit Beginn des Berichtsjahres gemeldete Bewerber nach Personenmerkmalen jeweils zum 30.09.
A4: =Org!A1 -> Deutschland
A5: Zeitreihe
A7: Bitte beachten Sie die das Tabellenblatt "Hinweis_Ausbildungsmarkt" bei der Interpretation der Daten.
B9: =IF(Org!C41=1,Org!A41,IF(Org!C41=2,Org!A42,IF(Org!C41=3,Org!A43,IF(Org!C41=4,Org!A44,IF(Org!C41=5,Org!A45,))))) -> Insgesamt
A10: Merkmale | B10: =RIGHT(Org!$A33,7) -> 2020/21 | C10: =RIGHT(Org!$A34,7) -> 2021/22 | D10: =RIGHT(Org!$A35,7) -> 2022/23 | E10: =RIGHT(Org!$A36,7) -> 2023/24 | F10: =RIGHT(Org!$A37,7) -> 2024/25
B11: 1 | C11: 2 | D11: 3 | E11: 4 | F11: 5
A12: Insgesamt | B12: =IF(ISERROR(roh_Tab_3_Formel!B11),"",roh_Tab_3_Formel!B11) -> 433543 | C12: =IF(ISERROR(roh_Tab_3_Formel!C11),"",roh_Tab_3_Formel!C11) -> 422400 | D12: =IF(ISERROR(roh_Tab_3_Formel!D11),"",roh_Tab_3_Formel!D11) -> 422059 | E12: =IF(ISERROR(roh_Tab_3_Formel!E11),"",roh_Tab_3_Formel!E11) -> 431552 | F12: =IF(ISERROR(roh_Tab_3_Formel!F11),"",roh_Tab_3_Formel!F11) -> 444335
A13: Geschlecht | B13: =IF(ISERROR(roh_Tab_3_Formel!B12),"",roh_Tab_3_Formel!B12) -> 0 | C13: =IF(ISERROR(roh_Tab_3_Formel!C12),"",roh_Tab_3_Formel!C12) -> 0 | D13: =IF(ISERROR(roh_Tab_3_Formel!D12),"",roh_Tab_3_Formel!D12) -> 0 | E13: =IF(ISERROR(roh_Tab_3_Formel!E12),"",roh_Tab_3_Formel!E12) -> 0 | F13: =IF(ISERROR(roh_Tab_3_Formel!F12),"",roh_Tab_3_Formel!F12) -> 0
A14: Männer | B14: =IF(ISERROR(roh_Tab_3_Formel!B13),"",roh_Tab_3_Formel!B13) -> 268518 | C14: =IF(ISERROR(roh_Tab_3_Formel!C13),"",roh_Tab_3_Formel!C13) -> 261561 | D14: =IF(ISERROR(roh_Tab_3_Formel!D13),"",roh_Tab_3_Formel!D13) -> 262431 | E14: =IF(ISERROR(roh_Tab_3_Formel!E13),"",roh_Tab_3_Formel!E13) -> 269765 | F14: =IF(ISERROR(roh_Tab_3_Formel!F13),"",roh_Tab_3_Formel!F13) -> 278786
A15: Frauen | B15: =IF(ISERROR(roh_Tab_3_Formel!B14),"",roh_Tab_3_Formel!B14) -> 164986 | C15: =IF(ISERROR(roh_Tab_3_Formel!C14),"",roh_Tab_3_Formel!C14) -> 160741 | D15: =IF(ISERROR(roh_Tab_3_Formel!D14),"",roh_Tab_3_Formel!D14) -> 159628 | E15: =IF(ISERROR(roh_Tab_3_Formel!E14),"",roh_Tab_3_Formel!E14) -> 161787 | F15: =IF(ISERROR(roh_Tab_3_Formel!F14),"",roh_Tab_3_Formel!F14) -> 165549
A16: Alter | B16: =IF(ISERROR(roh_Tab_3_Formel!B15),"",roh_Tab_3_Formel!B15) -> 0 | C16: =IF(ISERROR(roh_Tab_3_Formel!C15),"",roh_Tab_3_Formel!C15) -> 0 | D16: =IF(ISERROR(roh_Tab_3_Formel!D15),"",roh_Tab_3_Formel!D15) -> 0 | E16: =IF(ISERROR(roh_Tab_3_Formel!E15),"",roh_Tab_3_Formel!E15) -> 0 | F16: =IF(ISERROR(roh_Tab_3_Formel!F15),"",roh_Tab_3_Formel!F15) -> 0
A17: 15 Jahre und jünger | B17: =IF(ISERROR(roh_Tab_3_Formel!B16),"",roh_Tab_3_Formel!B16) -> 11506 | C17: =IF(ISERROR(roh_Tab_3_Formel!C16),"",roh_Tab_3_Formel!C16) -> 12845 | D17: =IF(ISERROR(roh_Tab_3_Formel!D16),"",roh_Tab_3_Formel!D16) -> 14392 | E17: =IF(ISERROR(roh_Tab_3_Formel!E16),"",roh_Tab_3_Formel!E16) -> 13764 | F17: =IF(ISERROR(roh_Tab_3_Formel!F16),"",roh_Tab_3_Formel!F16) -> 13560
A18: 16 Jahre | B18: =IF(ISERROR(roh_Tab_3_Formel!B17),"",roh_Tab_3_Formel!B17) -> 66747 | C18: =IF(ISERROR(roh_Tab_3_Formel!C17),"",roh_Tab_3_Formel!C17) -> 69666 | D18: =IF(ISERROR(roh_Tab_3_Formel!D17),"",roh_Tab_3_Formel!D17) -> 75518 | E18: =IF(ISERROR(roh_Tab_3_Formel!E17),"",roh_Tab_3_Formel!E17) -> 79809 | F18: =IF(ISERROR(roh_Tab_3_Formel!F17),"",roh_Tab_3_Formel!F17) -> 76025
A19: 17 Jahre | B19: =IF(ISERROR(roh_Tab_3_Formel!B18),"",roh_Tab_3_Formel!B18) -> 69483 | C19: =IF(ISERROR(roh_Tab_3_Formel!C18),"",roh_Tab_3_Formel!C18) -> 71730 | D19: =IF(ISERROR(roh_Tab_3_Formel!D18),"",roh_Tab_3_Formel!D18) -> 73269 | E19: =IF(ISERROR(roh_Tab_3_Formel!E18),"",roh_Tab_3_Formel!E18) -> 75773 | F19: =IF(ISERROR(roh_Tab_3_Formel!F18),"",roh_Tab_3_Formel!F18) -> 76905
A20: 18 Jahre | B20: =IF(ISERROR(roh_Tab_3_Formel!B19),"",roh_Tab_3_Formel!B19) -> 62963 | C20: =IF(ISERROR(roh_Tab_3_Formel!C19),"",roh_Tab_3_Formel!C19) -> 63203 | D20: =IF(ISERROR(roh_Tab_3_Formel!D19),"",roh_Tab_3_Formel!D19) -> 63195 | E20: =IF(ISERROR(roh_Tab_3_Formel!E19),"",roh_Tab_3_Formel!E19) -> 63026 | F20: =IF(ISERROR(roh_Tab_3_Formel!F19),"",roh_Tab_3_Formel!F19) -> 64903
A21: 19 Jahre | B21: =IF(ISERROR(roh_Tab_3_Formel!B20),"",roh_Tab_3_Formel!B20) -> 56400 | C21: =IF(ISERROR(roh_Tab_3_Formel!C20),"",roh_Tab_3_Formel!C20) -> 54565 | D21: =IF(ISERROR(roh_Tab_3_Formel!D20),"",roh_Tab_3_Formel!D20) -> 53522 | E21: =IF(ISERROR(roh_Tab_3_Formel!E20),"",roh_Tab_3_Formel!E20) -> 54098 | F21: =IF(ISERROR(roh_Tab_3_Formel!F20),"",roh_Tab_3_Formel!F20) -> 56498
A22: Unter 20 Jahre | B22: =IF(ISERROR(roh_Tab_3_Formel!B21),"",roh_Tab_3_Formel!B21) -> 267099 | C22: =IF(ISERROR(roh_Tab_3_Formel!C21),"",roh_Tab_3_Formel!C21) -> 272009 | D22: =IF(ISERROR(roh_Tab_3_Formel!D21),"",roh_Tab_3_Formel!D21) -> 279896 | E22: =IF(ISERROR(roh_Tab_3_Formel!E21),"",roh_Tab_3_Formel!E21) -> 286470 | F22: =IF(ISERROR(roh_Tab_3_Formel!F21),"",roh_Tab_3_Formel!F21) -> 287891
A23: 20 Jahre | B23: =IF(ISERROR(roh_Tab_3_Formel!B22),"",roh_Tab_3_Formel!B22) -> 44687 | C23: =IF(ISERROR(roh_Tab_3_Formel!C22),"",roh_Tab_3_Formel!C22) -> 41095 | D23: =IF(ISERROR(roh_Tab_3_Formel!D22),"",roh_Tab_3_Formel!D22) -> 39291 | E23: =IF(ISERROR(roh_Tab_3_Formel!E22),"",roh_Tab_3_Formel!E22) -> 39503 | F23: =IF(ISERROR(roh_Tab_3_Formel!F22),"",roh_Tab_3_Formel!F22) -> 42722
... A46: Keine Angabe | B46: =IF(ISERROR(roh_Tab_3_Formel!B45),"",roh_Tab_3_Formel!B45) -> 6245 | C46: =IF(ISERROR(roh_Tab_3_Formel!C45),"",roh_Tab_3_Formel!C45) -> 5468 | D46: =IF(ISERROR(roh_Tab_3_Formel!D45),"",roh_Tab_3_Formel!D45) -> 5291 | E46: =IF(ISERROR(roh_Tab_3_Formel!E45),"",roh_Tab_3_Formel!E45) -> 5853 | F46: =IF(ISERROR(roh_Tab_3_Formel!F45),"",roh_Tab_3_Formel!F45) -> 6686
F47: © Statistik der Bundesagentur für Arbeit
A49: =IF(COUNTIF(B12:F46,"*")-COUNTIF(B12:F46,"")>0,Org!E2,"")

Sheet Tab_4
F1: Ausbildungsmarkt
A3: =CONCATENATE("4 Seit Beginn des Berichtsjahres gemeldete Bewerber für Berufsausbildungsstellen nach der Art des Verbleibs jeweils zum 30.09.",IF(B9="Insgesamt","",CONCATENATE(" - ",B9))) -> 4 Seit Beginn des Berichtsjahres gemeldete Bewerber für Berufsausbildungsstellen nach der Art des Verbleibs jeweils zum 30.09.
A4: =Org!A1 -> Deutschland
A5: Zeitreihe
A7: Bitte beachten Sie die das Tabellenblatt "Hinweis_Ausbildungsmarkt" bei der Interpretation der Daten.
B9: =IF(Org!C41=1,Org!A41,IF(Org!C41=2,Org!A42,IF(Org!C41=3,Org!A43,IF(Org!C41=4,Org!A44,IF(Org!C41=5,Org!A45,))))) -> Insgesamt
A10: Art des Verbleibs | B10: =RIGHT(Org!$A33,7) -> 2020/21 | C10: =RIGHT(Org!$A34,7) -> 2021/22 | D10: =RIGHT(Org!$A35,7) -> 2022/23 | E10: =RIGHT(Org!$A36,7) -> 2023/24 | F10: =RIGHT(Org!$A37,7) -> 2024/25
B11: 1 | C11: 2 | D11: 3 | E11: 4 | F11: 5
A12: Insgesamt | B12: =IF(ISERROR(roh_Tab_4_Formel!B12),"",roh_Tab_4_Formel!B12) -> 433543 | C12: =IF(ISERROR(roh_Tab_4_Formel!C12),"",roh_Tab_4_Formel!C12) -> 422400 | D12: =IF(ISERROR(roh_Tab_4_Formel!D12),"",roh_Tab_4_Formel!D12) -> 422059 | E12: =IF(ISERROR(roh_Tab_4_Formel!E12),"",roh_Tab_4_Formel!E12) -> 431552 | F12: =IF(ISERROR(roh_Tab_4_Formel!F12),"",roh_Tab_4_Formel!F12) -> 444335
A13: Schule/Studium/Praktikum | B13: =IF(ISERROR(roh_Tab_4_Formel!B13),"",roh_Tab_4_Formel!B13) -> 68110 | C13: =IF(ISERROR(roh_Tab_4_Formel!C13),"",roh_Tab_4_Formel!C13) -> 67953 | D13: =IF(ISERROR(roh_Tab_4_Formel!D13),"",roh_Tab_4_Formel!D13) -> 67814 | E13: =IF(ISERROR(roh_Tab_4_Formel!E13),"",roh_Tab_4_Formel!E13) -> 70069 | F13: =IF(ISERROR(roh_Tab_4_Formel!F13),"",roh_Tab_4_Formel!F13) -> 73815
A14: Schulbildung | B14: =IF(ISERROR(roh_Tab_4_Formel!B14),"",roh_Tab_4_Formel!B14) -> 58561 | C14: =IF(ISERROR(roh_Tab_4_Formel!C14),"",roh_Tab_4_Formel!C14) -> 58308 | D14: =IF(ISERROR(roh_Tab_4_Formel!D14),"",roh_Tab_4_Formel!D14) -> 58122 | E14: =IF(ISERROR(roh_Tab_4_Formel!E14),"",roh_Tab_4_Formel!E14) -> 60408 | F14: =IF(ISERROR(roh_Tab_4_Formel!F14),"",roh_Tab_4_Formel!F14) -> 63719
A15: Studium | B15: =IF(ISERROR(roh_Tab_4_Formel!B15),"",roh_Tab_4_Formel!B15) -> 7835 | C15: =IF(ISERROR(roh_Tab_4_Formel!C15),"",roh_Tab_4_Formel!C15) -> 8231 | D15: =IF(ISERROR(roh_Tab_4_Formel!D15),"",roh_Tab_4_Formel!D15) -> 8385 | E15: =IF(ISERROR(roh_Tab_4_Formel!E15),"",roh_Tab_4_Formel!E15) -> 8281 | F15: =IF(ISERROR(roh_Tab_4_Formel!F15),"",roh_Tab_4_Formel!F15) -> 8628
A16: Berufsvorbereitendes Jahr | B16: =IF(ISERROR(roh_Tab_4_Formel!B16),"",roh_Tab_4_Formel!B16) | C16: =IF(ISERROR(roh_Tab_4_Formel!C16),"",roh_Tab_4_Formel!C16) | D16: =IF(ISERROR(roh_Tab_4_Formel!D16),"",roh_Tab_4_Formel!D16) | E16: =IF(ISERROR(roh_Tab_4_Formel!E16),"",roh_Tab_4_Formel!E16) | F16: =IF(ISERROR(roh_Tab_4_Formel!F16),"",roh_Tab_4_Formel!F16)
A17: Berufsgrundbildungsjahr | B17: =IF(ISERROR(roh_Tab_4_Formel!B17),"",roh_Tab_4_Formel!B17) | C17: =IF(ISERROR(roh_Tab_4_Formel!C17),"",roh_Tab_4_Formel!C17) | D17: =IF(ISERROR(roh_Tab_4_Formel!D17),"",roh_Tab_4_Formel!D17) | E17: =IF(ISERROR(roh_Tab_4_Formel!E17),"",roh_Tab_4_Formel!E17) | F17: =IF(ISERROR(roh_Tab_4_Formel!F17),"",roh_Tab_4_Formel!F17)
A18: Praktikum | B18: =IF(ISERROR(roh_Tab_4_Formel!B18),"",roh_Tab_4_Formel!B18) -> 1714 | C18: =IF(ISERROR(roh_Tab_4_Formel!C18),"",roh_Tab_4_Formel!C18) -> 1414 | D18: =IF(ISERROR(roh_Tab_4_Formel!D18),"",roh_Tab_4_Formel!D18) -> 1307 | E18: =IF(ISERROR(roh_Tab_4_Formel!E18),"",roh_Tab_4_Formel!E18) -> 1380 | F18: =IF(ISERROR(roh_Tab_4_Formel!F18),"",roh_Tab_4_Formel!F18) -> 1468
A19: Berufsausbildung/Erwerbstätigkeit | B19: =IF(ISERROR(roh_Tab_4_Formel!B19),"",roh_Tab_4_Formel!B19) -> 247828 | C19: =IF(ISERROR(roh_Tab_4_Formel!C19),"",roh_Tab_4_Formel!C19) -> 242722 | D19: =IF(ISERROR(roh_Tab_4_Formel!D19),"",roh_Tab_4_Formel!D19) -> 242093 | E19: =IF(ISERROR(roh_Tab_4_Formel!E19),"",roh_Tab_4_Formel!E19) -> 238225 | F19: =IF(ISERROR(roh_Tab_4_Formel!F19),"",roh_Tab_4_Formel!F19) -> 233442
A20: Berufsausbildung ungefördert | B20: =IF(ISERROR(roh_Tab_4_Formel!B20),"",roh_Tab_4_Formel!B20) -> 184819 | C20: =IF(ISERROR(roh_Tab_4_Formel!C20),"",roh_Tab_4_Formel!C20) -> 185110 | D20: =IF(ISERROR(roh_Tab_4_Formel!D20),"",roh_Tab_4_Formel!D20) -> 188950 | E20: =IF(ISERROR(roh_Tab_4_Formel!E20),"",roh_Tab_4_Formel!E20) -> 186028 | F20: =IF(ISERROR(roh_Tab_4_Formel!F20),"",roh_Tab_4_Formel!F20) -> 178607
A21: Berufsausbildung gefördert | B21: =IF(ISERROR(roh_Tab_4_Formel!B21),"",roh_Tab_4_Formel!B21) -> 27033 | C21: =IF(ISERROR(roh_Tab_4_Formel!C21),"",roh_Tab_4_Formel!C21) -> 24712 | D21: =IF(ISERROR(roh_Tab_4_Formel!D21),"",roh_Tab_4_Formel!D21) -> 23595 | E21: =IF(ISERROR(roh_Tab_4_Formel!E21),"",roh_Tab_4_Formel!E21) -> 22823 | F21: =IF(ISERROR(roh_Tab_4_Formel!F21),"",roh_Tab_4_Formel!F21) -> 23094
A22: Erwerbstätigkeit | B22: =IF(ISERROR(roh_Tab_4_Formel!B22),"",roh_Tab_4_Formel!B22) -> 35976 | C22: =IF(ISERROR(roh_Tab_4_Formel!C22),"",roh_Tab_4_Formel!C22) -> 32900 | D22: =IF(ISERROR(roh_Tab_4_Formel!D22),"",roh_Tab_4_Formel!D22) -> 29548 | E22: =IF(ISERROR(roh_Tab_4_Formel!E22),"",roh_Tab_4_Formel!E22) -> 29374 | F22: =IF(ISERROR(roh_Tab_4_Formel!F22),"",roh_Tab_4_Formel!F22) -> 31741
A23: Gemeinnützige/soziale Dienste | B23: =IF(ISERROR(roh_Tab_4_Formel!B23),"",roh_Tab_4_Formel!B23) -> 7127 | C23: =IF(ISERROR(roh_Tab_4_Formel!C23),"",roh_Tab_4_Formel!C23) -> 6048 | D23: =IF(ISERROR(roh_Tab_4_Formel!D23),"",roh_Tab_4_Formel!D23) -> 6195 | E23: =IF(ISERROR(roh_Tab_4_Formel!E23),"",roh_Tab_4_Formel!E23) -> 6503 | F23: =IF(ISERROR(roh_Tab_4_Formel!F23),"",roh_Tab_4_Formel!F23) -> 7267
... A32: ohne Angabe eines Verbleibs | B32: =IF(ISERROR(roh_Tab_4_Formel!B32),"",roh_Tab_4_Formel!B32) -> 101315 | C32: =IF(ISERROR(roh_Tab_4_Formel!C32),"",roh_Tab_4_Formel!C32) -> 97358 | D32: =IF(ISERROR(roh_Tab_4_Formel!D32),"",roh_Tab_4_Formel!D32) -> 97856 | E32: =IF(ISERROR(roh_Tab_4_Formel!E32),"",roh_Tab_4_Formel!E32) -> 107745 | F32: =IF(ISERROR(roh_Tab_4_Formel!F32),"",roh_Tab_4_Formel!F32) -> 120697
F33: © Statistik der Bundesagentur für Arbeit
A35: =IF(COUNTIF(B12:F32,"*")-COUNTIF(B12:F32,"")>0,Org!E2,"")

Sheet Tab_5
F1: Ausbildungsmarkt
A3: =CONCATENATE("5 Seit Beginn des Berichtsjahres ",B9," nach zuständiger Stelle jeweils zum 30.09.") -> 5 Seit Beginn des Berichtsjahres gemeldete Berufsausbildungsstellen nach zuständiger Stelle jeweils zum 30.09.
A4: =Org!A1 -> Deutschland
A5: Zeitreihe
A7: Bitte beachten Sie die das Tabellenblatt "Hinweis_Ausbildungsmarkt" bei der Interpretation der Daten.
A8: Revidierte Daten im Berichtsjahr 2024/25. Es können Abweichungen gegenüber Auswertungen mit früherem Erstellungsdatum auftreten.
B9: =IF(Org!C49=1,Org!A49,IF(Org!C49=2,Org!A50,IF(Org!C49=3,Org!A51,))) -> gemeldete Berufsausbildungsstellen
A10: Zuständige Stelle | B10: =RIGHT(Org!$A33,7) -> 2020/21 | C10: =RIGHT(Org!$A34,7) -> 2021/22 | D10: =RIGHT(Org!$A35,7) -> 2022/23 | E10: =RIGHT(Org!$A36,7) -> 2023/24 | F10: =RIGHT(Org!$A37,7) -> 2024/25
B11: 1 | C11: 2 | D11: 3 | E11: 4 | F11: 5
A12: Insgesamt | B12: =IF(ISERROR(roh_Tab_5_Formel!B12),"",roh_Tab_5_Formel!B12) -> 522867 | C12: =IF(ISERROR(roh_Tab_5_Formel!C12),"",roh_Tab_5_Formel!C12) -> 545960 | D12: =IF(ISERROR(roh_Tab_5_Formel!D12),"",roh_Tab_5_Formel!D12) -> 545039 | E12: =IF(ISERROR(roh_Tab_5_Formel!E12),"",roh_Tab_5_Formel!E12) -> 519399 | F12: =IF(ISERROR(roh_Tab_5_Formel!F12),"",roh_Tab_5_Formel!F12) -> 501338
A13: Landwirtschaftskammer | B13: =IF(ISERROR(roh_Tab_5_Formel!B13),"",roh_Tab_5_Formel!B13) -> 5477 | C13: =IF(ISERROR(roh_Tab_5_Formel!C13),"",roh_Tab_5_Formel!C13) -> 5227 | D13: =IF(ISERROR(roh_Tab_5_Formel!D13),"",roh_Tab_5_Formel!D13) -> 4796 | E13: =IF(ISERROR(roh_Tab_5_Formel!E13),"",roh_Tab_5_Formel!E13) -> 4582 | F13: =IF(ISERROR(roh_Tab_5_Formel!F13),"",roh_Tab_5_Formel!F13) -> 4376
A14: Handwerkskammer | B14: =IF(ISERROR(roh_Tab_5_Formel!B14),"",roh_Tab_5_Formel!B14) -> 116029 | C14: =IF(ISERROR(roh_Tab_5_Formel!C14),"",roh_Tab_5_Formel!C14) -> 114766 | D14: =IF(ISERROR(roh_Tab_5_Formel!D14),"",roh_Tab_5_Formel!D14) -> 110670 | E14: =IF(ISERROR(roh_Tab_5_Formel!E14),"",roh_Tab_5_Formel!E14) -> 104786 | F14: =IF(ISERROR(roh_Tab_5_Formel!F14),"",roh_Tab_5_Formel!F14) -> 97050
A15: Industrie- und Handelskammer | B15: =IF(ISERROR(roh_Tab_5_Formel!B15),"",roh_Tab_5_Formel!B15) -> 308178 | C15: =IF(ISERROR(roh_Tab_5_Formel!C15),"",roh_Tab_5_Formel!C15) -> 331355 | D15: =IF(ISERROR(roh_Tab_5_Formel!D15),"",roh_Tab_5_Formel!D15) -> 343772 | E15: =IF(ISERROR(roh_Tab_5_Formel!E15),"",roh_Tab_5_Formel!E15) -> 328943 | F15: =IF(ISERROR(roh_Tab_5_Formel!F15),"",roh_Tab_5_Formel!F15) -> 318833
A16: Ärztekammer | B16: =IF(ISERROR(roh_Tab_5_Formel!B16),"",roh_Tab_5_Formel!B16) -> 14448 | C16: =IF(ISERROR(roh_Tab_5_Formel!C16),"",roh_Tab_5_Formel!C16) -> 15296 | D16: =IF(ISERROR(roh_Tab_5_Formel!D16),"",roh_Tab_5_Formel!D16) -> 14766 | E16: =IF(ISERROR(roh_Tab_5_Formel!E16),"",roh_Tab_5_Formel!E16) -> 13332 | F16: =IF(ISERROR(roh_Tab_5_Formel!F16),"",roh_Tab_5_Formel!F16) -> 11603
A17: Zahnärztekammer | B17: =IF(ISERROR(roh_Tab_5_Formel!B17),"",roh_Tab_5_Formel!B17) -> 13048 | C17: =IF(ISERROR(roh_Tab_5_Formel!C17),"",roh_Tab_5_Formel!C17) -> 13823 | D17: =IF(ISERROR(roh_Tab_5_Formel!D17),"",roh_Tab_5_Formel!D17) -> 13392 | E17: =IF(ISERROR(roh_Tab_5_Formel!E17),"",roh_Tab_5_Formel!E17) -> 12195 | F17: =IF(ISERROR(roh_Tab_5_Formel!F17),"",roh_Tab_5_Formel!F17) -> 10189
A18: Tierärztekammer | B18: =IF(ISERROR(roh_Tab_5_Formel!B18),"",roh_Tab_5_Formel!B18) -> 1177 | C18: =IF(ISERROR(roh_Tab_5_Formel!C18),"",roh_Tab_5_Formel!C18) -> 1321 | D18: =IF(ISERROR(roh_Tab_5_Formel!D18),"",roh_Tab_5_Formel!D18) -> 1185 | E18: =IF(ISERROR(roh_Tab_5_Formel!E18),"",roh_Tab_5_Formel!E18) -> 931 | F18: =IF(ISERROR(roh_Tab_5_Formel!F18),"",roh_Tab_5_Formel!F18) -> 872
A19: Apothekerkammer | B19: =IF(ISERROR(roh_Tab_5_Formel!B19),"",roh_Tab_5_Formel!B19) -> 705 | C19: =IF(ISERROR(roh_Tab_5_Formel!C19),"",roh_Tab_5_Formel!C19) -> 811 | D19: =IF(ISERROR(roh_Tab_5_Formel!D19),"",roh_Tab_5_Formel!D19) -> 833 | E19: =IF(ISERROR(roh_Tab_5_Formel!E19),"",roh_Tab_5_Formel!E19) -> 677 | F19: =IF(ISERROR(roh_Tab_5_Formel!F19),"",roh_Tab_5_Formel!F19) -> 480
A20: Rechtsanwaltskammer | B20: =IF(ISERROR(roh_Tab_5_Formel!B20),"",roh_Tab_5_Formel!B20) -> 4075 | C20: =IF(ISERROR(roh_Tab_5_Formel!C20),"",roh_Tab_5_Formel!C20) -> 3860 | D20: =IF(ISERROR(roh_Tab_5_Formel!D20),"",roh_Tab_5_Formel!D20) -> 3485 | E20: =IF(ISERROR(roh_Tab_5_Formel!E20),"",roh_Tab_5_Formel!E20) -> 2920 | F20: =IF(ISERROR(roh_Tab_5_Formel!F20),"",roh_Tab_5_Formel!F20) -> 2398
A21: Notarkammer | B21: =IF(ISERROR(roh_Tab_5_Formel!B21),"",roh_Tab_5_Formel!B21) -> 362 | C21: =IF(ISERROR(roh_Tab_5_Formel!C21),"",roh_Tab_5_Formel!C21) -> 384 | D21: =IF(ISERROR(roh_Tab_5_Formel!D21),"",roh_Tab_5_Formel!D21) -> 378 | E21: =IF(ISERROR(roh_Tab_5_Formel!E21),"",roh_Tab_5_Formel!E21) -> 369 | F21: =IF(ISERROR(roh_Tab_5_Formel!F21),"",roh_Tab_5_Formel!F21) -> 318
A22: Patentanwaltskammer | B22: =IF(ISERROR(roh_Tab_5_Formel!B22),"",roh_Tab_5_Formel!B22) -> 107 | C22: =IF(ISERROR(roh_Tab_5_Formel!C22),"",roh_Tab_5_Formel!C22) -> 126 | D22: =IF(ISERROR(roh_Tab_5_Formel!D22),"",roh_Tab_5_Formel!D22) -> 129 | E22: =IF(ISERROR(roh_Tab_5_Formel!E22),"",roh_Tab_5_Formel!E22) -> 93 | F22: =IF(ISERROR(roh_Tab_5_Formel!F22),"",roh_Tab_5_Formel!F22) -> 74
A23: Steuerberaterkammer | B23: =IF(ISERROR(roh_Tab_5_Formel!B23),"",roh_Tab_5_Formel!B23) -> 5066 | C23: =IF(ISERROR(roh_Tab_5_Formel!C23),"",roh_Tab_5_Formel!C23) -> 5538 | D23: =IF(ISERROR(roh_Tab_5_Formel!D23),"",roh_Tab_5_Formel!D23) -> 5426 | E23: =IF(ISERROR(roh_Tab_5_Formel!E23),"",roh_Tab_5_Formel!E23) -> 4789 | F23: =IF(ISERROR(roh_Tab_5_Formel!F23),"",roh_Tab_5_Formel!F23) -> 4133
... A25: Keine Angabe | B25: =IF(ISERROR(roh_Tab_5_Formel!B25),"",roh_Tab_5_Formel!B25) -> 39944 | C25: =IF(ISERROR(roh_Tab_5_Formel!C25),"",roh_Tab_5_Formel!C25) -> 41596 | D25: =IF(ISERROR(roh_Tab_5_Formel!D25),"",roh_Tab_5_Formel!D25) -> 34329 | E25: =IF(ISERROR(roh_Tab_5_Formel!E25),"",roh_Tab_5_Formel!E25) -> 33363 | F25: =IF(ISERROR(roh_Tab_5_Formel!F25),"",roh_Tab_5_Formel!F25) -> 39430
F26: © Statistik der Bundesagentur für Arbeit
A28: =IF(COUNTIF(B12:F25,"*")-COUNTIF(B12:F25,"")>0,Org!E2,"")

Sheet Tab_6
P1: Ausbildungsmarkt
A3: =CONCATENATE("6 Seit Beginn des Berichtsjahres ",B10," und ",C10," im Regionenvergleich jeweils zum 30.09.") -> 6 Seit Beginn des Berichtsjahres gemeldete Berufsausbildungsstellen und gemeldete Bewerber für Berufsausbildungsstellen im Regionenvergleich jeweils zum 30.09.
A4: Deutschland und Länder
A5: Zeitreihe
A7: Bitte beachten Sie die das Tabellenblatt "Hinweis_Ausbildungsmarkt" bei der Interpretation der Daten.
A8: Revidierte Daten für die gemeldeten Berufsausbildungsstellen im Berichtsjahr 2024/25. Es können Abweichungen gegenüber Auswertungen mit früherem Erstellungsdatum auftreten.
A9: Regionen | B9: =RIGHT(Org!$A33,7) -> 2020/21 | E9: =RIGHT(Org!$A34,7) -> 2021/22 | H9: =RIGHT(Org!$A35,7) -> 2022/23 | K9: =RIGHT(Org!$A36,7) -> 2023/24 | N9: =RIGHT(Org!$A37,7) -> 2024/25
B10: =IF(Org!$C$56=1,Org!$A$58,IF(Org!$C$56=2,Org!$A$59,IF(Org!$C$56=3,Org!$A$60))) -> gemeldete Berufsausbildungsstellen | C10: =IF(Org!$C$56=1,Org!$A$56,IF(Org!$C$56=2,Org!$A$57,IF(Org!$C$56=3,Org!$A$56))) -> gemeldete Bewerber für Berufsausbildungsstellen | D10: =IF(Org!$C$56=1,Org!$A$64,IF(Org!$C$56=2,Org!$A$65,IF(Org!$C$56=3,Org!$A$66))) -> gemeldete Berufsausbil-dungsstellen je Bewerber | E10: =IF(Org!$C$56=1,Org!$A$58,IF(Org!$C$56=2,Org!$A$59,IF(Org!$C$56=3,Org!$A$60))) -> gemeldete Berufsausbildungsstellen | F10: =IF(Org!$C$56=1,Org!$A$56,IF(Org!$C$56=2,Org!$A$57,IF(Org!$C$56=3,Org!$A$56))) -> gemeldete Bewerber für Berufsausbildungsstellen | G10: =IF(Org!$C$56=1,Org!$A$64,IF(Org!$C$56=2,Org!$A$65,IF(Org!$C$56=3,Org!$A$66))) -> gemeldete Berufsausbil-dungsstellen je Bewerber | H10: =IF(Org!$C$56=1,Org!$A$58,IF(Org!$C$56=2,Org!$A$59,IF(Org!$C$56=3,Org!$A$60))) -> gemeldete Berufsausbildungsstellen | I10: =IF(Org!$C$56=1,Org!$A$56,IF(Org!$C$56=2,Org!$A$57,IF(Org!$C$56=3,Org!$A$56))) -> gemeldete Bewerber für Berufsausbildungsstellen | J10: =IF(Org!$C$56=1,Org!$A$64,IF(Org!$C$56=2,Org!$A$65,IF(Org!$C$56=3,Org!$A$66))) -> gemeldete Berufsausbil-dungsstellen je Bewerber | K10: =IF(Org!$C$56=1,Org!$A$58,IF(Org!$C$56=2,Org!$A$59,IF(Org!$C$56=3,Org!$A$60))) -> gemeldete Berufsausbildungsstellen | L10: =IF(Org!$C$56=1,Org!$A$56,IF(Org!$C$56=2,Org!$A$57,IF(Org!$C$56=3,Org!$A$56))) -> gemeldete Bewerber für Berufsausbildungsstellen | M10: =IF(Org!$C$56=1,Org!$A$64,IF(Org!$C$56=2,Org!$A$65,IF(Org!$C$56=3,Org!$A$66))) -> gemeldete Berufsausbil-dungsstellen je Bewerber | N10: =IF(Org!$C$56=1,Org!$A$58,IF(Org!$C$56=2,Org!$A$59,IF(Org!$C$56=3,Org!$A$60))) -> gemeldete Berufsausbildungsstellen | O10: =IF(Org!$C$56=1,Org!$A$56,IF(Org!$C$56=2,Org!$A$57,IF(Org!$C$56=3,Org!$A$56))) -> gemeldete Bewerber für Berufsausbildungsstellen | P10: =IF(Org!$C$56=1,Org!$A$64,IF(Org!$C$56=2,Org!$A$65,IF(Org!$C$56=3,Org!$A$66))) -> gemeldete Berufsausbil-dungsstellen je Bewerber
B11: 1 | C11: 2 | D11: 3 | E11: 4 | F11: 5 | G11: 6 | H11: 7 | I11: 8 | J11: 9 | K11: 10 | L11: 11 | M11: 12 | N11: 13 | O11: 14 | P11: 15
A12: Deutschland | B12: =IF(ISERROR(roh_Tab_6_Formel!B11),"",roh_Tab_6_Formel!B11) -> 522867 | C12: =IF(ISERROR(roh_Tab_6_Formel!C11),"",roh_Tab_6_Formel!C11) -> 433543 | D12: =IF(ISERROR(B12/C12),"",B12/C12) -> 1.2060326 | E12: =IF(ISERROR(roh_Tab_6_Formel!D11),"",roh_Tab_6_Formel!D11) -> 545960 | F12: =IF(ISERROR(roh_Tab_6_Formel!E11),"",roh_Tab_6_Formel!E11) -> 422400 | G12: =IF(ISERROR(E12/F12),"",E12/F12) -> 1.2925189 | H12: =IF(ISERROR(roh_Tab_6_Formel!F11),"",roh_Tab_6_Formel!F11) -> 545039 | I12: =IF(ISERROR(roh_Tab_6_Formel!G11),"",roh_Tab_6_Formel!G11) -> 422059 | J12: =IF(ISERROR(H12/I12),"",H12/I12) -> 1.2913811 | K12: =IF(ISERROR(roh_Tab_6_Formel!H11),"",roh_Tab_6_Formel!H11) -> 519399 | L12: =IF(ISERROR(roh_Tab_6_Formel!I11),"",roh_Tab_6_Formel!I11) -> 431552 | M12: =IF(ISERROR(K12/L12),"",K12/L12) -> 1.2035606 | N12: =IF(ISERROR(roh_Tab_6_Formel!J11),"",roh_Tab_6_Formel!J11) -> 501338 | O12: =IF(ISERROR(roh_Tab_6_Formel!K11),"",roh_Tab_6_Formel!K11) -> 444335 | P12: =IF(ISERROR(N12/O12),"",N12/O12) -> 1.1282883
A13: Westdeutschland | B13: =IF(ISERROR(roh_Tab_6_Formel!B12),"",roh_Tab_6_Formel!B12) -> 436976 | C13: =IF(ISERROR(roh_Tab_6_Formel!C12),"",roh_Tab_6_Formel!C12) -> 356201 | D13: =IF(ISERROR(B13/C13),"",B13/C13) -> 1.226768 | E13: =IF(ISERROR(roh_Tab_6_Formel!D12),"",roh_Tab_6_Formel!D12) -> 455436 | F13: =IF(ISERROR(roh_Tab_6_Formel!E12),"",roh_Tab_6_Formel!E12) -> 345595 | G13: =IF(ISERROR(E13/F13),"",E13/F13) -> 1.3178316 | H13: =IF(ISERROR(roh_Tab_6_Formel!F12),"",roh_Tab_6_Formel!F12) -> 453424 | I13: =IF(ISERROR(roh_Tab_6_Formel!G12),"",roh_Tab_6_Formel!G12) -> 345163 | J13: =IF(ISERROR(H13/I13),"",H13/I13) -> 1.3136518 | K13: =IF(ISERROR(roh_Tab_6_Formel!H12),"",roh_Tab_6_Formel!H12) -> 433532 | L13: =IF(ISERROR(roh_Tab_6_Formel!I12),"",roh_Tab_6_Formel!I12) -> 353213 | M13: =IF(ISERROR(K13/L13),"",K13/L13) -> 1.2273954 | N13: =IF(ISERROR(roh_Tab_6_Formel!J12),"",roh_Tab_6_Formel!J12) -> 420211 | O13: =IF(ISERROR(roh_Tab_6_Formel!K12),"",roh_Tab_6_Formel!K12) -> 363133 | P13: =IF(ISERROR(N13/O13),"",N13/O13) -> 1.1571821
A14: Ostdeutschland | B14: =IF(ISERROR(roh_Tab_6_Formel!B13),"",roh_Tab_6_Formel!B13) -> 85752 | C14: =IF(ISERROR(roh_Tab_6_Formel!C13),"",roh_Tab_6_Formel!C13) -> 76789 | D14: =IF(ISERROR(B14/C14),"",B14/C14) -> 1.1167224 | E14: =IF(ISERROR(roh_Tab_6_Formel!D13),"",roh_Tab_6_Formel!D13) -> 90347 | F14: =IF(ISERROR(roh_Tab_6_Formel!E13),"",roh_Tab_6_Formel!E13) -> 76186 | G14: =IF(ISERROR(E14/F14),"",E14/F14) -> 1.185874 | H14: =IF(ISERROR(roh_Tab_6_Formel!F13),"",roh_Tab_6_Formel!F13) -> 91531 | I14: =IF(ISERROR(roh_Tab_6_Formel!G13),"",roh_Tab_6_Formel!G13) -> 75808 | J14: =IF(ISERROR(H14/I14),"",H14/I14) -> 1.2074056 | K14: =IF(ISERROR(roh_Tab_6_Formel!H13),"",roh_Tab_6_Formel!H13) -> 85825 | L14: =IF(ISERROR(roh_Tab_6_Formel!I13),"",roh_Tab_6_Formel!I13) -> 76435 | M14: =IF(ISERROR(K14/L14),"",K14/L14) -> 1.1228495 | N14: =IF(ISERROR(roh_Tab_6_Formel!J13),"",roh_Tab_6_Formel!J13) -> 81091 | O14: =IF(ISERROR(roh_Tab_6_Formel!K13),"",roh_Tab_6_Formel!K13) -> 78324 | P14: =IF(ISERROR(N14/O14),"",N14/O14) -> 1.0353276
A15: 01 Schleswig-Holstein | B15: =IF(ISERROR(roh_Tab_6_Formel!B14),"",roh_Tab_6_Formel!B14) -> 18952 | C15: =IF(ISERROR(roh_Tab_6_Formel!C14),"",roh_Tab_6_Formel!C14) -> 14782 | D15: =IF(ISERROR(B15/C15),"",B15/C15) -> 1.2820999 | E15: =IF(ISERROR(roh_Tab_6_Formel!D14),"",roh_Tab_6_Formel!D14) -> 19568 | F15: =IF(ISERROR(roh_Tab_6_Formel!E14),"",roh_Tab_6_Formel!E14) -> 13662 | G15: =IF(ISERROR(E15/F15),"",E15/F15) -> 1.432294 | H15: =IF(ISERROR(roh_Tab_6_Formel!F14),"",roh_Tab_6_Formel!F14) -> 19954 | I15: =IF(ISERROR(roh_Tab_6_Formel!G14),"",roh_Tab_6_Formel!G14) -> 13123 | J15: =IF(ISERROR(H15/I15),"",H15/I15) -> 1.5205365 | K15: =IF(ISERROR(roh_Tab_6_Formel!H14),"",roh_Tab_6_Formel!H14) -> 17569 | L15: =IF(ISERROR(roh_Tab_6_Formel!I14),"",roh_Tab_6_Formel!I14) -> 14780 | M15: =IF(ISERROR(K15/L15),"",K15/L15) -> 1.1887009 | N15: =IF(ISERROR(roh_Tab_6_Formel!J14),"",roh_Tab_6_Formel!J14) -> 17834 | O15: =IF(ISERROR(roh_Tab_6_Formel!K14),"",roh_Tab_6_Formel!K14) -> 14811 | P15: =IF(ISERROR(N15/O15),"",N15/O15) -> 1.2041051
A16: 02 Hamburg | B16: =IF(ISERROR(roh_Tab_6_Formel!B15),"",roh_Tab_6_Formel!B15) -> 9489 | C16: =IF(ISERROR(roh_Tab_6_Formel!C15),"",roh_Tab_6_Formel!C15) -> 7787 | D16: =IF(ISERROR(B16/C16),"",B16/C16) -> 1.2185694 | E16: =IF(ISERROR(roh_Tab_6_Formel!D15),"",roh_Tab_6_Formel!D15) -> 9785 | F16: =IF(ISERROR(roh_Tab_6_Formel!E15),"",roh_Tab_6_Formel!E15) -> 6730 | G16: =IF(ISERROR(E16/F16),"",E16/F16) -> 1.4539376 | H16: =IF(ISERROR(roh_Tab_6_Formel!F15),"",roh_Tab_6_Formel!F15) -> 10631 | I16: =IF(ISERROR(roh_Tab_6_Formel!G15),"",roh_Tab_6_Formel!G15) -> 6246 | J16: =IF(ISERROR(H16/I16),"",H16/I16) -> 1.7020493 | K16: =IF(ISERROR(roh_Tab_6_Formel!H15),"",roh_Tab_6_Formel!H15) -> 10589 | L16: =IF(ISERROR(roh_Tab_6_Formel!I15),"",roh_Tab_6_Formel!I15) -> 7038 | M16: =IF(ISERROR(K16/L16),"",K16/L16) -> 1.5045467 | N16: =IF(ISERROR(roh_Tab_6_Formel!J15),"",roh_Tab_6_Formel!J15) -> 10365 | O16: =IF(ISERROR(roh_Tab_6_Formel!K15),"",roh_Tab_6_Formel!K15) -> 8077 | P16: =IF(ISERROR(N16/O16),"",N16/O16) -> 1.2832735
A17: 03 Niedersachsen | B17: =IF(ISERROR(roh_Tab_6_Formel!B16),"",roh_Tab_6_Formel!B16) -> 55197 | C17: =IF(ISERROR(roh_Tab_6_Formel!C16),"",roh_Tab_6_Formel!C16) -> 45926 | D17: =IF(ISERROR(B17/C17),"",B17/C17) -> 1.2018682 | E17: =IF(ISERROR(roh_Tab_6_Formel!D16),"",roh_Tab_6_Formel!D16) -> 55493 | F17: =IF(ISERROR(roh_Tab_6_Formel!E16),"",roh_Tab_6_Formel!E16) -> 44818 | G17: =IF(ISERROR(E17/F17),"",E17/F17) -> 1.2381856 | H17: =IF(ISERROR(roh_Tab_6_Formel!F16),"",roh_Tab_6_Formel!F16) -> 54052 | I17: =IF(ISERROR(roh_Tab_6_Formel!G16),"",roh_Tab_6_Formel!G16) -> 45412 | J17: =IF(ISERROR(H17/I17),"",H17/I17) -> 1.1902581 | K17: =IF(ISERROR(roh_Tab_6_Formel!H16),"",roh_Tab_6_Formel!H16) -> 50041 | L17: =IF(ISERROR(roh_Tab_6_Formel!I16),"",roh_Tab_6_Formel!I16) -> 46064 | M17: =IF(ISERROR(K17/L17),"",K17/L17) -> 1.0863364 | N17: =IF(ISERROR(roh_Tab_6_Formel!J16),"",roh_Tab_6_Formel!J16) -> 48618 | O17: =IF(ISERROR(roh_Tab_6_Formel!K16),"",roh_Tab_6_Formel!K16) -> 47472 | P17: =IF(ISERROR(N17/O17),"",N17/O17) -> 1.0241405
A18: 04 Bremen | B18: =IF(ISERROR(roh_Tab_6_Formel!B17),"",roh_Tab_6_Formel!B17) -> 5480 | C18: =IF(ISERROR(roh_Tab_6_Formel!C17),"",roh_Tab_6_Formel!C17) -> 4726 | D18: =IF(ISERROR(B18/C18),"",B18/C18) -> 1.159543 | E18: =IF(ISERROR(roh_Tab_6_Formel!D17),"",roh_Tab_6_Formel!D17) -> 5689 | F18: =IF(ISERROR(roh_Tab_6_Formel!E17),"",roh_Tab_6_Formel!E17) -> 4709 | G18: =IF(ISERROR(E18/F18),"",E18/F18) -> 1.2081121 | H18: =IF(ISERROR(roh_Tab_6_Formel!F17),"",roh_Tab_6_Formel!F17) -> 5786 | I18: =IF(ISERROR(roh_Tab_6_Formel!G17),"",roh_Tab_6_Formel!G17) -> 4533 | J18: =IF(ISERROR(H18/I18),"",H18/I18) -> 1.2764174 | K18: =IF(ISERROR(roh_Tab_6_Formel!H17),"",roh_Tab_6_Formel!H17) -> 5266 | L18: =IF(ISERROR(roh_Tab_6_Formel!I17),"",roh_Tab_6_Formel!I17) -> 4657 | M18: =IF(ISERROR(K18/L18),"",K18/L18) -> 1.1307709 | N18: =IF(ISERROR(roh_Tab_6_Formel!J17),"",roh_Tab_6_Formel!J17) -> 5040 | O18: =IF(ISERROR(roh_Tab_6_Formel!K17),"",roh_Tab_6_Formel!K17) -> 4729 | P18: =IF(ISERROR(N18/O18),"",N18/O18) -> 1.0657644
A19: 05 Nordrhein-Westfalen | B19: =IF(ISERROR(roh_Tab_6_Formel!B18),"",roh_Tab_6_Formel!B18) -> 110100 | C19: =IF(ISERROR(roh_Tab_6_Formel!C18),"",roh_Tab_6_Formel!C18) -> 107529 | D19: =IF(ISERROR(B19/C19),"",B19/C19) -> 1.0239098 | E19: =IF(ISERROR(roh_Tab_6_Formel!D18),"",roh_Tab_6_Formel!D18) -> 114640 | F19: =IF(ISERROR(roh_Tab_6_Formel!E18),"",roh_Tab_6_Formel!E18) -> 105286 | G19: =IF(ISERROR(E19/F19),"",E19/F19) -> 1.0888437 | H19: =IF(ISERROR(roh_Tab_6_Formel!F18),"",roh_Tab_6_Formel!F18) -> 111743 | I19: =IF(ISERROR(roh_Tab_6_Formel!G18),"",roh_Tab_6_Formel!G18) -> 103697 | J19: =IF(ISERROR(H19/I19),"",H19/I19) -> 1.0775914 | K19: =IF(ISERROR(roh_Tab_6_Formel!H18),"",roh_Tab_6_Formel!H18) -> 107599 | L19: =IF(ISERROR(roh_Tab_6_Formel!I18),"",roh_Tab_6_Formel!I18) -> 105734 | M19: =IF(ISERROR(K19/L19),"",K19/L19) -> 1.0176386 | N19: =IF(ISERROR(roh_Tab_6_Formel!J18),"",roh_Tab_6_Formel!J18) -> 104692 | O19: =IF(ISERROR(roh_Tab_6_Formel!K18),"",roh_Tab_6_Formel!K18) -> 108910 | P19: =IF(ISERROR(N19/O19),"",N19/O19) -> 0.96127077
A20: 06 Hessen | B20: =IF(ISERROR(roh_Tab_6_Formel!B19),"",roh_Tab_6_Formel!B19) -> 33670 | C20: =IF(ISERROR(roh_Tab_6_Formel!C19),"",roh_Tab_6_Formel!C19) -> 35242 | D20: =IF(ISERROR(B20/C20),"",B20/C20) -> 0.95539413 | E20: =IF(ISERROR(roh_Tab_6_Formel!D19),"",roh_Tab_6_Formel!D19) -> 35590 | F20: =IF(ISERROR(roh_Tab_6_Formel!E19),"",roh_Tab_6_Formel!E19) -> 33722 | G20: =IF(ISERROR(E20/F20),"",E20/F20) -> 1.0553941 | H20: =IF(ISERROR(roh_Tab_6_Formel!F19),"",roh_Tab_6_Formel!F19) -> 35322 | I20: =IF(ISERROR(roh_Tab_6_Formel!G19),"",roh_Tab_6_Formel!G19) -> 34636 | J20: =IF(ISERROR(H20/I20),"",H20/I20) -> 1.019806 | K20: =IF(ISERROR(roh_Tab_6_Formel!H19),"",roh_Tab_6_Formel!H19) -> 34688 | L20: =IF(ISERROR(roh_Tab_6_Formel!I19),"",roh_Tab_6_Formel!I19) -> 34658 | M20: =IF(ISERROR(K20/L20),"",K20/L20) -> 1.0008656 | N20: =IF(ISERROR(roh_Tab_6_Formel!J19),"",roh_Tab_6_Formel!J19) -> 32882 | O20: =IF(ISERROR(roh_Tab_6_Formel!K19),"",roh_Tab_6_Formel!K19) -> 36273 | P20: =IF(ISERROR(N20/O20),"",N20/O20) -> 0.90651449
A21: 07 Rheinland-Pfalz | B21: =IF(ISERROR(roh_Tab_6_Formel!B20),"",roh_Tab_6_Formel!B20) -> 25232 | C21: =IF(ISERROR(roh_Tab_6_Formel!C20),"",roh_Tab_6_Formel!C20) -> 21573 | D21: =IF(ISERROR(B21/C21),"",B21/C21) -> 1.1696102 | E21: =IF(ISERROR(roh_Tab_6_Formel!D20),"",roh_Tab_6_Formel!D20) -> 26237 | F21: =IF(ISERROR(roh_Tab_6_Formel!E20),"",roh_Tab_6_Formel!E20) -> 20107 | G21: =IF(ISERROR(E21/F21),"",E21/F21) -> 1.304869 | H21: =IF(ISERROR(roh_Tab_6_Formel!F20),"",roh_Tab_6_Formel!F20) -> 25807 | I21: =IF(ISERROR(roh_Tab_6_Formel!G20),"",roh_Tab_6_Formel!G20) -> 20526 | J21: =IF(ISERROR(H21/I21),"",H21/I21) -> 1.2572834 | K21: =IF(ISERROR(roh_Tab_6_Formel!H20),"",roh_Tab_6_Formel!H20) -> 24522 | L21: =IF(ISERROR(roh_Tab_6_Formel!I20),"",roh_Tab_6_Formel!I20) -> 20346 | M21: =IF(ISERROR(K21/L21),"",K21/L21) -> 1.2052492 | N21: =IF(ISERROR(roh_Tab_6_Formel!J20),"",roh_Tab_6_Formel!J20) -> 24135 | O21: =IF(ISERROR(roh_Tab_6_Formel!K20),"",roh_Tab_6_Formel!K20) -> 20912 | P21: =IF(ISERROR(N21/O21),"",N21/O21) -> 1.154122
A22: 08 Baden-Württemberg | B22: =IF(ISERROR(roh_Tab_6_Formel!B21),"",roh_Tab_6_Formel!B21) -> 74134 | C22: =IF(ISERROR(roh_Tab_6_Formel!C21),"",roh_Tab_6_Formel!C21) -> 52296 | D22: =IF(ISERROR(B22/C22),"",B22/C22) -> 1.4175845 | E22: =IF(ISERROR(roh_Tab_6_Formel!D21),"",roh_Tab_6_Formel!D21) -> 79640 | F22: =IF(ISERROR(roh_Tab_6_Formel!E21),"",roh_Tab_6_Formel!E21) -> 50695 | G22: =IF(ISERROR(E22/F22),"",E22/F22) -> 1.5709636 | H22: =IF(ISERROR(roh_Tab_6_Formel!F21),"",roh_Tab_6_Formel!F21) -> 79610 | I22: =IF(ISERROR(roh_Tab_6_Formel!G21),"",roh_Tab_6_Formel!G21) -> 51896 | J22: =IF(ISERROR(H22/I22),"",H22/I22) -> 1.5340296 | K22: =IF(ISERROR(roh_Tab_6_Formel!H21),"",roh_Tab_6_Formel!H21) -> 77397 | L22: =IF(ISERROR(roh_Tab_6_Formel!I21),"",roh_Tab_6_Formel!I21) -> 52768 | M22: =IF(ISERROR(K22/L22),"",K22/L22) -> 1.4667412 | N22: =IF(ISERROR(roh_Tab_6_Formel!J21),"",roh_Tab_6_Formel!J21) -> 74767 | O22: =IF(ISERROR(roh_Tab_6_Formel!K21),"",roh_Tab_6_Formel!K21) -> 53781 | P22: =IF(ISERROR(N22/O22),"",N22/O22) -> 1.3902122
A23: 09 Bayern | B23: =IF(ISERROR(roh_Tab_6_Formel!B22),"",roh_Tab_6_Formel!B22) -> 98192 | C23: =IF(ISERROR(roh_Tab_6_Formel!C22),"",roh_Tab_6_Formel!C22) -> 61877 | D23: =IF(ISERROR(B23/C23),"",B23/C23) -> 1.5868901 | E23: =IF(ISERROR(roh_Tab_6_Formel!D22),"",roh_Tab_6_Formel!D22) -> 101481 | F23: =IF(ISERROR(roh_Tab_6_Formel!E22),"",roh_Tab_6_Formel!E22) -> 61293 | G23: =IF(ISERROR(E23/F23),"",E23/F23) -> 1.6556703 | H23: =IF(ISERROR(roh_Tab_6_Formel!F22),"",roh_Tab_6_Formel!F22) -> 103344 | I23: =IF(ISERROR(roh_Tab_6_Formel!G22),"",roh_Tab_6_Formel!G22) -> 60466 | J23: =IF(ISERROR(H23/I23),"",H23/I23) -> 1.7091258 | K23: =IF(ISERROR(roh_Tab_6_Formel!H22),"",roh_Tab_6_Formel!H22) -> 99722 | L23: =IF(ISERROR(roh_Tab_6_Formel!I22),"",roh_Tab_6_Formel!I22) -> 62161 | M23: =IF(ISERROR(K23/L23),"",K23/L23) -> 1.6042535 | N23: =IF(ISERROR(roh_Tab_6_Formel!J22),"",roh_Tab_6_Formel!J22) -> 95859 | O23: =IF(ISERROR(roh_Tab_6_Formel!K22),"",roh_Tab_6_Formel!K22) -> 63297 | P23: =IF(ISERROR(N23/O23),"",N23/O23) -> 1.514432
... A30: 16 Thüringen | B30: =IF(ISERROR(roh_Tab_6_Formel!B29),"",roh_Tab_6_Formel!B29) -> 12339 | C30: =IF(ISERROR(roh_Tab_6_Formel!C29),"",roh_Tab_6_Formel!C29) -> 8064 | D30: =IF(ISERROR(B30/C30),"",B30/C30) -> 1.5301339 | E30: =IF(ISERROR(roh_Tab_6_Formel!D29),"",roh_Tab_6_Formel!D29) -> 13301 | F30: =IF(ISERROR(roh_Tab_6_Formel!E29),"",roh_Tab_6_Formel!E29) -> 8145 | G30: =IF(ISERROR(E30/F30),"",E30/F30) -> 1.6330264 | H30: =IF(ISERROR(roh_Tab_6_Formel!F29),"",roh_Tab_6_Formel!F29) -> 13636 | I30: =IF(ISERROR(roh_Tab_6_Formel!G29),"",roh_Tab_6_Formel!G29) -> 7822 | J30: =IF(ISERROR(H30/I30),"",H30/I30) -> 1.7432882 | K30: =IF(ISERROR(roh_Tab_6_Formel!H29),"",roh_Tab_6_Formel!H29) -> 12819 | L30: =IF(ISERROR(roh_Tab_6_Formel!I29),"",roh_Tab_6_Formel!I29) -> 7616 | M30: =IF(ISERROR(K30/L30),"",K30/L30) -> 1.683167 | N30: =IF(ISERROR(roh_Tab_6_Formel!J29),"",roh_Tab_6_Formel!J29) -> 12214 | O30: =IF(ISERROR(roh_Tab_6_Formel!K29),"",roh_Tab_6_Formel!K29) -> 7856 | P30: =IF(ISERROR(N30/O30),"",N30/O30) -> 1.5547352
P31: © Statistik der Bundesagentur für Arbeit

Sheet Hinweis_Ausbildungsmarkt
B1: Ausbildungsmarkt
B2: Stand: 22.07.2026
B3: Methodische Hinweise zu den Statistiken über den Ausbildungsmarkt
B4: Kurzbeschreibung
