Workbook
Name DM: 1.95583
Name EUR: 1
Name Tab_1_Bew_Monat: roh_Tab_1_Bew!$B$8:$B$1048576
Name Tab_1_Bew_Region: roh_Tab_1_Bew!$A$8:$A$1048576
Name Tab_1_Bew_Status: roh_Tab_1_Bew!$D$7:$E$7
Name Tab_1_Bew_Werte: roh_Tab_1_Bew!$D$8:$E$1048576
Name Tab_1_Stellen_Monat: roh_Tab_1_Stellen!$B$8:$B$1048576
Name Tab_1_Stellen_Region: roh_Tab_1_Stellen!$A$8:$A$1048576
Name Tab_1_Stellen_Sonderprogramm: roh_Tab_1_Stellen!$D$7:$E$7
Name Tab_1_Stellen_Status: roh_Tab_1_Stellen!$D$6:$G$6
Name Tab_1_Stellen_Werte: roh_Tab_1_Stellen!$D$8:$G$1048576
Name Tab_2_Monat: roh_Tab_2!$D$7:$XFD$7
Name Tab_2_Region: roh_Tab_2!$A$8:$A$102
Name Tab_2_Status: roh_Tab_2!$B$8:$B$12
Name Tab_2_Werte: roh_Tab_2!$D$8:$XFD$102
Name Tab_3_Merkmal: 'LÖSCHEN_V roh_Tab_3'!$L$14:$L$43
Name Tab_3_Merkmal: roh_Tab_3!$B$9:$B$38
Name Tab_3_Monat: 'LÖSCHEN_V roh_Tab_3'!$N$12:$XFD$12
Name Tab_3_Monat: roh_Tab_3!$D$7:$XFD$7
Name Tab_3_Region: 'LÖSCHEN_V roh_Tab_3'!$K$14:$K$583
Name Tab_3_Region: roh_Tab_3!$A$9:$A$578
Name Tab_3_Status: 'LÖSCHEN_V roh_Tab_3'!$N$13:$R$13
Name Tab_3_Status: roh_Tab_3!$D$8:$H$8
Name Tab_3_Werte: 'LÖSCHEN_V roh_Tab_3'!$N$14:$XFD$583
Name Tab_3_Werte: roh_Tab_3!$D$9:$XFD$578
Name Tab_4_Merkmal_Verbleib: roh_Tab_4!$B$9:$B$29
Name Tab_4_Monat: roh_Tab_4!$D$7:$XFD$7
Name Tab_4_Region: roh_Tab_4!$A$9:$A$407
Name Tab_4_Status: roh_Tab_4!$D$8:$H$8
Name Tab_4_Werte: roh_Tab_4!$D$9:$XFD$407
Name Tab_5_Merkmal_Kammer: roh_Tab_5!$B$9:$B$22
Name Tab_5_Monat: roh_Tab_5!$D$6:$XFD$6
Name Tab_5_Region: roh_Tab_5!$A$9:$A$274
Name Tab_5_Sonderprogramme: roh_Tab_5!$D$8:$E$8
Name Tab_5_Status: roh_Tab_5!$D$7:$G$7
Name Tab_5_Werte: roh_Tab_5!$D$9:$XFD$274
Name Tab_6_Bew_Monat: roh_Tab_6_Bew!$C$7:$XFD$7
Name Tab_6_Bew_Region: roh_Tab_6_Bew!$A$9:$A$27
Name Tab_6_Bew_Status: roh_Tab_6_Bew!$C$8:$D$8
Name Tab_6_Bew_Werte: roh_Tab_6_Bew!$C$9:$XFD$27
Name Tab_6_Stellen_Monat: roh_Tab_6_Stellen!$C$6:$XFD$6
Name Tab_6_Stellen_Region: roh_Tab_6_Stellen!$A$9:$A$27
Name Tab_6_Stellen_Sonderprogramme: roh_Tab_6_Stellen!$C$8:$D$8
Name Tab_6_Stellen_Status: roh_Tab_6_Stellen!$C$7:$F$7
Name Tab_6_Stellen_Werte: roh_Tab_6_Stellen!$C$9:$XFD$27

Sheet Deckblatt
C1: September 2025 (Revidierte Daten)

Sheet Impressum
A4: Impressum
A6: Produktlinie/Reihe: | C6: Tabellen
A8: Titel: | C8: Bewerber und Berufsausbildungsstellen
A10: Region: | C10: Deutschland, West/Ost und Länder
A12: Berichtsmonat: | C12: Zeitreihe
A14: Erstellungsdatum: | C14: 46227
A16: Periodizität: | C16: jährlich
A18: nächster Veröffentlichungstermin: | C18: 46325
A20: Herausgeberin: | C20: Bundesagentur für Arbeit
C21: Statistik
A23: Rückfragen an: | C23: Zentraler Statistik-Service
C24: Regensburger Straße 104
C25: 90478 Nürnberg
A26: E-Mail: | C26: Zentraler-Statistik-Service@arbeitsagentur.de
A27: Hotline: | C27: 0911/179-3632
A29: Hinweise: | C29: Revidierte Daten für die gemeldeten Berufsausbildungsstellen im Berichtsjahr 2024/25. Es können Abweichungen gegenüber Auswertungen mit früherem Erstellungsdatum auftreten.
A31: Weiterführende statistische Informationen
A33: Internet: | C33: http://statistik.arbeitsagentur.de
A35: Zitierhinweis: | C35: Statistik der Bundesagentur für Arbeit
A38: Nutzungsbedingungen: | C38: © Statistik der Bundesagentur für Arbeit
C39: Sie können Informationen speichern, (auch auszugsweise) mit Quellen-
C40: angabe weitergeben, vervielfältigen und verbreiten. Die Inhalte dürfen
C41: nicht verändert oder verfälscht werden. Eigene Berechnungen sind
C42: erlaubt, jedoch als solche kenntlich zu machen.
C43: Im Falle einer Zugänglichmachung im Internet soll dies in Form einer
C44: Verlinkung auf die Homepage der Statistik der Bundesagentur für Arbeit
C45: erfolgen.
C46: Die Nutzung der Inhalte für gewerbliche Zwecke, ausgenommen Presse,
C47: Rundfunk und Fernsehen und wissenschaftliche Publikationen, bedarf
C48: der Genehmigung durch die Statistik der Bundesagentur für Arbeit.

Sheet Inhaltsverzeichnis
A4: Inhaltsverzeichnis
A7: Bewerber für Berufsausbildungsstellen und Berufsausbildungsstellen - Zeitreihe
A8: =Org!A1 -> Deutschland
A9: Zeitreihe
A11: Tabelle
A13: Tab_1 | B13: =Tab_1!A3 -> 1 Seit Beginn des jeweiligen Berichtsjahres gemeldete Berufsausbildungsstellen und gemeldete Bewerber für Berufsausbildungsstellen - monatlich
A14: Tab_2 | B14: =Tab_2!A3 -> 2 Seit Beginn des Berichtsjahres gemeldete Bewerber für Berufsausbildungsstellen nach dem Status der Ausbildungssuche jeweils zum 30.09.
A15: Tab_3 | B15: =Tab_3!A3 -> 3 Seit Beginn des Berichtsjahres gemeldete Bewerber nach Personenmerkmalen jeweils zum 30.09.
A16: Tab_4 | B16: =Tab_4!A3 -> 4 Seit Beginn des Berichtsjahres gemeldete Bewerber für Berufsausbildungsstellen nach der Art des Verbleibs jeweils zum 30.09.
A17: Tab_5 | B17: =Tab_5!A3 -> 5 Seit Beginn des Berichtsjahres gemeldete Berufsausbildungsstellen nach zuständiger Stelle jeweils zum 30.09.
A18: Tab_6 | B18: =Tab_6!A3 -> 6 Seit Beginn des Berichtsjahres gemeldete Berufsausbildungsstellen und gemeldete Bewerber für Berufsausbildungsstellen im Regionenvergleich jeweils zum 30.09.
A19: Hinweise AusbM | B19: Methodische Hinweise und Definitionen - Erläuterungen zu den Statistiken über den Ausbildungsstellenmarkt
A20: Info

Sheet Tab_1
K1: Ausbildungsmarkt
A3: =CONCATENATE("1 Seit Beginn des jeweiligen Berichtsjahres ",B9," und ",G9," - monatlich") -> 1 Seit Beginn des jeweiligen Berichtsjahres gemeldete Berufsausbildungsstellen und gemeldete Bewerber für Berufsausbildungsstellen - monatlich
A4: =Org!A1 -> Deutschland
A5: Zeitreihe
A7: Bitte beachten Sie die das Tabellenblatt "Hinweis_Ausbildungsmarkt" bei der Interpretation der Daten.
A8: Revidierte Daten für die gemeldeten Berufsausbildungsstellen im Berichtsjahr 2024/25. Es können Abweichungen gegenüber Auswertungen mit früherem Erstellungsdatum auftreten.
B9: =IF(Org!C29=1,Org!A26,IF(Org!C29=2,Org!A27,IF(Org!C29=3,Org!A28))) -> gemeldete Berufsausbildungsstellen | G9: =IF(Org!C29=1,Org!A24,IF(Org!C29=2,Org!A25,IF(Org!C29=3,Org!A24,))) -> gemeldete Bewerber für Berufsausbildungsstellen
A10: Berichtsmonate | B10: =RIGHT(Org!$A33,7) -> 2020/21 | C10: =RIGHT(Org!$A34,7) -> 2021/22 | D10: =RIGHT(Org!$A35,7) -> 2022/23 | E10: =RIGHT(Org!$A36,7) -> 2023/24 | F10: =RIGHT(Org!$A37,7) -> 2024/25 | G10: =B10 -> 2020/21 | H10: =C10 -> 2021/22 | I10: =D10 -> 2022/23 | J10: =E10 -> 2023/24 | K10: =F10 -> 2024/25
B11: 1 | C11: 2 | D11: 3 | E11: 4 | F11: 5 | G11: 6 | H11: 7 | I11: 8 | J11: 9 | K11: 10
A12: Oktober | B12: =IF(ISERROR(roh_Tab_1_Formel!B11),"",roh_Tab_1_Formel!B11) -> 255421 | C12: =IF(ISERROR(roh_Tab_1_Formel!C11),"",roh_Tab_1_Formel!C11) -> 261957 | D12: =IF(ISERROR(roh_Tab_1_Formel!D11),"",roh_Tab_1_Formel!D11) -> 281293 | E12: =IF(ISERROR(roh_Tab_1_Formel!E11),"",roh_Tab_1_Formel!E11) -> 284604 | F12: =IF(ISERROR(roh_Tab_1_Formel!F11),"",roh_Tab_1_Formel!F11) -> 279809 | G12: =IF(ISERROR(roh_Tab_1_Formel!G11),"",roh_Tab_1_Formel!G11) -> 147585 | H12: =IF(ISERROR(roh_Tab_1_Formel!H11),"",roh_Tab_1_Formel!H11) -> 133758 | I12: =IF(ISERROR(roh_Tab_1_Formel!I11),"",roh_Tab_1_Formel!I11) -> 136274 | ... K12: =IF(ISERROR(roh_Tab_1_Formel!K11),"",roh_Tab_1_Formel!K11) -> 150857
A13: November | B13: =IF(ISERROR(roh_Tab_1_Formel!B12),"",roh_Tab_1_Formel!B12) -> 300550 | C13: =IF(ISERROR(roh_Tab_1_Formel!C12),"",roh_Tab_1_Formel!C12) -> 312563 | D13: =IF(ISERROR(roh_Tab_1_Formel!D12),"",roh_Tab_1_Formel!D12) -> 325276 | E13: =IF(ISERROR(roh_Tab_1_Formel!E12),"",roh_Tab_1_Formel!E12) -> 330434 | F13: =IF(ISERROR(roh_Tab_1_Formel!F12),"",roh_Tab_1_Formel!F12) -> 325318 | G13: =IF(ISERROR(roh_Tab_1_Formel!G12),"",roh_Tab_1_Formel!G12) -> 196953 | H13: =IF(ISERROR(roh_Tab_1_Formel!H12),"",roh_Tab_1_Formel!H12) -> 177220 | I13: =IF(ISERROR(roh_Tab_1_Formel!I12),"",roh_Tab_1_Formel!I12) -> 178080 | ... K13: =IF(ISERROR(roh_Tab_1_Formel!K12),"",roh_Tab_1_Formel!K12) -> 193385
A14: Dezember | B14: =IF(ISERROR(roh_Tab_1_Formel!B13),"",roh_Tab_1_Formel!B13) -> 334648 | C14: =IF(ISERROR(roh_Tab_1_Formel!C13),"",roh_Tab_1_Formel!C13) -> 352517 | D14: =IF(ISERROR(roh_Tab_1_Formel!D13),"",roh_Tab_1_Formel!D13) -> 361946 | E14: =IF(ISERROR(roh_Tab_1_Formel!E13),"",roh_Tab_1_Formel!E13) -> 365915 | F14: =IF(ISERROR(roh_Tab_1_Formel!F13),"",roh_Tab_1_Formel!F13) -> 354177 | G14: =IF(ISERROR(roh_Tab_1_Formel!G13),"",roh_Tab_1_Formel!G13) -> 239358 | H14: =IF(ISERROR(roh_Tab_1_Formel!H13),"",roh_Tab_1_Formel!H13) -> 221563 | I14: =IF(ISERROR(roh_Tab_1_Formel!I13),"",roh_Tab_1_Formel!I13) -> 220589 | ... K14: =IF(ISERROR(roh_Tab_1_Formel!K13),"",roh_Tab_1_Formel!K13) -> 234996
A15: Januar | B15: =IF(ISERROR(roh_Tab_1_Formel!B14),"",roh_Tab_1_Formel!B14) -> 358716 | C15: =IF(ISERROR(roh_Tab_1_Formel!C14),"",roh_Tab_1_Formel!C14) -> 383282 | D15: =IF(ISERROR(roh_Tab_1_Formel!D14),"",roh_Tab_1_Formel!D14) -> 395535 | E15: =IF(ISERROR(roh_Tab_1_Formel!E14),"",roh_Tab_1_Formel!E14) -> 390059 | F15: =IF(ISERROR(roh_Tab_1_Formel!F14),"",roh_Tab_1_Formel!F14) -> 372137 | G15: =IF(ISERROR(roh_Tab_1_Formel!G14),"",roh_Tab_1_Formel!G14) -> 262410 | H15: =IF(ISERROR(roh_Tab_1_Formel!H14),"",roh_Tab_1_Formel!H14) -> 248094 | I15: =IF(ISERROR(roh_Tab_1_Formel!I14),"",roh_Tab_1_Formel!I14) -> 244182 | ... K15: =IF(ISERROR(roh_Tab_1_Formel!K14),"",roh_Tab_1_Formel!K14) -> 259660
A16: Februar | B16: =IF(ISERROR(roh_Tab_1_Formel!B15),"",roh_Tab_1_Formel!B15) -> 387704 | C16: =IF(ISERROR(roh_Tab_1_Formel!C15),"",roh_Tab_1_Formel!C15) -> 417095 | D16: =IF(ISERROR(roh_Tab_1_Formel!D15),"",roh_Tab_1_Formel!D15) -> 427613 | E16: =IF(ISERROR(roh_Tab_1_Formel!E15),"",roh_Tab_1_Formel!E15) -> 416530 | F16: =IF(ISERROR(roh_Tab_1_Formel!F15),"",roh_Tab_1_Formel!F15) -> 396890 | G16: =IF(ISERROR(roh_Tab_1_Formel!G15),"",roh_Tab_1_Formel!G15) -> 293916 | H16: =IF(ISERROR(roh_Tab_1_Formel!H15),"",roh_Tab_1_Formel!H15) -> 283922 | I16: =IF(ISERROR(roh_Tab_1_Formel!I15),"",roh_Tab_1_Formel!I15) -> 281973 | ... K16: =IF(ISERROR(roh_Tab_1_Formel!K15),"",roh_Tab_1_Formel!K15) -> 294488
A17: März | B17: =IF(ISERROR(roh_Tab_1_Formel!B16),"",roh_Tab_1_Formel!B16) -> 415651 | C17: =IF(ISERROR(roh_Tab_1_Formel!C16),"",roh_Tab_1_Formel!C16) -> 443407 | D17: =IF(ISERROR(roh_Tab_1_Formel!D16),"",roh_Tab_1_Formel!D16) -> 450798 | E17: =IF(ISERROR(roh_Tab_1_Formel!E16),"",roh_Tab_1_Formel!E16) -> 437637 | F17: =IF(ISERROR(roh_Tab_1_Formel!F16),"",roh_Tab_1_Formel!F16) -> 415886 | G17: =IF(ISERROR(roh_Tab_1_Formel!G16),"",roh_Tab_1_Formel!G16) -> 322779 | H17: =IF(ISERROR(roh_Tab_1_Formel!H16),"",roh_Tab_1_Formel!H16) -> 313401 | I17: =IF(ISERROR(roh_Tab_1_Formel!I16),"",roh_Tab_1_Formel!I16) -> 310992 | ... K17: =IF(ISERROR(roh_Tab_1_Formel!K16),"",roh_Tab_1_Formel!K16) -> 326670
A18: April | B18: =IF(ISERROR(roh_Tab_1_Formel!B17),"",roh_Tab_1_Formel!B17) -> 436800 | C18: =IF(ISERROR(roh_Tab_1_Formel!C17),"",roh_Tab_1_Formel!C17) -> 465954 | D18: =IF(ISERROR(roh_Tab_1_Formel!D17),"",roh_Tab_1_Formel!D17) -> 471983 | E18: =IF(ISERROR(roh_Tab_1_Formel!E17),"",roh_Tab_1_Formel!E17) -> 454523 | F18: =IF(ISERROR(roh_Tab_1_Formel!F17),"",roh_Tab_1_Formel!F17) -> 431565 | G18: =IF(ISERROR(roh_Tab_1_Formel!G17),"",roh_Tab_1_Formel!G17) -> 345006 | H18: =IF(ISERROR(roh_Tab_1_Formel!H17),"",roh_Tab_1_Formel!H17) -> 338940 | I18: =IF(ISERROR(roh_Tab_1_Formel!I17),"",roh_Tab_1_Formel!I17) -> 335816 | ... K18: =IF(ISERROR(roh_Tab_1_Formel!K17),"",roh_Tab_1_Formel!K17) -> 353941
A19: Mai | B19: =IF(ISERROR(roh_Tab_1_Formel!B18),"",roh_Tab_1_Formel!B18) -> 455281 | C19: =IF(ISERROR(roh_Tab_1_Formel!C18),"",roh_Tab_1_Formel!C18) -> 482986 | D19: =IF(ISERROR(roh_Tab_1_Formel!D18),"",roh_Tab_1_Formel!D18) -> 487429 | E19: =IF(ISERROR(roh_Tab_1_Formel!E18),"",roh_Tab_1_Formel!E18) -> 468784 | F19: =IF(ISERROR(roh_Tab_1_Formel!F18),"",roh_Tab_1_Formel!F18) -> 443852 | G19: =IF(ISERROR(roh_Tab_1_Formel!G18),"",roh_Tab_1_Formel!G18) -> 366722 | H19: =IF(ISERROR(roh_Tab_1_Formel!H18),"",roh_Tab_1_Formel!H18) -> 358349 | I19: =IF(ISERROR(roh_Tab_1_Formel!I18),"",roh_Tab_1_Formel!I18) -> 355632 | ... K19: =IF(ISERROR(roh_Tab_1_Formel!K18),"",roh_Tab_1_Formel!K18) -> 375393
A20: Juni | B20: =IF(ISERROR(roh_Tab_1_Formel!B19),"",roh_Tab_1_Formel!B19) -> 472596 | C20: =IF(ISERROR(roh_Tab_1_Formel!C19),"",roh_Tab_1_Formel!C19) -> 498733 | D20: =IF(ISERROR(roh_Tab_1_Formel!D19),"",roh_Tab_1_Formel!D19) -> 501664 | E20: =IF(ISERROR(roh_Tab_1_Formel!E19),"",roh_Tab_1_Formel!E19) -> 480457 | F20: =IF(ISERROR(roh_Tab_1_Formel!F19),"",roh_Tab_1_Formel!F19) -> 459910 | G20: =IF(ISERROR(roh_Tab_1_Formel!G19),"",roh_Tab_1_Formel!G19) -> 385042 | H20: =IF(ISERROR(roh_Tab_1_Formel!H19),"",roh_Tab_1_Formel!H19) -> 375715 | I20: =IF(ISERROR(roh_Tab_1_Formel!I19),"",roh_Tab_1_Formel!I19) -> 373806 | ... K20: =IF(ISERROR(roh_Tab_1_Formel!K19),"",roh_Tab_1_Formel!K19) -> 395736
A21: Juli | B21: =IF(ISERROR(roh_Tab_1_Formel!B20),"",roh_Tab_1_Formel!B20) -> 489717 | C21: =IF(ISERROR(roh_Tab_1_Formel!C20),"",roh_Tab_1_Formel!C20) -> 512018 | D21: =IF(ISERROR(roh_Tab_1_Formel!D20),"",roh_Tab_1_Formel!D20) -> 513953 | E21: =IF(ISERROR(roh_Tab_1_Formel!E20),"",roh_Tab_1_Formel!E20) -> 491834 | F21: =IF(ISERROR(roh_Tab_1_Formel!F20),"",roh_Tab_1_Formel!F20) -> 471653 | G21: =IF(ISERROR(roh_Tab_1_Formel!G20),"",roh_Tab_1_Formel!G20) -> 404443 | H21: =IF(ISERROR(roh_Tab_1_Formel!H20),"",roh_Tab_1_Formel!H20) -> 392276 | I21: =IF(ISERROR(roh_Tab_1_Formel!I20),"",roh_Tab_1_Formel!I20) -> 392190 | ... K21: =IF(ISERROR(roh_Tab_1_Formel!K20),"",roh_Tab_1_Formel!K20) -> 414126
A22: August | B22: =IF(ISERROR(roh_Tab_1_Formel!B21),"",roh_Tab_1_Formel!B21) -> 505635 | C22: =IF(ISERROR(roh_Tab_1_Formel!C21),"",roh_Tab_1_Formel!C21) -> 525559 | D22: =IF(ISERROR(roh_Tab_1_Formel!D21),"",roh_Tab_1_Formel!D21) -> 527460 | E22: =IF(ISERROR(roh_Tab_1_Formel!E21),"",roh_Tab_1_Formel!E21) -> 502356 | F22: =IF(ISERROR(roh_Tab_1_Formel!F21),"",roh_Tab_1_Formel!F21) -> 483541 | G22: =IF(ISERROR(roh_Tab_1_Formel!G21),"",roh_Tab_1_Formel!G21) -> 420273 | H22: =IF(ISERROR(roh_Tab_1_Formel!H21),"",roh_Tab_1_Formel!H21) -> 407642 | I22: =IF(ISERROR(roh_Tab_1_Formel!I21),"",roh_Tab_1_Formel!I21) -> 407588 | ... K22: =IF(ISERROR(roh_Tab_1_Formel!K21),"",roh_Tab_1_Formel!K21) -> 429608
A23: September | B23: =IF(ISERROR(roh_Tab_1_Formel!B22),"",roh_Tab_1_Formel!B22) -> 522867 | C23: =IF(ISERROR(roh_Tab_1_Formel!C22),"",roh_Tab_1_Formel!C22) -> 545960 | D23: =IF(ISERROR(roh_Tab_1_Formel!D22),"",roh_Tab_1_Formel!D22) -> 545039 | E23: =IF(ISERROR(roh_Tab_1_Formel!E22),"",roh_Tab_1_Formel!E22) -> 519399 | F23: =IF(ISERROR(roh_Tab_1_Formel!F22),"",roh_Tab_1_Formel!F22) -> 501338 | G23: =IF(ISERROR(roh_Tab_1_Formel!G22),"",roh_Tab_1_Formel!G22) -> 433543 | H23: =IF(ISERROR(roh_Tab_1_Formel!H22),"",roh_Tab_1_Formel!H22) -> 422400 | I23: =IF(ISERROR(roh_Tab_1_Formel!I22),"",roh_Tab_1_Formel!I22) -> 422059 | ... K23: =IF(ISERROR(roh_Tab_1_Formel!K22),"",roh_Tab_1_Formel!K22) -> 444335
K24: © Statistik der Bundesagentur für Arbeit
A26: =CONCATENATE("Seit Beginn des Berichtsjahres ",RIGHT(Org!B33,7)," ",B9," und ",G9,IF(Org!A1="Saarland"," im "," in "),Org!A1) -> Seit Beginn des Berichtsjahres 2024/25 gemeldete Berufsausbildungsstellen und gemeldete Bewerber für Berufsausbildungsstellen in Deutschland
B29: =B9 -> gemeldete Berufsausbildungsstellen | C29: =G9 -> gemeldete Bewerber für Berufsausbildungsstellen
A30: Berichtsmonate | B30: =IF(Org!$C$33=1,Tab_1!B10,IF(Org!$C$33=2,Tab_1!C10,IF(Org!$C$33=3,Tab_1!D10,IF(Org!$C$33=4,Tab_1!E10,IF(Org!$C$33=5,Tab_1!F10,))))) -> 2024/25 | C30: =IF(Org!$C$33=1,Tab_1!G10,IF(Org!$C$33=2,Tab_1!H10,IF(Org!$C$33=3,Tab_1!I10,IF(Org!$C$33=4,Tab_1!J10,IF(Org!$C$33=5,Tab_1!K10,))))) -> 2024/25
A31: Oktober | B31: =IF(ISERROR(INDEX($B$12:$K$23,MATCH($A31,$A$12:$A$23,0),MATCH(B$29,$B$9:$K$9,0)+MATCH(B$30,$B$10:$F$10,0)-1)),"",INDEX($B$12:$K$23,MATCH($A31,$A$12:$A$23,0),MATCH(B$29,$B$9:$K$9,0)+MATCH(B$30,$B$10:$F$10,0)-1)) -> 279809 | C31: =IF(ISERROR(INDEX($B$12:$K$23,MATCH($A31,$A$12:$A$23,0),MATCH(C$29,$B$9:$K$9,0)+MATCH(C$30,$B$10:$F$10,0)-1)),"",INDEX($B$12:$K$23,MATCH($A31,$A$12:$A$23,0),MATCH(C$29,$B$9:$K$9,0)+MATCH(C$30,$B$10:$F$10,0)-1)) -> 150857
A32: November | B32: =IF(ISERROR(INDEX($B$12:$K$23,MATCH($A32,$A$12:$A$23,0),MATCH(B$29,$B$9:$K$9,0)+MATCH(B$30,$B$10:$F$10,0)-1)),"",INDEX($B$12:$K$23,MATCH($A32,$A$12:$A$23,0),MATCH(B$29,$B$9:$K$9,0)+MATCH(B$30,$B$10:$F$10,0)-1)) -> 325318 | C32: =IF(ISERROR(INDEX($B$12:$K$23,MATCH($A32,$A$12:$A$23,0),MATCH(C$29,$B$9:$K$9,0)+MATCH(C$30,$B$10:$F$10,0)-1)),"",INDEX($B$12:$K$23,MATCH($A32,$A$12:$A$23,0),MATCH(C$29,$B$9:$K$9,0)+MATCH(C$30,$B$10:$F$10,0)-1)) -> 193385
A33: Dezember | B33: =IF(ISERROR(INDEX($B$12:$K$23,MATCH($A33,$A$12:$A$23,0),MATCH(B$29,$B$9:$K$9,0)+MATCH(B$30,$B$10:$F$10,0)-1)),"",INDEX($B$12:$K$23,MATCH($A33,$A$12:$A$23,0),MATCH(B$29,$B$9:$K$9,0)+MATCH(B$30,$B$10:$F$10,0)-1)) -> 354177 | C33: =IF(ISERROR(INDEX($B$12:$K$23,MATCH($A33,$A$12:$A$23,0),MATCH(C$29,$B$9:$K$9,0)+MATCH(C$30,$B$10:$F$10,0)-1)),"",INDEX($B$12:$K$23,MATCH($A33,$A$12:$A$23,0),MATCH(C$29,$B$9:$K$9,0)+MATCH(C$30,$B$10:$F$10,0)-1)) -> 234996
A34: Januar | B34: =IF(ISERROR(INDEX($B$12:$K$23,MATCH($A34,$A$12:$A$23,0),MATCH(B$29,$B$9:$K$9,0)+MATCH(B$30,$B$10:$F$10,0)-1)),"",INDEX($B$12:$K$23,MATCH($A34,$A$12:$A$23,0),MATCH(B$29,$B$9:$K$9,0)+MATCH(B$30,$B$10:$F$10,0)-1)) -> 372137 | C34: =IF(ISERROR(INDEX($B$12:$K$23,MATCH($A34,$A$12:$A$23,0),MATCH(C$29,$B$9:$K$9,0)+MATCH(C$30,$B$10:$F$10,0)-1)),"",INDEX($B$12:$K$23,MATCH($A34,$A$12:$A$23,0),MATCH(C$29,$B$9:$K$9,0)+MATCH(C$30,$B$10:$F$10,0)-1)) -> 259660
A35: Februar | B35: =IF(ISERROR(INDEX($B$12:$K$23,MATCH($A35,$A$12:$A$23,0),MATCH(B$29,$B$9:$K$9,0)+MATCH(B$30,$B$10:$F$10,0)-1)),"",INDEX($B$12:$K$23,MATCH($A35,$A$12:$A$23,0),MATCH(B$29,$B$9:$K$9,0)+MATCH(B$30,$B$10:$F$10,0)-1)) -> 396890 | C35: =IF(ISERROR(INDEX($B$12:$K$23,MATCH($A35,$A$12:$A$23,0),MATCH(C$29,$B$9:$K$9,0)+MATCH(C$30,$B$10:$F$10,0)-1)),"",INDEX($B$12:$K$23,MATCH($A35,$A$12:$A$23,0),MATCH(C$29,$B$9:$K$9,0)+MATCH(C$30,$B$10:$F$10,0)-1)) -> 294488
A36: März | B36: =IF(ISERROR(INDEX($B$12:$K$23,MATCH($A36,$A$12:$A$23,0),MATCH(B$29,$B$9:$K$9,0)+MATCH(B$30,$B$10:$F$10,0)-1)),"",INDEX($B$12:$K$23,MATCH($A36,$A$12:$A$23,0),MATCH(B$29,$B$9:$K$9,0)+MATCH(B$30,$B$10:$F$10,0)-1)) -> 415886 | C36: =IF(ISERROR(INDEX($B$12:$K$23,MATCH($A36,$A$12:$A$23,0),MATCH(C$29,$B$9:$K$9,0)+MATCH(C$30,$B$10:$F$10,0)-1)),"",INDEX($B$12:$K$23,MATCH($A36,$A$12:$A$23,0),MATCH(C$29,$B$9:$K$9,0)+MATCH(C$30,$B$10:$F$10,0)-1)) -> 326670
A37: April | B37: =IF(ISERROR(INDEX($B$12:$K$23,MATCH($A37,$A$12:$A$23,0),MATCH(B$29,$B$9:$K$9,0)+MATCH(B$30,$B$10:$F$10,0)-1)),"",INDEX($B$12:$K$23,MATCH($A37,$A$12:$A$23,0),MATCH(B$29,$B$9:$K$9,0)+MATCH(B$30,$B$10:$F$10,0)-1)) -> 431565 | C37: =IF(ISERROR(INDEX($B$12:$K$23,MATCH($A37,$A$12:$A$23,0),MATCH(C$29,$B$9:$K$9,0)+MATCH(C$30,$B$10:$F$10,0)-1)),"",INDEX($B$12:$K$23,MATCH($A37,$A$12:$A$23,0),MATCH(C$29,$B$9:$K$9,0)+MATCH(C$30,$B$10:$F$10,0)-1)) -> 353941
A38: Mai | B38: =IF(ISERROR(INDEX($B$12:$K$23,MATCH($A38,$A$12:$A$23,0),MATCH(B$29,$B$9:$K$9,0)+MATCH(B$30,$B$10:$F$10,0)-1)),"",INDEX($B$12:$K$23,MATCH($A38,$A$12:$A$23,0),MATCH(B$29,$B$9:$K$9,0)+MATCH(B$30,$B$10:$F$10,0)-1)) -> 443852 | C38: =IF(ISERROR(INDEX($B$12:$K$23,MATCH($A38,$A$12:$A$23,0),MATCH(C$29,$B$9:$K$9,0)+MATCH(C$30,$B$10:$F$10,0)-1)),"",INDEX($B$12:$K$23,MATCH($A38,$A$12:$A$23,0),MATCH(C$29,$B$9:$K$9,0)+MATCH(C$30,$B$10:$F$10,0)-1)) -> 375393
A39: Juni | B39: =IF(ISERROR(INDEX($B$12:$K$23,MATCH($A39,$A$12:$A$23,0),MATCH(B$29,$B$9:$K$9,0)+MATCH(B$30,$B$10:$F$10,0)-1)),"",INDEX($B$12:$K$23,MATCH($A39,$A$12:$A$23,0),MATCH(B$29,$B$9:$K$9,0)+MATCH(B$30,$B$10:$F$10,0)-1)) -> 459910 | C39: =IF(ISERROR(INDEX($B$12:$K$23,MATCH($A39,$A$12:$A$23,0),MATCH(C$29,$B$9:$K$9,0)+MATCH(C$30,$B$10:$F$10,0)-1)),"",INDEX($B$12:$K$23,MATCH($A39,$A$12:$A$23,0),MATCH(C$29,$B$9:$K$9,0)+MATCH(C$30,$B$10:$F$10,0)-1)) -> 395736
A40: Juli | B40: =IF(ISERROR(INDEX($B$12:$K$23,MATCH($A40,$A$12:$A$23,0),MATCH(B$29,$B$9:$K$9,0)+MATCH(B$30,$B$10:$F$10,0)-1)),"",INDEX($B$12:$K$23,MATCH($A40,$A$12:$A$23,0),MATCH(B$29,$B$9:$K$9,0)+MATCH(B$30,$B$10:$F$10,0)-1)) -> 471653 | C40: =IF(ISERROR(INDEX($B$12:$K$23,MATCH($A40,$A$12:$A$23,0),MATCH(C$29,$B$9:$K$9,0)+MATCH(C$30,$B$10:$F$10,0)-1)),"",INDEX($B$12:$K$23,MATCH($A40,$A$12:$A$23,0),MATCH(C$29,$B$9:$K$9,0)+MATCH(C$30,$B$10:$F$10,0)-1)) -> 414126
A41: August | B41: =IF(ISERROR(INDEX($B$12:$K$23,MATCH($A41,$A$12:$A$23,0),MATCH(B$29,$B$9:$K$9,0)+MATCH(B$30,$B$10:$F$10,0)-1)),"",INDEX($B$12:$K$23,MATCH($A41,$A$12:$A$23,0),MATCH(B$29,$B$9:$K$9,0)+MATCH(B$30,$B$10:$F$10,0)-1)) -> 483541 | C41: =IF(ISERROR(INDEX($B$12:$K$23,MATCH($A41,$A$12:$A$23,0),MATCH(C$29,$B$9:$K$9,0)+MATCH(C$30,$B$10:$F$10,0)-1)),"",INDEX($B$12:$K$23,MATCH($A41,$A$12:$A$23,0),MATCH(C$29,$B$9:$K$9,0)+MATCH(C$30,$B$10:$F$10,0)-1)) -> 429608
A42: September | B42: =IF(ISERROR(INDEX($B$12:$K$23,MATCH($A42,$A$12:$A$23,0),MATCH(B$29,$B$9:$K$9,0)+MATCH(B$30,$B$10:$F$10,0)-1)),"",INDEX($B$12:$K$23,MATCH($A42,$A$12:$A$23,0),MATCH(B$29,$B$9:$K$9,0)+MATCH(B$30,$B$10:$F$10,0)-1)) -> 501338 | C42: =IF(ISERROR(INDEX($B$12:$K$23,MATCH($A42,$A$12:$A$23,0),MATCH(C$29,$B$9:$K$9,0)+MATCH(C$30,$B$10:$F$10,0)-1)),"",INDEX($B$12:$K$23,MATCH($A42,$A$12:$A$23,0),MATCH(C$29,$B$9:$K$9,0)+MATCH(C$30,$B$10:$F$10,0)-1)) -> 444335

Sheet Tab_2
F1: Ausbildungsmarkt
A3: 2 Seit Beginn des Berichtsjahres gemeldete Bewerber für Berufsausbildungsstellen nach dem Status der Ausbildungssuche jeweils zum 30.09.
A4: =Org!A1 -> Deutschland
A5: Zeitreihe
A7: Bitte beachten Sie die das Tabellenblatt "Hinweis_Ausbildungsmarkt" bei der Interpretation der Daten.
A9: Status der Ausbildungssuche | B9: =RIGHT(Org!$A33,7) -> 2020/21 | C9: =RIGHT(Org!$A34,7) -> 2021/22 | D9: =RIGHT(Org!$A35,7) -> 2022/23 | E9: =RIGHT(Org!$A36,7) -> 2023/24 | F9: =RIGHT(Org!$A37,7) -> 2024/25
B10: 1 | C10: 2 | D10: 3 | E10: 4 | F10: 5
A11: Insgesamt | B11: =IF(ISERROR(roh_Tab_2_Formel!B10),"",roh_Tab_2_Formel!B10) -> 433543 | C11: =IF(ISERROR(roh_Tab_2_Formel!C10),"",roh_Tab_2_Formel!C10) -> 422400 | D11: =IF(ISERROR(roh_Tab_2_Formel!D10),"",roh_Tab_2_Formel!D10) -> 422059 | E11: =IF(ISERROR(roh_Tab_2_Formel!E10),"",roh_Tab_2_Formel!E10) -> 431552 | F11: =IF(ISERROR(roh_Tab_2_Formel!F10),"",roh_Tab_2_Formel!F10) -> 444335
A12: versorgte Bewerber | B12: =IF(ISERROR(roh_Tab_2_Formel!B11),"",roh_Tab_2_Formel!B11) -> 408929 | C12: =IF(ISERROR(roh_Tab_2_Formel!C11),"",roh_Tab_2_Formel!C11) -> 399715 | D12: =IF(ISERROR(roh_Tab_2_Formel!D11),"",roh_Tab_2_Formel!D11) -> 395678 | E12: =IF(ISERROR(roh_Tab_2_Formel!E11),"",roh_Tab_2_Formel!E11) -> 400401 | F12: =IF(ISERROR(roh_Tab_2_Formel!F11),"",roh_Tab_2_Formel!F11) -> 404467
A13: einmündende Bewerber | B13: =IF(ISERROR(roh_Tab_2_Formel!B12),"",roh_Tab_2_Formel!B12) -> 199547 | C13: =IF(ISERROR(roh_Tab_2_Formel!C12),"",roh_Tab_2_Formel!C12) -> 198684 | D13: =IF(ISERROR(roh_Tab_2_Formel!D12),"",roh_Tab_2_Formel!D12) -> 201615 | E13: =IF(ISERROR(roh_Tab_2_Formel!E12),"",roh_Tab_2_Formel!E12) -> 198143 | F13: =IF(ISERROR(roh_Tab_2_Formel!F12),"",roh_Tab_2_Formel!F12) -> 191163
A14: andere ehemalige Bewerber | B14: =IF(ISERROR(roh_Tab_2_Formel!B13),"",roh_Tab_2_Formel!B13) -> 166178 | C14: =IF(ISERROR(roh_Tab_2_Formel!C13),"",roh_Tab_2_Formel!C13) -> 163316 | D14: =IF(ISERROR(roh_Tab_2_Formel!D13),"",roh_Tab_2_Formel!D13) -> 156747 | E14: =IF(ISERROR(roh_Tab_2_Formel!E13),"",roh_Tab_2_Formel!E13) -> 163024 | F14: =IF(ISERROR(roh_Tab_2_Formel!F13),"",roh_Tab_2_Formel!F13) -> 168814
A15: Bewerber mit Alternative zum 30.09. | B15: =IF(ISERROR(roh_Tab_2_Formel!B14),"",roh_Tab_2_Formel!B14) -> 43204 | C15: =IF(ISERROR(roh_Tab_2_Formel!C14),"",roh_Tab_2_Formel!C14) -> 37715 | D15: =IF(ISERROR(roh_Tab_2_Formel!D14),"",roh_Tab_2_Formel!D14) -> 37316 | E15: =IF(ISERROR(roh_Tab_2_Formel!E14),"",roh_Tab_2_Formel!E14) -> 39234 | F15: =IF(ISERROR(roh_Tab_2_Formel!F14),"",roh_Tab_2_Formel!F14) -> 44490
A16: unversorgte Bewerber | B16: =IF(ISERROR(roh_Tab_2_Formel!B15),"",roh_Tab_2_Formel!B15) -> 24614 | C16: =IF(ISERROR(roh_Tab_2_Formel!C15),"",roh_Tab_2_Formel!C15) -> 22685 | D16: =IF(ISERROR(roh_Tab_2_Formel!D15),"",roh_Tab_2_Formel!D15) -> 26381 | E16: =IF(ISERROR(roh_Tab_2_Formel!E15),"",roh_Tab_2_Formel!E15) -> 31151 | F16: =IF(ISERROR(roh_Tab_2_Formel!F15),"",roh_Tab_2_Formel!F15) -> 39868
F17: © Statistik der Bundesagentur für Arbeit
A20: =CONCATENATE("Anteile in Prozent der seit dem Beginn des Berichtsjahres gemeldeten Bewerber für Berufsausbildungsstellen nach dem Status der Ausbildungssuche jeweils zum 30.09.",IF(Org!A1="Saarland"," im "," in "),Org!A1) -> Anteile in Prozent der seit dem Beginn des Berichtsjahres gemeldeten Bewerber für Berufsausbildungsstellen nach dem Status der Ausbildungssuche jeweils zum 30.09. in Deutschland

Sheet Tab_3
F1: Ausbildungsmarkt
A3: =CONCATENATE("3 Seit Beginn des Berichtsjahres gemeldete Bewerber nach Personenmerkmalen jeweils zum 30.09.",IF(B9="Insgesamt","",CONCATENATE(" - ",B9))) -> 3 Seit Beginn des Berichtsjahres gemeldete Bewerber nach Personenmerkmalen jeweils zum 30.09.
A4: =Org!A1 -> Deutschland
A5: Zeitreihe
A7: Bitte beachten Sie die das Tabellenblatt "Hinweis_Ausbildungsmarkt" bei der Interpretation der Daten.
B9: =IF(Org!C41=1,Org!A41,IF(Org!C41=2,Org!A42,IF(Org!C41=3,Org!A43,IF(Org!C41=4,Org!A44,IF(Org!C41=5,Org!A45,))))) -> Insgesamt
A10: Merkmale | B10: =RIGHT(Org!$A33,7) -> 2020/21 | C10: =RIGHT(Org!$A34,7) -> 2021/22 | D10: =RIGHT(Org!$A35,7) -> 2022/23 | E10: =RIGHT(Org!$A36,7) -> 2023/24 | F10: =RIGHT(Org!$A37,7) -> 2024/25
B11: 1 | C11: 2 | D11: 3 | E11: 4 | F11: 5
A12: Insgesamt | B12: =IF(ISERROR(roh_Tab_3_Formel!B11),"",roh_Tab_3_Formel!B11) -> 433543 | C12: =IF(ISERROR(roh_Tab_3_Formel!C11),"",roh_Tab_3_Formel!C11) -> 422400 | D12: =IF(ISERROR(roh_Tab_3_Formel!D11),"",roh_Tab_3_Formel!D11) -> 422059 | E12: =IF(ISERROR(roh_Tab_3_Formel!E11),"",roh_Tab_3_Formel!E11) -> 431552 | F12: =IF(ISERROR(roh_Tab_3_Formel!F11),"",roh_Tab_3_Formel!F11) -> 444335
A13: Geschlecht | B13: =IF(ISERROR(roh_Tab_3_Formel!B12),"",roh_Tab_3_Formel!B12) -> 0 | C13: =IF(ISERROR(roh_Tab_3_Formel!C12),"",roh_Tab_3_Formel!C12) -> 0 | D13: =IF(ISERROR(roh_Tab_3_Formel!D12),"",roh_Tab_3_Formel!D12) -> 0 | E13: =IF(ISERROR(roh_Tab_3_Formel!E12),"",roh_Tab_3_Formel!E12) -> 0 | F13: =IF(ISERROR(roh_Tab_3_Formel!F12),"",roh_Tab_3_Formel!F12) -> 0
A14: Männer | B14: =IF(ISERROR(roh_Tab_3_Formel!B13),"",roh_Tab_3_Formel!B13) -> 268518 | C14: =IF(ISERROR(roh_Tab_3_Formel!C13),"",roh_Tab_3_Formel!C13) -> 261561 | D14: =IF(ISERROR(roh_Tab_3_Formel!D13),"",roh_Tab_3_Formel!D13) -> 262431 | E14: =IF(ISERROR(roh_Tab_3_Formel!E13),"",roh_Tab_3_Formel!E13) -> 269765 | F14: =IF(ISERROR(roh_Tab_3_Formel!F13),"",roh_Tab_3_Formel!F13) -> 278786
A15: Frauen | B15: =IF(ISERROR(roh_Tab_3_Formel!B14),"",roh_Tab_3_Formel!B14) -> 164986 | C15: =IF(ISERROR(roh_Tab_3_Formel!C14),"",roh_Tab_3_Formel!C14) -> 160741 | D15: =IF(ISERROR(roh_Tab_3_Formel!D14),"",roh_Tab_3_Formel!D14) -> 159628 | E15: =IF(ISERROR(roh_Tab_3_Formel!E14),"",roh_Tab_3_Formel!E14) -> 161787 | F15: =IF(ISERROR(roh_Tab_3_Formel!F14),"",roh_Tab_3_Formel!F14) -> 165549
A16: Alter | B16: =IF(ISERROR(roh_Tab_3_Formel!B15),"",roh_Tab_3_Formel!B15) -> 0 | C16: =IF(ISERROR(roh_Tab_3_Formel!C15),"",roh_Tab_3_Formel!C15) -> 0 | D16: =IF(ISERROR(roh_Tab_3_Formel!D15),"",roh_Tab_3_Formel!D15) -> 0 | E16: =IF(ISERROR(roh_Tab_3_Formel!E15),"",roh_Tab_3_Formel!E15) -> 0 | F16: =IF(ISERROR(roh_Tab_3_Formel!F15),"",roh_Tab_3_Formel!F15) -> 0
A17: 15 Jahre und jünger | B17: =IF(ISERROR(roh_Tab_3_Formel!B16),"",roh_Tab_3_Formel!B16) -> 11506 | C17: =IF(ISERROR(roh_Tab_3_Formel!C16),"",roh_Tab_3_Formel!C16) -> 12845 | D17: =IF(ISERROR(roh_Tab_3_Formel!D16),"",roh_Tab_3_Formel!D16) -> 14392 | E17: =IF(ISERROR(roh_Tab_3_Formel!E16),"",roh_Tab_3_Formel!E16) -> 13764 | F17: =IF(ISERROR(roh_Tab_3_Formel!F16),"",roh_Tab_3_Formel!F16) -> 13560
A18: 16 Jahre | B18: =IF(ISERROR(roh_Tab_3_Formel!B17),"",roh_Tab_3_Formel!B17) -> 66747 | C18: =IF(ISERROR(roh_Tab_3_Formel!C17),"",roh_Tab_3_Formel!C17) -> 69666 | D18: =IF(ISERROR(roh_Tab_3_Formel!D17),"",roh_Tab_3_Formel!D17) -> 75518 | E18: =IF(ISERROR(roh_Tab_3_Formel!E17),"",roh_Tab_3_Formel!E17) -> 79809 | F18: =IF(ISERROR(roh_Tab_3_Formel!F17),"",roh_Tab_3_Formel!F17) -> 76025
A19: 17 Jahre | B19: =IF(ISERROR(roh_Tab_3_Formel!B18),"",roh_Tab_3_Formel!B18) -> 69483 | C19: =IF(ISERROR(roh_Tab_3_Formel!C18),"",roh_Tab_3_Formel!C18) -> 71730 | D19: =IF(ISERROR(roh_Tab_3_Formel!D18),"",roh_Tab_3_Formel!D18) -> 73269 | E19: =IF(ISERROR(roh_Tab_3_Formel!E18),"",roh_Tab_3_Formel!E18) -> 75773 | F19: =IF(ISERROR(roh_Tab_3_Formel!F18),"",roh_Tab_3_Formel!F18) -> 76905
A20: 18 Jahre | B20: =IF(ISERROR(roh_Tab_3_Formel!B19),"",roh_Tab_3_Formel!B19) -> 62963 | C20: =IF(ISERROR(roh_Tab_3_Formel!C19),"",roh_Tab_3_Formel!C19) -> 63203 | D20: =IF(ISERROR(roh_Tab_3_Formel!D19),"",roh_Tab_3_Formel!D19) -> 63195 | E20: =IF(ISERROR(roh_Tab_3_Formel!E19),"",roh_Tab_3_Formel!E19) -> 63026 | F20: =IF(ISERROR(roh_Tab_3_Formel!F19),"",roh_Tab_3_Formel!F19) -> 64903
A21: 19 Jahre | B21: =IF(ISERROR(roh_Tab_3_Formel!B20),"",roh_Tab_3_Formel!B20) -> 56400 | C21: =IF(ISERROR(roh_Tab_3_Formel!C20),"",roh_Tab_3_Formel!C20) -> 54565 | D21: =IF(ISERROR(roh_Tab_3_Formel!D20),"",roh_Tab_3_Formel!D20) -> 53522 | E21: =IF(ISERROR(roh_Tab_3_Formel!E20),"",roh_Tab_3_Formel!E20) -> 54098 | F21: =IF(ISERROR(roh_Tab_3_Formel!F20),"",roh_Tab_3_Formel!F20) -> 56498
A22: Unter 20 Jahre | B22: =IF(ISERROR(roh_Tab_3_Formel!B21),"",roh_Tab_3_Formel!B21) -> 267099 | C22: =IF(ISERROR(roh_Tab_3_Formel!C21),"",roh_Tab_3_Formel!C21) -> 272009 | D22: =IF(ISERROR(roh_Tab_3_Formel!D21),"",roh_Tab_3_Formel!D21) -> 279896 | E22: =IF(ISERROR(roh_Tab_3_Formel!E21),"",roh_Tab_3_Formel!E21) -> 286470 | F22: =IF(ISERROR(roh_Tab_3_Formel!F21),"",roh_Tab_3_Formel!F21) -> 287891
A23: 20 Jahre | B23: =IF(ISERROR(roh_Tab_3_Formel!B22),"",roh_Tab_3_Formel!B22) -> 44687 | C23: =IF(ISERROR(roh_Tab_3_Formel!C22),"",roh_Tab_3_Formel!C22) -> 41095 | D23: =IF(ISERROR(roh_Tab_3_Formel!D22),"",roh_Tab_3_Formel!D22) -> 39291 | E23: =IF(ISERROR(roh_Tab_3_Formel!E22),"",roh_Tab_3_Formel!E22) -> 39503 | F23: =IF(ISERROR(roh_Tab_3_Formel!F22),"",roh_Tab_3_Formel!F22) -> 42722
... A46: Keine Angabe | B46: =IF(ISERROR(roh_Tab_3_Formel!B45),"",roh_Tab_3_Formel!B45) -> 6245 | C46: =IF(ISERROR(roh_Tab_3_Formel!C45),"",roh_Tab_3_Formel!C45) -> 5468 | D46: =IF(ISERROR(roh_Tab_3_Formel!D45),"",roh_Tab_3_Formel!D45) -> 5291 | E46: =IF(ISERROR(roh_Tab_3_Formel!E45),"",roh_Tab_3_Formel!E45) -> 5853 | F46: =IF(ISERROR(roh_Tab_3_Formel!F45),"",roh_Tab_3_Formel!F45) -> 6686
F47: © Statistik der Bundesagentur für Arbeit
A49: =IF(COUNTIF(B12:F46,"*")-COUNTIF(B12:F46,"")>0,Org!E2,"")

Sheet Tab_4
F1: Ausbildungsmarkt
A3: =CONCATENATE("4 Seit Beginn des Berichtsjahres gemeldete Bewerber für Berufsausbildungsstellen nach der Art des Verbleibs jeweils zum 30.09.",IF(B9="Insgesamt","",CONCATENATE(" - ",B9))) -> 4 Seit Beginn des Berichtsjahres gemeldete Bewerber für Berufsausbildungsstellen nach der Art des Verbleibs jeweils zum 30.09.
A4: =Org!A1 -> Deutschland
A5: Zeitreihe
A7: Bitte beachten Sie die das Tabellenblatt "Hinweis_Ausbildungsmarkt" bei der Interpretation der Daten.
B9: =IF(Org!C41=1,Org!A41,IF(Org!C41=2,Org!A42,IF(Org!C41=3,Org!A43,IF(Org!C41=4,Org!A44,IF(Org!C41=5,Org!A45,))))) -> Insgesamt
A10: Art des Verbleibs | B10: =RIGHT(Org!$A33,7) -> 2020/21 | C10: =RIGHT(Org!$A34,7) -> 2021/22 | D10: =RIGHT(Org!$A35,7) -> 2022/23 | E10: =RIGHT(Org!$A36,7) -> 2023/24 | F10: =RIGHT(Org!$A37,7) -> 2024/25
B11: 1 | C11: 2 | D11: 3 | E11: 4 | F11: 5
A12: Insgesamt | B12: =IF(ISERROR(roh_Tab_4_Formel!B12),"",roh_Tab_4_Formel!B12) -> 433543 | C12: =IF(ISERROR(roh_Tab_4_Formel!C12),"",roh_Tab_4_Formel!C12) -> 422400 | D12: =IF(ISERROR(roh_Tab_4_Formel!D12),"",roh_Tab_4_Formel!D12) -> 422059 | E12: =IF(ISERROR(roh_Tab_4_Formel!E12),"",roh_Tab_4_Formel!E12) -> 431552 | F12: =IF(ISERROR(roh_Tab_4_Formel!F12),"",roh_Tab_4_Formel!F12) -> 444335
A13: Schule/Studium/Praktikum | B13: =IF(ISERROR(roh_Tab_4_Formel!B13),"",roh_Tab_4_Formel!B13) -> 68110 | C13: =IF(ISERROR(roh_Tab_4_Formel!C13),"",roh_Tab_4_Formel!C13) -> 67953 | D13: =IF(ISERROR(roh_Tab_4_Formel!D13),"",roh_Tab_4_Formel!D13) -> 67814 | E13: =IF(ISERROR(roh_Tab_4_Formel!E13),"",roh_Tab_4_Formel!E13) -> 70069 | F13: =IF(ISERROR(roh_Tab_4_Formel!F13),"",roh_Tab_4_Formel!F13) -> 73815
A14: Schulbildung | B14: =IF(ISERROR(roh_Tab_4_Formel!B14),"",roh_Tab_4_Formel!B14) -> 58561 | C14: =IF(ISERROR(roh_Tab_4_Formel!C14),"",roh_Tab_4_Formel!C14) -> 58308 | D14: =IF(ISERROR(roh_Tab_4_Formel!D14),"",roh_Tab_4_Formel!D14) -> 58122 | E14: =IF(ISERROR(roh_Tab_4_Formel!E14),"",roh_Tab_4_Formel!E14) -> 60408 | F14: =IF(ISERROR(roh_Tab_4_Formel!F14),"",roh_Tab_4_Formel!F14) -> 63719
A15: Studium | B15: =IF(ISERROR(roh_Tab_4_Formel!B15),"",roh_Tab_4_Formel!B15) -> 7835 | C15: =IF(ISERROR(roh_Tab_4_Formel!C15),"",roh_Tab_4_Formel!C15) -> 8231 | D15: =IF(ISERROR(roh_Tab_4_Formel!D15),"",roh_Tab_4_Formel!D15) -> 8385 | E15: =IF(ISERROR(roh_Tab_4_Formel!E15),"",roh_Tab_4_Formel!E15) -> 8281 | F15: =IF(ISERROR(roh_Tab_4_Formel!F15),"",roh_Tab_4_Formel!F15) -> 8628
A16: Berufsvorbereitendes Jahr | B16: =IF(ISERROR(roh_Tab_4_Formel!B16),"",roh_Tab_4_Formel!B16) | C16: =IF(ISERROR(roh_Tab_4_Formel!C16),"",roh_Tab_4_Formel!C16) | D16: =IF(ISERROR(roh_Tab_4_Formel!D16),"",roh_Tab_4_Formel!D16) | E16: =IF(ISERROR(roh_Tab_4_Formel!E16),"",roh_Tab_4_Formel!E16) | F16: =IF(ISERROR(roh_Tab_4_Formel!F16),"",roh_Tab_4_Formel!F16)
A17: Berufsgrundbildungsjahr | B17: =IF(ISERROR(roh_Tab_4_Formel!B17),"",roh_Tab_4_Formel!B17) | C17: =IF(ISERROR(roh_Tab_4_Formel!C17),"",roh_Tab_4_Formel!C17) | D17: =IF(ISERROR(roh_Tab_4_Formel!D17),"",roh_Tab_4_Formel!D17) | E17: =IF(ISERROR(roh_Tab_4_Formel!E17),"",roh_Tab_4_Formel!E17) | F17: =IF(ISERROR(roh_Tab_4_Formel!F17),"",roh_Tab_4_Formel!F17)
A18: Praktikum | B18: =IF(ISERROR(roh_Tab_4_Formel!B18),"",roh_Tab_4_Formel!B18) -> 1714 | C18: =IF(ISERROR(roh_Tab_4_Formel!C18),"",roh_Tab_4_Formel!C18) -> 1414 | D18: =IF(ISERROR(roh_Tab_4_Formel!D18),"",roh_Tab_4_Formel!D18) -> 1307 | E18: =IF(ISERROR(roh_Tab_4_Formel!E18),"",roh_Tab_4_Formel!E18) -> 1380 | F18: =IF(ISERROR(roh_Tab_4_Formel!F18),"",roh_Tab_4_Formel!F18) -> 1468
A19: Berufsausbildung/Erwerbstätigkeit | B19: =IF(ISERROR(roh_Tab_4_Formel!B19),"",roh_Tab_4_Formel!B19) -> 247828 | C19: =IF(ISERROR(roh_Tab_4_Formel!C19),"",roh_Tab_4_Formel!C19) -> 242722 | D19: =IF(ISERROR(roh_Tab_4_Formel!D19),"",roh_Tab_4_Formel!D19) -> 242093 | E19: =IF(ISERROR(roh_Tab_4_Formel!E19),"",roh_Tab_4_Formel!E19) -> 238225 | F19: =IF(ISERROR(roh_Tab_4_Formel!F19),"",roh_Tab_4_Formel!F19) -> 233442
A20: Berufsausbildung ungefördert | B20: =IF(ISERROR(roh_Tab_4_Formel!B20),"",roh_Tab_4_Formel!B20) -> 184819 | C20: =IF(ISERROR(roh_Tab_4_Formel!C20),"",roh_Tab_4_Formel!C20) -> 185110 | D20: =IF(ISERROR(roh_Tab_4_Formel!D20),"",roh_Tab_4_Formel!D20) -> 188950 | E20: =IF(ISERROR(roh_Tab_4_Formel!E20),"",roh_Tab_4_Formel!E20) -> 186028 | F20: =IF(ISERROR(roh_Tab_4_Formel!F20),"",roh_Tab_4_Formel!F20) -> 178607
A21: Berufsausbildung gefördert | B21: =IF(ISERROR(roh_Tab_4_Formel!B21),"",roh_Tab_4_Formel!B21) -> 27033 | C21: =IF(ISERROR(roh_Tab_4_Formel!C21),"",roh_Tab_4_Formel!C21) -> 24712 | D21: =IF(ISERROR(roh_Tab_4_Formel!D21),"",roh_Tab_4_Formel!D21) -> 23595 | E21: =IF(ISERROR(roh_Tab_4_Formel!E21),"",roh_Tab_4_Formel!E21) -> 22823 | F21: =IF(ISERROR(roh_Tab_4_Formel!F21),"",roh_Tab_4_Formel!F21) -> 23094
A22: Erwerbstätigkeit | B22: =IF(ISERROR(roh_Tab_4_Formel!B22),"",roh_Tab_4_Formel!B22) -> 35976 | C22: =IF(ISERROR(roh_Tab_4_Formel!C22),"",roh_Tab_4_Formel!C22) -> 32900 | D22: =IF(ISERROR(roh_Tab_4_Formel!D22),"",roh_Tab_4_Formel!D22) -> 29548 | E22: =IF(ISERROR(roh_Tab_4_Formel!E22),"",roh_Tab_4_Formel!E22) -> 29374 | F22: =IF(ISERROR(roh_Tab_4_Formel!F22),"",roh_Tab_4_Formel!F22) -> 31741
A23: Gemeinnützige/soziale Dienste | B23: =IF(ISERROR(roh_Tab_4_Formel!B23),"",roh_Tab_4_Formel!B23) -> 7127 | C23: =IF(ISERROR(roh_Tab_4_Formel!C23),"",roh_Tab_4_Formel!C23) -> 6048 | D23: =IF(ISERROR(roh_Tab_4_Formel!D23),"",roh_Tab_4_Formel!D23) -> 6195 | E23: =IF(ISERROR(roh_Tab_4_Formel!E23),"",roh_Tab_4_Formel!E23) -> 6503 | F23: =IF(ISERROR(roh_Tab_4_Formel!F23),"",roh_Tab_4_Formel!F23) -> 7267
... A32: ohne Angabe eines Verbleibs | B32: =IF(ISERROR(roh_Tab_4_Formel!B32),"",roh_Tab_4_Formel!B32) -> 101315 | C32: =IF(ISERROR(roh_Tab_4_Formel!C32),"",roh_Tab_4_Formel!C32) -> 97358 | D32: =IF(ISERROR(roh_Tab_4_Formel!D32),"",roh_Tab_4_Formel!D32) -> 97856 | E32: =IF(ISERROR(roh_Tab_4_Formel!E32),"",roh_Tab_4_Formel!E32) -> 107745 | F32: =IF(ISERROR(roh_Tab_4_Formel!F32),"",roh_Tab_4_Formel!F32) -> 120697
F33: © Statistik der Bundesagentur für Arbeit
A35: =IF(COUNTIF(B12:F32,"*")-COUNTIF(B12:F32,"")>0,Org!E2,"")

Sheet Tab_5
F1: Ausbildungsmarkt
A3: =CONCATENATE("5 Seit Beginn des Berichtsjahres ",B9," nach zuständiger Stelle jeweils zum 30.09.") -> 5 Seit Beginn des Berichtsjahres gemeldete Berufsausbildungsstellen nach zuständiger Stelle jeweils zum 30.09.
A4: =Org!A1 -> Deutschland
A5: Zeitreihe
A7: Bitte beachten Sie die das Tabellenblatt "Hinweis_Ausbildungsmarkt" bei der Interpretation der Daten.
A8: Revidierte Daten im Berichtsjahr 2024/25. Es können Abweichungen gegenüber Auswertungen mit früherem Erstellungsdatum auftreten.
B9: =IF(Org!C49=1,Org!A49,IF(Org!C49=2,Org!A50,IF(Org!C49=3,Org!A51,))) -> gemeldete Berufsausbildungsstellen
A10: Zuständige Stelle | B10: =RIGHT(Org!$A33,7) -> 2020/21 | C10: =RIGHT(Org!$A34,7) -> 2021/22 | D10: =RIGHT(Org!$A35,7) -> 2022/23 | E10: =RIGHT(Org!$A36,7) -> 2023/24 | F10: =RIGHT(Org!$A37,7) -> 2024/25
B11: 1 | C11: 2 | D11: 3 | E11: 4 | F11: 5
A12: Insgesamt | B12: =IF(ISERROR(roh_Tab_5_Formel!B12),"",roh_Tab_5_Formel!B12) -> 522867 | C12: =IF(ISERROR(roh_Tab_5_Formel!C12),"",roh_Tab_5_Formel!C12) -> 545960 | D12: =IF(ISERROR(roh_Tab_5_Formel!D12),"",roh_Tab_5_Formel!D12) -> 545039 | E12: =IF(ISERROR(roh_Tab_5_Formel!E12),"",roh_Tab_5_Formel!E12) -> 519399 | F12: =IF(ISERROR(roh_Tab_5_Formel!F12),"",roh_Tab_5_Formel!F12) -> 501338
A13: Landwirtschaftskammer | B13: =IF(ISERROR(roh_Tab_5_Formel!B13),"",roh_Tab_5_Formel!B13) -> 5477 | C13: =IF(ISERROR(roh_Tab_5_Formel!C13),"",roh_Tab_5_Formel!C13) -> 5227 | D13: =IF(ISERROR(roh_Tab_5_Formel!D13),"",roh_Tab_5_Formel!D13) -> 4796 | E13: =IF(ISERROR(roh_Tab_5_Formel!E13),"",roh_Tab_5_Formel!E13) -> 4582 | F13: =IF(ISERROR(roh_Tab_5_Formel!F13),"",roh_Tab_5_Formel!F13) -> 4376
A14: Handwerkskammer | B14: =IF(ISERROR(roh_Tab_5_Formel!B14),"",roh_Tab_5_Formel!B14) -> 116029 | C14: =IF(ISERROR(roh_Tab_5_Formel!C14),"",roh_Tab_5_Formel!C14) -> 114766 | D14: =IF(ISERROR(roh_Tab_5_Formel!D14),"",roh_Tab_5_Formel!D14) -> 110670 | E14: =IF(ISERROR(roh_Tab_5_Formel!E14),"",roh_Tab_5_Formel!E14) -> 104786 | F14: =IF(ISERROR(roh_Tab_5_Formel!F14),"",roh_Tab_5_Formel!F14) -> 97050
A15: Industrie- und Handelskammer | B15: =IF(ISERROR(roh_Tab_5_Formel!B15),"",roh_Tab_5_Formel!B15) -> 308178 | C15: =IF(ISERROR(roh_Tab_5_Formel!C15),"",roh_Tab_5_Formel!C15) -> 331355 | D15: =IF(ISERROR(roh_Tab_5_Formel!D15),"",roh_Tab_5_Formel!D15) -> 343772 | E15: =IF(ISERROR(roh_Tab_5_Formel!E15),"",roh_Tab_5_Formel!E15) -> 328943 | F15: =IF(ISERROR(roh_Tab_5_Formel!F15),"",roh_Tab_5_Formel!F15) -> 318833
A16: Ärztekammer | B16: =IF(ISERROR(roh_Tab_5_Formel!B16),"",roh_Tab_5_Formel!B16) -> 14448 | C16: =IF(ISERROR(roh_Tab_5_Formel!C16),"",roh_Tab_5_Formel!C16) -> 15296 | D16: =IF(ISERROR(roh_Tab_5_Formel!D16),"",roh_Tab_5_Formel!D16) -> 14766 | E16: =IF(ISERROR(roh_Tab_5_Formel!E16),"",roh_Tab_5_Formel!E16) -> 13332 | F16: =IF(ISERROR(roh_Tab_5_Formel!F16),"",roh_Tab_5_Formel!F16) -> 11603
A17: Zahnärztekammer | B17: =IF(ISERROR(roh_Tab_5_Formel!B17),"",roh_Tab_5_Formel!B17) -> 13048 | C17: =IF(ISERROR(roh_Tab_5_Formel!C17),"",roh_Tab_5_Formel!C17) -> 13823 | D17: =IF(ISERROR(roh_Tab_5_Formel!D17),"",roh_Tab_5_Formel!D17) -> 13392 | E17: =IF(ISERROR(roh_Tab_5_Formel!E17),"",roh_Tab_5_Formel!E17) -> 12195 | F17: =IF(ISERROR(roh_Tab_5_Formel!F17),"",roh_Tab_5_Formel!F17) -> 10189
A18: Tierärztekammer | B18: =IF(ISERROR(roh_Tab_5_Formel!B18),"",roh_Tab_5_Formel!B18) -> 1177 | C18: =IF(ISERROR(roh_Tab_5_Formel!C18),"",roh_Tab_5_Formel!C18) -> 1321 | D18: =IF(ISERROR(roh_Tab_5_Formel!D18),"",roh_Tab_5_Formel!D18) -> 1185 | E18: =IF(ISERROR(roh_Tab_5_Formel!E18),"",roh_Tab_5_Formel!E18) -> 931 | F18: =IF(ISERROR(roh_Tab_5_Formel!F18),"",roh_Tab_5_Formel!F18) -> 872
A19: Apothekerkammer | B19: =IF(ISERROR(roh_Tab_5_Formel!B19),"",roh_Tab_5_Formel!B19) -> 705 | C19: =IF(ISERROR(roh_Tab_5_Formel!C19),"",roh_Tab_5_Formel!C19) -> 811 | D19: =IF(ISERROR(roh_Tab_5_Formel!D19),"",roh_Tab_5_Formel!D19) -> 833 | E19: =IF(ISERROR(roh_Tab_5_Formel!E19),"",roh_Tab_5_Formel!E19) -> 677 | F19: =IF(ISERROR(roh_Tab_5_Formel!F19),"",roh_Tab_5_Formel!F19) -> 480
A20: Rechtsanwaltskammer | B20: =IF(ISERROR(roh_Tab_5_Formel!B20),"",roh_Tab_5_Formel!B20) -> 4075 | C20: =IF(ISERROR(roh_Tab_5_Formel!C20),"",roh_Tab_5_Formel!C20) -> 3860 | D20: =IF(ISERROR(roh_Tab_5_Formel!D20),"",roh_Tab_5_Formel!D20) -> 3485 | E20: =IF(ISERROR(roh_Tab_5_Formel!E20),"",roh_Tab_5_Formel!E20) -> 2920 | F20: =IF(ISERROR(roh_Tab_5_Formel!F20),"",roh_Tab_5_Formel!F20) -> 2398
A21: Notarkammer | B21: =IF(ISERROR(roh_Tab_5_Formel!B21),"",roh_Tab_5_Formel!B21) -> 362 | C21: =IF(ISERROR(roh_Tab_5_Formel!C21),"",roh_Tab_5_Formel!C21) -> 384 | D21: =IF(ISERROR(roh_Tab_5_Formel!D21),"",roh_Tab_5_Formel!D21) -> 378 | E21: =IF(ISERROR(roh_Tab_5_Formel!E21),"",roh_Tab_5_Formel!E21) -> 369 | F21: =IF(ISERROR(roh_Tab_5_Formel!F21),"",roh_Tab_5_Formel!F21) -> 318
A22: Patentanwaltskammer | B22: =IF(ISERROR(roh_Tab_5_Formel!B22),"",roh_Tab_5_Formel!B22) -> 107 | C22: =IF(ISERROR(roh_Tab_5_Formel!C22),"",roh_Tab_5_Formel!C22) -> 126 | D22: =IF(ISERROR(roh_Tab_5_Formel!D22),"",roh_Tab_5_Formel!D22) -> 129 | E22: =IF(ISERROR(roh_Tab_5_Formel!E22),"",roh_Tab_5_Formel!E22) -> 93 | F22: =IF(ISERROR(roh_Tab_5_Formel!F22),"",roh_Tab_5_Formel!F22) -> 74
A23: Steuerberaterkammer | B23: =IF(ISERROR(roh_Tab_5_Formel!B23),"",roh_Tab_5_Formel!B23) -> 5066 | C23: =IF(ISERROR(roh_Tab_5_Formel!C23),"",roh_Tab_5_Formel!C23) -> 5538 | D23: =IF(ISERROR(roh_Tab_5_Formel!D23),"",roh_Tab_5_Formel!D23) -> 5426 | E23: =IF(ISERROR(roh_Tab_5_Formel!E23),"",roh_Tab_5_Formel!E23) -> 4789 | F23: =IF(ISERROR(roh_Tab_5_Formel!F23),"",roh_Tab_5_Formel!F23) -> 4133
... A25: Keine Angabe | B25: =IF(ISERROR(roh_Tab_5_Formel!B25),"",roh_Tab_5_Formel!B25) -> 39944 | C25: =IF(ISERROR(roh_Tab_5_Formel!C25),"",roh_Tab_5_Formel!C25) -> 41596 | D25: =IF(ISERROR(roh_Tab_5_Formel!D25),"",roh_Tab_5_Formel!D25) -> 34329 | E25: =IF(ISERROR(roh_Tab_5_Formel!E25),"",roh_Tab_5_Formel!E25) -> 33363 | F25: =IF(ISERROR(roh_Tab_5_Formel!F25),"",roh_Tab_5_Formel!F25) -> 39430
F26: © Statistik der Bundesagentur für Arbeit
A28: =IF(COUNTIF(B12:F25,"*")-COUNTIF(B12:F25,"")>0,Org!E2,"")

Sheet Tab_6
P1: Ausbildungsmarkt
A3: =CONCATENATE("6 Seit Beginn des Berichtsjahres ",B10," und ",C10," im Regionenvergleich jeweils zum 30.09.") -> 6 Seit Beginn des Berichtsjahres gemeldete Berufsausbildungsstellen und gemeldete Bewerber für Berufsausbildungsstellen im Regionenvergleich jeweils zum 30.09.
A4: Deutschland und Länder
A5: Zeitreihe
A7: Bitte beachten Sie die das Tabellenblatt "Hinweis_Ausbildungsmarkt" bei der Interpretation der Daten.
A8: Revidierte Daten für die gemeldeten Berufsausbildungsstellen im Berichtsjahr 2024/25. Es können Abweichungen gegenüber Auswertungen mit früherem Erstellungsdatum auftreten.
A9: Regionen | B9: =RIGHT(Org!$A33,7) -> 2020/21 | E9: =RIGHT(Org!$A34,7) -> 2021/22 | H9: =RIGHT(Org!$A35,7) -> 2022/23 | K9: =RIGHT(Org!$A36,7) -> 2023/24 | N9: =RIGHT(Org!$A37,7) -> 2024/25
B10: =IF(Org!$C$56=1,Org!$A$58,IF(Org!$C$56=2,Org!$A$59,IF(Org!$C$56=3,Org!$A$60))) -> gemeldete Berufsausbildungsstellen | C10: =IF(Org!$C$56=1,Org!$A$56,IF(Org!$C$56=2,Org!$A$57,IF(Org!$C$56=3,Org!$A$56))) -> gemeldete Bewerber für Berufsausbildungsstellen | D10: =IF(Org!$C$56=1,Org!$A$64,IF(Org!$C$56=2,Org!$A$65,IF(Org!$C$56=3,Org!$A$66))) -> gemeldete Berufsausbil-dungsstellen je Bewerber | E10: =IF(Org!$C$56=1,Org!$A$58,IF(Org!$C$56=2,Org!$A$59,IF(Org!$C$56=3,Org!$A$60))) -> gemeldete Berufsausbildungsstellen | F10: =IF(Org!$C$56=1,Org!$A$56,IF(Org!$C$56=2,Org!$A$57,IF(Org!$C$56=3,Org!$A$56))) -> gemeldete Bewerber für Berufsausbildungsstellen | G10: =IF(Org!$C$56=1,Org!$A$64,IF(Org!$C$56=2,Org!$A$65,IF(Org!$C$56=3,Org!$A$66))) -> gemeldete Berufsausbil-dungsstellen je Bewerber | H10: =IF(Org!$C$56=1,Org!$A$58,IF(Org!$C$56=2,Org!$A$59,IF(Org!$C$56=3,Org!$A$60))) -> gemeldete Berufsausbildungsstellen | I10: =IF(Org!$C$56=1,Org!$A$56,IF(Org!$C$56=2,Org!$A$57,IF(Org!$C$56=3,Org!$A$56))) -> gemeldete Bewerber für Berufsausbildungsstellen | J10: =IF(Org!$C$56=1,Org!$A$64,IF(Org!$C$56=2,Org!$A$65,IF(Org!$C$56=3,Org!$A$66))) -> gemeldete Berufsausbil-dungsstellen je Bewerber | K10: =IF(Org!$C$56=1,Org!$A$58,IF(Org!$C$56=2,Org!$A$59,IF(Org!$C$56=3,Org!$A$60))) -> gemeldete Berufsausbildungsstellen | L10: =IF(Org!$C$56=1,Org!$A$56,IF(Org!$C$56=2,Org!$A$57,IF(Org!$C$56=3,Org!$A$56))) -> gemeldete Bewerber für Berufsausbildungsstellen | M10: =IF(Org!$C$56=1,Org!$A$64,IF(Org!$C$56=2,Org!$A$65,IF(Org!$C$56=3,Org!$A$66))) -> gemeldete Berufsausbil-dungsstellen je Bewerber | N10: =IF(Org!$C$56=1,Org!$A$58,IF(Org!$C$56=2,Org!$A$59,IF(Org!$C$56=3,Org!$A$60))) -> gemeldete Berufsausbildungsstellen | O10: =IF(Org!$C$56=1,Org!$A$56,IF(Org!$C$56=2,Org!$A$57,IF(Org!$C$56=3,Org!$A$56))) -> gemeldete Bewerber für Berufsausbildungsstellen | P10: =IF(Org!$C$56=1,Org!$A$64,IF(Org!$C$56=2,Org!$A$65,IF(Org!$C$56=3,Org!$A$66))) -> gemeldete Berufsausbil-dungsstellen je Bewerber
B11: 1 | C11: 2 | D11: 3 | E11: 4 | F11: 5 | G11: 6 | H11: 7 | I11: 8 | J11: 9 | K11: 10 | L11: 11 | M11: 12 | N11: 13 | O11: 14 | P11: 15
A12: Deutschland | B12: =IF(ISERROR(roh_Tab_6_Formel!B11),"",roh_Tab_6_Formel!B11) -> 522867 | C12: =IF(ISERROR(roh_Tab_6_Formel!C11),"",roh_Tab_6_Formel!C11) -> 433543 | D12: =IF(ISERROR(B12/C12),"",B12/C12) -> 1.2060326 | E12: =IF(ISERROR(roh_Tab_6_Formel!D11),"",roh_Tab_6_Formel!D11) -> 545960 | F12: =IF(ISERROR(roh_Tab_6_Formel!E11),"",roh_Tab_6_Formel!E11) -> 422400 | G12: =IF(ISERROR(E12/F12),"",E12/F12) -> 1.2925189 | H12: =IF(ISERROR(roh_Tab_6_Formel!F11),"",roh_Tab_6_Formel!F11) -> 545039 | I12: =IF(ISERROR(roh_Tab_6_Formel!G11),"",roh_Tab_6_Formel!G11) -> 422059 | J12: =IF(ISERROR(H12/I12),"",H12/I12) -> 1.2913811 | K12: =IF(ISERROR(roh_Tab_6_Formel!H11),"",roh_Tab_6_Formel!H11) -> 519399 | L12: =IF(ISERROR(roh_Tab_6_Formel!I11),"",roh_Tab_6_Formel!I11) -> 431552 | M12: =IF(ISERROR(K12/L12),"",K12/L12) -> 1.2035606 | N12: =IF(ISERROR(roh_Tab_6_Formel!J11),"",roh_Tab_6_Formel!J11) -> 501338 | O12: =IF(ISERROR(roh_Tab_6_Formel!K11),"",roh_Tab_6_Formel!K11) -> 444335 | P12: =IF(ISERROR(N12/O12),"",N12/O12) -> 1.1282883
A13: Westdeutschland | B13: =IF(ISERROR(roh_Tab_6_Formel!B12),"",roh_Tab_6_Formel!B12) -> 436976 | C13: =IF(ISERROR(roh_Tab_6_Formel!C12),"",roh_Tab_6_Formel!C12) -> 356201 | D13: =IF(ISERROR(B13/C13),"",B13/C13) -> 1.226768 | E13: =IF(ISERROR(roh_Tab_6_Formel!D12),"",roh_Tab_6_Formel!D12) -> 455436 | F13: =IF(ISERROR(roh_Tab_6_Formel!E12),"",roh_Tab_6_Formel!E12) -> 345595 | G13: =IF(ISERROR(E13/F13),"",E13/F13) -> 1.3178316 | H13: =IF(ISERROR(roh_Tab_6_Formel!F12),"",roh_Tab_6_Formel!F12) -> 453424 | I13: =IF(ISERROR(roh_Tab_6_Formel!G12),"",roh_Tab_6_Formel!G12) -> 345163 | J13: =IF(ISERROR(H13/I13),"",H13/I13) -> 1.3136518 | K13: =IF(ISERROR(roh_Tab_6_Formel!H12),"",roh_Tab_6_Formel!H12) -> 433532 | L13: =IF(ISERROR(roh_Tab_6_Formel!I12),"",roh_Tab_6_Formel!I12) -> 353213 | M13: =IF(ISERROR(K13/L13),"",K13/L13) -> 1.2273954 | N13: =IF(ISERROR(roh_Tab_6_Formel!J12),"",roh_Tab_6_Formel!J12) -> 420211 | O13: =IF(ISERROR(roh_Tab_6_Formel!K12),"",roh_Tab_6_Formel!K12) -> 363133 | P13: =IF(ISERROR(N13/O13),"",N13/O13) -> 1.1571821
A14: Ostdeutschland | B14: =IF(ISERROR(roh_Tab_6_Formel!B13),"",roh_Tab_6_Formel!B13) -> 85752 | C14: =IF(ISERROR(roh_Tab_6_Formel!C13),"",roh_Tab_6_Formel!C13) -> 76789 | D14: =IF(ISERROR(B14/C14),"",B14/C14) -> 1.1167224 | E14: =IF(ISERROR(roh_Tab_6_Formel!D13),"",roh_Tab_6_Formel!D13) -> 90347 | F14: =IF(ISERROR(roh_Tab_6_Formel!E13),"",roh_Tab_6_Formel!E13) -> 76186 | G14: =IF(ISERROR(E14/F14),"",E14/F14) -> 1.185874 | H14: =IF(ISERROR(roh_Tab_6_Formel!F13),"",roh_Tab_6_Formel!F13) -> 91531 | I14: =IF(ISERROR(roh_Tab_6_Formel!G13),"",roh_Tab_6_Formel!G13) -> 75808 | J14: =IF(ISERROR(H14/I14),"",H14/I14) -> 1.2074056 | K14: =IF(ISERROR(roh_Tab_6_Formel!H13),"",roh_Tab_6_Formel!H13) -> 85825 | L14: =IF(ISERROR(roh_Tab_6_Formel!I13),"",roh_Tab_6_Formel!I13) -> 76435 | M14: =IF(ISERROR(K14/L14),"",K14/L14) -> 1.1228495 | N14: =IF(ISERROR(roh_Tab_6_Formel!J13),"",roh_Tab_6_Formel!J13) -> 81091 | O14: =IF(ISERROR(roh_Tab_6_Formel!K13),"",roh_Tab_6_Formel!K13) -> 78324 | P14: =IF(ISERROR(N14/O14),"",N14/O14) -> 1.0353276
A15: 01 Schleswig-Holstein | B15: =IF(ISERROR(roh_Tab_6_Formel!B14),"",roh_Tab_6_Formel!B14) -> 18952 | C15: =IF(ISERROR(roh_Tab_6_Formel!C14),"",roh_Tab_6_Formel!C14) -> 14782 | D15: =IF(ISERROR(B15/C15),"",B15/C15) -> 1.2820999 | E15: =IF(ISERROR(roh_Tab_6_Formel!D14),"",roh_Tab_6_Formel!D14) -> 19568 | F15: =IF(ISERROR(roh_Tab_6_Formel!E14),"",roh_Tab_6_Formel!E14) -> 13662 | G15: =IF(ISERROR(E15/F15),"",E15/F15) -> 1.432294 | H15: =IF(ISERROR(roh_Tab_6_Formel!F14),"",roh_Tab_6_Formel!F14) -> 19954 | I15: =IF(ISERROR(roh_Tab_6_Formel!G14),"",roh_Tab_6_Formel!G14) -> 13123 | J15: =IF(ISERROR(H15/I15),"",H15/I15) -> 1.5205365 | K15: =IF(ISERROR(roh_Tab_6_Formel!H14),"",roh_Tab_6_Formel!H14) -> 17569 | L15: =IF(ISERROR(roh_Tab_6_Formel!I14),"",roh_Tab_6_Formel!I14) -> 14780 | M15: =IF(ISERROR(K15/L15),"",K15/L15) -> 1.1887009 | N15: =IF(ISERROR(roh_Tab_6_Formel!J14),"",roh_Tab_6_Formel!J14) -> 17834 | O15: =IF(ISERROR(roh_Tab_6_Formel!K14),"",roh_Tab_6_Formel!K14) -> 14811 | P15: =IF(ISERROR(N15/O15),"",N15/O15) -> 1.2041051
A16: 02 Hamburg | B16: =IF(ISERROR(roh_Tab_6_Formel!B15),"",roh_Tab_6_Formel!B15) -> 9489 | C16: =IF(ISERROR(roh_Tab_6_Formel!C15),"",roh_Tab_6_Formel!C15) -> 7787 | D16: =IF(ISERROR(B16/C16),"",B16/C16) -> 1.2185694 | E16: =IF(ISERROR(roh_Tab_6_Formel!D15),"",roh_Tab_6_Formel!D15) -> 9785 | F16: =IF(ISERROR(roh_Tab_6_Formel!E15),"",roh_Tab_6_Formel!E15) -> 6730 | G16: =IF(ISERROR(E16/F16),"",E16/F16) -> 1.4539376 | H16: =IF(ISERROR(roh_Tab_6_Formel!F15),"",roh_Tab_6_Formel!F15) -> 10631 | I16: =IF(ISERROR(roh_Tab_6_Formel!G15),"",roh_Tab_6_Formel!G15) -> 6246 | J16: =IF(ISERROR(H16/I16),"",H16/I16) -> 1.7020493 | K16: =IF(ISERROR(roh_Tab_6_Formel!H15),"",roh_Tab_6_Formel!H15) -> 10589 | L16: =IF(ISERROR(roh_Tab_6_Formel!I15),"",roh_Tab_6_Formel!I15) -> 7038 | M16: =IF(ISERROR(K16/L16),"",K16/L16) -> 1.5045467 | N16: =IF(ISERROR(roh_Tab_6_Formel!J15),"",roh_Tab_6_Formel!J15) -> 10365 | O16: =IF(ISERROR(roh_Tab_6_Formel!K15),"",roh_Tab_6_Formel!K15) -> 8077 | P16: =IF(ISERROR(N16/O16),"",N16/O16) -> 1.2832735
A17: 03 Niedersachsen | B17: =IF(ISERROR(roh_Tab_6_Formel!B16),"",roh_Tab_6_Formel!B16) -> 55197 | C17: =IF(ISERROR(roh_Tab_6_Formel!C16),"",roh_Tab_6_Formel!C16) -> 45926 | D17: =IF(ISERROR(B17/C17),"",B17/C17) -> 1.2018682 | E17: =IF(ISERROR(roh_Tab_6_Formel!D16),"",roh_Tab_6_Formel!D16) -> 55493 | F17: =IF(ISERROR(roh_Tab_6_Formel!E16),"",roh_Tab_6_Formel!E16) -> 44818 | G17: =IF(ISERROR(E17/F17),"",E17/F17) -> 1.2381856 | H17: =IF(ISERROR(roh_Tab_6_Formel!F16),"",roh_Tab_6_Formel!F16) -> 54052 | I17: =IF(ISERROR(roh_Tab_6_Formel!G16),"",roh_Tab_6_Formel!G16) -> 45412 | J17: =IF(ISERROR(H17/I17),"",H17/I17) -> 1.1902581 | K17: =IF(ISERROR(roh_Tab_6_Formel!H16),"",roh_Tab_6_Formel!H16) -> 50041 | L17: =IF(ISERROR(roh_Tab_6_Formel!I16),"",roh_Tab_6_Formel!I16) -> 46064 | M17: =IF(ISERROR(K17/L17),"",K17/L17) -> 1.0863364 | N17: =IF(ISERROR(roh_Tab_6_Formel!J16),"",roh_Tab_6_Formel!J16) -> 48618 | O17: =IF(ISERROR(roh_Tab_6_Formel!K16),"",roh_Tab_6_Formel!K16) -> 47472 | P17: =IF(ISERROR(N17/O17),"",N17/O17) -> 1.0241405
A18: 04 Bremen | B18: =IF(ISERROR(roh_Tab_6_Formel!B17),"",roh_Tab_6_Formel!B17) -> 5480 | C18: =IF(ISERROR(roh_Tab_6_Formel!C17),"",roh_Tab_6_Formel!C17) -> 4726 | D18: =IF(ISERROR(B18/C18),"",B18/C18) -> 1.159543 | E18: =IF(ISERROR(roh_Tab_6_Formel!D17),"",roh_Tab_6_Formel!D17) -> 5689 | F18: =IF(ISERROR(roh_Tab_6_Formel!E17),"",roh_Tab_6_Formel!E17) -> 4709 | G18: =IF(ISERROR(E18/F18),"",E18/F18) -> 1.2081121 | H18: =IF(ISERROR(roh_Tab_6_Formel!F17),"",roh_Tab_6_Formel!F17) -> 5786 | I18: =IF(ISERROR(roh_Tab_6_Formel!G17),"",roh_Tab_6_Formel!G17) -> 4533 | J18: =IF(ISERROR(H18/I18),"",H18/I18) -> 1.2764174 | K18: =IF(ISERROR(roh_Tab_6_Formel!H17),"",roh_Tab_6_Formel!H17) -> 5266 | L18: =IF(ISERROR(roh_Tab_6_Formel!I17),"",roh_Tab_6_Formel!I17) -> 4657 | M18: =IF(ISERROR(K18/L18),"",K18/L18) -> 1.1307709 | N18: =IF(ISERROR(roh_Tab_6_Formel!J17),"",roh_Tab_6_Formel!J17) -> 5040 | O18: =IF(ISERROR(roh_Tab_6_Formel!K17),"",roh_Tab_6_Formel!K17) -> 4729 | P18: =IF(ISERROR(N18/O18),"",N18/O18) -> 1.0657644
A19: 05 Nordrhein-Westfalen | B19: =IF(ISERROR(roh_Tab_6_Formel!B18),"",roh_Tab_6_Formel!B18) -> 110100 | C19: =IF(ISERROR(roh_Tab_6_Formel!C18),"",roh_Tab_6_Formel!C18) -> 107529 | D19: =IF(ISERROR(B19/C19),"",B19/C19) -> 1.0239098 | E19: =IF(ISERROR(roh_Tab_6_Formel!D18),"",roh_Tab_6_Formel!D18) -> 114640 | F19: =IF(ISERROR(roh_Tab_6_Formel!E18),"",roh_Tab_6_Formel!E18) -> 105286 | G19: =IF(ISERROR(E19/F19),"",E19/F19) -> 1.0888437 | H19: =IF(ISERROR(roh_Tab_6_Formel!F18),"",roh_Tab_6_Formel!F18) -> 111743 | I19: =IF(ISERROR(roh_Tab_6_Formel!G18),"",roh_Tab_6_Formel!G18) -> 103697 | J19: =IF(ISERROR(H19/I19),"",H19/I19) -> 1.0775914 | K19: =IF(ISERROR(roh_Tab_6_Formel!H18),"",roh_Tab_6_Formel!H18) -> 107599 | L19: =IF(ISERROR(roh_Tab_6_Formel!I18),"",roh_Tab_6_Formel!I18) -> 105734 | M19: =IF(ISERROR(K19/L19),"",K19/L19) -> 1.0176386 | N19: =IF(ISERROR(roh_Tab_6_Formel!J18),"",roh_Tab_6_Formel!J18) -> 104692 | O19: =IF(ISERROR(roh_Tab_6_Formel!K18),"",roh_Tab_6_Formel!K18) -> 108910 | P19: =IF(ISERROR(N19/O19),"",N19/O19) -> 0.96127077
A20: 06 Hessen | B20: =IF(ISERROR(roh_Tab_6_Formel!B19),"",roh_Tab_6_Formel!B19) -> 33670 | C20: =IF(ISERROR(roh_Tab_6_Formel!C19),"",roh_Tab_6_Formel!C19) -> 35242 | D20: =IF(ISERROR(B20/C20),"",B20/C20) -> 0.95539413 | E20: =IF(ISERROR(roh_Tab_6_Formel!D19),"",roh_Tab_6_Formel!D19) -> 35590 | F20: =IF(ISERROR(roh_Tab_6_Formel!E19),"",roh_Tab_6_Formel!E19) -> 33722 | G20: =IF(ISERROR(E20/F20),"",E20/F20) -> 1.0553941 | H20: =IF(ISERROR(roh_Tab_6_Formel!F19),"",roh_Tab_6_Formel!F19) -> 35322 | I20: =IF(ISERROR(roh_Tab_6_Formel!G19),"",roh_Tab_6_Formel!G19) -> 34636 | J20: =IF(ISERROR(H20/I20),"",H20/I20) -> 1.019806 | K20: =IF(ISERROR(roh_Tab_6_Formel!H19),"",roh_Tab_6_Formel!H19) -> 34688 | L20: =IF(ISERROR(roh_Tab_6_Formel!I19),"",roh_Tab_6_Formel!I19) -> 34658 | M20: =IF(ISERROR(K20/L20),"",K20/L20) -> 1.0008656 | N20: =IF(ISERROR(roh_Tab_6_Formel!J19),"",roh_Tab_6_Formel!J19) -> 32882 | O20: =IF(ISERROR(roh_Tab_6_Formel!K19),"",roh_Tab_6_Formel!K19) -> 36273 | P20: =IF(ISERROR(N20/O20),"",N20/O20) -> 0.90651449
A21: 07 Rheinland-Pfalz | B21: =IF(ISERROR(roh_Tab_6_Formel!B20),"",roh_Tab_6_Formel!B20) -> 25232 | C21: =IF(ISERROR(roh_Tab_6_Formel!C20),"",roh_Tab_6_Formel!C20) -> 21573 | D21: =IF(ISERROR(B21/C21),"",B21/C21) -> 1.1696102 | E21: =IF(ISERROR(roh_Tab_6_Formel!D20),"",roh_Tab_6_Formel!D20) -> 26237 | F21: =IF(ISERROR(roh_Tab_6_Formel!E20),"",roh_Tab_6_Formel!E20) -> 20107 | G21: =IF(ISERROR(E21/F21),"",E21/F21) -> 1.304869 | H21: =IF(ISERROR(roh_Tab_6_Formel!F20),"",roh_Tab_6_Formel!F20) -> 25807 | I21: =IF(ISERROR(roh_Tab_6_Formel!G20),"",roh_Tab_6_Formel!G20) -> 20526 | J21: =IF(ISERROR(H21/I21),"",H21/I21) -> 1.2572834 | K21: =IF(ISERROR(roh_Tab_6_Formel!H20),"",roh_Tab_6_Formel!H20) -> 24522 | L21: =IF(ISERROR(roh_Tab_6_Formel!I20),"",roh_Tab_6_Formel!I20) -> 20346 | M21: =IF(ISERROR(K21/L21),"",K21/L21) -> 1.2052492 | N21: =IF(ISERROR(roh_Tab_6_Formel!J20),"",roh_Tab_6_Formel!J20) -> 24135 | O21: =IF(ISERROR(roh_Tab_6_Formel!K20),"",roh_Tab_6_Formel!K20) -> 20912 | P21: =IF(ISERROR(N21/O21),"",N21/O21) -> 1.154122
A22: 08 Baden-Württemberg | B22: =IF(ISERROR(roh_Tab_6_Formel!B21),"",roh_Tab_6_Formel!B21) -> 74134 | C22: =IF(ISERROR(roh_Tab_6_Formel!C21),"",roh_Tab_6_Formel!C21) -> 52296 | D22: =IF(ISERROR(B22/C22),"",B22/C22) -> 1.4175845 | E22: =IF(ISERROR(roh_Tab_6_Formel!D21),"",roh_Tab_6_Formel!D21) -> 79640 | F22: =IF(ISERROR(roh_Tab_6_Formel!E21),"",roh_Tab_6_Formel!E21) -> 50695 | G22: =IF(ISERROR(E22/F22),"",E22/F22) -> 1.5709636 | H22: =IF(ISERROR(roh_Tab_6_Formel!F21),"",roh_Tab_6_Formel!F21) -> 79610 | I22: =IF(ISERROR(roh_Tab_6_Formel!G21),"",roh_Tab_6_Formel!G21) -> 51896 | J22: =IF(ISERROR(H22/I22),"",H22/I22) -> 1.5340296 | K22: =IF(ISERROR(roh_Tab_6_Formel!H21),"",roh_Tab_6_Formel!H21) -> 77397 | L22: =IF(ISERROR(roh_Tab_6_Formel!I21),"",roh_Tab_6_Formel!I21) -> 52768 | M22: =IF(ISERROR(K22/L22),"",K22/L22) -> 1.4667412 | N22: =IF(ISERROR(roh_Tab_6_Formel!J21),"",roh_Tab_6_Formel!J21) -> 74767 | O22: =IF(ISERROR(roh_Tab_6_Formel!K21),"",roh_Tab_6_Formel!K21) -> 53781 | P22: =IF(ISERROR(N22/O22),"",N22/O22) -> 1.3902122
A23: 09 Bayern | B23: =IF(ISERROR(roh_Tab_6_Formel!B22),"",roh_Tab_6_Formel!B22) -> 98192 | C23: =IF(ISERROR(roh_Tab_6_Formel!C22),"",roh_Tab_6_Formel!C22) -> 61877 | D23: =IF(ISERROR(B23/C23),"",B23/C23) -> 1.5868901 | E23: =IF(ISERROR(roh_Tab_6_Formel!D22),"",roh_Tab_6_Formel!D22) -> 101481 | F23: =IF(ISERROR(roh_Tab_6_Formel!E22),"",roh_Tab_6_Formel!E22) -> 61293 | G23: =IF(ISERROR(E23/F23),"",E23/F23) -> 1.6556703 | H23: =IF(ISERROR(roh_Tab_6_Formel!F22),"",roh_Tab_6_Formel!F22) -> 103344 | I23: =IF(ISERROR(roh_Tab_6_Formel!G22),"",roh_Tab_6_Formel!G22) -> 60466 | J23: =IF(ISERROR(H23/I23),"",H23/I23) -> 1.7091258 | K23: =IF(ISERROR(roh_Tab_6_Formel!H22),"",roh_Tab_6_Formel!H22) -> 99722 | L23: =IF(ISERROR(roh_Tab_6_Formel!I22),"",roh_Tab_6_Formel!I22) -> 62161 | M23: =IF(ISERROR(K23/L23),"",K23/L23) -> 1.6042535 | N23: =IF(ISERROR(roh_Tab_6_Formel!J22),"",roh_Tab_6_Formel!J22) -> 95859 | O23: =IF(ISERROR(roh_Tab_6_Formel!K22),"",roh_Tab_6_Formel!K22) -> 63297 | P23: =IF(ISERROR(N23/O23),"",N23/O23) -> 1.514432
... A30: 16 Thüringen | B30: =IF(ISERROR(roh_Tab_6_Formel!B29),"",roh_Tab_6_Formel!B29) -> 12339 | C30: =IF(ISERROR(roh_Tab_6_Formel!C29),"",roh_Tab_6_Formel!C29) -> 8064 | D30: =IF(ISERROR(B30/C30),"",B30/C30) -> 1.5301339 | E30: =IF(ISERROR(roh_Tab_6_Formel!D29),"",roh_Tab_6_Formel!D29) -> 13301 | F30: =IF(ISERROR(roh_Tab_6_Formel!E29),"",roh_Tab_6_Formel!E29) -> 8145 | G30: =IF(ISERROR(E30/F30),"",E30/F30) -> 1.6330264 | H30: =IF(ISERROR(roh_Tab_6_Formel!F29),"",roh_Tab_6_Formel!F29) -> 13636 | I30: =IF(ISERROR(roh_Tab_6_Formel!G29),"",roh_Tab_6_Formel!G29) -> 7822 | J30: =IF(ISERROR(H30/I30),"",H30/I30) -> 1.7432882 | K30: =IF(ISERROR(roh_Tab_6_Formel!H29),"",roh_Tab_6_Formel!H29) -> 12819 | L30: =IF(ISERROR(roh_Tab_6_Formel!I29),"",roh_Tab_6_Formel!I29) -> 7616 | M30: =IF(ISERROR(K30/L30),"",K30/L30) -> 1.683167 | N30: =IF(ISERROR(roh_Tab_6_Formel!J29),"",roh_Tab_6_Formel!J29) -> 12214 | O30: =IF(ISERROR(roh_Tab_6_Formel!K29),"",roh_Tab_6_Formel!K29) -> 7856 | P30: =IF(ISERROR(N30/O30),"",N30/O30) -> 1.5547352
P31: © Statistik der Bundesagentur für Arbeit

Sheet Hinweis_Ausbildungsmarkt
B1: Ausbildungsmarkt
B2: Stand: 22.07.2026
B3: Methodische Hinweise zu den Statistiken über den Ausbildungsmarkt
B4: Kurzbeschreibung
B5: Die Ausbildungsmarktstatistik berichtet über - gemeldete Bewerberinnen und Bewerber für Berufsausbildungsstellen, die das Beratungs- und Vermittlungsangebot der Agenturen für Arbeit (AA) und Jobcenter (JC) zum Ausbildungsmarkt in Anspruch nehmen, sowie - Berufsausbildungsstellen, die bei AA und JC für die Ausbildungsvermittlung mit Vermittlungsauftrag gemeldet wurden. Sowohl die AA als auch die JC in gemeinsamen Einrichtungen (gE) und in alleiniger kommunaler Trägerschaft (zkT) führen Ausbildungsvermittlung nach § 35 Sozialgesetzbuch Drittes Buch (SGB III) durch. Träger der Grundsicherung können diese Aufgabe durch die AA wahrnehmen lassen (§ 16 Abs. 4 SGB II).
B7: Grundgesamtheit
B8: Die Ausbildungsmarktstatistik berichtet über Bewerberinnen und Bewerber, deren Hauptberufswunsch ein anerkannter Ausbildungsberuf nach dem Berufsbildungsgesetz (BBiG) ist, und über Berufsausbildungsstellen für nach dem BBiG anerkannte Ausbildungsberufe. Das BBiG gilt auch für die Berufe der Handwerksordnung. Die Berichterstattung der Ausbildungsmarktstatistik konzentriert sich damit auf das zahlenmäßig bedeutsamste Segment des Ausbildungsmarktes: die BBiG-Berufe. Hierbei handelt es sich üblicherweise um duale Ausbildungen, d. h. Ausbildungen, die parallel in Betrieb und Berufsschule stattfinden.
B9: Dazu gehören auch: - Ausbildungsplätze in Berufsbildungswerken und sonstigen Einrichtungen, die Ausbildungsmaßnahmen für Menschen mit Behinderungen durchführen - Berufsausbildungen in außerbetrieblichen Einrichtungen (z. B. für sozialbenachteiligte junge Menschen) - Ausbildungen im Rahmen eines dualen, ausbildungsintegrierenden Studiums oder einer Abiturientenausbildung, die den Abschluss einer Berufsausbildung nach dem BBiG beinhaltet
B11: In der Grundgesamtheit nicht enthalten sind: - schulische Ausbildungen - Ausbildungen im öffentlich-rechtlichen Dienstverhältnis (z. B. Beamtin/Beamter) - Ausbildungen in nicht anerkannten Ausbildungsberufen - duale, praxisintegrierende Studiengänge
B13: Die Ausbildungsmarktstatistik unterscheidet zwischen drei Ausbildungsarten: - Duale Berufsausbildungen führen zu einem Abschluss in einem anerkannten Ausbildungsberuf. - Abiturientenausbildungen ermöglichen neben dem Abschluss in einem anerkannten Ausbildungsberuf noch einen weiteren Abschluss, z. B. Handelsfachwirtin/Handelsfachwirt. Sie setzen die (Fach-)Hochschulreife voraus. - Duales Studium: Die ausbildungsintegrierende Studienform schließt eine Berufsausbildung systematisch mit ein.
B14: Über Bewerberinnen und Bewerber sowie Ausbildungsstellen in Beamtenausbildungen und schulischen Ausbildungen wird gesondert berichtet; siehe auch: Methodische Hinweise zu Ausbildungen, die nicht nach dem Berufsbildungsgesetz (BBiG) oder der Handwerksordnung (HwO) geregelt sind (Nicht-BBiG-Berufe). Die folgenden Ausführungen gelten analog auch für diese Bewerberinnen und Bewerber sowie Ausbildungsstellen.
B15: Bei allen Angaben über Berufswünsche der Bewerberinnen und Bewerber wird statistisch jeweils nur der Hauptberufswunsch ausgewertet. In der Vermittlungspraxis können daneben noch mehrere weitere Berufswünsche vorhanden sein.
... B93: das interaktive Angebot zum Ausbildungsmarkt.

Sheet Statistik-Infoseite
G2: Stand: 16.04.2026
A3: Statistik-Infoseite
A6: Im Internet stehen statistische Informationen zu diesen Themen zur Verfügung:
B8: Fachstatistiken:
B9: Arbeitsuche, Arbeitslosigkeit und Unterbeschäftigung
B10: Ausbildungsmarkt
B11: Beschäftigung
B12: Einnahmen/Ausgaben
B13: Förderung und berufliche Rehabilitation
B14: Gemeldete Arbeitsstellen
B15: Grundsicherung für Arbeitsuchende (SGB II)
B16: Leistungen SGB III
B18: Themen im Fokus:
B19: Berufe
B20: Bildung
... B25: Frauen und Männer
A26: Jüngere | B26: Jüngere
B27: Langzeitarbeitslosigkeit
B28: Menschen mit Behinderungen
B29: Migration
B30: Regionale Mobilität
B31: Transformation
B32: Wirtschaftszweige
B33: Zeitarbeit
A35: Die Methodischen Hinweise der Statistik bieten ergänzende Informationen.
A37: Die Qualitätsberichte der Statistik erläutern die Entstehung und Aussagekraft der jeweiligen Fachstatistik.
A39: Das Glossar enthält Erläuterungen zu allen statistisch relevanten Begriffen, die in den verschiedenen Produkten der Statistik der BA Verwendung finden.
A42: Abkürzungen und Zeichen, die in den Produkten der Statistik der BA vorkommen, werden im
A43: Abkürzungsverzeichnis | C43: bzw. der Zeichenerklärung der Statistik der BA erläutert.

Sheet Org
A1: =CHOOSE(C2,A2,A3,A4,A5,A6,A7,A8,A9,A10,A11,A12,A13,A14,A15,A16,A17,A18,A19,A20) -> Deutschland | B1: =CHOOSE(C2,B2,B3,B4,B5,B6,B7,B8,B9,B10,B11,B12,B13,B14,B15,B16,B17,B18,B19,B20) -> Gesamt | E1: Fußnote:
A2: Deutschland | B2: Gesamt | C2: 1 | E2: *) Aus Datenschutzgründen und Gründen der statistischen Geheimhaltung werden Zahlenwerte von 1 oder 2 und Daten, aus denen rechnerisch auf einen solchen Zahlenwert geschlossen werden kann, anonymisiert.
A3: Westdeutschland | B3: Westdeutschland
A4: Ostdeutschland | B4: Ostdeutschland
A5: Schleswig-Holstein | B5: 01 Schleswig-Holstein
A6: Hamburg | B6: 02 Hamburg
A7: Niedersachsen | B7: 03 Niedersachsen
A8: Bremen | B8: 04 Bremen
A9: Nordrhein-Westfalen | B9: 05 Nordrhein-Westfalen
A10: Hessen | B10: 06 Hessen
A11: Rheinland-Pfalz | B11: 07 Rheinland-Pfalz
A12: Baden-Württemberg | B12: 08 Baden-Württemberg
A13: Bayern | B13: 09 Bayern
A14: Saarland | B14: 10 Saarland
... A20: Thüringen | B20: 16 Thüringen
A22: Tab_1
A23: =IF(C29=1,A29,IF(C29=2,A30,IF(C29=3,A31,))) -> Berufsausbildungsstellen und Bewerber
A24: gemeldete Bewerber für Berufsausbildungsstellen | B24: Gesamt
A25: unversorgte Bewerber für Berufsausbildungsstellen | B25: unversorgte Bewerber zum 30.9.
A26: gemeldete Berufsausbildungsstellen | B26: Berufsausbildungsstellen gem
A27: unbesetzte Berufsausbildungsstellen | B27: Berufsausbildungsstellen unb
A28: betriebliche Berufsausbildungsstellen | B28: Gesamt
A29: Berufsausbildungsstellen und Bewerber | B29: keine Förderung nach Sonderprogrammen | C29: 1
A30: unbesetzte Berufsausbildungsstellen und unversorgte Bewerber
A31: betrieblichen Berufsausbildungsstellen und Bewerber
A33: Berichtsjahr 2020/21 | B33: Berichtsjahr 2024/25 | C33: 5
A34: Berichtsjahr 2021/22
A35: Berichtsjahr 2022/23
A36: Berichtsjahr 2023/24
A37: Berichtsjahr 2024/25
A39: Tab_3 und Tab_4
A41: Insgesamt | B41: Gesamt | C41: 1
A42: einmündende Bewerber | B42: einmündende Bewerber
A43: andere ehemalige Bewerber | B43: andere ehemalige Bewerber
A44: Bewerber mit Alternative zum 30.09. | B44: Bewerber mit Alternative zum 30.9.
A45: unversorgte Bewerber | B45: unversorgte Bewerber zum 30.9.
A47: Tab_5
A49: gemeldete Berufsausbildungsstellen | B49: Berufsausbildungsstellen gem | C49: 1
A50: unbesetzte Berufsausbildungsstellen | B50: Berufsausbildungsstellen unb
A51: betriebliche Berufsausbildungsstellen | B51: Gesamt
B52: keine Förderung nach Sonderprogrammen
A54: Tab_6
A56: gemeldete Bewerber für Berufsausbildungsstellen | B56: Gesamt | C56: 1
A57: unversorgte Bewerber für Berufsausbildungsstellen | B57: unversorgte Bewerber zum 30.9.
A58: gemeldete Berufsausbildungsstellen | B58: Berufsausbildungsstellen gem
A59: unbesetzte Berufsausbildungsstellen | B59: Berufsausbildungsstellen unb
A60: betriebliche Berufsausbildungsstellen | B60: Gesamt
A61: Berufsausbildungsstellen und Bewerber | B61: keine Förderung nach Sonderprogrammen
A62: unbesetzte Berufsausbildungsstellen und unversorgte Bewerber
A63: betriebliche Berufsausbildungsstellen und Bewerber
A64: gemeldete Berufsausbil-dungsstellen je Bewerber
A65: unbesetzte Berufsausbil-dungsstellen je unversorgtem Bewerber
A66: betriebliche Berufsausbil-dungsstellen je Bewerber

Sheet Regelwerk
A1: Beschreibung | B1: Tabelle | C1: Keine Primäre Geheimhaltung | D1: Summe | F1: Summanden | H1: Sonderfälle | I1: Typangabe | J1: Blöcke
D2: Zeile | E2: Spalte | F2: Zeile | G2: Spalte | J2: Anzahl in den Zeilen | K2: Zeilenabstand | L2: Anzahl in den Spalten | M2: Spaltenabstand
A3: z.B. Summme / 1. Summand | F3: Beispiele: 2-10 2/5-6/19 | H3: Keine Angabe = X Hohe Priorität = H Niedrige Prio. = N | I3: Beispiele: davon darunter
A4: Kommentar | B4: roh_Tab_1_Bew!D8:E2287 | C4: 0
A5: Gesamt / Westdeutschland | B5: roh_Tab_1_Bew | D5: 1 | E5: 1-2 | F5: 121/1441 | G5: 1-2 | I5: davon | J5: 120 | K5: 1 | L5: 1 | M5: 0
A6: Westdeutschland / 01 Schleswig-Holstei | B6: roh_Tab_1_Bew | D6: 121 | E6: 1-2 | F6: 241/361/481/601/721/841/961/1081/1201/1321 | G6: 1-2 | I6: davon | J6: 120 | K6: 1 | L6: 1 | M6: 0
A7: Ostdeutschland / 11 Berlin | B7: roh_Tab_1_Bew | D7: 1441 | E7: 1-2 | F7: 1561/1681/1801/1921/2041/2161 | G7: 1-2 | I7: davon | J7: 120 | K7: 1 | L7: 1 | M7: 0
A8: Gesamt / unversorgte Bewerber | B8: roh_Tab_1_Bew | D8: 1-2280 | E8: 1 | F8: 1-2280 | G8: 2 | I8: darunter | J8: 1 | K8: 0 | L8: 1 | M8: 0
A9: Kommentar | B9: roh_Tab_1_Stellen!D8:G1147 | C9: 0
A10: Gesamt / West | B10: roh_Tab_1_Stellen | D10: 1 | E10: 1-4 | F10: 61/721 | G10: 1-4 | I10: davon | J10: 60 | K10: 1 | L10: 1 | M10: 0
A11: West / 01 Schleswig-Holstei | B11: roh_Tab_1_Stellen | D11: 61 | E11: 1-4 | F11: 121/181/241/301/361/421/481/541/601/661 | G11: 1-4 | I11: davon | J11: 60 | K11: 1 | L11: 1 | M11: 0
A12: Ost / 11 Berlin | B12: roh_Tab_1_Stellen | D12: 721 | E12: 1-4 | F12: 781/841/901/961/1021/1081 | G12: 1-4 | I12: davon | J12: 60 | K12: 1 | L12: 1 | M12: 0
A13: Anz Gem Stellen / Anz Off Stellen | B13: roh_Tab_1_Stellen | D13: 1-1140 | E13: 1 | F13: 1-1140 | G13: 3 | I13: darunter | J13: 1 | K13: 0 | L13: 2 | M13: 1
A14: Gesamt / keine Förderung nach | B14: roh_Tab_1_Stellen | D14: 1-1140 | E14: 1 | F14: 1-1140 | G14: 2 | I14: darunter | J14: 1 | K14: 0 | L14: 2 | M14: 2
A15: Kommentar | B15: roh_Tab_2!D8:H102 | C15: 0
A16: Gesamt / Westdeutschland | B16: roh_Tab_2 | D16: 1 | E16: 1-5 | F16: 6/61 | G16: 1-5 | I16: davon | J16: 5 | K16: 1 | L16: 1 | M16: 0
A17: Westdeutschland / 01 Schleswig-Holstei | B17: roh_Tab_2 | D17: 6 | E17: 1-5 | F17: 11/16/21/26/31/36/41/46/51/56 | G17: 1-5 | I17: davon | J17: 5 | K17: 1 | L17: 1 | M17: 0
A18: Ostdeutschland / 11 Berlin | B18: roh_Tab_2 | D18: 61 | E18: 1-5 | F18: 66/71/76/81/86/91 | G18: 1-5 | I18: davon | J18: 5 | K18: 1 | L18: 1 | M18: 0
A19: Gesamt / einmündende Bewerber | B19: roh_Tab_2 | D19: 1 | E19: 1-5 | F19: 2-5 | G19: 1-5 | I19: davon | J19: 19 | K19: 5 | L19: 1 | M19: 0
A20: Kommentar | B20: roh_Tab_3!D9:AB578 | C20: 0
A21: Gesamt / Westdeutschland | B21: roh_Tab_3 | D21: 1 | E21: 1-25 | F21: 31/361 | G21: 1-25 | I21: davon | J21: 30 | K21: 1 | L21: 1 | M21: 0
A22: Westdeutschland / 01 Schleswig-Holstei | B22: roh_Tab_3 | D22: 31 | E22: 1-25 | F22: 61/91/121/151/181/211/241/271/301/331 | G22: 1-25 | I22: davon | J22: 30 | K22: 1 | L22: 1 | M22: 0
A23: Ostdeutschland / 11 Berlin | B23: roh_Tab_3 | D23: 361 | E23: 1-25 | F23: 391/421/451/481/511/541 | G23: 1-25 | I23: davon | J23: 30 | K23: 1 | L23: 1 | M23: 0
A24: Gesamt / Männer | B24: roh_Tab_3 | D24: 20 | E24: 1-25 | F24: 1-2 | G24: 1-25 | I24: davon | J24: 19 | K24: 30 | L24: 1 | M24: 0
A25: Gesamt / Deutsche | B25: roh_Tab_3 | D25: 20 | E25: 1-25 | F25: 3-4 | G25: 1-25 | I25: davon | J25: 19 | K25: 30 | L25: 1 | M25: 0
A26: Ausländer / Türken | B26: roh_Tab_3 | D26: 4 | E26: 1-25 | F26: 5-6 | G26: 1-25 | I26: darunter | J26: 19 | K26: 30 | L26: 1 | M26: 0
A27: Gesamt / Ohne Hauptschulabsch | B27: roh_Tab_3 | D27: 20 | E27: 1-25 | F27: 7-12 | G27: 1-25 | H27: 12X | I27: davon | J27: 19 | K27: 30 | L27: 1 | M27: 0
A28: Gesamt / Allgemeinbildende Sc | B28: roh_Tab_3 | D28: 20 | E28: 1-25 | F28: 13-16 | G28: 1-25 | H28: 16X | I28: davon | J28: 19 | K28: 30 | L28: 1 | M28: 0
A29: unter 20 Jahre / 15 Jahre und jünger | B29: roh_Tab_3 | D29: 18 | E29: 1-25 | F29: 17/22-25 | G29: 1-25 | I29: davon | J29: 19 | K29: 30 | L29: 1 | M29: 0
A30: unter 25 Jahre / unter 20 Jahre | B30: roh_Tab_3 | D30: 21 | E30: 1-25 | F30: 18/26-30 | G30: 1-25 | I30: davon | J30: 19 | K30: 30 | L30: 1 | M30: 0
A31: Gesamt / ab 25 | B31: roh_Tab_3 | D31: 20 | E31: 1-25 | F31: 19/21 | G31: 1-25 | I31: davon | J31: 19 | K31: 30 | L31: 1 | M31: 0
A32: Gesamt / einmündende Bewerber | B32: roh_Tab_3 | D32: 1-570 | E32: 1 | F32: 1-570 | G32: 2-5 | I32: davon | J32: 1 | K32: 0 | L32: 5 | M32: 5
A33: Kommentar | B33: roh_Tab_4!D9:AB407 | C33: 0
A34: Gesamt / Westdeutschland | B34: roh_Tab_4 | D34: 1 | E34: 1-25 | F34: 22/253 | G34: 1-25 | I34: davon | J34: 21 | K34: 1 | L34: 1 | M34: 0
A35: Westdeutschland / 01 Schleswig-Holstei | B35: roh_Tab_4 | D35: 22 | E35: 1-25 | F35: 43/64/85/106/127/148/169/190/211/232 | G35: 1-25 | I35: davon | J35: 21 | K35: 1 | L35: 1 | M35: 0
A36: Ostdeutschland / 11 Berlin | B36: roh_Tab_4 | D36: 253 | E36: 1-25 | F36: 274/295/316/337/358/379 | G36: 1-25 | I36: davon | J36: 21 | K36: 1 | L36: 1 | M36: 0
A37: Gesamt / Schule/ Studium/ Pra | B37: roh_Tab_4 | D37: 1 | E37: 1-25 | F37: 2/8/12/15/21 | G37: 1-25 | I37: davon | J37: 19 | K37: 21 | L37: 1 | M37: 0
A38: Schule/ Studium/ Pra / Schulbildung | B38: roh_Tab_4 | D38: 2 | E38: 1-25 | F38: 3-7 | G38: 1-25 | I38: davon | J38: 19 | K38: 21 | L38: 1 | M38: 0
A39: Berufsausbildung/ Er / Berufsausbildung ung | B39: roh_Tab_4 | D39: 8 | E39: 1-25 | F39: 9-11 | G39: 1-25 | I39: davon | J39: 19 | K39: 21 | L39: 1 | M39: 0
A40: Gemeinnützige/ sozia / Bundeswehr/Zivildien | B40: roh_Tab_4 | D40: 12 | E40: 1-25 | F40: 13-14 | G40: 1-25 | I40: davon | J40: 19 | K40: 21 | L40: 1 | M40: 0
A41: Fördermaßnahmen / Berufsvorbereitende | B41: roh_Tab_4 | D41: 15 | E41: 1-25 | F41: 16-20 | G41: 1-25 | I41: davon | J41: 19 | K41: 21 | L41: 1 | M41: 0
A42: Gesamt / einmündende Bewerber | B42: roh_Tab_4 | D42: 1-399 | E42: 1 | F42: 1-399 | G42: 2-5 | I42: davon | J42: 1 | K42: 0 | L42: 5 | M42: 5
A43: Kommentar | B43: roh_Tab_5!D9:W274 | C43: 0
A44: Gesamt / West | B44: roh_Tab_5 | D44: 1 | E44: 1-20 | F44: 15/169 | G44: 1-20 | I44: davon | J44: 14 | K44: 1 | L44: 1 | M44: 0
A45: West / 01 Schleswig-Holstei | B45: roh_Tab_5 | D45: 15 | E45: 1-20 | F45: 29/43/57/71/85/99/113/127/141/155 | G45: 1-20 | I45: davon | J45: 14 | K45: 1 | L45: 1 | M45: 0
A46: Ost / 11 Berlin | B46: roh_Tab_5 | D46: 169 | E46: 1-20 | F46: 183/197/211/225/239/253 | G46: 1-20 | I46: davon | J46: 14 | K46: 1 | L46: 1 | M46: 0
A47: Gesamt / Landwirtschaftskamme | B47: roh_Tab_5 | D47: 1 | E47: 1-20 | F47: 2-14 | G47: 1-20 | H47: 14X | I47: davon | J47: 19 | K47: 14 | L47: 1 | M47: 0
A48: Anz Gem Stellen / Anz Off Stellen | B48: roh_Tab_5 | D48: 1-266 | E48: 1 | F48: 1-266 | G48: 3 | I48: darunter | J48: 1 | K48: 0 | L48: 2/5 | M48: 1/4
A49: Gesamt / keine Förderung nach | B49: roh_Tab_5 | D49: 1-266 | E49: 1 | F49: 1-266 | G49: 2 | I49: darunter | J49: 1 | K49: 0 | L49: 10 | M49: 2
A50: Kommentar | B50: roh_Tab_6_Bew!C9:L27 | C50: 0
A51: Gesamt / Westdeutschland | B51: roh_Tab_6_Bew | D51: 1 | E51: 1-10 | F51: 2/13 | G51: 1-10 | I51: davon | J51: 1 | K51: 0 | L51: 1 | M51: 0
A52: Westdeutschland / 01 Schleswig-Holstei | B52: roh_Tab_6_Bew | D52: 2 | E52: 1-10 | F52: 3-12 | G52: 1-10 | I52: davon | J52: 1 | K52: 0 | L52: 1 | M52: 0
A53: Ostdeutschland / 11 Berlin | B53: roh_Tab_6_Bew | D53: 13 | E53: 1-10 | F53: 14-19 | G53: 1-10 | I53: davon | J53: 1 | K53: 0 | L53: 1 | M53: 0
A54: Gesamt / unversorgte Bewerber | B54: roh_Tab_6_Bew | D54: 1-19 | E54: 1 | F54: 1-19 | G54: 2 | I54: darunter | J54: 1 | K54: 0 | L54: 5 | M54: 2
A55: Kommentar | B55: roh_Tab_6_Stellen!C9:V27 | C55: 0
A56: Gesamt / West | B56: roh_Tab_6_Stellen | D56: 1 | E56: 1-20 | F56: 2/13 | G56: 1-20 | I56: davon | J56: 1 | K56: 0 | L56: 1 | M56: 0
A57: West / 01 Schleswig-Holstei | B57: roh_Tab_6_Stellen | D57: 2 | E57: 1-20 | F57: 3-12 | G57: 1-20 | I57: davon | J57: 1 | K57: 0 | L57: 1 | M57: 0
A58: Ost / 11 Berlin | B58: roh_Tab_6_Stellen | D58: 13 | E58: 1-20 | F58: 14-19 | G58: 1-20 | I58: davon | J58: 1 | K58: 0 | L58: 1 | M58: 0
A59: Anz Gem Stellen / Anz Off Stellen | B59: roh_Tab_6_Stellen | D59: 1-19 | E59: 1 | F59: 1-19 | G59: 3 | I59: darunter | J59: 1 | K59: 0 | L59: 2/5 | M59: 1/4
A60: Gesamt / keine Förderung nach | B60: roh_Tab_6_Stellen | D60: 1-19 | E60: 1 | F60: 1-19 | G60: 2 | I60: darunter | J60: 1 | K60: 0 | L60: 10 | M60: 2

Sheet roh_Tab_1_Bew
A1: roh_Tab_1_Bew
A3: Berichtsfilter:
A4: (Berichtsmonat = Descendants(Jahr 2015, Jahr 2016, Jahr 2017, Jahr 2018, Jahr 2019) Ebene 2 SELF Oder (Berichtsmonat = Oktober 2014, November 2014, Dezember 2014)) Und (Berichtsmonat <> Oktober 2019) und (BBiG Kenner = BBiG) und (Status Ausbildungsuche = unversorgte Bewerber zum 30.9., Gesamt) und Polit Gebiet fiktiv = Descendants(Deutschland) Ebene 2 SELF Oder Polit Gebiet fiktiv = Descendants(Deutschland) Ebene 3 SELF Oder (Polit Gebiet fiktiv = Gesamt)
A6: Polit Gebiet fiktiv | D6: Anzahl
B7: Berichtsmonat | D7: Gesamt | E7: unversorgte Bewerber zum 30.9.
A8: Gesamt | B8: Oktober 2020 | D8: 147585 | E8: 124354
B9: November 2020 | D9: 196953 | E9: 152517
B10: Dezember 2020 | D10: 239358 | E10: 176437
B11: Januar 2021 | D11: 262410 | E11: 184657
B12: Februar 2021 | D12: 293916 | E12: 194072
B13: März 2021 | D13: 322779 | E13: 196602
B14: April 2021 | D14: 345006 | E14: 189757
B15: Mai 2021 | D15: 366722 | E15: 176536
B16: Juni 2021 | D16: 385042 | E16: 157810
B17: Juli 2021 | D17: 404443 | E17: 127029
B18: August 2021 | D18: 420273 | E18: 83977
B19: September 2021 | D19: 433543 | E19: 24614
B20: Oktober 2021 | D20: 133758 | E20: 110954
... B67: September 2025 | D67: 444335 | E67: 39868
A68: Westdeutschland | B68: Oktober 2020 | D68: 120824 | E68: 101437
B69: November 2020 | D69: 162705 | E69: 124937
B70: Dezember 2020 | D70: 198340 | E70: 144582
B71: Januar 2021 | D71: 217376 | E71: 150732
B72: Februar 2021 | D72: 243489 | E72: 157815
B73: März 2021 | D73: 266943 | E73: 159030
B74: April 2021 | D74: 285183 | E74: 153104
B75: Mai 2021 | D75: 303069 | E75: 142018
B76: Juni 2021 | D76: 317688 | E76: 127143
B77: Juli 2021 | D77: 333154 | E77: 101718
B78: August 2021 | D78: 345808 | E78: 65865
B79: September 2021 | D79: 356201 | E79: 17939
B80: Oktober 2021 | D80: 109804 | E80: 90762
... B127: September 2025 | D127: 363133 | E127: 30453
A128: 01 Schleswig-Holstein | B128: Oktober 2020 | D128: 4959 | E128: 4248
B129: November 2020 | D129: 6282 | E129: 4932
B130: Dezember 2020 | D130: 7581 | E130: 5648
B131: Januar 2021 | D131: 8251 | E131: 5803
B132: Februar 2021 | D132: 9385 | E132: 6273
B133: März 2021 | D133: 10627 | E133: 6573
B134: April 2021 | D134: 11413 | E134: 6349
B135: Mai 2021 | D135: 12350 | E135: 5972
B136: Juni 2021 | D136: 13141 | E136: 5370
B137: Juli 2021 | D137: 13759 | E137: 4329
B138: August 2021 | D138: 14280 | E138: 3178
B139: September 2021 | D139: 14782 | E139: 1834
B140: Oktober 2021 | D140: 4269 | E140: 3697
... B187: September 2025 | D187: 14811 | E187: 2228
A188: 02 Hamburg | B188: Oktober 2020 | D188: 2648 | E188: 2356
B189: November 2020 | D189: 3275 | E189: 2663
B190: Dezember 2020 | D190: 4041 | E190: 3141
B191: Januar 2021 | D191: 4448 | E191: 3265
B192: Februar 2021 | D192: 5037 | E192: 3507
B193: März 2021 | D193: 5583 | E193: 3671
B194: April 2021 | D194: 6091 | E194: 3808
B195: Mai 2021 | D195: 6599 | E195: 3849
B196: Juni 2021 | D196: 7034 | E196: 3519
B197: Juli 2021 | D197: 7366 | E197: 2666
B198: August 2021 | D198: 7573 | E198: 1944
B199: September 2021 | D199: 7787 | E199: 999
B200: Oktober 2021 | D200: 2287 | E200: 1962
... B247: September 2025 | D247: 8077 | E247: 1408
A248: 03 Niedersachsen | B248: Oktober 2020 | D248: 14140 | E248: 12072
B249: November 2020 | D249: 19652 | E249: 15867
B250: Dezember 2020 | D250: 24804 | E250: 19152
B251: Januar 2021 | D251: 27511 | E251: 20344
B252: Februar 2021 | D252: 31436 | E252: 21907
B253: März 2021 | D253: 34559 | E253: 22062
B254: April 2021 | D254: 36817 | E254: 21296
B255: Mai 2021 | D255: 39086 | E255: 19878
B256: Juni 2021 | D256: 41095 | E256: 17671
B257: Juli 2021 | D257: 42948 | E257: 13990
B258: August 2021 | D258: 44645 | E258: 9243
B259: September 2021 | D259: 45926 | E259: 2387
B260: Oktober 2021 | D260: 12791 | E260: 10915
... B307: September 2025 | D307: 47472 | E307: 4234
A308: 04 Bremen | B308: Oktober 2020 | D308: 1266 | E308: 918
B309: November 2020 | D309: 1689 | E309: 1122
B310: Dezember 2020 | D310: 2098 | E310: 1374
B311: Januar 2021 | D311: 2313 | E311: 1478
B312: Februar 2021 | D312: 2676 | E312: 1684
B313: März 2021 | D313: 3044 | E313: 1876
B314: April 2021 | D314: 3386 | E314: 2022
B315: Mai 2021 | D315: 3671 | E315: 2063
B316: Juni 2021 | D316: 3939 | E316: 2011
B317: Juli 2021 | D317: 4206 | E317: 1741
B318: August 2021 | D318: 4483 | E318: 1329
B319: September 2021 | D319: 4726 | E319: 335
B320: Oktober 2021 | D320: 1011 | E320: 738
... B367: September 2025 | D367: 4729 | E367: 429
A368: 05 Nordrhein-Westfalen | B368: Oktober 2020 | D368: 39318 | E368: 32471
B369: November 2020 | D369: 52946 | E369: 38916
B370: Dezember 2020 | D370: 62759 | E370: 44068
B371: Januar 2021 | D371: 67940 | E371: 45112
B372: Februar 2021 | D372: 75180 | E372: 46376
B373: März 2021 | D373: 81500 | E373: 45939
B374: April 2021 | D374: 86101 | E374: 43216
B375: Mai 2021 | D375: 91149 | E375: 39476
B376: Juni 2021 | D376: 95509 | E376: 35192
B377: Juli 2021 | D377: 100550 | E377: 27783
B378: August 2021 | D378: 104064 | E378: 19031
...

Sheet roh_Tab_1_Stellen
A1: roh_Tab_1_Stellen
A3: Berichtsfilter:
A4: Polit Gebiet fiktiv(Gruppieren) = ([Polit Gebiet fiktiv(Gruppieren)] In (Gesamt,10 Saarland,15 Sachsen-Anhalt,01 Schleswig-Holstein,13 Mecklenburg-Vorpommern,12 Brandenburg,14 Sachsen,09 Bayern,08 Baden-Württemberg,06 Hessen,07 Rheinland-Pfalz,03 Niedersachsen,11 Berlin,05 Nordrhein-Westfalen,16 Thüringen,02 Hamburg,04 Bremen)) Or ([Polit Gebiet fiktiv(Gruppieren)] Descendants (West)) Or ([Polit Gebiet fiktiv(Gruppieren)] Descendants (Ost)), BJ AusbBeginn gegliedert = im aktuellen Berichtsjahr; , Berichtsmonat = ((Berichtsmonat Descendants (Jahr 2015) Descendants "2;Berichtsmonat" Descendants 18) Or (Berichtsmonat Descendants (Jahr 2016) Descendants "2;Berichtsmonat" Descendants 18) Or (Berichtsmonat Descendants (Jahr 2017) Descendants "2;Berichtsmonat" Descendants 18) Or (Berichtsmonat Descendants (Jahr 2018) Descendants "2;Berichtsmonat" Descendants 18) Or (Berichtsmonat Descendants (Jahr 2019) Descendants "2;Berichtsmonat" Descendants 18) Or (Berichtsmonat Descendants (Jahr 2021) Descendants "2;Berichtsmonat" Descendants 18) Or (Berichtsmonat Descendants (Jahr 2023) Descendants "2;Berichtsmonat" Descendants 18) Or (Berichtsmonat In (Januar 2022,Februar 2022,März 2022,April 2022,Mai 2022,Juni 2022,Juli 2022,August 2022,September 2022,Oktober 2022,November 2022,Dezember 2022,September 2024,August 2024,Juli 2024,Juni 2024,Mai 2024,April 2024,März 2024,Februar 2024,Januar 2024,Oktober 2024,November 2024,Dezember 2024,Januar 2025,Februar 2025,März 2025,April 2025,Mai 2025,Juni 2025,Juli 2025,August 2025,September 2025))) And (Berichtsmonat [Not In] (Januar 2015,Februar 2015,März 2015,April 2015,Mai 2015,Juni 2015,Juli 2015,August 2015,September 2015,Oktober 2015,November 2015,Dezember 2015,Januar 2016,Februar 2016,März 2016,April 2016,Mai 2016,Juni 2016,Juli 2016,August 2016,September 2016,Oktober 2016,November 2016,Dezember 2016,Januar 2017,Februar 2017,März 2017,April 2017,Mai 2017,Juni 2017,Juli 2017,August 2017,September 2017,Oktober 2017,November 2017,Dezember 2017,Januar 2018,Februar 2018,März 2018,April 2018,Mai 2018,Juni 2018,Juli 2018,August 2018,September 2018,Oktober 2018,November 2018,Dezember 2018,Januar 2019,Februar 2019,März 2019,April 2019,Mai 2019,Juni 2019,Juli 2019,August 2019,September 2019,Oktober 2019,November 2019,Dezember 2019,Januar 2021,Februar 2021,März 2021,April 2021,Mai 2021,Juni 2021,Juli 2021,August 2021,September 2021)), Sonderprogramme und EQJ = keine Förderung nach Sonderprogrammen; Gesamt;
A6: Polit Gebiet fiktiv(Gruppieren) | D6: Berufsausbildungsstellen gem | F6: Berufsausbildungsstellen unb
B7: Berichtsmonat | D7: Gesamt | E7: keine Förderung nach Sonderprogrammen | F7: Gesamt | G7: keine Förderung nach Sonderprogrammen
A8: Gesamt | B8: Oktober 2020 | D8: 255421 | E8: 254842 | F8: 225955 | G8: 225955
B9: November 2020 | D9: 300550 | E9: 299196 | F9: 234247 | G9: 234247
B10: Dezember 2020 | D10: 334648 | E10: 332803 | F10: 244580 | G10: 244580
B11: Januar 2021 | D11: 358716 | E11: 356669 | F11: 251262 | G11: 251262
B12: Februar 2021 | D12: 387704 | E12: 385334 | F12: 257799 | G12: 257799
B13: März 2021 | D13: 415651 | E13: 412968 | F13: 259804 | G13: 259804
B14: April 2021 | D14: 436800 | E14: 434006 | F14: 249772 | G14: 249772
B15: Mai 2021 | D15: 455281 | E15: 452287 | F15: 233919 | G15: 233919
B16: Juni 2021 | D16: 472596 | E16: 469321 | F16: 216297 | G16: 216297
B17: Juli 2021 | D17: 489717 | E17: 485486 | F17: 193804 | G17: 193804
B18: August 2021 | D18: 505635 | E18: 498448 | F18: 151499 | G18: 151499
B19: September 2021 | D19: 522867 | E19: 508420 | F19: 63176 | G19: 63176
B20: Oktober 2021 | D20: 261957 | E20: 261291 | F20: 232272 | G20: 232272
... B67: September 2025 | D67: 501338 | E67: 484033 | F67: 56378 | G67: 56378
A68: West | B68: Oktober 2020 | D68: 216498 | E68: 216227 | F68: 192621 | G68: 192621
B69: November 2020 | D69: 253136 | E69: 252505 | F69: 198719 | G69: 198719
B70: Dezember 2020 | D70: 280989 | E70: 279983 | F70: 205571 | G70: 205571
B71: Januar 2021 | D71: 300936 | E71: 299797 | F71: 210012 | G71: 210012
B72: Februar 2021 | D72: 324886 | E72: 323555 | F72: 214233 | G72: 214233
B73: März 2021 | D73: 348026 | E73: 346572 | F73: 214983 | G73: 214983
B74: April 2021 | D74: 365720 | E74: 364183 | F74: 206060 | G74: 206060
B75: Mai 2021 | D75: 381332 | E75: 379603 | F75: 193039 | G75: 193039
B76: Juni 2021 | D76: 395695 | E76: 393693 | F76: 178557 | G76: 178557
B77: Juli 2021 | D77: 410129 | E77: 407264 | F77: 159729 | G77: 159729
B78: August 2021 | D78: 423499 | E78: 418119 | F78: 124560 | G78: 124560
B79: September 2021 | D79: 436976 | E79: 426558 | F79: 52204 | G79: 52204
B80: Oktober 2021 | D80: 221964 | E80: 221735 | F80: 197409 | G80: 197409
... B127: September 2025 | D127: 420211 | E127: 406980 | F127: 48712 | G127: 48712
A128: 01 Schleswig-Holstein | B128: Oktober 2020 | D128: 8933 | E128: 8921 | F128: 7944 | G128: 7944
B129: November 2020 | D129: 10462 | E129: 10436 | F129: 8271 | G129: 8271
B130: Dezember 2020 | D130: 11693 | E130: 11656 | F130: 8616 | G130: 8616
B131: Januar 2021 | D131: 12692 | E131: 12653 | F131: 8888 | G131: 8888
B132: Februar 2021 | D132: 14429 | E132: 14382 | F132: 9802 | G132: 9802
B133: März 2021 | D133: 15423 | E133: 15370 | F133: * | G133: *
B134: April 2021 | D134: 16098 | E134: 16043 | F134: 9392 | G134: 9392
B135: Mai 2021 | D135: 16725 | E135: 16669 | F135: 8865 | G135: 8865
B136: Juni 2021 | D136: 17340 | E136: 17246 | F136: 8064 | G136: 8064
B137: Juli 2021 | D137: 17918 | E137: 17776 | F137: 7171 | G137: 7171
B138: August 2021 | D138: 18391 | E138: 18160 | F138: 5563 | G138: 5563
B139: September 2021 | D139: 18952 | E139: 18490 | F139: 2310 | G139: 2310
B140: Oktober 2021 | D140: 8680 | E140: 8667 | F140: 7563 | G140: 7563
B141: November 2021 | D141: 10601 | E141: 10580 | F141: 8243 | G141: 8243
B142: Dezember 2021 | D142: 12022 | E142: 11989 | F142: 8898 | G142: 8898
B143: Januar 2022 | D143: 13331 | E143: 13296 | F143: 9743 | G143: 9743
B144: Februar 2022 | D144: 14509 | E144: 14466 | F144: 10170 | G144: 10170
B145: März 2022 | D145: 15683 | E145: 15630 | F145: 10450 | G145: 10450
... B187: September 2025 | D187: 17834 | E187: 17253 | F187: 2290 | G187: 2290
A188: 02 Hamburg | B188: Oktober 2020 | D188: 4124 | E188: 4123 | F188: 3422 | G188: 3422
B189: November 2020 | D189: 4937 | E189: 4930 | F189: 3614 | G189: 3614
B190: Dezember 2020 | D190: 5758 | E190: 5749 | F190: 4088 | G190: 4088
B191: Januar 2021 | D191: 6192 | E191: 6183 | F191: 4242 | G191: 4242
B192: Februar 2021 | D192: 6840 | E192: 6831 | F192: 4388 | G192: 4388
B193: März 2021 | D193: 7361 | E193: 7352 | F193: 4411 | G193: 4411
B194: April 2021 | D194: 7711 | E194: 7701 | F194: 4162 | G194: 4162
B195: Mai 2021 | D195: 8201 | E195: 8191 | F195: 4111 | G195: 4111
B196: Juni 2021 | D196: 8556 | E196: 8546 | F196: 3969 | G196: 3969
B197: Juli 2021 | D197: 8806 | E197: 8795 | F197: 3616 | G197: 3616
B198: August 2021 | D198: 9094 | E198: 9005 | F198: 2391 | G198: 2391
B199: September 2021 | D199: 9489 | E199: 9214 | F199: 275 | G199: 275
B200: Oktober 2021 | D200: 3955 | E200: 3949 | F200: 3493 | G200: 3493
... B247: September 2025 | D247: 10365 | E247: 10005 | F247: 980 | G247: 980
A248: 03 Niedersachsen | B248: Oktober 2020 | D248: 26125 | E248: 26091 | F248: 23809 | G248: 23809
B249: November 2020 | D249: 31488 | E249: 31409 | F249: 26464 | G249: 26464
B250: Dezember 2020 | D250: 34752 | E250: 34541 | F250: 27491 | G250: 27491
B251: Januar 2021 | D251: 37153 | E251: 36926 | F251: 28169 | G251: 28169
B252: Februar 2021 | D252: 40503 | E252: 40264 | F252: 29187 | G252: 29187
B253: März 2021 | D253: 43746 | E253: 43501 | F253: 29465 | G253: 29465
B254: April 2021 | D254: 45814 | E254: 45559 | F254: 27994 | G254: 27994
B255: Mai 2021 | D255: 47765 | E255: 47493 | F255: 26097 | G255: 26097
B256: Juni 2021 | D256: 49779 | E256: 49470 | F256: 23938 | G256: 23938
B257: Juli 2021 | D257: 51539 | E257: 51163 | F257: 20551 | G257: 20551
B258: August 2021 | D258: 53314 | E258: 52425 | F258: 14996 | G258: 14996
B259: September 2021 | D259: 55197 | E259: 53410 | F259: 4841 | G259: 4841
B260: Oktober 2021 | D260: 26691 | E260: 26668 | F260: 24056 | G260: 24056
... B307: September 2025 | D307: 48618 | E307: 47051 | F307: 3965 | G307: 3965
A308: 04 Bremen | B308: Oktober 2020 | D308: 1981 | E308: 1978 | F308: 1624 | G308: 1624
B309: November 2020 | D309: 2644 | E309: 2636 | F309: 2024 | G309: 2024
B310: Dezember 2020 | D310: 3060 | E310: 3046 | F310: 2220 | G310: 2220
B311: Januar 2021 | D311: 3291 | E311: 3275 | F311: 2340 | G311: 2340
B312: Februar 2021 | D312: 3584 | E312: 3565 | F312: 2381 | G312: 2381
B313: März 2021 | D313: 3954 | E313: 3935 | F313: * | G313: *
B314: April 2021 | D314: 4192 | E314: 4173 | F314: 2186 | G314: 2186
B315: Mai 2021 | D315: 4370 | E315: 4351 | F315: 1916 | G315: 1916
B316: Juni 2021 | D316: 4564 | E316: 4545 | F316: 1661 | G316: 1661
B317: Juli 2021 | D317: 4812 | E317: 4783 | F317: 1460 | G317: 1460
B318: August 2021 | D318: 4958 | E318: 4905 | F318: 946 | G318: 946
B319: September 2021 | D319: 5480 | E319: 5277 | F319: 374 | G319: 374
B320: Oktober 2021 | D320: 1892 | E320: 1886 | F320: 1753 | G320: 1753
B321: November 2021 | D321: 2391 | E321: 2380 | F321: 2123 | G321: 2123
B322: Dezember 2021 | D322: 2843 | E322: 2815 | F322: 2267 | G322: 2267
B323: Januar 2022 | D323: 3254 | E323: 3221 | F323: 2549 | G323: 2549
B324: Februar 2022 | D324: 3749 | E324: 3715 | F324: 2908 | G324: 2908
B325: März 2022 | D325: 4021 | E325: 3987 | F325: 2980 | G325: 2980
... B336: Februar 2023 | D336: 4105 | E336: 4054 | F336: 2952 | G336: 2952
B337: März 2023 | D337: 4371 | E337: 4315 | F337: * | G337: *
...

Sheet roh_Tab_1_Formel
K1: Ausbildungsmarkt
A3: 1 Seit Beginn des jeweiligen Berichtsjahres gemeldete Berufsausbildungsstellen und Bewerber für Berufsausbildungsstellen - monatlich
A4: =Org!B1 -> Gesamt
A5: Zeitreihe
B7: =IF(Org!C29=1,Org!B26,IF(Org!C29=2,Org!B27,IF(Org!C29=3,Org!B26,))) -> Berufsausbildungsstellen gem
B8: =IF(Org!C29=1,Org!B28,IF(Org!C29=2,Org!B28,IF(Org!C29=3,Org!B29,))) -> Gesamt | G8: =IF(Org!C29=1,Org!B24,IF(Org!C29=2,Org!B25,IF(Org!C29=3,Org!B24,))) -> Gesamt
A9: Berichtsmonate | B9: =RIGHT(Org!$A33,7) -> 2020/21 | C9: =RIGHT(Org!$A34,7) -> 2021/22 | D9: =RIGHT(Org!$A35,7) -> 2022/23 | E9: =RIGHT(Org!$A36,7) -> 2023/24 | F9: =RIGHT(Org!$A37,7) -> 2024/25 | G9: =RIGHT(Org!$A33,7) -> 2020/21 | H9: =RIGHT(Org!$A34,7) -> 2021/22 | I9: =RIGHT(Org!$A35,7) -> 2022/23 | J9: =RIGHT(Org!$A36,7) -> 2023/24 | K9: =RIGHT(Org!$A37,7) -> 2024/25
B10: 1 | C10: 2 | D10: 3 | E10: 4 | F10: 5 | G10: 6 | H10: 7 | I10: 8 | J10: 9 | K10: 10
A11: Oktober | B11: =INDEX(Tab_1_Stellen_Werte,MATCH(IF(OR($A$4="Westdeutschland",$A$4="Ostdeutschland"),LEFT($A$4,LEN($A$4)-11),$A$4),Tab_1_Stellen_Region,0)+MATCH(A28,Tab_1_Stellen_Monat,0)-1,MATCH($B$7,Tab_1_Stellen_Status,0)+MATCH($B$8,Tab_1_Stellen_Sonderprogramm,0)-1) -> 255421 | C11: =INDEX(Tab_1_Stellen_Werte,MATCH(IF(OR($A$4="Westdeutschland",$A$4="Ostdeutschland"),LEFT($A$4,LEN($A$4)-11),$A$4),Tab_1_Stellen_Region,0)+MATCH(B28,Tab_1_Stellen_Monat,0)-1,MATCH($B$7,Tab_1_Stellen_Status,0)+MATCH($B$8,Tab_1_Stellen_Sonderprogramm,0)-1) -> 261957 | D11: =INDEX(Tab_1_Stellen_Werte,MATCH(IF(OR($A$4="Westdeutschland",$A$4="Ostdeutschland"),LEFT($A$4,LEN($A$4)-11),$A$4),Tab_1_Stellen_Region,0)+MATCH(C28,Tab_1_Stellen_Monat,0)-1,MATCH($B$7,Tab_1_Stellen_Status,0)+MATCH($B$8,Tab_1_Stellen_Sonderprogramm,0)-1) -> 281293 | E11: =INDEX(Tab_1_Stellen_Werte,MATCH(IF(OR($A$4="Westdeutschland",$A$4="Ostdeutschland"),LEFT($A$4,LEN($A$4)-11),$A$4),Tab_1_Stellen_Region,0)+MATCH(D28,Tab_1_Stellen_Monat,0)-1,MATCH($B$7,Tab_1_Stellen_Status,0)+MATCH($B$8,Tab_1_Stellen_Sonderprogramm,0)-1) -> 284604 | F11: =INDEX(Tab_1_Stellen_Werte,MATCH(IF(OR($A$4="Westdeutschland",$A$4="Ostdeutschland"),LEFT($A$4,LEN($A$4)-11),$A$4),Tab_1_Stellen_Region,0)+MATCH(E28,Tab_1_Stellen_Monat,0)-1,MATCH($B$7,Tab_1_Stellen_Status,0)+MATCH($B$8,Tab_1_Stellen_Sonderprogramm,0)-1) -> 279809 | G11: =INDEX(Tab_1_Bew_Werte,MATCH($A$4,Tab_1_Bew_Region,0)+MATCH(A42,Tab_1_Bew_Monat,0)-1,MATCH($G$8,Tab_1_Bew_Status,0)) -> 147585 | H11: =INDEX(Tab_1_Bew_Werte,MATCH($A$4,Tab_1_Bew_Region,0)+MATCH(B42,Tab_1_Bew_Monat,0)-1,MATCH($G$8,Tab_1_Bew_Status,0)) -> 133758 | I11: =INDEX(Tab_1_Bew_Werte,MATCH($A$4,Tab_1_Bew_Region,0)+MATCH(C42,Tab_1_Bew_Monat,0)-1,MATCH($G$8,Tab_1_Bew_Status,0)) -> 136274 | J11: =INDEX(Tab_1_Bew_Werte,MATCH($A$4,Tab_1_Bew_Region,0)+MATCH(D42,Tab_1_Bew_Monat,0)-1,MATCH($G$8,Tab_1_Bew_Status,0)) -> 142028 | K11: =INDEX(Tab_1_Bew_Werte,MATCH($A$4,Tab_1_Bew_Region,0)+MATCH(E42,Tab_1_Bew_Monat,0)-1,MATCH($G$8,Tab_1_Bew_Status,0)) -> 150857
A12: November | B12: =INDEX(Tab_1_Stellen_Werte,MATCH(IF(OR($A$4="Westdeutschland",$A$4="Ostdeutschland"),LEFT($A$4,LEN($A$4)-11),$A$4),Tab_1_Stellen_Region,0)+MATCH(A29,Tab_1_Stellen_Monat,0)-1,MATCH($B$7,Tab_1_Stellen_Status,0)+MATCH($B$8,Tab_1_Stellen_Sonderprogramm,0)-1) -> 300550 | C12: =INDEX(Tab_1_Stellen_Werte,MATCH(IF(OR($A$4="Westdeutschland",$A$4="Ostdeutschland"),LEFT($A$4,LEN($A$4)-11),$A$4),Tab_1_Stellen_Region,0)+MATCH(B29,Tab_1_Stellen_Monat,0)-1,MATCH($B$7,Tab_1_Stellen_Status,0)+MATCH($B$8,Tab_1_Stellen_Sonderprogramm,0)-1) -> 312563 | D12: =INDEX(Tab_1_Stellen_Werte,MATCH(IF(OR($A$4="Westdeutschland",$A$4="Ostdeutschland"),LEFT($A$4,LEN($A$4)-11),$A$4),Tab_1_Stellen_Region,0)+MATCH(C29,Tab_1_Stellen_Monat,0)-1,MATCH($B$7,Tab_1_Stellen_Status,0)+MATCH($B$8,Tab_1_Stellen_Sonderprogramm,0)-1) -> 325276 | E12: =INDEX(Tab_1_Stellen_Werte,MATCH(IF(OR($A$4="Westdeutschland",$A$4="Ostdeutschland"),LEFT($A$4,LEN($A$4)-11),$A$4),Tab_1_Stellen_Region,0)+MATCH(D29,Tab_1_Stellen_Monat,0)-1,MATCH($B$7,Tab_1_Stellen_Status,0)+MATCH($B$8,Tab_1_Stellen_Sonderprogramm,0)-1) -> 330434 | F12: =INDEX(Tab_1_Stellen_Werte,MATCH(IF(OR($A$4="Westdeutschland",$A$4="Ostdeutschland"),LEFT($A$4,LEN($A$4)-11),$A$4),Tab_1_Stellen_Region,0)+MATCH(E29,Tab_1_Stellen_Monat,0)-1,MATCH($B$7,Tab_1_Stellen_Status,0)+MATCH($B$8,Tab_1_Stellen_Sonderprogramm,0)-1) -> 325318 | G12: =INDEX(Tab_1_Bew_Werte,MATCH($A$4,Tab_1_Bew_Region,0)+MATCH(A43,Tab_1_Bew_Monat,0)-1,MATCH($G$8,Tab_1_Bew_Status,0)) -> 196953 | H12: =INDEX(Tab_1_Bew_Werte,MATCH($A$4,Tab_1_Bew_Region,0)+MATCH(B43,Tab_1_Bew_Monat,0)-1,MATCH($G$8,Tab_1_Bew_Status,0)) -> 177220 | I12: =INDEX(Tab_1_Bew_Werte,MATCH($A$4,Tab_1_Bew_Region,0)+MATCH(C43,Tab_1_Bew_Monat,0)-1,MATCH($G$8,Tab_1_Bew_Status,0)) -> 178080 | J12: =INDEX(Tab_1_Bew_Werte,MATCH($A$4,Tab_1_Bew_Region,0)+MATCH(D43,Tab_1_Bew_Monat,0)-1,MATCH($G$8,Tab_1_Bew_Status,0)) -> 182676 | K12: =INDEX(Tab_1_Bew_Werte,MATCH($A$4,Tab_1_Bew_Region,0)+MATCH(E43,Tab_1_Bew_Monat,0)-1,MATCH($G$8,Tab_1_Bew_Status,0)) -> 193385
A13: Dezember | B13: =INDEX(Tab_1_Stellen_Werte,MATCH(IF(OR($A$4="Westdeutschland",$A$4="Ostdeutschland"),LEFT($A$4,LEN($A$4)-11),$A$4),Tab_1_Stellen_Region,0)+MATCH(A30,Tab_1_Stellen_Monat,0)-1,MATCH($B$7,Tab_1_Stellen_Status,0)+MATCH($B$8,Tab_1_Stellen_Sonderprogramm,0)-1) -> 334648 | C13: =INDEX(Tab_1_Stellen_Werte,MATCH(IF(OR($A$4="Westdeutschland",$A$4="Ostdeutschland"),LEFT($A$4,LEN($A$4)-11),$A$4),Tab_1_Stellen_Region,0)+MATCH(B30,Tab_1_Stellen_Monat,0)-1,MATCH($B$7,Tab_1_Stellen_Status,0)+MATCH($B$8,Tab_1_Stellen_Sonderprogramm,0)-1) -> 352517 | D13: =INDEX(Tab_1_Stellen_Werte,MATCH(IF(OR($A$4="Westdeutschland",$A$4="Ostdeutschland"),LEFT($A$4,LEN($A$4)-11),$A$4),Tab_1_Stellen_Region,0)+MATCH(C30,Tab_1_Stellen_Monat,0)-1,MATCH($B$7,Tab_1_Stellen_Status,0)+MATCH($B$8,Tab_1_Stellen_Sonderprogramm,0)-1) -> 361946 | E13: =INDEX(Tab_1_Stellen_Werte,MATCH(IF(OR($A$4="Westdeutschland",$A$4="Ostdeutschland"),LEFT($A$4,LEN($A$4)-11),$A$4),Tab_1_Stellen_Region,0)+MATCH(D30,Tab_1_Stellen_Monat,0)-1,MATCH($B$7,Tab_1_Stellen_Status,0)+MATCH($B$8,Tab_1_Stellen_Sonderprogramm,0)-1) -> 365915 | F13: =INDEX(Tab_1_Stellen_Werte,MATCH(IF(OR($A$4="Westdeutschland",$A$4="Ostdeutschland"),LEFT($A$4,LEN($A$4)-11),$A$4),Tab_1_Stellen_Region,0)+MATCH(E30,Tab_1_Stellen_Monat,0)-1,MATCH($B$7,Tab_1_Stellen_Status,0)+MATCH($B$8,Tab_1_Stellen_Sonderprogramm,0)-1) -> 354177 | G13: =INDEX(Tab_1_Bew_Werte,MATCH($A$4,Tab_1_Bew_Region,0)+MATCH(A44,Tab_1_Bew_Monat,0)-1,MATCH($G$8,Tab_1_Bew_Status,0)) -> 239358 | H13: =INDEX(Tab_1_Bew_Werte,MATCH($A$4,Tab_1_Bew_Region,0)+MATCH(B44,Tab_1_Bew_Monat,0)-1,MATCH($G$8,Tab_1_Bew_Status,0)) -> 221563 | I13: =INDEX(Tab_1_Bew_Werte,MATCH($A$4,Tab_1_Bew_Region,0)+MATCH(C44,Tab_1_Bew_Monat,0)-1,MATCH($G$8,Tab_1_Bew_Status,0)) -> 220589 | J13: =INDEX(Tab_1_Bew_Werte,MATCH($A$4,Tab_1_Bew_Region,0)+MATCH(D44,Tab_1_Bew_Monat,0)-1,MATCH($G$8,Tab_1_Bew_Status,0)) -> 224579 | K13: =INDEX(Tab_1_Bew_Werte,MATCH($A$4,Tab_1_Bew_Region,0)+MATCH(E44,Tab_1_Bew_Monat,0)-1,MATCH($G$8,Tab_1_Bew_Status,0)) -> 234996
A14: Januar | B14: =INDEX(Tab_1_Stellen_Werte,MATCH(IF(OR($A$4="Westdeutschland",$A$4="Ostdeutschland"),LEFT($A$4,LEN($A$4)-11),$A$4),Tab_1_Stellen_Region,0)+MATCH(A31,Tab_1_Stellen_Monat,0)-1,MATCH($B$7,Tab_1_Stellen_Status,0)+MATCH($B$8,Tab_1_Stellen_Sonderprogramm,0)-1) -> 358716 | C14: =INDEX(Tab_1_Stellen_Werte,MATCH(IF(OR($A$4="Westdeutschland",$A$4="Ostdeutschland"),LEFT($A$4,LEN($A$4)-11),$A$4),Tab_1_Stellen_Region,0)+MATCH(B31,Tab_1_Stellen_Monat,0)-1,MATCH($B$7,Tab_1_Stellen_Status,0)+MATCH($B$8,Tab_1_Stellen_Sonderprogramm,0)-1) -> 383282 | D14: =INDEX(Tab_1_Stellen_Werte,MATCH(IF(OR($A$4="Westdeutschland",$A$4="Ostdeutschland"),LEFT($A$4,LEN($A$4)-11),$A$4),Tab_1_Stellen_Region,0)+MATCH(C31,Tab_1_Stellen_Monat,0)-1,MATCH($B$7,Tab_1_Stellen_Status,0)+MATCH($B$8,Tab_1_Stellen_Sonderprogramm,0)-1) -> 395535 | E14: =INDEX(Tab_1_Stellen_Werte,MATCH(IF(OR($A$4="Westdeutschland",$A$4="Ostdeutschland"),LEFT($A$4,LEN($A$4)-11),$A$4),Tab_1_Stellen_Region,0)+MATCH(D31,Tab_1_Stellen_Monat,0)-1,MATCH($B$7,Tab_1_Stellen_Status,0)+MATCH($B$8,Tab_1_Stellen_Sonderprogramm,0)-1) -> 390059 | F14: =INDEX(Tab_1_Stellen_Werte,MATCH(IF(OR($A$4="Westdeutschland",$A$4="Ostdeutschland"),LEFT($A$4,LEN($A$4)-11),$A$4),Tab_1_Stellen_Region,0)+MATCH(E31,Tab_1_Stellen_Monat,0)-1,MATCH($B$7,Tab_1_Stellen_Status,0)+MATCH($B$8,Tab_1_Stellen_Sonderprogramm,0)-1) -> 372137 | G14: =INDEX(Tab_1_Bew_Werte,MATCH($A$4,Tab_1_Bew_Region,0)+MATCH(A45,Tab_1_Bew_Monat,0)-1,MATCH($G$8,Tab_1_Bew_Status,0)) -> 262410 | H14: =INDEX(Tab_1_Bew_Werte,MATCH($A$4,Tab_1_Bew_Region,0)+MATCH(B45,Tab_1_Bew_Monat,0)-1,MATCH($G$8,Tab_1_Bew_Status,0)) -> 248094 | I14: =INDEX(Tab_1_Bew_Werte,MATCH($A$4,Tab_1_Bew_Region,0)+MATCH(C45,Tab_1_Bew_Monat,0)-1,MATCH($G$8,Tab_1_Bew_Status,0)) -> 244182 | J14: =INDEX(Tab_1_Bew_Werte,MATCH($A$4,Tab_1_Bew_Region,0)+MATCH(D45,Tab_1_Bew_Monat,0)-1,MATCH($G$8,Tab_1_Bew_Status,0)) -> 250735 | K14: =INDEX(Tab_1_Bew_Werte,MATCH($A$4,Tab_1_Bew_Region,0)+MATCH(E45,Tab_1_Bew_Monat,0)-1,MATCH($G$8,Tab_1_Bew_Status,0)) -> 259660
A15: Februar | B15: =INDEX(Tab_1_Stellen_Werte,MATCH(IF(OR($A$4="Westdeutschland",$A$4="Ostdeutschland"),LEFT($A$4,LEN($A$4)-11),$A$4),Tab_1_Stellen_Region,0)+MATCH(A32,Tab_1_Stellen_Monat,0)-1,MATCH($B$7,Tab_1_Stellen_Status,0)+MATCH($B$8,Tab_1_Stellen_Sonderprogramm,0)-1) -> 387704 | C15: =INDEX(Tab_1_Stellen_Werte,MATCH(IF(OR($A$4="Westdeutschland",$A$4="Ostdeutschland"),LEFT($A$4,LEN($A$4)-11),$A$4),Tab_1_Stellen_Region,0)+MATCH(B32,Tab_1_Stellen_Monat,0)-1,MATCH($B$7,Tab_1_Stellen_Status,0)+MATCH($B$8,Tab_1_Stellen_Sonderprogramm,0)-1) -> 417095 | D15: =INDEX(Tab_1_Stellen_Werte,MATCH(IF(OR($A$4="Westdeutschland",$A$4="Ostdeutschland"),LEFT($A$4,LEN($A$4)-11),$A$4),Tab_1_Stellen_Region,0)+MATCH(C32,Tab_1_Stellen_Monat,0)-1,MATCH($B$7,Tab_1_Stellen_Status,0)+MATCH($B$8,Tab_1_Stellen_Sonderprogramm,0)-1) -> 427613 | E15: =INDEX(Tab_1_Stellen_Werte,MATCH(IF(OR($A$4="Westdeutschland",$A$4="Ostdeutschland"),LEFT($A$4,LEN($A$4)-11),$A$4),Tab_1_Stellen_Region,0)+MATCH(D32,Tab_1_Stellen_Monat,0)-1,MATCH($B$7,Tab_1_Stellen_Status,0)+MATCH($B$8,Tab_1_Stellen_Sonderprogramm,0)-1) -> 416530 | F15: =INDEX(Tab_1_Stellen_Werte,MATCH(IF(OR($A$4="Westdeutschland",$A$4="Ostdeutschland"),LEFT($A$4,LEN($A$4)-11),$A$4),Tab_1_Stellen_Region,0)+MATCH(E32,Tab_1_Stellen_Monat,0)-1,MATCH($B$7,Tab_1_Stellen_Status,0)+MATCH($B$8,Tab_1_Stellen_Sonderprogramm,0)-1) -> 396890 | G15: =INDEX(Tab_1_Bew_Werte,MATCH($A$4,Tab_1_Bew_Region,0)+MATCH(A46,Tab_1_Bew_Monat,0)-1,MATCH($G$8,Tab_1_Bew_Status,0)) -> 293916 | H15: =INDEX(Tab_1_Bew_Werte,MATCH($A$4,Tab_1_Bew_Region,0)+MATCH(B46,Tab_1_Bew_Monat,0)-1,MATCH($G$8,Tab_1_Bew_Status,0)) -> 283922 | I15: =INDEX(Tab_1_Bew_Werte,MATCH($A$4,Tab_1_Bew_Region,0)+MATCH(C46,Tab_1_Bew_Monat,0)-1,MATCH($G$8,Tab_1_Bew_Status,0)) -> 281973 | J15: =INDEX(Tab_1_Bew_Werte,MATCH($A$4,Tab_1_Bew_Region,0)+MATCH(D46,Tab_1_Bew_Monat,0)-1,MATCH($G$8,Tab_1_Bew_Status,0)) -> 285685 | K15: =INDEX(Tab_1_Bew_Werte,MATCH($A$4,Tab_1_Bew_Region,0)+MATCH(E46,Tab_1_Bew_Monat,0)-1,MATCH($G$8,Tab_1_Bew_Status,0)) -> 294488
A16: März | B16: =INDEX(Tab_1_Stellen_Werte,MATCH(IF(OR($A$4="Westdeutschland",$A$4="Ostdeutschland"),LEFT($A$4,LEN($A$4)-11),$A$4),Tab_1_Stellen_Region,0)+MATCH(A33,Tab_1_Stellen_Monat,0)-1,MATCH($B$7,Tab_1_Stellen_Status,0)+MATCH($B$8,Tab_1_Stellen_Sonderprogramm,0)-1) -> 415651 | C16: =INDEX(Tab_1_Stellen_Werte,MATCH(IF(OR($A$4="Westdeutschland",$A$4="Ostdeutschland"),LEFT($A$4,LEN($A$4)-11),$A$4),Tab_1_Stellen_Region,0)+MATCH(B33,Tab_1_Stellen_Monat,0)-1,MATCH($B$7,Tab_1_Stellen_Status,0)+MATCH($B$8,Tab_1_Stellen_Sonderprogramm,0)-1) -> 443407 | D16: =INDEX(Tab_1_Stellen_Werte,MATCH(IF(OR($A$4="Westdeutschland",$A$4="Ostdeutschland"),LEFT($A$4,LEN($A$4)-11),$A$4),Tab_1_Stellen_Region,0)+MATCH(C33,Tab_1_Stellen_Monat,0)-1,MATCH($B$7,Tab_1_Stellen_Status,0)+MATCH($B$8,Tab_1_Stellen_Sonderprogramm,0)-1) -> 450798 | E16: =INDEX(Tab_1_Stellen_Werte,MATCH(IF(OR($A$4="Westdeutschland",$A$4="Ostdeutschland"),LEFT($A$4,LEN($A$4)-11),$A$4),Tab_1_Stellen_Region,0)+MATCH(D33,Tab_1_Stellen_Monat,0)-1,MATCH($B$7,Tab_1_Stellen_Status,0)+MATCH($B$8,Tab_1_Stellen_Sonderprogramm,0)-1) -> 437637 | F16: =INDEX(Tab_1_Stellen_Werte,MATCH(IF(OR($A$4="Westdeutschland",$A$4="Ostdeutschland"),LEFT($A$4,LEN($A$4)-11),$A$4),Tab_1_Stellen_Region,0)+MATCH(E33,Tab_1_Stellen_Monat,0)-1,MATCH($B$7,Tab_1_Stellen_Status,0)+MATCH($B$8,Tab_1_Stellen_Sonderprogramm,0)-1) -> 415886 | G16: =INDEX(Tab_1_Bew_Werte,MATCH($A$4,Tab_1_Bew_Region,0)+MATCH(A47,Tab_1_Bew_Monat,0)-1,MATCH($G$8,Tab_1_Bew_Status,0)) -> 322779 | H16: =INDEX(Tab_1_Bew_Werte,MATCH($A$4,Tab_1_Bew_Region,0)+MATCH(B47,Tab_1_Bew_Monat,0)-1,MATCH($G$8,Tab_1_Bew_Status,0)) -> 313401 | I16: =INDEX(Tab_1_Bew_Werte,MATCH($A$4,Tab_1_Bew_Region,0)+MATCH(C47,Tab_1_Bew_Monat,0)-1,MATCH($G$8,Tab_1_Bew_Status,0)) -> 310992 | J16: =INDEX(Tab_1_Bew_Werte,MATCH($A$4,Tab_1_Bew_Region,0)+MATCH(D47,Tab_1_Bew_Monat,0)-1,MATCH($G$8,Tab_1_Bew_Status,0)) -> 317087 | K16: =INDEX(Tab_1_Bew_Werte,MATCH($A$4,Tab_1_Bew_Region,0)+MATCH(E47,Tab_1_Bew_Monat,0)-1,MATCH($G$8,Tab_1_Bew_Status,0)) -> 326670
A17: April | B17: =INDEX(Tab_1_Stellen_Werte,MATCH(IF(OR($A$4="Westdeutschland",$A$4="Ostdeutschland"),LEFT($A$4,LEN($A$4)-11),$A$4),Tab_1_Stellen_Region,0)+MATCH(A34,Tab_1_Stellen_Monat,0)-1,MATCH($B$7,Tab_1_Stellen_Status,0)+MATCH($B$8,Tab_1_Stellen_Sonderprogramm,0)-1) -> 436800 | C17: =INDEX(Tab_1_Stellen_Werte,MATCH(IF(OR($A$4="Westdeutschland",$A$4="Ostdeutschland"),LEFT($A$4,LEN($A$4)-11),$A$4),Tab_1_Stellen_Region,0)+MATCH(B34,Tab_1_Stellen_Monat,0)-1,MATCH($B$7,Tab_1_Stellen_Status,0)+MATCH($B$8,Tab_1_Stellen_Sonderprogramm,0)-1) -> 465954 | D17: =INDEX(Tab_1_Stellen_Werte,MATCH(IF(OR($A$4="Westdeutschland",$A$4="Ostdeutschland"),LEFT($A$4,LEN($A$4)-11),$A$4),Tab_1_Stellen_Region,0)+MATCH(C34,Tab_1_Stellen_Monat,0)-1,MATCH($B$7,Tab_1_Stellen_Status,0)+MATCH($B$8,Tab_1_Stellen_Sonderprogramm,0)-1) -> 471983 | E17: =INDEX(Tab_1_Stellen_Werte,MATCH(IF(OR($A$4="Westdeutschland",$A$4="Ostdeutschland"),LEFT($A$4,LEN($A$4)-11),$A$4),Tab_1_Stellen_Region,0)+MATCH(D34,Tab_1_Stellen_Monat,0)-1,MATCH($B$7,Tab_1_Stellen_Status,0)+MATCH($B$8,Tab_1_Stellen_Sonderprogramm,0)-1) -> 454523 | F17: =INDEX(Tab_1_Stellen_Werte,MATCH(IF(OR($A$4="Westdeutschland",$A$4="Ostdeutschland"),LEFT($A$4,LEN($A$4)-11),$A$4),Tab_1_Stellen_Region,0)+MATCH(E34,Tab_1_Stellen_Monat,0)-1,MATCH($B$7,Tab_1_Stellen_Status,0)+MATCH($B$8,Tab_1_Stellen_Sonderprogramm,0)-1) -> 431565 | G17: =INDEX(Tab_1_Bew_Werte,MATCH($A$4,Tab_1_Bew_Region,0)+MATCH(A48,Tab_1_Bew_Monat,0)-1,MATCH($G$8,Tab_1_Bew_Status,0)) -> 345006 | H17: =INDEX(Tab_1_Bew_Werte,MATCH($A$4,Tab_1_Bew_Region,0)+MATCH(B48,Tab_1_Bew_Monat,0)-1,MATCH($G$8,Tab_1_Bew_Status,0)) -> 338940 | I17: =INDEX(Tab_1_Bew_Werte,MATCH($A$4,Tab_1_Bew_Region,0)+MATCH(C48,Tab_1_Bew_Monat,0)-1,MATCH($G$8,Tab_1_Bew_Status,0)) -> 335816 | J17: =INDEX(Tab_1_Bew_Werte,MATCH($A$4,Tab_1_Bew_Region,0)+MATCH(D48,Tab_1_Bew_Monat,0)-1,MATCH($G$8,Tab_1_Bew_Status,0)) -> 341996 | K17: =INDEX(Tab_1_Bew_Werte,MATCH($A$4,Tab_1_Bew_Region,0)+MATCH(E48,Tab_1_Bew_Monat,0)-1,MATCH($G$8,Tab_1_Bew_Status,0)) -> 353941
A18: Mai | B18: =INDEX(Tab_1_Stellen_Werte,MATCH(IF(OR($A$4="Westdeutschland",$A$4="Ostdeutschland"),LEFT($A$4,LEN($A$4)-11),$A$4),Tab_1_Stellen_Region,0)+MATCH(A35,Tab_1_Stellen_Monat,0)-1,MATCH($B$7,Tab_1_Stellen_Status,0)+MATCH($B$8,Tab_1_Stellen_Sonderprogramm,0)-1) -> 455281 | C18: =INDEX(Tab_1_Stellen_Werte,MATCH(IF(OR($A$4="Westdeutschland",$A$4="Ostdeutschland"),LEFT($A$4,LEN($A$4)-11),$A$4),Tab_1_Stellen_Region,0)+MATCH(B35,Tab_1_Stellen_Monat,0)-1,MATCH($B$7,Tab_1_Stellen_Status,0)+MATCH($B$8,Tab_1_Stellen_Sonderprogramm,0)-1) -> 482986 | D18: =INDEX(Tab_1_Stellen_Werte,MATCH(IF(OR($A$4="Westdeutschland",$A$4="Ostdeutschland"),LEFT($A$4,LEN($A$4)-11),$A$4),Tab_1_Stellen_Region,0)+MATCH(C35,Tab_1_Stellen_Monat,0)-1,MATCH($B$7,Tab_1_Stellen_Status,0)+MATCH($B$8,Tab_1_Stellen_Sonderprogramm,0)-1) -> 487429 | E18: =INDEX(Tab_1_Stellen_Werte,MATCH(IF(OR($A$4="Westdeutschland",$A$4="Ostdeutschland"),LEFT($A$4,LEN($A$4)-11),$A$4),Tab_1_Stellen_Region,0)+MATCH(D35,Tab_1_Stellen_Monat,0)-1,MATCH($B$7,Tab_1_Stellen_Status,0)+MATCH($B$8,Tab_1_Stellen_Sonderprogramm,0)-1) -> 468784 | F18: =INDEX(Tab_1_Stellen_Werte,MATCH(IF(OR($A$4="Westdeutschland",$A$4="Ostdeutschland"),LEFT($A$4,LEN($A$4)-11),$A$4),Tab_1_Stellen_Region,0)+MATCH(E35,Tab_1_Stellen_Monat,0)-1,MATCH($B$7,Tab_1_Stellen_Status,0)+MATCH($B$8,Tab_1_Stellen_Sonderprogramm,0)-1) -> 443852 | G18: =INDEX(Tab_1_Bew_Werte,MATCH($A$4,Tab_1_Bew_Region,0)+MATCH(A49,Tab_1_Bew_Monat,0)-1,MATCH($G$8,Tab_1_Bew_Status,0)) -> 366722 | H18: =INDEX(Tab_1_Bew_Werte,MATCH($A$4,Tab_1_Bew_Region,0)+MATCH(B49,Tab_1_Bew_Monat,0)-1,MATCH($G$8,Tab_1_Bew_Status,0)) -> 358349 | I18: =INDEX(Tab_1_Bew_Werte,MATCH($A$4,Tab_1_Bew_Region,0)+MATCH(C49,Tab_1_Bew_Monat,0)-1,MATCH($G$8,Tab_1_Bew_Status,0)) -> 355632 | J18: =INDEX(Tab_1_Bew_Werte,MATCH($A$4,Tab_1_Bew_Region,0)+MATCH(D49,Tab_1_Bew_Monat,0)-1,MATCH($G$8,Tab_1_Bew_Status,0)) -> 364480 | K18: =INDEX(Tab_1_Bew_Werte,MATCH($A$4,Tab_1_Bew_Region,0)+MATCH(E49,Tab_1_Bew_Monat,0)-1,MATCH($G$8,Tab_1_Bew_Status,0)) -> 375393
A19: Juni | B19: =INDEX(Tab_1_Stellen_Werte,MATCH(IF(OR($A$4="Westdeutschland",$A$4="Ostdeutschland"),LEFT($A$4,LEN($A$4)-11),$A$4),Tab_1_Stellen_Region,0)+MATCH(A36,Tab_1_Stellen_Monat,0)-1,MATCH($B$7,Tab_1_Stellen_Status,0)+MATCH($B$8,Tab_1_Stellen_Sonderprogramm,0)-1) -> 472596 | C19: =INDEX(Tab_1_Stellen_Werte,MATCH(IF(OR($A$4="Westdeutschland",$A$4="Ostdeutschland"),LEFT($A$4,LEN($A$4)-11),$A$4),Tab_1_Stellen_Region,0)+MATCH(B36,Tab_1_Stellen_Monat,0)-1,MATCH($B$7,Tab_1_Stellen_Status,0)+MATCH($B$8,Tab_1_Stellen_Sonderprogramm,0)-1) -> 498733 | D19: =INDEX(Tab_1_Stellen_Werte,MATCH(IF(OR($A$4="Westdeutschland",$A$4="Ostdeutschland"),LEFT($A$4,LEN($A$4)-11),$A$4),Tab_1_Stellen_Region,0)+MATCH(C36,Tab_1_Stellen_Monat,0)-1,MATCH($B$7,Tab_1_Stellen_Status,0)+MATCH($B$8,Tab_1_Stellen_Sonderprogramm,0)-1) -> 501664 | E19: =INDEX(Tab_1_Stellen_Werte,MATCH(IF(OR($A$4="Westdeutschland",$A$4="Ostdeutschland"),LEFT($A$4,LEN($A$4)-11),$A$4),Tab_1_Stellen_Region,0)+MATCH(D36,Tab_1_Stellen_Monat,0)-1,MATCH($B$7,Tab_1_Stellen_Status,0)+MATCH($B$8,Tab_1_Stellen_Sonderprogramm,0)-1) -> 480457 | F19: =INDEX(Tab_1_Stellen_Werte,MATCH(IF(OR($A$4="Westdeutschland",$A$4="Ostdeutschland"),LEFT($A$4,LEN($A$4)-11),$A$4),Tab_1_Stellen_Region,0)+MATCH(E36,Tab_1_Stellen_Monat,0)-1,MATCH($B$7,Tab_1_Stellen_Status,0)+MATCH($B$8,Tab_1_Stellen_Sonderprogramm,0)-1) -> 459910 | G19: =INDEX(Tab_1_Bew_Werte,MATCH($A$4,Tab_1_Bew_Region,0)+MATCH(A50,Tab_1_Bew_Monat,0)-1,MATCH($G$8,Tab_1_Bew_Status,0)) -> 385042 | H19: =INDEX(Tab_1_Bew_Werte,MATCH($A$4,Tab_1_Bew_Region,0)+MATCH(B50,Tab_1_Bew_Monat,0)-1,MATCH($G$8,Tab_1_Bew_Status,0)) -> 375715 | I19: =INDEX(Tab_1_Bew_Werte,MATCH($A$4,Tab_1_Bew_Region,0)+MATCH(C50,Tab_1_Bew_Monat,0)-1,MATCH($G$8,Tab_1_Bew_Status,0)) -> 373806 | J19: =INDEX(Tab_1_Bew_Werte,MATCH($A$4,Tab_1_Bew_Region,0)+MATCH(D50,Tab_1_Bew_Monat,0)-1,MATCH($G$8,Tab_1_Bew_Status,0)) -> 383042 | K19: =INDEX(Tab_1_Bew_Werte,MATCH($A$4,Tab_1_Bew_Region,0)+MATCH(E50,Tab_1_Bew_Monat,0)-1,MATCH($G$8,Tab_1_Bew_Status,0)) -> 395736
A20: Juli | B20: =INDEX(Tab_1_Stellen_Werte,MATCH(IF(OR($A$4="Westdeutschland",$A$4="Ostdeutschland"),LEFT($A$4,LEN($A$4)-11),$A$4),Tab_1_Stellen_Region,0)+MATCH(A37,Tab_1_Stellen_Monat,0)-1,MATCH($B$7,Tab_1_Stellen_Status,0)+MATCH($B$8,Tab_1_Stellen_Sonderprogramm,0)-1) -> 489717 | C20: =INDEX(Tab_1_Stellen_Werte,MATCH(IF(OR($A$4="Westdeutschland",$A$4="Ostdeutschland"),LEFT($A$4,LEN($A$4)-11),$A$4),Tab_1_Stellen_Region,0)+MATCH(B37,Tab_1_Stellen_Monat,0)-1,MATCH($B$7,Tab_1_Stellen_Status,0)+MATCH($B$8,Tab_1_Stellen_Sonderprogramm,0)-1) -> 512018 | D20: =INDEX(Tab_1_Stellen_Werte,MATCH(IF(OR($A$4="Westdeutschland",$A$4="Ostdeutschland"),LEFT($A$4,LEN($A$4)-11),$A$4),Tab_1_Stellen_Region,0)+MATCH(C37,Tab_1_Stellen_Monat,0)-1,MATCH($B$7,Tab_1_Stellen_Status,0)+MATCH($B$8,Tab_1_Stellen_Sonderprogramm,0)-1) -> 513953 | E20: =INDEX(Tab_1_Stellen_Werte,MATCH(IF(OR($A$4="Westdeutschland",$A$4="Ostdeutschland"),LEFT($A$4,LEN($A$4)-11),$A$4),Tab_1_Stellen_Region,0)+MATCH(D37,Tab_1_Stellen_Monat,0)-1,MATCH($B$7,Tab_1_Stellen_Status,0)+MATCH($B$8,Tab_1_Stellen_Sonderprogramm,0)-1) -> 491834 | F20: =INDEX(Tab_1_Stellen_Werte,MATCH(IF(OR($A$4="Westdeutschland",$A$4="Ostdeutschland"),LEFT($A$4,LEN($A$4)-11),$A$4),Tab_1_Stellen_Region,0)+MATCH(E37,Tab_1_Stellen_Monat,0)-1,MATCH($B$7,Tab_1_Stellen_Status,0)+MATCH($B$8,Tab_1_Stellen_Sonderprogramm,0)-1) -> 471653 | G20: =INDEX(Tab_1_Bew_Werte,MATCH($A$4,Tab_1_Bew_Region,0)+MATCH(A51,Tab_1_Bew_Monat,0)-1,MATCH($G$8,Tab_1_Bew_Status,0)) -> 404443 | H20: =INDEX(Tab_1_Bew_Werte,MATCH($A$4,Tab_1_Bew_Region,0)+MATCH(B51,Tab_1_Bew_Monat,0)-1,MATCH($G$8,Tab_1_Bew_Status,0)) -> 392276 | I20: =INDEX(Tab_1_Bew_Werte,MATCH($A$4,Tab_1_Bew_Region,0)+MATCH(C51,Tab_1_Bew_Monat,0)-1,MATCH($G$8,Tab_1_Bew_Status,0)) -> 392190 | J20: =INDEX(Tab_1_Bew_Werte,MATCH($A$4,Tab_1_Bew_Region,0)+MATCH(D51,Tab_1_Bew_Monat,0)-1,MATCH($G$8,Tab_1_Bew_Status,0)) -> 402439 | K20: =INDEX(Tab_1_Bew_Werte,MATCH($A$4,Tab_1_Bew_Region,0)+MATCH(E51,Tab_1_Bew_Monat,0)-1,MATCH($G$8,Tab_1_Bew_Status,0)) -> 414126
A21: August | B21: =INDEX(Tab_1_Stellen_Werte,MATCH(IF(OR($A$4="Westdeutschland",$A$4="Ostdeutschland"),LEFT($A$4,LEN($A$4)-11),$A$4),Tab_1_Stellen_Region,0)+MATCH(A38,Tab_1_Stellen_Monat,0)-1,MATCH($B$7,Tab_1_Stellen_Status,0)+MATCH($B$8,Tab_1_Stellen_Sonderprogramm,0)-1) -> 505635 | C21: =INDEX(Tab_1_Stellen_Werte,MATCH(IF(OR($A$4="Westdeutschland",$A$4="Ostdeutschland"),LEFT($A$4,LEN($A$4)-11),$A$4),Tab_1_Stellen_Region,0)+MATCH(B38,Tab_1_Stellen_Monat,0)-1,MATCH($B$7,Tab_1_Stellen_Status,0)+MATCH($B$8,Tab_1_Stellen_Sonderprogramm,0)-1) -> 525559 | D21: =INDEX(Tab_1_Stellen_Werte,MATCH(IF(OR($A$4="Westdeutschland",$A$4="Ostdeutschland"),LEFT($A$4,LEN($A$4)-11),$A$4),Tab_1_Stellen_Region,0)+MATCH(C38,Tab_1_Stellen_Monat,0)-1,MATCH($B$7,Tab_1_Stellen_Status,0)+MATCH($B$8,Tab_1_Stellen_Sonderprogramm,0)-1) -> 527460 | E21: =INDEX(Tab_1_Stellen_Werte,MATCH(IF(OR($A$4="Westdeutschland",$A$4="Ostdeutschland"),LEFT($A$4,LEN($A$4)-11),$A$4),Tab_1_Stellen_Region,0)+MATCH(D38,Tab_1_Stellen_Monat,0)-1,MATCH($B$7,Tab_1_Stellen_Status,0)+MATCH($B$8,Tab_1_Stellen_Sonderprogramm,0)-1) -> 502356 | F21: =INDEX(Tab_1_Stellen_Werte,MATCH(IF(OR($A$4="Westdeutschland",$A$4="Ostdeutschland"),LEFT($A$4,LEN($A$4)-11),$A$4),Tab_1_Stellen_Region,0)+MATCH(E38,Tab_1_Stellen_Monat,0)-1,MATCH($B$7,Tab_1_Stellen_Status,0)+MATCH($B$8,Tab_1_Stellen_Sonderprogramm,0)-1) -> 483541 | G21: =INDEX(Tab_1_Bew_Werte,MATCH($A$4,Tab_1_Bew_Region,0)+MATCH(A52,Tab_1_Bew_Monat,0)-1,MATCH($G$8,Tab_1_Bew_Status,0)) -> 420273 | H21: =INDEX(Tab_1_Bew_Werte,MATCH($A$4,Tab_1_Bew_Region,0)+MATCH(B52,Tab_1_Bew_Monat,0)-1,MATCH($G$8,Tab_1_Bew_Status,0)) -> 407642 | I21: =INDEX(Tab_1_Bew_Werte,MATCH($A$4,Tab_1_Bew_Region,0)+MATCH(C52,Tab_1_Bew_Monat,0)-1,MATCH($G$8,Tab_1_Bew_Status,0)) -> 407588 | J21: =INDEX(Tab_1_Bew_Werte,MATCH($A$4,Tab_1_Bew_Region,0)+MATCH(D52,Tab_1_Bew_Monat,0)-1,MATCH($G$8,Tab_1_Bew_Status,0)) -> 417522 | K21: =INDEX(Tab_1_Bew_Werte,MATCH($A$4,Tab_1_Bew_Region,0)+MATCH(E52,Tab_1_Bew_Monat,0)-1,MATCH($G$8,Tab_1_Bew_Status,0)) -> 429608
A22: September | B22: =INDEX(Tab_1_Stellen_Werte,MATCH(IF(OR($A$4="Westdeutschland",$A$4="Ostdeutschland"),LEFT($A$4,LEN($A$4)-11),$A$4),Tab_1_Stellen_Region,0)+MATCH(A39,Tab_1_Stellen_Monat,0)-1,MATCH($B$7,Tab_1_Stellen_Status,0)+MATCH($B$8,Tab_1_Stellen_Sonderprogramm,0)-1) -> 522867 | C22: =INDEX(Tab_1_Stellen_Werte,MATCH(IF(OR($A$4="Westdeutschland",$A$4="Ostdeutschland"),LEFT($A$4,LEN($A$4)-11),$A$4),Tab_1_Stellen_Region,0)+MATCH(B39,Tab_1_Stellen_Monat,0)-1,MATCH($B$7,Tab_1_Stellen_Status,0)+MATCH($B$8,Tab_1_Stellen_Sonderprogramm,0)-1) -> 545960 | D22: =INDEX(Tab_1_Stellen_Werte,MATCH(IF(OR($A$4="Westdeutschland",$A$4="Ostdeutschland"),LEFT($A$4,LEN($A$4)-11),$A$4),Tab_1_Stellen_Region,0)+MATCH(C39,Tab_1_Stellen_Monat,0)-1,MATCH($B$7,Tab_1_Stellen_Status,0)+MATCH($B$8,Tab_1_Stellen_Sonderprogramm,0)-1) -> 545039 | E22: =INDEX(Tab_1_Stellen_Werte,MATCH(IF(OR($A$4="Westdeutschland",$A$4="Ostdeutschland"),LEFT($A$4,LEN($A$4)-11),$A$4),Tab_1_Stellen_Region,0)+MATCH(D39,Tab_1_Stellen_Monat,0)-1,MATCH($B$7,Tab_1_Stellen_Status,0)+MATCH($B$8,Tab_1_Stellen_Sonderprogramm,0)-1) -> 519399 | F22: =INDEX(Tab_1_Stellen_Werte,MATCH(IF(OR($A$4="Westdeutschland",$A$4="Ostdeutschland"),LEFT($A$4,LEN($A$4)-11),$A$4),Tab_1_Stellen_Region,0)+MATCH(E39,Tab_1_Stellen_Monat,0)-1,MATCH($B$7,Tab_1_Stellen_Status,0)+MATCH($B$8,Tab_1_Stellen_Sonderprogramm,0)-1) -> 501338 | G22: =INDEX(Tab_1_Bew_Werte,MATCH($A$4,Tab_1_Bew_Region,0)+MATCH(A53,Tab_1_Bew_Monat,0)-1,MATCH($G$8,Tab_1_Bew_Status,0)) -> 433543 | H22: =INDEX(Tab_1_Bew_Werte,MATCH($A$4,Tab_1_Bew_Region,0)+MATCH(B53,Tab_1_Bew_Monat,0)-1,MATCH($G$8,Tab_1_Bew_Status,0)) -> 422400 | I22: =INDEX(Tab_1_Bew_Werte,MATCH($A$4,Tab_1_Bew_Region,0)+MATCH(C53,Tab_1_Bew_Monat,0)-1,MATCH($G$8,Tab_1_Bew_Status,0)) -> 422059 | J22: =INDEX(Tab_1_Bew_Werte,MATCH($A$4,Tab_1_Bew_Region,0)+MATCH(D53,Tab_1_Bew_Monat,0)-1,MATCH($G$8,Tab_1_Bew_Status,0)) -> 431552 | K22: =INDEX(Tab_1_Bew_Werte,MATCH($A$4,Tab_1_Bew_Region,0)+MATCH(E53,Tab_1_Bew_Monat,0)-1,MATCH($G$8,Tab_1_Bew_Status,0)) -> 444335
A23: Erstellungsdatum: 09.12.2010, Statistik Datenzentrum | K23: © Statistik der Bundesagentur für Arbeit
A25: * Die erhobenen Daten unterliegen grundsätzlich der Geheimhaltung nach § 16 BStatG. Eine Übermittlung von Einzelangaben ist daher ausgeschlossen. Aus diesem Grund werden auch Zahlenwerte kleiner 3 anonymisiert.
A27: Stellen: | H27: Anonymisierungsprüfung mit Vormonat
A28: =roh_Tab_1_Stellen!B8 -> Oktober 2020 | B28: =roh_Tab_1_Stellen!B20 -> Oktober 2021 | C28: =roh_Tab_1_Stellen!B32 -> Oktober 2022 | D28: =roh_Tab_1_Stellen!B44 -> Oktober 2023 | E28: =roh_Tab_1_Stellen!B56 -> Oktober 2024 | H28: Berichtsmonate | I28: =B9 -> 2020/21 | J28: =C9 -> 2021/22 | K28: =D9 -> 2022/23 | L28: =E9 -> 2023/24 | M28: =F9 -> 2024/25 | N28: =G9 -> 2020/21 | O28: =H9 -> 2021/22 | P28: =I9 -> 2022/23 | ... R28: =K9 -> 2024/25
A29: =roh_Tab_1_Stellen!B9 -> November 2020 | B29: =roh_Tab_1_Stellen!B21 -> November 2021 | C29: =roh_Tab_1_Stellen!B33 -> November 2022 | D29: =roh_Tab_1_Stellen!B45 -> November 2023 | E29: =roh_Tab_1_Stellen!B57 -> November 2024 | I29: 1 | J29: 2 | K29: 3 | L29: 4 | M29: 5 | N29: 6 | O29: 7 | P29: 8 | Q29: 9 | R29: 10
A30: =roh_Tab_1_Stellen!B10 -> Dezember 2020 | B30: =roh_Tab_1_Stellen!B22 -> Dezember 2021 | C30: =roh_Tab_1_Stellen!B34 -> Dezember 2022 | D30: =roh_Tab_1_Stellen!B46 -> Dezember 2023 | E30: =roh_Tab_1_Stellen!B58 -> Dezember 2024 | H30: Oktober | I30: - | J30: - | K30: - | L30: - | M30: - | N30: - | O30: - | P30: - | Q30: - | R30: -
A31: =roh_Tab_1_Stellen!B11 -> Januar 2021 | B31: =roh_Tab_1_Stellen!B23 -> Januar 2022 | C31: =roh_Tab_1_Stellen!B35 -> Januar 2023 | D31: =roh_Tab_1_Stellen!B47 -> Januar 2024 | E31: =roh_Tab_1_Stellen!B59 -> Januar 2025 | H31: November | I31: =B12-B11 -> 45129 | J31: =C12-C11 -> 50606 | K31: =D12-D11 -> 43983 | L31: =E12-E11 -> 45830 | M31: =F12-F11 -> 45509 | N31: =G12-G11 -> 49368 | O31: =H12-H11 -> 43462 | P31: =I12-I11 -> 41806 | ... R31: =K12-K11 -> 42528
A32: =roh_Tab_1_Stellen!B12 -> Februar 2021 | B32: =roh_Tab_1_Stellen!B24 -> Februar 2022 | C32: =roh_Tab_1_Stellen!B36 -> Februar 2023 | D32: =roh_Tab_1_Stellen!B48 -> Februar 2024 | E32: =roh_Tab_1_Stellen!B60 -> Februar 2025 | H32: Dezember | I32: =B13-B12 -> 34098 | J32: =C13-C12 -> 39954 | K32: =D13-D12 -> 36670 | L32: =E13-E12 -> 35481 | M32: =F13-F12 -> 28859 | N32: =G13-G12 -> 42405 | O32: =H13-H12 -> 44343 | P32: =I13-I12 -> 42509 | ... R32: =K13-K12 -> 41611
A33: =roh_Tab_1_Stellen!B13 -> März 2021 | B33: =roh_Tab_1_Stellen!B25 -> März 2022 | C33: =roh_Tab_1_Stellen!B37 -> März 2023 | D33: =roh_Tab_1_Stellen!B49 -> März 2024 | E33: =roh_Tab_1_Stellen!B61 -> März 2025 | H33: Januar | I33: =B14-B13 -> 24068 | J33: =C14-C13 -> 30765 | K33: =D14-D13 -> 33589 | L33: =E14-E13 -> 24144 | M33: =F14-F13 -> 17960 | N33: =G14-G13 -> 23052 | O33: =H14-H13 -> 26531 | P33: =I14-I13 -> 23593 | ... R33: =K14-K13 -> 24664
A34: =roh_Tab_1_Stellen!B14 -> April 2021 | B34: =roh_Tab_1_Stellen!B26 -> April 2022 | C34: =roh_Tab_1_Stellen!B38 -> April 2023 | D34: =roh_Tab_1_Stellen!B50 -> April 2024 | E34: =roh_Tab_1_Stellen!B62 -> April 2025 | H34: Februar | I34: =B15-B14 -> 28988 | J34: =C15-C14 -> 33813 | K34: =D15-D14 -> 32078 | L34: =E15-E14 -> 26471 | M34: =F15-F14 -> 24753 | N34: =G15-G14 -> 31506 | O34: =H15-H14 -> 35828 | P34: =I15-I14 -> 37791 | ... R34: =K15-K14 -> 34828
A35: =roh_Tab_1_Stellen!B15 -> Mai 2021 | B35: =roh_Tab_1_Stellen!B27 -> Mai 2022 | C35: =roh_Tab_1_Stellen!B39 -> Mai 2023 | D35: =roh_Tab_1_Stellen!B51 -> Mai 2024 | E35: =roh_Tab_1_Stellen!B63 -> Mai 2025 | H35: März | I35: =B16-B15 -> 27947 | J35: =C16-C15 -> 26312 | K35: =D16-D15 -> 23185 | L35: =E16-E15 -> 21107 | M35: =F16-F15 -> 18996 | N35: =G16-G15 -> 28863 | O35: =H16-H15 -> 29479 | P35: =I16-I15 -> 29019 | ... R35: =K16-K15 -> 32182
A36: =roh_Tab_1_Stellen!B16 -> Juni 2021 | B36: =roh_Tab_1_Stellen!B28 -> Juni 2022 | C36: =roh_Tab_1_Stellen!B40 -> Juni 2023 | D36: =roh_Tab_1_Stellen!B52 -> Juni 2024 | E36: =roh_Tab_1_Stellen!B64 -> Juni 2025 | H36: April | I36: =B17-B16 -> 21149 | J36: =C17-C16 -> 22547 | K36: =D17-D16 -> 21185 | L36: =E17-E16 -> 16886 | M36: =F17-F16 -> 15679 | N36: =G17-G16 -> 22227 | O36: =H17-H16 -> 25539 | P36: =I17-I16 -> 24824 | ... R36: =K17-K16 -> 27271
A37: =roh_Tab_1_Stellen!B17 -> Juli 2021 | B37: =roh_Tab_1_Stellen!B29 -> Juli 2022 | C37: =roh_Tab_1_Stellen!B41 -> Juli 2023 | D37: =roh_Tab_1_Stellen!B53 -> Juli 2024 | E37: =roh_Tab_1_Stellen!B65 -> Juli 2025 | H37: Mai | I37: =B18-B17 -> 18481 | J37: =C18-C17 -> 17032 | K37: =D18-D17 -> 15446 | L37: =E18-E17 -> 14261 | M37: =F18-F17 -> 12287 | N37: =G18-G17 -> 21716 | O37: =H18-H17 -> 19409 | P37: =I18-I17 -> 19816 | ... R37: =K18-K17 -> 21452
A38: =roh_Tab_1_Stellen!B18 -> August 2021 | B38: =roh_Tab_1_Stellen!B30 -> August 2022 | C38: =roh_Tab_1_Stellen!B42 -> August 2023 | D38: =roh_Tab_1_Stellen!B54 -> August 2024 | E38: =roh_Tab_1_Stellen!B66 -> August 2025 | H38: Juni | I38: =B19-B18 -> 17315 | J38: =C19-C18 -> 15747 | K38: =D19-D18 -> 14235 | L38: =E19-E18 -> 11673 | M38: =F19-F18 -> 16058 | N38: =G19-G18 -> 18320 | O38: =H19-H18 -> 17366 | P38: =I19-I18 -> 18174 | ... R38: =K19-K18 -> 20343
A39: =roh_Tab_1_Stellen!B19 -> September 2021 | B39: =roh_Tab_1_Stellen!B31 -> September 2022 | C39: =roh_Tab_1_Stellen!B43 -> September 2023 | D39: =roh_Tab_1_Stellen!B55 -> September 2024 | E39: =roh_Tab_1_Stellen!B67 -> September 2025 | H39: Juli | I39: =B20-B19 -> 17121 | J39: =C20-C19 -> 13285 | K39: =D20-D19 -> 12289 | L39: =E20-E19 -> 11377 | M39: =F20-F19 -> 11743 | N39: =G20-G19 -> 19401 | O39: =H20-H19 -> 16561 | P39: =I20-I19 -> 18384 | ... R39: =K20-K19 -> 18390
H40: August | I40: =B21-B20 -> 15918 | J40: =C21-C20 -> 13541 | K40: =D21-D20 -> 13507 | L40: =E21-E20 -> 10522 | M40: =F21-F20 -> 11888 | N40: =G21-G20 -> 15830 | O40: =H21-H20 -> 15366 | P40: =I21-I20 -> 15398 | ... R40: =K21-K20 -> 15482
A41: Bewerber: | H41: September | I41: =B22-B21 -> 17232 | J41: =C22-C21 -> 20401 | K41: =D22-D21 -> 17579 | L41: =E22-E21 -> 17043 | M41: =F22-F21 -> 17797 | N41: =G22-G21 -> 13270 | O41: =H22-H21 -> 14758 | P41: =I22-I21 -> 14471 | ... R41: =K22-K21 -> 14727
A42: =A28 -> Oktober 2020 | B42: =B28 -> Oktober 2021 | C42: =C28 -> Oktober 2022 | D42: =D28 -> Oktober 2023 | E42: =E28 -> Oktober 2024
A43: =A29 -> November 2020 | B43: =B29 -> November 2021 | C43: =C29 -> November 2022 | D43: =D29 -> November 2023 | E43: =E29 -> November 2024
A44: =A30 -> Dezember 2020 | B44: =B30 -> Dezember 2021 | C44: =C30 -> Dezember 2022 | D44: =D30 -> Dezember 2023 | E44: =E30 -> Dezember 2024
A45: =A31 -> Januar 2021 | B45: =B31 -> Januar 2022 | C45: =C31 -> Januar 2023 | D45: =D31 -> Januar 2024 | E45: =E31 -> Januar 2025
A46: =A32 -> Februar 2021 | B46: =B32 -> Februar 2022 | C46: =C32 -> Februar 2023 | D46: =D32 -> Februar 2024 | E46: =E32 -> Februar 2025
A47: =A33 -> März 2021 | B47: =B33 -> März 2022 | C47: =C33 -> März 2023 | D47: =D33 -> März 2024 | E47: =E33 -> März 2025
A48: =A34 -> April 2021 | B48: =B34 -> April 2022 | C48: =C34 -> April 2023 | D48: =D34 -> April 2024 | E48: =E34 -> April 2025
A49: =A35 -> Mai 2021 | B49: =B35 -> Mai 2022 | C49: =C35 -> Mai 2023 | D49: =D35 -> Mai 2024 | E49: =E35 -> Mai 2025
A50: =A36 -> Juni 2021 | B50: =B36 -> Juni 2022 | C50: =C36 -> Juni 2023 | D50: =D36 -> Juni 2024 | E50: =E36 -> Juni 2025
A51: =A37 -> Juli 2021 | B51: =B37 -> Juli 2022 | C51: =C37 -> Juli 2023 | D51: =D37 -> Juli 2024 | E51: =E37 -> Juli 2025
A52: =A38 -> August 2021 | B52: =B38 -> August 2022 | C52: =C38 -> August 2023 | D52: =D38 -> August 2024 | E52: =E38 -> August 2025
A53: =A39 -> September 2021 | B53: =B39 -> September 2022 | C53: =C39 -> September 2023 | D53: =D39 -> September 2024 | E53: =E39 -> September 2025

Sheet roh_Tab_2
A1: roh_Tab_2_Bew
A3: Berichtsfilter:
A4: (Berichtsmonat = September 2017, September 2018, September 2016, September 2019, September 2015) und (BBiG Kenner = BBiG) und (Status Ausbildungsuche = unversorgte Bewerber zum 30.9., Gesamt, einmündende Bewerber, Bewerber mit Alternative zum 30.9., andere ehemalige Bewerber) und Polit Gebiet fiktiv = Descendants(Deutschland) Ebene 2 SELF Oder Polit Gebiet fiktiv = Descendants(Deutschland) Ebene 3 SELF Oder (Polit Gebiet fiktiv = Gesamt)
A6: Polit Gebiet fiktiv | D6: Anzahl
B7: Status Ausbildungsuche | D7: September 2021 | E7: September 2022 | F7: September 2023 | G7: September 2024 | H7: September 2025
A8: Gesamt | B8: Gesamt | D8: 433543 | E8: 422400 | F8: 422059 | G8: 431552 | H8: 444335
B9: einmündende Bewerber | D9: 199547 | E9: 198684 | F9: 201615 | G9: 198143 | H9: 191163
B10: andere ehemalige Bewerber | D10: 166178 | E10: 163316 | F10: 156747 | G10: 163024 | H10: 168814
B11: Bewerber mit Alternative zum 30.9. | D11: 43204 | E11: 37715 | F11: 37316 | G11: 39234 | H11: 44490
B12: unversorgte Bewerber zum 30.9. | D12: 24614 | E12: 22685 | F12: 26381 | G12: 31151 | H12: 39868
A13: Westdeutschland | B13: Gesamt | D13: 356201 | E13: 345595 | F13: 345163 | G13: 353213 | H13: 363133
B14: einmündende Bewerber | D14: 162128 | E14: 161154 | F14: 163828 | G14: 161712 | H14: 155519
B15: andere ehemalige Bewerber | D15: 138195 | E15: 134952 | F15: 129660 | G15: 134318 | H15: 138865
B16: Bewerber mit Alternative zum 30.9. | D16: 37939 | E16: 33101 | F16: 32531 | G16: 34078 | H16: 38296
B17: unversorgte Bewerber zum 30.9. | D17: 17939 | E17: 16388 | F17: 19144 | G17: 23105 | H17: 30453
A18: 01 Schleswig-Holstein | B18: Gesamt | D18: 14782 | E18: 13662 | F18: 13123 | G18: 14780 | H18: 14811
B19: einmündende Bewerber | D19: 6136 | E19: 5677 | F19: 5476 | G19: 5799 | H19: 5730
B20: andere ehemalige Bewerber | D20: 5453 | E20: 5513 | F20: 4400 | G20: 5856 | H20: 5150
B21: Bewerber mit Alternative zum 30.9. | D21: 1359 | E21: 1065 | F21: 1215 | G21: 1394 | H21: 1703
B22: unversorgte Bewerber zum 30.9. | D22: 1834 | E22: 1407 | F22: 2032 | G22: 1731 | H22: 2228
A23: 02 Hamburg | B23: Gesamt | D23: 7787 | E23: 6730 | F23: 6246 | G23: 7038 | H23: 8077
B24: einmündende Bewerber | D24: 3393 | E24: 2902 | F24: 2645 | G24: 2856 | H24: 3102
B25: andere ehemalige Bewerber | D25: 2650 | E25: 2486 | F25: 2307 | G25: 2345 | H25: 2559
B26: Bewerber mit Alternative zum 30.9. | D26: 745 | E26: 626 | F26: 536 | G26: 813 | H26: 1008
B27: unversorgte Bewerber zum 30.9. | D27: 999 | E27: 716 | F27: 758 | G27: 1024 | H27: 1408
A28: 03 Niedersachsen | B28: Gesamt | D28: 45926 | E28: 44818 | F28: 45412 | G28: 46064 | H28: 47472
B29: einmündende Bewerber | D29: 19293 | E29: 19150 | F29: 19396 | G29: 19077 | H29: 18145
B30: andere ehemalige Bewerber | D30: 18829 | E30: 18088 | F30: 18382 | G30: 18307 | H30: 19124
B31: Bewerber mit Alternative zum 30.9. | D31: 5417 | E31: 5204 | F31: 4955 | G31: 5301 | H31: 5969
B32: unversorgte Bewerber zum 30.9. | D32: 2387 | E32: 2376 | F32: 2679 | G32: 3379 | H32: 4234
A33: 04 Bremen | B33: Gesamt | D33: 4726 | E33: 4709 | F33: 4533 | G33: 4657 | H33: 4729
B34: einmündende Bewerber | D34: 1776 | E34: 1858 | F34: 1775 | G34: 1687 | H34: 1641
B35: andere ehemalige Bewerber | D35: 2053 | E35: 2048 | F35: 1826 | G35: 2098 | H35: 2093
B36: Bewerber mit Alternative zum 30.9. | D36: 562 | E36: 541 | F36: 536 | G36: 509 | H36: 566
B37: unversorgte Bewerber zum 30.9. | D37: 335 | E37: 262 | F37: 396 | G37: 363 | H37: 429
A38: 05 Nordrhein-Westfalen | B38: Gesamt | D38: 107529 | E38: 105286 | F38: 103697 | G38: 105734 | H38: 108910
B39: einmündende Bewerber | D39: 44948 | E39: 45322 | F39: 44818 | G39: 44286 | H39: 42121
B40: andere ehemalige Bewerber | D40: 43775 | E40: 42958 | F40: 40714 | G40: 41016 | H40: 42058
B41: Bewerber mit Alternative zum 30.9. | D41: 11813 | E41: 10326 | F41: 10575 | G41: 10772 | H41: 12294
B42: unversorgte Bewerber zum 30.9. | D42: 6993 | E42: 6680 | F42: 7590 | G42: 9660 | H42: 12437
A43: 06 Hessen | B43: Gesamt | D43: 35242 | E43: 33722 | F43: 34636 | G43: 34658 | H43: 36273
B44: einmündende Bewerber | D44: 14423 | E44: 14379 | F44: 15353 | G44: 14815 | H44: 14346
B45: andere ehemalige Bewerber | D45: 14952 | E45: 14476 | F45: 14080 | G45: 14060 | H45: 14479
B46: Bewerber mit Alternative zum 30.9. | D46: 3911 | E46: 3163 | F46: 3194 | G46: 3367 | H46: 3806
B47: unversorgte Bewerber zum 30.9. | D47: 1956 | E47: 1704 | F47: 2009 | G47: 2416 | H47: 3642
A48: 07 Rheinland-Pfalz | B48: Gesamt | D48: 21573 | E48: 20107 | F48: 20526 | G48: 20346 | H48: 20912
B49: einmündende Bewerber | D49: 9663 | E49: 9037 | F49: 9695 | G49: 9010 | H49: 8958
B50: andere ehemalige Bewerber | D50: 8302 | E50: 7828 | F50: 7325 | G50: 7788 | H50: 8347
B51: Bewerber mit Alternative zum 30.9. | D51: 2460 | E51: 2136 | F51: 2238 | G51: 2085 | H51: 2235
B52: unversorgte Bewerber zum 30.9. | D52: 1148 | E52: 1106 | F52: 1268 | G52: 1463 | H52: 1372
A53: 08 Baden-Württemberg | B53: Gesamt | D53: 52296 | E53: 50695 | F53: 51896 | G53: 52768 | H53: 53781
B54: einmündende Bewerber | D54: 25418 | E54: 25676 | F54: 26733 | G54: 26491 | H54: 24423
B55: andere ehemalige Bewerber | D55: 19232 | E55: 18692 | F55: 19164 | G55: 20039 | H55: 21166
B56: Bewerber mit Alternative zum 30.9. | D56: 6528 | E56: 5317 | F56: 4865 | G56: 4748 | H56: 5474
B57: unversorgte Bewerber zum 30.9. | D57: 1118 | E57: 1010 | F57: 1134 | G57: 1490 | H57: 2718
A58: 09 Bayern | B58: Gesamt | D58: 61877 | E58: 61293 | F58: 60466 | G58: 62161 | H58: 63297
B59: einmündende Bewerber | D59: 35217 | E59: 35281 | F59: 35952 | G59: 35741 | H59: 35255
B60: andere ehemalige Bewerber | D60: 20967 | E60: 20782 | F60: 19517 | G60: 20521 | H60: 21594
B61: Bewerber mit Alternative zum 30.9. | D61: 4608 | E61: 4190 | F61: 3828 | G61: 4418 | H61: 4602
B62: unversorgte Bewerber zum 30.9. | D62: 1085 | E62: 1040 | F62: 1169 | G62: 1481 | H62: 1846
A63: 10 Saarland | B63: Gesamt | D63: 4463 | E63: 4573 | F63: 4628 | G63: 5007 | H63: 4871
B64: einmündende Bewerber | D64: 1861 | E64: 1872 | F64: 1985 | G64: 1950 | H64: 1798
B65: andere ehemalige Bewerber | D65: 1982 | E65: 2081 | F65: 1945 | G65: 2288 | H65: 2295
B66: Bewerber mit Alternative zum 30.9. | D66: 536 | E66: 533 | F66: 589 | G66: 671 | H66: 639
B67: unversorgte Bewerber zum 30.9. | D67: 84 | E67: 87 | F67: 109 | G67: 98 | H67: 139
A68: Ostdeutschland | B68: Gesamt | D68: 76789 | E68: 76186 | F68: 75808 | G68: 76435 | H68: 78324
B69: einmündende Bewerber | D69: 37247 | E69: 37388 | F69: 37623 | G69: 36222 | H69: 35417
B70: andere ehemalige Bewerber | D70: 27802 | E70: 28149 | F70: 26766 | G70: 28286 | H70: 28842
B71: Bewerber mit Alternative zum 30.9. | D71: 5225 | E71: 4550 | F71: 4620 | G71: 4832 | H71: 5733
B72: unversorgte Bewerber zum 30.9. | D72: 6515 | E72: 6099 | F72: 6799 | G72: 7095 | H72: 8332
A73: 11 Berlin | B73: Gesamt | D73: 20788 | E73: 20902 | F73: 21176 | G73: 22152 | H73: 23196
B74: einmündende Bewerber | D74: 7385 | E74: 7478 | F74: 7474 | G74: 7219 | H74: 7514
B75: andere ehemalige Bewerber | D75: 9070 | E75: 9475 | F75: 9005 | G75: 10591 | H75: 10491
B76: Bewerber mit Alternative zum 30.9. | D76: 939 | E76: 814 | F76: 990 | G76: 889 | H76: 1356
B77: unversorgte Bewerber zum 30.9. | D77: 3394 | E77: 3135 | F77: 3707 | G77: 3453 | H77: 3835
A78: 12 Brandenburg | B78: Gesamt | D78: 12817 | E78: 12525 | F78: 12370 | G78: 12670 | H78: 12697
B79: einmündende Bewerber | D79: 5974 | E79: 6002 | F79: 5880 | G79: 6001 | H79: 5442
B80: andere ehemalige Bewerber | D80: 4690 | E80: 4666 | F80: 4383 | G80: 4483 | H80: 4661
B81: Bewerber mit Alternative zum 30.9. | D81: 824 | E81: 678 | F81: 779 | G81: 811 | H81: 903
B82: unversorgte Bewerber zum 30.9. | D82: 1329 | E82: 1179 | F82: 1328 | G82: 1375 | H82: 1691
A83: 13 Mecklenburg-Vorpommern | B83: Gesamt | D83: 6505 | E83: 6138 | F83: 6251 | G83: 6263 | H83: 6545
B84: einmündende Bewerber | D84: 3363 | E84: 3146 | F84: 3222 | G84: 3075 | H84: 3188
B85: andere ehemalige Bewerber | D85: 2262 | E85: 2039 | F85: 2018 | G85: 2047 | H85: 2212
B86: Bewerber mit Alternative zum 30.9. | D86: 550 | E86: 588 | F86: 573 | G86: 663 | H86: 697
B87: unversorgte Bewerber zum 30.9. | D87: 330 | E87: 365 | F87: 438 | G87: 478 | H87: 448
A88: 14 Sachsen | B88: Gesamt | D88: 19325 | E88: 19218 | F88: 18932 | G88: 18614 | H88: 18607
B89: einmündende Bewerber | D89: 10635 | E89: 10782 | F89: 11009 | G89: 10351 | H89: 9972
B90: andere ehemalige Bewerber | D90: 6256 | E90: 6238 | F90: 5927 | G90: 5806 | H90: 5749
B91: Bewerber mit Alternative zum 30.9. | D91: 1618 | E91: 1436 | F91: 1327 | G91: 1488 | H91: 1616
B92: unversorgte Bewerber zum 30.9. | D92: 816 | E92: 762 | F92: 669 | G92: 969 | H92: 1270
A93: 15 Sachsen-Anhalt | B93: Gesamt | D93: 9290 | E93: 9258 | F93: 9257 | G93: 9120 | H93: 9423
B94: einmündende Bewerber | D94: 5194 | E94: 5242 | F94: 5426 | G94: 5299 | H94: 5100
B95: andere ehemalige Bewerber | D95: 3008 | E95: 3075 | F95: 2913 | G95: 2863 | H95: 3146
B96: Bewerber mit Alternative zum 30.9. | D96: 790 | E96: 605 | F96: 604 | G96: 549 | H96: 685
B97: unversorgte Bewerber zum 30.9. | D97: 298 | E97: 336 | F97: 314 | G97: 409 | H97: 492
A98: 16 Thüringen | B98: Gesamt | D98: 8064 | E98: 8145 | F98: 7822 | G98: 7616 | H98: 7856
B99: einmündende Bewerber | D99: 4696 | E99: 4738 | F99: 4612 | G99: 4277 | H99: 4201
B100: andere ehemalige Bewerber | D100: 2516 | E100: 2656 | F100: 2520 | G100: 2496 | H100: 2583
B101: Bewerber mit Alternative zum 30.9. | D101: 504 | E101: 429 | F101: 347 | G101: 432 | H101: 476
B102: unversorgte Bewerber zum 30.9. | D102: 348 | E102: 322 | F102: 343 | G102: 411 | H102: 596

Sheet roh_Tab_2_Formel
F1: Ausbildungsmarkt
A3: 2 Seit Beginn des Berichtsjahres gemeldete Bewerber für Berufsausbildungsstellen nach dem Status der Ausbildungssuche - jeweils zum 30.09.
A4: =Org!B1 -> Gesamt
A5: Zeitreihe
A8: Status der Ausbildungssuche | B8: =roh_Tab_2!D7 -> September 2021 | C8: =roh_Tab_2!E7 -> September 2022 | D8: =roh_Tab_2!F7 -> September 2023 | E8: =roh_Tab_2!G7 -> September 2024 | F8: =roh_Tab_2!H7 -> September 2025
B9: 1 | C9: 2 | D9: 3 | E9: 4 | F9: 5
A10: Gesamt | B10: =INDEX(Tab_2_Werte,MATCH($A$4,Tab_2_Region,0)+MATCH($A10,Tab_2_Status,0)-1,MATCH(B$8,Tab_2_Monat,0)) -> 433543 | C10: =INDEX(Tab_2_Werte,MATCH($A$4,Tab_2_Region,0)+MATCH($A10,Tab_2_Status,0)-1,MATCH(C$8,Tab_2_Monat,0)) -> 422400 | D10: =INDEX(Tab_2_Werte,MATCH($A$4,Tab_2_Region,0)+MATCH($A10,Tab_2_Status,0)-1,MATCH(D$8,Tab_2_Monat,0)) -> 422059 | E10: =INDEX(Tab_2_Werte,MATCH($A$4,Tab_2_Region,0)+MATCH($A10,Tab_2_Status,0)-1,MATCH(E$8,Tab_2_Monat,0)) -> 431552 | F10: =INDEX(Tab_2_Werte,MATCH($A$4,Tab_2_Region,0)+MATCH($A10,Tab_2_Status,0)-1,MATCH(F$8,Tab_2_Monat,0)) -> 444335
A11: versorgte Bewerber | B11: =SUM(B12:B14) -> 408929 | C11: =SUM(C12:C14) -> 399715 | D11: =SUM(D12:D14) -> 395678 | E11: =SUM(E12:E14) -> 400401 | F11: =SUM(F12:F14) -> 404467
A12: einmündende Bewerber | B12: =INDEX(Tab_2_Werte,MATCH($A$4,Tab_2_Region,0)+MATCH($A12,Tab_2_Status,0)-1,MATCH(B$8,Tab_2_Monat,0)) -> 199547 | C12: =INDEX(Tab_2_Werte,MATCH($A$4,Tab_2_Region,0)+MATCH($A12,Tab_2_Status,0)-1,MATCH(C$8,Tab_2_Monat,0)) -> 198684 | D12: =INDEX(Tab_2_Werte,MATCH($A$4,Tab_2_Region,0)+MATCH($A12,Tab_2_Status,0)-1,MATCH(D$8,Tab_2_Monat,0)) -> 201615 | E12: =INDEX(Tab_2_Werte,MATCH($A$4,Tab_2_Region,0)+MATCH($A12,Tab_2_Status,0)-1,MATCH(E$8,Tab_2_Monat,0)) -> 198143 | F12: =INDEX(Tab_2_Werte,MATCH($A$4,Tab_2_Region,0)+MATCH($A12,Tab_2_Status,0)-1,MATCH(F$8,Tab_2_Monat,0)) -> 191163
A13: andere ehemalige Bewerber | B13: =INDEX(Tab_2_Werte,MATCH($A$4,Tab_2_Region,0)+MATCH($A13,Tab_2_Status,0)-1,MATCH(B$8,Tab_2_Monat,0)) -> 166178 | C13: =INDEX(Tab_2_Werte,MATCH($A$4,Tab_2_Region,0)+MATCH($A13,Tab_2_Status,0)-1,MATCH(C$8,Tab_2_Monat,0)) -> 163316 | D13: =INDEX(Tab_2_Werte,MATCH($A$4,Tab_2_Region,0)+MATCH($A13,Tab_2_Status,0)-1,MATCH(D$8,Tab_2_Monat,0)) -> 156747 | E13: =INDEX(Tab_2_Werte,MATCH($A$4,Tab_2_Region,0)+MATCH($A13,Tab_2_Status,0)-1,MATCH(E$8,Tab_2_Monat,0)) -> 163024 | F13: =INDEX(Tab_2_Werte,MATCH($A$4,Tab_2_Region,0)+MATCH($A13,Tab_2_Status,0)-1,MATCH(F$8,Tab_2_Monat,0)) -> 168814
A14: Bewerber mit Alternative zum 30.9. | B14: =INDEX(Tab_2_Werte,MATCH($A$4,Tab_2_Region,0)+MATCH($A14,Tab_2_Status,0)-1,MATCH(B$8,Tab_2_Monat,0)) -> 43204 | C14: =INDEX(Tab_2_Werte,MATCH($A$4,Tab_2_Region,0)+MATCH($A14,Tab_2_Status,0)-1,MATCH(C$8,Tab_2_Monat,0)) -> 37715 | D14: =INDEX(Tab_2_Werte,MATCH($A$4,Tab_2_Region,0)+MATCH($A14,Tab_2_Status,0)-1,MATCH(D$8,Tab_2_Monat,0)) -> 37316 | E14: =INDEX(Tab_2_Werte,MATCH($A$4,Tab_2_Region,0)+MATCH($A14,Tab_2_Status,0)-1,MATCH(E$8,Tab_2_Monat,0)) -> 39234 | F14: =INDEX(Tab_2_Werte,MATCH($A$4,Tab_2_Region,0)+MATCH($A14,Tab_2_Status,0)-1,MATCH(F$8,Tab_2_Monat,0)) -> 44490
A15: unversorgte Bewerber zum 30.9. | B15: =INDEX(Tab_2_Werte,MATCH($A$4,Tab_2_Region,0)+MATCH($A15,Tab_2_Status,0)-1,MATCH(B$8,Tab_2_Monat,0)) -> 24614 | C15: =INDEX(Tab_2_Werte,MATCH($A$4,Tab_2_Region,0)+MATCH($A15,Tab_2_Status,0)-1,MATCH(C$8,Tab_2_Monat,0)) -> 22685 | D15: =INDEX(Tab_2_Werte,MATCH($A$4,Tab_2_Region,0)+MATCH($A15,Tab_2_Status,0)-1,MATCH(D$8,Tab_2_Monat,0)) -> 26381 | E15: =INDEX(Tab_2_Werte,MATCH($A$4,Tab_2_Region,0)+MATCH($A15,Tab_2_Status,0)-1,MATCH(E$8,Tab_2_Monat,0)) -> 31151 | F15: =INDEX(Tab_2_Werte,MATCH($A$4,Tab_2_Region,0)+MATCH($A15,Tab_2_Status,0)-1,MATCH(F$8,Tab_2_Monat,0)) -> 39868
A16: Erstellungsdatum: 09.12.2010, Statistik Datenzentrum | F16: © Statistik der Bundesagentur für Arbeit
A18: * Die erhobenen Daten unterliegen grundsätzlich der Geheimhaltung nach § 16 BStatG. Eine Übermittlung von Einzelangaben ist daher ausgeschlossen. Aus diesem Grund werden auch Zahlenwerte kleiner 3 anonymisiert.
A19: Abweichungen in den Summen können sich durch nicht zuordenbare Daten ergeben
A21: Status der Ausbildungssuche | B21: =CONCATENATE(RIGHT(B8,4)-1,"/",RIGHT(B8,2)) -> 2020/21 | C21: =CONCATENATE(RIGHT(C8,4)-1,"/",RIGHT(C8,2)) -> 2021/22 | D21: =CONCATENATE(RIGHT(D8,4)-1,"/",RIGHT(D8,2)) -> 2022/23 | E21: =CONCATENATE(RIGHT(E8,4)-1,"/",RIGHT(E8,2)) -> 2023/24 | F21: =CONCATENATE(RIGHT(F8,4)-1,"/",RIGHT(F8,2)) -> 2024/25
B22: 1 | C22: 2 | D22: 3 | E22: 4 | F22: 5
A23: Insgesamt | B23: =B10/B$10 -> 1 | C23: =C10/C$10 -> 1 | D23: =D10/D$10 -> 1 | E23: =E10/E$10 -> 1 | F23: =F10/F$10 -> 1
A24: versorgte Bewerber | B24: =B11/B$10 -> 0.94322593 | C24: =C11/C$10 -> 0.94629498 | D24: =D11/D$10 -> 0.93749452 | E24: =E11/E$10 -> 0.92781635 | F24: =F11/F$10 -> 0.91027491
A25: einmündende Bewerber | B25: =B12/B$10 -> 0.46027038 | C25: =C12/C$10 -> 0.47036932 | D25: =D12/D$10 -> 0.47769388 | E25: =E12/E$10 -> 0.4591405 | F25: =F12/F$10 -> 0.43022269
A26: andere ehemalige Bewerber | B26: =B13/B$10 -> 0.38330223 | C26: =C13/C$10 -> 0.38663826 | D26: =D13/D$10 -> 0.37138646 | E26: =E13/E$10 -> 0.37776212 | F26: =F13/F$10 -> 0.37992506
A27: Bewerber mit Alternative zum 30.09. | B27: =B14/B$10 -> 0.099653322 | C27: =C14/C$10 -> 0.089287405 | D27: =D14/D$10 -> 0.088414179 | E27: =E14/E$10 -> 0.090913725 | F27: =F14/F$10 -> 0.10012716
A28: unversorgte Bewerber | B28: =B15/B$10 -> 0.056774069 | C28: =C15/C$10 -> 0.053705019 | D28: =D15/D$10 -> 0.062505479 | E28: =E15/E$10 -> 0.072183653 | F28: =F15/F$10 -> 0.089725095

Sheet roh_Tab_3
A1: roh_Tab_3_Bew
A3: Berichtsfilter:
A4: (Berichtsmonat = September 2017, September 2018, September 2016, September 2019, September 2015) und Alter has Derived Elements {Männer, Frauen, Deutsche, Ausländer, Türken, Italiener, Ohne Hauptschulabschluss, Hauptschulabschluss, Realschulabschluss, Fachhochschulreife, Allgemeine Hochschulreife, keine Angabe Schulabschluss, Allgemeinbildende Schulen, Berufsbildende Schulen, Hochschulen und Akademien, keine Angabe Schulart, 15 Jahre und jünger, unter 20 Jahre, ab 25, Restmenge} where (Alter = 24 Jahre, unter 25 Jahre, Gesamt, 23 Jahre, 19 Jahre, 22 Jahre, 16 Jahre, 21 Jahre, 17 Jahre, 20 Jahre, 18 Jahre) und (BBiG Kenner = BBiG) und (Status Ausbildungsuche = unversorgte Bewerber zum 30.9., Gesamt, einmündende Bewerber, Bewerber mit Alternative zum 30.9., andere ehemalige Bewerber) und Polit Gebiet fiktiv = Descendants(Deutschland) Ebene 2 SELF Oder Polit Gebiet fiktiv = Descendants(Deutschland) Ebene 3 SELF Oder (Polit Gebiet fiktiv = Gesamt)
A6: Polit Gebiet fiktiv | D6: Anzahl
B7: Berichtsmonat | D7: September 2021 | I7: September 2022 | N7: September 2023 | S7: September 2024 | X7: September 2025
B8: Alter(Gruppieren) | D8: Gesamt | E8: einmündende Bewerber | F8: andere ehemalige Bewerber | G8: Bewerber mit Alternative zum 30.9. | H8: unversorgte Bewerber zum 30.9. | I8: Gesamt | J8: einmündende Bewerber | K8: andere ehemalige Bewerber | L8: Bewerber mit Alternative zum 30.9. | M8: unversorgte Bewerber zum 30.9. | N8: Gesamt | O8: einmündende Bewerber | P8: andere ehemalige Bewerber | Q8: Bewerber mit Alternative zum 30.9. | R8: unversorgte Bewerber zum 30.9. | S8: Gesamt | T8: einmündende Bewerber | U8: andere ehemalige Bewerber | V8: Bewerber mit Alternative zum 30.9. | W8: unversorgte Bewerber zum 30.9. | X8: Gesamt | Y8: einmündende Bewerber | Z8: andere ehemalige Bewerber | AA8: Bewerber mit Alternative zum 30.9. | AB8: unversorgte Bewerber zum 30.9.
A9: Gesamt | B9: Männer | D9: 268518 | E9: 123304 | F9: 101979 | G9: 27488 | H9: 15747 | I9: 261561 | J9: 123712 | K9: 99277 | L9: 24069 | M9: 14503 | N9: 262431 | O9: 126713 | P9: 95334 | Q9: 23529 | R9: 16855 | S9: 269765 | T9: 124930 | U9: 99652 | V9: 25109 | W9: 20074 | X9: 278786 | Y9: 120074 | Z9: 104333 | AA9: 28562 | AB9: 25817
B10: Frauen | D10: 164986 | E10: 76227 | F10: 64187 | G10: 15708 | H10: 8864 | I10: 160741 | J10: 74925 | K10: 63999 | L10: 13637 | M10: 8180 | N10: 159628 | O10: 74902 | P10: 61413 | Q10: 13787 | R10: 9526 | S10: 161787 | T10: 73213 | U10: 63372 | V10: 14125 | W10: 11077 | X10: 165549 | Y10: 71089 | Z10: 64481 | AA10: 15928 | AB10: 14051
B11: Deutsche | D11: 353614 | E11: 171111 | F11: 129343 | G11: 34185 | H11: 18975 | I11: 343440 | J11: 169121 | K11: 127165 | L11: 29746 | M11: 17408 | N11: 340534 | O11: 171256 | P11: 120748 | Q11: 28817 | R11: 19713 | S11: 337424 | T11: 165087 | U11: 121188 | V11: 29278 | W11: 21871 | X11: 334936 | Y11: 154939 | Z11: 121084 | AA11: 31521 | AB11: 27392
B12: Ausländer | D12: 79928 | E12: 28436 | F12: 36834 | G12: 9019 | H12: 5639 | I12: 78959 | J12: 29563 | K12: 36150 | L12: 7969 | M12: 5277 | N12: 81524 | O12: 30358 | P12: 35999 | Q12: 8499 | R12: 6668 | S12: 94127 | T12: 33056 | U12: 41835 | V12: 9956 | W12: 9280 | X12: 109399 | Y12: 36224 | Z12: 47730 | AA12: 12969 | AB12: 12476
B13: Türken | D13: 7841 | E13: 2686 | F13: 3738 | G13: 907 | H13: 510 | I13: 6222 | J13: 2229 | K13: 2956 | L13: 623 | M13: 414 | N13: 5197 | O13: 1867 | P13: 2357 | Q13: 532 | R13: 441 | S13: 4879 | T13: 1700 | U13: 2196 | V13: 487 | W13: 496 | X13: 5231 | Y13: 1893 | Z13: 2209 | AA13: 590 | AB13: 539
B14: Italiener | D14: 3901 | E14: 1577 | F14: 1626 | G14: 493 | H14: 205 | I14: 3521 | J14: 1556 | K14: 1456 | L14: 356 | M14: 153 | N14: 3186 | O14: 1392 | P14: 1295 | Q14: 308 | R14: 191 | S14: 3135 | T14: 1251 | U14: 1337 | V14: 335 | W14: 212 | X14: 3097 | Y14: 1119 | Z14: 1347 | AA14: 365 | AB14: 266
B15: Ohne Hauptschulabschluss | D15: 6883 | E15: 3081 | F15: 2382 | G15: 883 | H15: 537 | I15: 6416 | J15: 2924 | K15: 2221 | L15: 753 | M15: 518 | N15: 6259 | O15: 2777 | P15: 2058 | Q15: 784 | R15: 640 | S15: 6529 | T15: 2822 | U15: 2326 | V15: 776 | W15: 605 | X15: 6932 | Y15: 2808 | Z15: 2492 | AA15: 899 | AB15: 733
B16: Hauptschulabschluss | D16: 121951 | E16: 53770 | F16: 47767 | G16: 12969 | H16: 7445 | I16: 116763 | J16: 53343 | K16: 45251 | L16: 11305 | M16: 6864 | N16: 117141 | O16: 55238 | P16: 42869 | Q16: 11042 | R16: 7992 | S16: 119383 | T16: 53825 | U16: 44849 | V16: 11658 | W16: 9051 | X16: 123683 | Y16: 52599 | Z16: 46517 | AA16: 13052 | AB16: 11515
B17: Realschulabschluss | D17: 173668 | E17: 92281 | F17: 56052 | G17: 16798 | H17: 8537 | I17: 172179 | J17: 94089 | K17: 55524 | L17: 14812 | M17: 7754 | N17: 173867 | O17: 97793 | P17: 52821 | Q17: 14368 | R17: 8885 | S17: 178298 | T17: 97588 | U17: 55063 | V17: 15235 | W17: 10412 | X17: 181014 | Y17: 92997 | Z17: 56618 | AA17: 17468 | AB17: 13931
B18: Fachhochschulreife | D18: 56062 | E18: 20946 | F18: 25683 | G18: 6162 | H18: 3271 | I18: 54571 | J18: 20834 | K18: 25645 | L18: 5149 | M18: 2943 | N18: 51935 | O18: 19358 | P18: 24278 | Q18: 5104 | R18: 3195 | S18: 51982 | T18: 18073 | U18: 24727 | V18: 5289 | W18: 3893 | X18: 53802 | Y18: 17278 | Z18: 25784 | AA18: 5974 | AB18: 4766
B19: Allgemeine Hochschulreife | D19: 50173 | E19: 19317 | F19: 23436 | G19: 4362 | H19: 3058 | I19: 48687 | J19: 18230 | K19: 23845 | L19: 3803 | M19: 2809 | N19: 48681 | O19: 17340 | P19: 23980 | Q19: 3981 | R19: 3380 | S19: 50097 | T19: 16797 | U19: 24666 | V19: 4249 | W19: 4385 | X19: 51422 | Y19: 16102 | Z19: 25358 | AA19: 4672 | AB19: 5290
B20: keine Angabe Schulabschluss | D20: 24806 | E20: 10152 | F20: 10858 | G20: 2030 | H20: 1766 | I20: 23784 | J20: 9264 | K20: 10830 | L20: 1893 | M20: 1797 | N20: 24176 | O20: 9109 | P20: 10741 | Q20: 2037 | R20: 2289 | S20: 25263 | T20: 9038 | U20: 11393 | V20: 2027 | W20: 2805 | X20: 27482 | Y20: 9379 | Z20: 12045 | AA20: 2425 | AB20: 3633
B21: Allgemeinbildende Schulen | D21: 203884 | E21: 114880 | F21: 63212 | G21: 15443 | H21: 10349 | I21: 203941 | J21: 116955 | K21: 63160 | L21: 14043 | M21: 9783 | N21: 211809 | O21: 124220 | P21: 61388 | Q21: 14620 | R21: 11581 | S21: 217987 | T21: 124815 | U21: 64336 | V21: 15499 | W21: 13337 | X21: 219439 | Y21: 119370 | Z21: 65994 | AA21: 17138 | AB21: 16937
... B38: 24 Jahre | D38: 13144 | E38: 4302 | F38: 6431 | G38: 1253 | H38: 1158 | I38: 11599 | J38: 3858 | K38: 5696 | L38: 1052 | M38: 993 | N38: 10684 | O38: 3339 | P38: 5272 | Q38: 925 | R38: 1148 | S38: 10916 | T38: 3242 | U38: 5316 | V38: 945 | W38: 1413 | X38: 11615 | Y38: 3320 | Z38: 5472 | AA38: 1137 | AB38: 1686
A39: Westdeutschland | B39: Männer | D39: 220038 | E39: 99514 | F39: 84879 | G39: 24201 | H39: 11444 | I39: 213758 | J39: 99966 | K39: 82239 | L39: 21152 | M39: 10401 | N39: 214237 | O39: 102828 | P39: 78761 | Q39: 20551 | R39: 12097 | S39: 220041 | T39: 101511 | U39: 81979 | V39: 21841 | W39: 14710 | X39: 227304 | Y39: 97397 | Z39: 85707 | AA39: 24643 | AB39: 19557
B40: Frauen | D40: 136132 | E40: 62602 | F40: 53305 | G40: 13732 | H40: 6493 | I40: 131765 | J40: 61154 | K40: 52685 | L40: 11940 | M40: 5986 | N40: 130926 | O40: 61000 | P40: 50899 | Q40: 11980 | R40: 7047 | S40: 133172 | T40: 60201 | U40: 52339 | V40: 12237 | W40: 8395 | X40: 135829 | Y40: 58122 | Z40: 53158 | AA40: 13653 | AB40: 10896
B41: Deutsche | D41: 286019 | E41: 136725 | F41: 105911 | G41: 29599 | H41: 13784 | I41: 276481 | J41: 134653 | K41: 103530 | L41: 25760 | M41: 12538 | N41: 274222 | O41: 136483 | P41: 98509 | Q41: 24809 | R41: 14421 | S41: 272211 | T41: 132137 | U41: 98361 | V41: 25149 | W41: 16564 | X41: 269942 | Y41: 123368 | Z41: 98442 | AA41: 26879 | AB41: 21253
B42: Ausländer | D42: 70181 | E42: 25403 | F42: 32283 | G42: 8340 | H42: 4155 | I42: 69113 | J42: 26501 | K42: 31421 | L42: 7341 | M42: 3850 | N42: 70940 | O42: 27344 | P42: 31151 | Q42: 7722 | R42: 4723 | S42: 81001 | T42: 29575 | U42: 35956 | V42: 8929 | W42: 6541 | X42: 93191 | Y42: 32151 | Z42: 40423 | AA42: 11417 | AB42: 9200
B43: Türken | D43: 7293 | E43: 2533 | F43: 3445 | G43: 882 | H43: 433 | I43: 5765 | J43: 2092 | K43: 2730 | L43: 602 | M43: 341 | N43: 4764 | O43: 1757 | P43: 2158 | Q43: 507 | R43: 342 | S43: 4429 | T43: 1588 | U43: 1978 | V43: 459 | W43: 404 | X43: 4684 | Y43: 1722 | Z43: 1954 | AA43: 546 | AB43: 462
B44: Italiener | D44: 3766 | E44: 1541 | F44: 1552 | G44: 483 | H44: 190 | I44: 3395 | J44: 1510 | K44: 1402 | L44: 348 | M44: 135 | N44: 3071 | O44: 1361 | P44: 1237 | Q44: 304 | R44: 169 | S44: 2992 | T44: 1202 | U44: 1265 | V44: 332 | W44: 193 | X44: 2952 | Y44: 1087 | Z44: 1270 | AA44: 349 | AB44: 246
B45: Ohne Hauptschulabschluss | D45: 5307 | E45: 2336 | F45: 1820 | G45: 702 | H45: 449 | I45: 5022 | J45: 2245 | K45: 1710 | L45: 630 | M45: 437 | N45: 4947 | O45: 2167 | P45: 1590 | Q45: 669 | R45: 521 | S45: 5224 | T45: 2243 | U45: 1802 | V45: 663 | W45: 516 | X45: 5758 | Y45: 2325 | Z45: 2024 | AA45: 774 | AB45: 635
B46: Hauptschulabschluss | D46: 100876 | E46: 44748 | F46: 39538 | G46: 11244 | H46: 5346 | I46: 96255 | J46: 44458 | K46: 37147 | L46: 9821 | M46: 4829 | N46: 96562 | O46: 46262 | P46: 35101 | Q46: 9465 | R46: 5734 | S46: 98722 | T46: 45300 | U46: 36689 | V46: 10053 | W46: 6680 | X46: 102476 | Y46: 44131 | Z46: 38321 | AA46: 11219 | AB46: 8805
B47: Realschulabschluss | D47: 138979 | E47: 72128 | F47: 46264 | G47: 14737 | H47: 5850 | I47: 137297 | J47: 73444 | K47: 45540 | L47: 12919 | M47: 5394 | N47: 138625 | O47: 76510 | P47: 43380 | Q47: 12473 | R47: 6262 | S47: 142793 | T47: 76850 | U47: 44910 | V47: 13305 | W47: 7728 | X47: 144678 | Y47: 72900 | Z47: 46116 | AA47: 14966 | AB47: 10696
B48: Fachhochschulreife | D48: 51339 | E48: 19349 | F48: 23263 | G48: 5822 | H48: 2905 | I48: 49815 | J48: 19247 | K48: 23107 | L48: 4896 | M48: 2565 | N48: 47504 | O48: 17881 | P48: 21987 | Q48: 4880 | R48: 2756 | S48: 47331 | T48: 16588 | U48: 22373 | V48: 4962 | W48: 3408 | X48: 48897 | Y48: 15875 | Z48: 23252 | AA48: 5623 | AB48: 4147
B49: Allgemeine Hochschulreife | D49: 40101 | E49: 15517 | F49: 18689 | G49: 3733 | H49: 2162 | I49: 38634 | J49: 14425 | K49: 18963 | L49: 3247 | M49: 1999 | N49: 38635 | O49: 13798 | P49: 19096 | Q49: 3357 | R49: 2384 | S49: 39744 | T49: 13538 | U49: 19716 | V49: 3488 | W49: 3002 | X49: 40241 | Y49: 12826 | Z49: 19983 | AA49: 3775 | AB49: 3657
B50: keine Angabe Schulabschluss | D50: 19599 | E50: 8050 | F50: 8621 | G50: 1701 | H50: 1227 | I50: 18572 | J50: 7335 | K50: 8485 | L50: 1588 | M50: 1164 | N50: 18890 | O50: 7210 | P50: 8506 | Q50: 1687 | R50: 1487 | S50: 19399 | T50: 7193 | U50: 8828 | V50: 1607 | W50: 1771 | X50: 21083 | Y50: 7462 | Z50: 9169 | AA50: 1939 | AB50: 2513
B51: Allgemeinbildende Schulen | D51: 155418 | E51: 87737 | F51: 48429 | G51: 12662 | H51: 6590 | I51: 154809 | J51: 89333 | K51: 47734 | L51: 11539 | M51: 6203 | N51: 161392 | O51: 95434 | P51: 46597 | Q51: 11940 | R51: 7421 | S51: 166924 | T51: 96867 | U51: 48587 | V51: 12566 | W51: 8904 | X51: 167518 | Y51: 92134 | Z51: 49874 | AA51: 13788 | AB51: 11722
... B68: 24 Jahre | D68: 10985 | E68: 3676 | F68: 5329 | G68: 1127 | H68: 853 | I68: 9637 | J68: 3251 | K68: 4719 | L68: 929 | M68: 738 | N68: 8840 | O68: 2839 | P68: 4351 | Q68: 812 | R68: 838 | S68: 8874 | T68: 2776 | U68: 4281 | V68: 817 | W68: 1000 | X68: 9419 | Y68: 2775 | Z68: 4410 | AA68: 964 | AB68: 1270
A69: 01 Schleswig-Holstein | B69: Männer | D69: 9009 | E69: 3680 | F69: 3309 | G69: 836 | H69: 1184 | I69: 8315 | J69: 3404 | K69: 3371 | L69: 652 | M69: 888 | N69: 8007 | O69: 3321 | P69: 2648 | Q69: 753 | R69: 1285 | S69: 9109 | T69: 3598 | U69: 3546 | V69: 889 | W69: 1076 | X69: 9163 | Y69: 3528 | Z69: 3119 | AA69: 1099 | AB69: 1417
B70: Frauen | D70: 5771 | E70: 2455 | F70: 2143 | G70: 523 | H70: 650 | I70: 5344 | J70: 2272 | K70: 2141 | L70: 412 | M70: 519 | N70: 5116 | O70: 2155 | P70: 1752 | Q70: 462 | R70: 747 | S70: 5671 | T70: 2201 | U70: 2310 | V70: 505 | W70: 655 | X70: 5648 | Y70: 2202 | Z70: 2031 | AA70: 604 | AB70: 811
B71: Deutsche | D71: 12529 | E71: 5436 | F71: 4491 | G71: 1113 | H71: 1489 | I71: 11445 | J71: 4986 | K71: 4512 | L71: 839 | M71: 1108 | N71: 10815 | O71: 4724 | P71: 3557 | Q71: 928 | R71: 1606 | S71: 11802 | T71: 4896 | U71: 4523 | V71: 1085 | W71: 1298 | X71: 11350 | Y71: 4650 | Z71: 3868 | AA71: 1259 | AB71: 1573
B72: Ausländer | D72: 2253 | E72: 700 | F72: 962 | G72: 246 | H72: 345 | I72: 2217 | J72: 691 | K72: 1001 | L72: 226 | M72: 299 | N72: 2308 | O72: 752 | P72: 843 | Q72: 287 | R72: 426 | S72: 2978 | T72: 903 | U72: 1333 | V72: 309 | W72: 433 | X72: 3461 | Y72: 1080 | Z72: 1282 | AA72: 444 | AB72: 655
B73: Türken | D73: 122 | E73: 37 | F73: 55 | G73: 10 | H73: 20 | I73: 94 | J73: 30 | K73: 49 | L73: 5 | M73: 10 | N73: 90 | O73: 25 | P73: 31 | Q73: 10 | R73: 24 | S73: 115 | T73: 39 | U73: 53 | V73: 8 | W73: 15 | X73: 105 | Y73: 33 | Z73: 39 | AA73: 13 | AB73: 20
B74: Italiener | D74: 30 | E74: 10 | F74: 12 | G74: 4 | H74: 4 | I74: 32 | J74: 13 | K74: 16 | L74: * | M74: * | N74: 24 | O74: 4 | P74: 11 | Q74: 6 | R74: 3 | S74: 27 | T74: 7 | U74: 14 | V74: 3 | W74: 3 | X74: 39 | Y74: * | Z74: 16 | AA74: * | AB74: 10
B75: Ohne Hauptschulabschluss | D75: 358 | E75: 102 | F75: 133 | G75: 53 | H75: 70 | I75: 321 | J75: 97 | K75: 116 | L75: 41 | M75: 67 | N75: 284 | O75: 76 | P75: 99 | Q75: 29 | R75: 80 | S75: 408 | T75: 86 | U75: 161 | V75: 79 | W75: 82 | X75: 407 | Y75: 106 | Z75: 143 | AA75: 80 | AB75: 78
B76: Hauptschulabschluss | D76: 4776 | E76: 1756 | F76: 1869 | G76: 483 | H76: 668 | I76: 4361 | J76: 1645 | K76: 1790 | L76: 415 | M76: 511 | N76: 4346 | O76: 1685 | P76: 1436 | Q76: 450 | R76: 775 | S76: 4769 | T76: 1720 | U76: 1982 | V76: 482 | W76: 585 | X76: 4734 | Y76: 1717 | Z76: 1708 | AA76: 560 | AB76: 749
B77: Realschulabschluss | D77: 5142 | E77: 2436 | F77: 1765 | G77: 410 | H77: 531 | I77: 4997 | J77: 2373 | K77: 1853 | L77: 358 | M77: 413 | N77: 4694 | O77: 2261 | P77: 1431 | Q77: 426 | R77: 576 | S77: 5128 | T77: 2439 | U77: 1727 | V77: 472 | W77: 490 | X77: 5131 | Y77: 2345 | Z77: 1525 | AA77: 572 | AB77: 689
B78: Fachhochschulreife | D78: 1341 | E78: 618 | F78: 423 | G78: 139 | H78: 161 | I78: 1192 | J78: 538 | K78: 459 | L78: 80 | M78: 115 | N78: 1067 | O78: 501 | P78: 318 | Q78: 88 | R78: 160 | S78: 1160 | T78: 515 | U78: 390 | V78: 103 | W78: 152 | X78: 1229 | Y78: 544 | Z78: 364 | AA78: 122 | AB78: 199
B79: Allgemeine Hochschulreife | D79: 2199 | E79: 838 | F79: 932 | G79: 165 | H79: 264 | I79: 1908 | J79: 714 | K79: 891 | L79: 116 | M79: 187 | N79: 1795 | O79: 617 | P79: 766 | Q79: 140 | R79: 272 | S79: 2025 | T79: 626 | U79: 1009 | V79: 126 | W79: 264 | X79: 2065 | Y79: 605 | Z79: 972 | AA79: 186 | AB79: 302
B80: keine Angabe Schulabschluss | D80: 966 | E80: 386 | F80: 331 | G80: 109 | H80: 140 | I80: 883 | J80: 310 | K80: 404 | L80: 55 | M80: 114 | N80: 937 | O80: 336 | P80: 350 | Q80: 82 | R80: 169 | S80: 1290 | T80: 413 | U80: 587 | V80: 132 | W80: 158 | X80: 1245 | Y80: 413 | Z80: 438 | AA80: 183 | AB80: 211
B81: Allgemeinbildende Schulen | D81: 6566 | E81: 3134 | F81: 2153 | G81: 554 | H81: 725 | I81: 6162 | J81: 3043 | K81: 2107 | L81: 445 | M81: 567 | N81: 5997 | O81: 2938 | P81: 1795 | Q81: 482 | R81: 782 | S81: 6831 | T81: 3221 | U81: 2289 | V81: 608 | W81: 713 | X81: 6721 | Y81: 3071 | Z81: 2061 | AA81: 689 | AB81: 900
B82: Berufsbildende Schulen | D82: 6380 | E82: 2460 | F82: 2540 | G82: 612 | H82: 768 | I82: 5874 | J82: 2165 | K82: 2636 | L82: 489 | M82: 584 | N82: 5592 | O82: 2136 | P82: 1975 | Q82: 602 | R82: 879 | S82: 6159 | T82: 2135 | U82: 2657 | V82: 655 | W82: 712 | X82: 6129 | Y82: 2168 | Z82: 2209 | AA82: 838 | AB82: 914
B83: Hochschulen und Akademien | D83: 823 | E83: 246 | F83: 348 | G83: 82 | H83: 147 | I83: 767 | J83: 254 | K83: 346 | L83: 61 | M83: 106 | N83: 704 | O83: 198 | P83: 294 | Q83: 60 | R83: 152 | S83: 842 | T83: 212 | U83: 448 | V83: 61 | W83: 121 | X83: 923 | Y83: 229 | Z83: 452 | AA83: 80 | AB83: 162
B84: keine Angabe Schulart | D84: 266 | E84: 65 | F84: 121 | G84: 31 | H84: 49 | I84: 259 | J84: 61 | K84: 138 | L84: 19 | M84: 41 | N84: 206 | O84: 39 | P84: 85 | Q84: 17 | R84: 65 | S84: 284 | T84: 56 | U84: 145 | V84: 18 | W84: 65 | X84: 285 | Y84: 67 | Z84: 117 | AA84: 24 | AB84: 77
B85: 15 Jahre und jünger | D85: 201 | E85: 64 | F85: 105 | G85: * | H85: * | I85: 219 | J85: 77 | K85: 112 | L85: 26 | M85: 4 | N85: 286 | O85: 110 | P85: 111 | Q85: 53 | R85: 12 | S85: 305 | T85: 118 | U85: 122 | V85: 62 | W85: 3 | X85: 270 | Y85: 94 | Z85: 110 | AA85: 61 | AB85: 5
B86: unter 20 Jahre | D86: 7638 | E86: 3747 | F86: 2650 | G86: 729 | H86: 512 | I86: 7256 | J86: 3644 | K86: 2615 | L86: 565 | M86: 432 | N86: 7237 | O86: 3653 | P86: 2175 | Q86: 722 | R86: 687 | S86: 8071 | T86: 3941 | U86: 2672 | V86: 842 | W86: 616 | X86: 8006 | Y86: 3752 | Z86: 2398 | AA86: 1005 | AB86: 851
B87: ab 25 | D87: 1868 | E87: 356 | F87: 802 | G87: 146 | H87: 564 | I87: 1795 | J87: 343 | K87: 828 | L87: 174 | M87: 450 | N87: 1805 | O87: 353 | P87: 683 | Q87: 166 | R87: 603 | S87: 2083 | T87: 323 | U87: 1155 | V87: 149 | W87: 456 | X87: 2023 | Y87: 367 | Z87: 966 | AA87: 172 | AB87: 518
B88: Gesamt | D88: 14782 | E88: 6136 | F88: 5453 | G88: 1359 | H88: 1834 | I88: 13662 | J88: 5677 | K88: 5513 | L88: 1065 | M88: 1407 | N88: 13123 | O88: 5476 | P88: 4400 | Q88: 1215 | R88: 2032 | S88: 14780 | T88: 5799 | U88: 5856 | V88: 1394 | W88: 1731 | X88: 14811 | Y88: 5730 | Z88: 5150 | AA88: 1703 | AB88: 2228
B89: unter 25 Jahre | D89: 12914 | E89: 5780 | F89: 4651 | G89: 1213 | H89: 1270 | I89: 11867 | J89: 5334 | K89: 4685 | L89: 891 | M89: 957 | N89: 11318 | O89: 5123 | P89: 3717 | Q89: 1049 | R89: 1429 | S89: 12697 | T89: 5476 | U89: 4701 | V89: 1245 | W89: 1275 | X89: 12788 | Y89: 5363 | Z89: 4184 | AA89: 1531 | AB89: 1710
B90: 16 Jahre | D90: 1397 | E90: 698 | F90: 549 | G90: * | H90: * | I90: 1514 | J90: 754 | K90: 620 | L90: 113 | M90: 27 | N90: 1520 | O90: 816 | P90: 461 | Q90: 184 | R90: 59 | S90: 1664 | T90: 935 | U90: 506 | V90: 177 | W90: 46 | X90: 1654 | Y90: 855 | Z90: 517 | AA90: 227 | AB90: 55
B91: 17 Jahre | D91: 1950 | E91: 1054 | F91: 616 | G91: 197 | H91: 83 | I91: 1960 | J91: 1086 | K91: 640 | L91: 162 | M91: 72 | N91: 1896 | O91: 1065 | P91: 543 | Q91: 184 | R91: 104 | S91: 2108 | T91: 1136 | U91: 649 | V91: 211 | W91: 112 | X91: 2047 | Y91: 1091 | Z91: 563 | AA91: 254 | AB91: 139
B92: 18 Jahre | D92: 1982 | E92: 998 | F92: 638 | G92: 185 | H92: 161 | I92: 1819 | J92: 955 | K92: 581 | L92: 132 | M92: 151 | N92: 1776 | O92: 866 | P92: 509 | Q92: 161 | R92: 240 | S92: 1964 | T92: 937 | U92: 626 | V92: 194 | W92: 207 | X92: 2049 | Y92: 928 | Z92: 589 | AA92: 227 | AB92: 305
B93: 19 Jahre | D93: 2108 | E93: 933 | F93: 742 | G93: 195 | H93: 238 | I93: 1744 | J93: 772 | K93: 662 | L93: 132 | M93: 178 | N93: 1759 | O93: 796 | P93: 551 | Q93: 140 | R93: 272 | S93: 2030 | T93: 815 | U93: 769 | V93: 198 | W93: 248 | X93: 1986 | Y93: 784 | Z93: 619 | AA93: 236 | AB93: 347
B94: 20 Jahre | D94: 1778 | E94: 832 | F94: 571 | G94: 159 | H94: 216 | I94: 1556 | J94: 643 | K94: 649 | L94: 87 | M94: 177 | N94: 1387 | O94: 561 | P94: 502 | Q94: 110 | R94: 214 | S94: 1566 | T94: 615 | U94: 614 | V94: 141 | W94: 196 | X94: 1742 | Y94: 676 | Z94: 589 | AA94: 174 | AB94: 303
B95: 21 Jahre | D95: 1320 | E95: 508 | F95: 490 | G95: 130 | H95: 192 | I95: 1105 | J95: 417 | K95: 493 | L95: 84 | M95: 111 | N95: 987 | O95: 373 | P95: 365 | Q95: 71 | R95: 178 | S95: 1128 | T95: 366 | U95: 509 | V95: 109 | W95: 144 | X95: 1178 | Y95: 409 | Z95: 438 | AA95: 125 | AB95: 206
B96: 22 Jahre | D96: 931 | E96: 326 | F96: 372 | G96: 93 | H96: 140 | I96: 839 | J96: 296 | K96: 382 | L96: 67 | M96: 94 | N96: 707 | O96: 243 | P96: 261 | Q96: 61 | R96: 142 | S96: 780 | T96: 231 | U96: 371 | V96: 58 | W96: 120 | X96: 775 | Y96: 225 | Z96: 320 | AA96: 98 | AB96: 132
B97: 23 Jahre | D97: 737 | E97: 217 | F97: 331 | G97: 57 | H97: 132 | I97: 622 | J97: 194 | K97: 305 | L97: 46 | M97: 77 | N97: 584 | O97: 167 | P97: 242 | Q97: 50 | R97: 125 | S97: 638 | T97: 183 | U97: 291 | V97: 57 | W97: 107 | X97: 599 | Y97: 170 | Z97: 236 | AA97: 69 | AB97: 124
B98: 24 Jahre | D98: 510 | E98: 150 | F98: 237 | G98: 45 | H98: 78 | I98: 489 | J98: 140 | K98: 241 | L98: 42 | M98: 66 | N98: 416 | O98: 126 | P98: 172 | Q98: 35 | R98: 83 | S98: 514 | T98: 140 | U98: 244 | V98: 38 | W98: 92 | X98: 488 | Y98: 131 | Z98: 203 | AA98: 60 | AB98: 94
A99: 02 Hamburg | B99: Männer | D99: 4861 | E99: 2072 | F99: 1670 | G99: 478 | H99: 641 | I99: 4271 | J99: 1801 | K99: 1589 | L99: 416 | M99: 465 | N99: 3954 | O99: 1653 | P99: 1478 | Q99: 328 | R99: 495 | S99: 4404 | T99: 1801 | U99: 1421 | V99: 510 | W99: 672 | X99: 5081 | Y99: 1938 | Z99: 1582 | AA99: 653 | AB99: 908
B100: Frauen | D100: 2926 | E100: 1321 | F100: 980 | G100: 267 | H100: 358 | I100: 2459 | J100: 1101 | K100: 897 | L100: 210 | M100: 251 | N100: 2292 | O100: 992 | P100: 829 | Q100: 208 | R100: 263 | S100: 2634 | T100: 1055 | U100: 924 | V100: 303 | W100: 352 | X100: 2996 | Y100: 1164 | Z100: 977 | AA100: 355 | AB100: 500
B101: Deutsche | D101: 6009 | E101: 2673 | F101: 2034 | G101: 558 | H101: 744 | I101: 5065 | J101: 2217 | K101: 1870 | L101: 452 | M101: 526 | N101: 4667 | O101: 1973 | P101: 1742 | Q101: 399 | R101: 553 | S101: 5066 | T101: 2144 | U101: 1702 | V101: 546 | W101: 674 | X101: 5509 | Y101: 2147 | Z101: 1807 | AA101: 655 | AB101: 900
B102: Ausländer | D102: 1778 | E102: 720 | F102: 616 | G102: 187 | H102: 255 | I102: 1665 | J102: 685 | K102: 616 | L102: 174 | M102: 190 | N102: 1579 | O102: 672 | P102: 565 | Q102: 137 | R102: 205 | S102: 1972 | T102: 712 | U102: 643 | V102: 267 | W102: 350 | X102: 2568 | Y102: 955 | Z102: 752 | AA102: 353 | AB102: 508
B103: Türken | D103: 109 | E103: 49 | F103: 29 | G103: 12 | H103: 19 | I103: 105 | J103: 41 | K103: 45 | L103: 10 | M103: 9 | N103: 61 | O103: 22 | P103: 29 | Q103: * | R103: * | S103: 62 | T103: 23 | U103: 18 | V103: 7 | W103: 14 | X103: 66 | Y103: 22 | Z103: 25 | AA103: * | AB103: *
B104: Italiener | D104: 32 | E104: 12 | F104: 13 | G104: 3 | H104: 4 | I104: 27 | J104: * | K104: 14 | L104: * | M104: 4 | N104: 31 | O104: 11 | P104: 14 | Q104: * | R104: * | S104: 31 | T104: 14 | U104: 9 | V104: 5 | W104: 3 | X104: 32 | Y104: 16 | Z104: 8 | AA104: 5 | AB104: 3
B105: Ohne Hauptschulabschluss | D105: 35 | E105: 16 | F105: 11 | G105: * | H105: * | I105: 18 | J105: 6 | K105: * | L105: * | M105: * | N105: 10 | O105: * | P105: 3 | Q105: * | R105: 3 | S105: 13 | T105: * | U105: 3 | V105: * | W105: 4 | X105: 16 | Y105: * | Z105: 10 | AA105: * | AB105: *
B106: Hauptschulabschluss | D106: 3287 | E106: 1527 | F106: 995 | G106: 385 | H106: 380 | I106: 2900 | J106: 1343 | K106: 944 | L106: 322 | M106: 291 | N106: 2603 | O106: 1176 | P106: 904 | Q106: 243 | R106: 280 | S106: 2804 | T106: 1161 | U106: 823 | V106: 418 | W106: 402 | X106: 3282 | Y106: 1311 | Z106: 876 | AA106: 518 | AB106: 577
B107: Realschulabschluss | D107: 2106 | E107: 973 | F107: 620 | G107: 225 | H107: 288 | I107: 1917 | J107: 915 | K107: 612 | L107: 193 | M107: 197 | N107: 1792 | O107: 865 | P107: 557 | Q107: 166 | R107: 204 | S107: 1921 | T107: 932 | U107: 500 | V107: 230 | W107: 259 | X107: 2227 | Y107: 967 | Z107: 583 | AA107: 313 | AB107: 364
B108: Fachhochschulreife | D108: 696 | E108: 252 | F108: 290 | G108: 43 | H108: 111 | I108: 553 | J108: 182 | K108: 267 | L108: 32 | M108: 72 | N108: 482 | O108: 161 | P108: 206 | Q108: 24 | R108: 91 | S108: 590 | T108: 182 | U108: 255 | V108: 49 | W108: 104 | X108: 644 | Y108: * | Z108: 269 | AA108: * | AB108: 128
B109: Allgemeine Hochschulreife | D109: 1258 | E109: 469 | F109: 574 | G109: 61 | H109: 154 | I109: 1009 | J109: 343 | K109: 484 | L109: 65 | M109: 117 | N109: 1003 | O109: 337 | P109: 477 | Q109: 77 | R109: 112 | S109: 1219 | T109: 401 | U109: 579 | V109: 73 | W109: 166 | X109: 1359 | Y109: 399 | Z109: 617 | AA109: 107 | AB109: 236
B110: keine Angabe Schulabschluss | D110: 405 | E110: 156 | F110: 160 | G110: * | H110: * | I110: 333 | J110: 113 | K110: * | L110: * | M110: * | N110: 356 | O110: * | P110: 160 | Q110: * | R110: 68 | S110: 491 | T110: * | U110: 185 | V110: * | W110: 89 | X110: 549 | Y110: 215 | Z110: 204 | AA110: * | AB110: *
B111: Allgemeinbildende Schulen | D111: 3523 | E111: 1784 | F111: 1122 | G111: 217 | H111: 400 | I111: 2972 | J111: 1497 | K111: 1036 | L111: 154 | M111: 285 | N111: 2910 | O111: 1434 | P111: 1003 | Q111: 161 | R111: 312 | S111: 3375 | T111: 1620 | U111: 1084 | V111: 236 | W111: 435 | X111: 3589 | Y111: 1626 | Z111: 1114 | AA111: 281 | AB111: 568
B112: Berufsbildende Schulen | D112: 3186 | E112: 1223 | F112: 1084 | G112: 461 | H112: 418 | I112: 2902 | J112: 1108 | K112: 1059 | L112: 413 | M112: 322 | N112: 2543 | O112: 949 | P112: 961 | Q112: 321 | R112: 312 | S112: 2711 | T112: 930 | U112: 897 | V112: 474 | W112: 410 | X112: 3327 | Y112: 1116 | Z112: 998 | AA112: 620 | AB112: 593
B113: Hochschulen und Akademien | D113: 493 | E113: 164 | F113: 220 | G113: 37 | H113: 72 | I113: 391 | J113: 137 | K113: 184 | L113: 27 | M113: 43 | N113: 358 | O113: 120 | P113: 166 | Q113: 23 | R113: 49 | S113: 434 | T113: 146 | U113: 175 | V113: 26 | W113: 87 | X113: 526 | Y113: 159 | Z113: 215 | AA113: 40 | AB113: 112
B114: keine Angabe Schulart | D114: 98 | E114: 29 | F114: 50 | G114: * | H114: * | I114: 75 | J114: 16 | K114: 41 | L114: 4 | M114: 14 | N114: 77 | O114: 18 | P114: 32 | Q114: 3 | R114: 24 | S114: 123 | T114: 35 | U114: 54 | V114: 9 | W114: 25 | X114: 136 | Y114: 47 | Z114: 51 | AA114: * | AB114: *
B115: 15 Jahre und jünger | D115: 31 | E115: * | F115: * | G115: 14 | I115: 27 | J115: 8 | K115: * | L115: * | M115: * | N115: 10 | O115: 4 | P115: * | Q115: * | S115: 24 | T115: 7 | U115: 4 | V115: 13 | X115: 26 | Y115: 10 | Z115: 4 | AA115: 12
B116: unter 20 Jahre | D116: 4332 | E116: 2100 | F116: 1308 | G116: 528 | H116: 396 | I116: 3807 | J116: 1865 | K116: 1178 | L116: 463 | M116: 301 | N116: 3546 | O116: 1718 | P116: 1143 | Q116: 387 | R116: 298 | S116: 4086 | T116: 1841 | U116: 1182 | V116: 618 | W116: 445 | X116: 4626 | Y116: 2012 | Z116: 1214 | AA116: 783 | AB116: 617
B117: ab 25 | D117: 795 | E117: 211 | F117: 332 | G117: 63 | H117: 189 | I117: 732 | J117: 188 | K117: 413 | L117: 35 | M117: 96 | N117: 659 | O117: 166 | P117: 297 | Q117: 45 | R117: 151 | S117: 794 | T117: 196 | U117: 330 | V117: 68 | W117: 200 | X117: 938 | Y117: 210 | Z117: 451 | AA117: 58 | AB117: 219
B118: Gesamt | D118: 7787 | E118: 3393 | F118: 2650 | G118: 745 | H118: 999 | I118: 6730 | J118: 2902 | K118: 2486 | L118: 626 | M118: 716 | N118: 6246 | O118: 2645 | P118: 2307 | Q118: 536 | R118: 758 | S118: 7038 | T118: 2856 | U118: 2345 | V118: 813 | W118: 1024 | X118: 8077 | Y118: 3102 | Z118: 2559 | AA118: 1008 | AB118: 1408
B119: unter 25 Jahre | D119: 6992 | E119: 3182 | F119: 2318 | G119: 682 | H119: 810 | I119: 5998 | J119: 2714 | K119: 2073 | L119: 591 | M119: 620 | N119: 5587 | O119: 2479 | P119: 2010 | Q119: 491 | R119: 607 | S119: 6244 | T119: 2660 | U119: 2015 | V119: 745 | W119: 824 | X119: 7139 | Y119: 2892 | Z119: 2108 | AA119: 950 | AB119: 1189
B120: 16 Jahre | D120: 1014 | E120: 444 | F120: 310 | G120: 256 | H120: 4 | I120: 894 | J120: 393 | K120: * | L120: 218 | M120: * | N120: 891 | O120: 423 | P120: 292 | Q120: 169 | R120: 7 | S120: 1072 | T120: 493 | U120: 262 | V120: 296 | W120: 21 | X120: 1060 | Y120: 431 | Z120: 252 | AA120: 369 | AB120: 8
B121: 17 Jahre | D121: 1295 | E121: 682 | F121: 357 | G121: 169 | H121: 87 | I121: 1163 | J121: 617 | K121: 304 | L121: * | M121: * | N121: 1024 | O121: 520 | P121: 316 | Q121: 131 | R121: 57 | S121: 1168 | T121: 556 | U121: 324 | V121: 197 | W121: 91 | X121: 1435 | Y121: 658 | Z121: 344 | AA121: 286 | AB121: 147
B122: 18 Jahre | D122: 1095 | E122: 549 | F122: 339 | G122: 51 | H122: 156 | I122: 928 | J122: 484 | K122: 296 | L122: 34 | M122: 114 | N122: 877 | O122: 435 | P122: * | Q122: * | R122: 126 | S122: 952 | T122: 431 | U122: 280 | V122: 63 | W122: 178 | X122: 1093 | Y122: 487 | Z122: 320 | AA122: 69 | AB122: 217
B123: 19 Jahre | D123: 897 | E123: * | F123: * | G123: 38 | H123: 149 | I123: 795 | J123: 363 | K123: 290 | L123: 26 | M123: 116 | N123: 744 | O123: 336 | P123: 270 | Q123: 30 | R123: 108 | S123: 870 | T123: 354 | U123: 312 | V123: 49 | W123: 155 | X123: 1012 | Y123: 426 | Z123: 294 | AA123: 47 | AB123: 245
B124: 20 Jahre | D124: 804 | E124: 349 | F124: 294 | G124: 42 | H124: 119 | I124: 653 | J124: 279 | K124: 237 | L124: 37 | M124: 100 | N124: 655 | O124: 252 | P124: 273 | Q124: 28 | R124: 102 | S124: 694 | T124: 274 | U124: 256 | V124: 38 | W124: 126 | X124: 894 | Y124: 343 | Z124: 278 | AA124: 69 | AB124: 204
B125: 21 Jahre | D125: 638 | E125: 266 | F125: 222 | G125: 52 | H125: 98 | I125: 528 | J125: 218 | K125: 202 | L125: 29 | M125: 79 | N125: 487 | O125: 193 | P125: 204 | Q125: 24 | R125: 66 | S125: 556 | T125: 229 | U125: 201 | V125: 28 | W125: 98 | X125: 619 | Y125: 199 | Z125: 244 | AA125: 36 | AB125: 140
B126: 22 Jahre | D126: 497 | E126: 206 | F126: 200 | G126: 14 | H126: 77 | I126: 438 | J126: 151 | K126: 197 | L126: 23 | M126: 67 | N126: 383 | O126: 117 | P126: 178 | Q126: 26 | R126: 62 | S126: 351 | T126: 121 | U126: 146 | V126: 26 | W126: 58 | X126: 432 | Y126: 162 | Z126: 155 | AA126: 27 | AB126: 88
B127: 23 Jahre | D127: 397 | E127: 149 | F127: 159 | G127: 26 | H127: 63 | I127: 308 | J127: 112 | K127: 127 | L127: 20 | M127: 49 | N127: 275 | O127: 118 | P127: 104 | Q127: 14 | R127: 39 | S127: 306 | T127: 117 | U127: 120 | V127: 18 | W127: 51 | X127: 302 | Y127: 88 | Z127: 115 | AA127: 20 | AB127: 79
B128: 24 Jahre | D128: 324 | E128: 112 | F128: 135 | G128: 20 | H128: 57 | I128: 264 | J128: 89 | K128: 132 | L128: 19 | M128: 24 | N128: 241 | O128: 81 | P128: 108 | Q128: 12 | R128: 40 | S128: 251 | T128: 78 | U128: 110 | V128: 17 | W128: 46 | X128: 266 | Y128: 88 | Z128: 102 | AA128: 15 | AB128: 61
A129: 03 Niedersachsen | B129: Männer | D129: 28600 | E129: 11938 | F129: 11720 | G129: 3403 | H129: 1539 | I129: 27788 | J129: 11934 | K129: 10978 | L129: 3365 | M129: 1511 | N129: 28178 | O129: 12171 | P129: 11202 | Q129: 3158 | R129: 1647 | S129: 28523 | T129: 11926 | U129: 11148 | V129: 3350 | W129: 2099 | X129: 29505 | Y129: 11234 | Z129: 11753 | AA129: 3819 | AB129: 2699
B130: Frauen | D130: 17323 | E130: 7353 | F130: 7108 | G130: 2014 | H130: 848 | I130: 17021 | J130: 7212 | K130: 7107 | L130: 1837 | M130: 865 | N130: 17234 | O130: 7225 | P130: 7180 | Q130: 1797 | R130: 1032 | S130: 17541 | T130: 7151 | U130: 7159 | V130: 1951 | W130: 1280 | X130: 17967 | Y130: 6911 | Z130: 7371 | AA130: 2150 | AB130: 1535
B131: Deutsche | D131: 37719 | E131: 16658 | F131: 14814 | G131: 4375 | H131: 1872 | I131: 36716 | J131: 16380 | K131: 14198 | L131: 4300 | M131: 1838 | N131: 36704 | O131: 16497 | P131: 14240 | Q131: 3894 | R131: 2073 | S131: 36109 | T131: 15846 | U131: 13655 | V131: 4117 | W131: 2491 | X131: 35743 | Y131: 14528 | Z131: 13650 | AA131: 4431 | AB131: 3134
B132: Ausländer | D132: 8206 | E132: 2635 | F132: 4014 | G132: 1042 | H132: 515 | I132: 8101 | J132: 2770 | K132: 3889 | L132: 904 | M132: 538 | N132: 8707 | O132: 2898 | P132: 4142 | Q132: 1061 | R132: 606 | S132: 9955 | T132: 3231 | U132: 4652 | V132: 1184 | W132: 888 | X132: 11729 | Y132: 3617 | Z132: 5474 | AA132: 1538 | AB132: 1100
B133: Türken | D133: 653 | E133: 212 | F133: 326 | G133: 66 | H133: 49 | I133: 584 | J133: 204 | K133: 285 | L133: 62 | M133: 33 | N133: 485 | O133: 168 | P133: 245 | Q133: 39 | R133: 33 | S133: 441 | T133: 135 | U133: 203 | V133: 59 | W133: 44 | X133: 532 | Y133: 176 | Z133: 241 | AA133: 69 | AB133: 46
B134: Italiener | D134: 154 | E134: 44 | F134: 79 | G134: 23 | H134: 8 | I134: 147 | J134: 52 | K134: 82 | L134: * | M134: * | N134: 110 | O134: 38 | P134: 54 | Q134: 10 | R134: 8 | S134: 122 | T134: 37 | U134: 63 | V134: 17 | W134: 5 | X134: 141 | Y134: 45 | Z134: 67 | AA134: 17 | AB134: 12
...

Sheet LÖSCHEN_V roh_Tab_3
A1: Blattname: | B1: roh_Tab_3 | C1: Vorschlag roh_Tab_3
A2: Erste Dimension - Zeile: | B2: 6 | C2: 11
A3: Letzte Dimension - Zeile: | B3: 8 | C3: 13 | M3: W | N3: 1dav | O3: 1 | P3: 1 | Q3: 1 | R3: 1
A4: Erste Dimension - Spalte: | B4: 1 | C4: 11
A5: Letzte Dimension - Spalte: | B5: 2 | C5: 12
A6: Erster Wert - Zeile: | B6: 9 | C6: 14
A7: Letzter Wert - Zeile: | B7: 578 | C7: 583
A8: Erster Wert - Spalte: | B8: 4 | C8: 14
A9: Letzter Wert - Spalte: | B9: 28 | C9: 38
A10: Bereich ohne primäre Anonymisierung:
K11: Polit Gebiet fiktiv | L11: Alter | M11: Metriken | N11: Anzahl
M12: Berichtsmonatswert | N12: M01 1 Monatswert - September 2012 | S12: M01 1 Monatswert - September 2013 | X12: M01 1 Monatswert - September 2014 | AC12: M01 1 Monatswert - September 2015 | AH12: M01 1 Monatswert - September 2016
B13: W | M13: Status Ausbildungsuche | N13: Gesamt | O13: einmündende Bewerber | P13: andere ehemalige Bewerber | Q13: Bewerber mit Alternative zum 30.9. | R13: unversorgte Bewerber zum 30.9. | S13: Gesamt | T13: einmündende Bewerber | U13: andere ehemalige Bewerber | V13: Bewerber mit Alternative zum 30.9. | W13: unversorgte Bewerber zum 30.9. | X13: Gesamt | Y13: einmündende Bewerber | Z13: andere ehemalige Bewerber | AA13: Bewerber mit Alternative zum 30.9. | AB13: unversorgte Bewerber zum 30.9. | AC13: Gesamt | AD13: einmündende Bewerber | AE13: andere ehemalige Bewerber | AF13: Bewerber mit Alternative zum 30.9. | AG13: unversorgte Bewerber zum 30.9. | AH13: Gesamt | AI13: einmündende Bewerber | AJ13: andere ehemalige Bewerber | AK13: Bewerber mit Alternative zum 30.9. | AL13: unversorgte Bewerber zum 30.9.
A14: 1dav | B14: 1 | K14: Gesamt | L14: Männer | N14: 309755 | O14: 160708 | P14: 106998 | Q14: 33442 | R14: 8607 | S14: 313047 | T14: 154903 | U14: 110577 | V14: 35759 | W14: 11808 | X14: 316628 | Y14: 154351 | Z14: 115437 | AA14: 34844 | AB14: 11996 | AC14: 315825 | AD14: 154278 | AE14: 114163 | AF14: 35387 | AG14: 11997 | AH14: 319031 | AI14: 154465 | AJ14: 116606 | AK14: 35724 | AL14: 12236
B15: 1 | L15: Frauen | N15: 252028 | O15: 126341 | P15: 91752 | Q15: 26905 | R15: 7030 | S15: 248121 | T15: 120439 | U15: 91685 | V15: 26771 | W15: 9226 | X15: 242803 | Y15: 116772 | Z15: 91683 | AA15: 25472 | AB15: 8876 | AC15: 233272 | AD15: 112546 | AE15: 87320 | AF15: 24691 | AG15: 8715 | AH15: 228696 | AI15: 109982 | AJ15: 86071 | AK15: 24329 | AL15: 8314
B16: 2 | L16: Deutsche | N16: 495727 | O16: 261106 | P16: 169246 | Q16: 51724 | R16: 13651 | S16: 492776 | T16: 249536 | U16: 171748 | V16: 53299 | W16: 18193 | X16: 487886 | Y16: 244380 | Z16: 174382 | AA16: 51267 | AB16: 17857 | AC16: 475337 | AD16: 238941 | AE16: 167970 | AF16: 50778 | AG16: 17648 | AH16: 472070 | AI16: 235780 | AJ16: 168761 | AK16: 50597 | AL16: 16932
B17: 2;3dar | L17: Ausländer | N17: 65083 | O17: 25518 | P17: 29116 | Q17: 8510 | R17: 1939 | S17: 67432 | T17: 25399 | U17: 30108 | V17: 9128 | W17: 2797 | X17: 70572 | Y17: 26392 | Z17: 32252 | AA17: 8962 | AB17: 2966 | AC17: 72823 | AD17: 27549 | AE17: 33045 | AF17: 9209 | AG17: 3020 | AH17: 75008 | AI17: 28427 | AJ17: 33603 | AK17: 9390 | AL17: 3588
B18: 3 | L18: Türken | N18: 30707 | O18: 11472 | P18: 13997 | Q18: 4361 | R18: 877 | S18: 30309 | T18: 10834 | U18: 13865 | V18: 4508 | W18: 1102 | X18: 29399 | Y18: 10437 | Z18: 13677 | AA18: 4170 | AB18: 1115 | AC18: 28173 | AD18: 10121 | AE18: 12932 | AF18: 3935 | AG18: 1185 | AH18: 24715 | AI18: 8877 | AJ18: 11339 | AK18: 3450 | AL18: 1049
B19: 3 | L19: Italiener | N19: 5398 | O19: 2496 | P19: 2068 | Q19: 717 | R19: 117 | S19: 5399 | T19: 2394 | U19: 2092 | V19: 762 | W19: 151 | X19: 5559 | Y19: 2325 | Z19: 2306 | AA19: 759 | AB19: 169 | AC19: 5776 | AD19: 2601 | AE19: 2213 | AF19: 788 | AG19: 174 | AH19: 5748 | AI19: 2568 | AJ19: 2249 | AK19: 750 | AL19: 181
B20: 4 | L20: Ohne Hauptschulabschluss | N20: 9341 | O20: 4085 | P20: 3708 | Q20: 755 | R20: 793 | S20: 8868 | T20: 4066 | U20: 3331 | V20: 737 | W20: 734 | X20: 8576 | Y20: 4064 | Z20: 3149 | AA20: 721 | AB20: 642 | AC20: 8386 | AD20: 4151 | AE20: 2853 | AF20: 783 | AG20: 599 | AH20: 8273 | AI20: 4007 | AJ20: 2947 | AK20: 781 | AL20: 538
B21: 4 | L21: Hauptschulabschluss | N21: 165136 | O21: 82323 | P21: 59513 | Q21: 18114 | R21: 5186 | S21: 156414 | T21: 74460 | U21: 57296 | V21: 18197 | W21: 6461 | X21: 154313 | Y21: 72391 | Z21: 58127 | AA21: 17501 | AB21: 6294 | AC21: 148479 | AD21: 69942 | AE21: 55304 | AF21: 16957 | AG21: 6276 | AH21: 145164 | AI21: 67549 | AJ21: 54873 | AK21: 16700 | AL21: 6042
B22: 4 | L22: Realschulabschluss | N22: 238368 | O22: 135513 | P22: 71900 | Q22: 25486 | R22: 5469 | S22: 237904 | T22: 131685 | U22: 72160 | V22: 26488 | W22: 7571 | X22: 236566 | Y22: 130359 | Z22: 73131 | AA22: 25557 | AB22: 7519 | AC22: 229771 | AD22: 127113 | AE22: 70154 | AF22: 25146 | AG22: 7358 | AH22: 225640 | AI22: 125106 | AJ22: 69081 | AK22: 24472 | AL22: 6981
B23: 4 | L23: Fachhochschulreife | N23: 70113 | O23: 27910 | P23: 31095 | Q23: 9001 | R23: 2107 | S23: 71073 | T23: 25924 | U23: 32842 | V23: 9219 | W23: 3088 | X23: 72364 | Y23: 25958 | Z23: 34335 | AA23: 8819 | AB23: 3252 | AC23: 74509 | AD23: 27638 | AE23: 34545 | AF23: 9054 | AG23: 3272 | AH23: 75658 | AI23: 28311 | AJ23: 34720 | AK23: 9347 | AL23: 3280
B24: 4 | L24: Allgemeine Hochschulreife | N24: 58902 | O24: 26891 | P24: 25166 | Q24: 5343 | R24: 1502 | S24: 65377 | T24: 27975 | U24: 28716 | V24: 6266 | W24: 2420 | X24: 67317 | Y24: 27928 | Z24: 30756 | AA24: 6157 | AB24: 2476 | AC24: 68048 | AD24: 27979 | AE24: 31037 | AF24: 6497 | AG24: 2535 | AH24: 72523 | AI24: 29940 | AJ24: 32866 | AK24: 6936 | AL24: 2781
B25: 4X | L25: keine Angabe Schulabschluss | N25: 19923 | O25: 10327 | P25: 7368 | Q25: 1648 | R25: 580 | S25: 21532 | T25: 11232 | U25: 7917 | V25: 1623 | W25: 760 | X25: 20295 | Y25: 10423 | Z25: 7622 | AA25: 1561 | AB25: 689 | AC25: 19906 | AD25: 10001 | AE25: 7590 | AF25: 1643 | AG25: 672 | AH25: 20470 | AI25: 9534 | AJ25: 8191 | AK25: 1817 | AL25: 928
B26: 5 | L26: Allgemeinbildende Schulen | N26: 287081 | O26: 173004 | P26: 83213 | Q26: 22811 | R26: 8053 | S26: 292456 | T26: 171320 | U26: 87444 | V26: 23872 | W26: 9820 | X26: 289791 | Y26: 168242 | Z26: 88629 | AA26: 23071 | AB26: 9849 | AC26: 282767 | AD26: 164483 | AE26: 85307 | AF26: 23147 | AG26: 9830 | AH26: 281050 | AI26: 162166 | AJ26: 85733 | AK26: 23270 | AL26: 9881
... B43: 7 | L43: 24 Jahre | N43: 15182 | O43: 5728 | P43: 7240 | Q43: 1375 | R43: 839 | S43: 15668 | T43: 5670 | U43: 7492 | V43: 1429 | W43: 1077 | X43: 16981 | Y43: 6142 | Z43: 8065 | AA43: 1651 | AB43: 1123 | AC43: 16396 | AD43: 5891 | AE43: 7847 | AF43: 1648 | AG43: 1010 | AH43: 15689 | AI43: 5530 | AJ43: 7600 | AK43: 1548 | AL43: 1011
A44: 1;2dav | K44: Westdeutschland | L44: Männer | N44: 257893 | O44: 131913 | P44: 89686 | Q44: 30491 | R44: 5803 | S44: 261074 | T44: 127093 | U44: 92034 | V44: 32886 | W44: 9061 | X44: 263337 | Y44: 126043 | Z44: 95938 | AA44: 31890 | AB44: 9466 | AC44: 262464 | AD44: 126030 | AE44: 94916 | AF44: 32102 | AG44: 9416 | AH44: 264601 | AI44: 125632 | AJ44: 96971 | AK44: 32358 | AL44: 9640
L45: Frauen | N45: 210768 | O45: 104500 | P45: 77110 | Q45: 24377 | R45: 4781 | S45: 207685 | T45: 99671 | U45: 76324 | V45: 24450 | W45: 7240 | X45: 202865 | Y45: 96113 | Z45: 76548 | AA45: 23096 | AB45: 7108 | AC45: 194126 | AD45: 92569 | AE45: 72361 | AF45: 22271 | AG45: 6925 | AH45: 190087 | AI45: 90279 | AJ45: 71441 | AK45: 21762 | AL45: 6605
L46: Deutsche | N46: 407505 | O46: 212352 | P46: 139498 | Q46: 46531 | R46: 9124 | S46: 406542 | T46: 203182 | U46: 140945 | V46: 48413 | W46: 14002 | X46: 402587 | Y46: 198362 | Z46: 143823 | AA46: 46253 | AB46: 14149 | AC46: 391379 | AD46: 193730 | AE46: 138517 | AF46: 45380 | AG46: 13752 | AH46: 387366 | AI46: 190582 | AJ46: 138664 | AK46: 44967 | AL46: 13153
L47: Ausländer | N47: 60311 | O47: 23682 | P47: 26970 | Q47: 8233 | R47: 1426 | S47: 61408 | T47: 23235 | U47: 27079 | V47: 8827 | W47: 2267 | X47: 62791 | Y47: 23498 | Z47: 28251 | AA47: 8653 | AB47: 2389 | AC47: 64477 | AD47: 24611 | AE47: 28400 | AF47: 8909 | AG47: 2557 | AH47: 66798 | AI47: 25129 | AJ47: 29509 | AK47: 9094 | AL47: 3066
L48: Türken | N48: 28958 | O48: 10858 | P48: 13179 | Q48: 4269 | R48: 652 | S48: 28578 | T48: 10288 | U48: 12880 | V48: 4440 | W48: 970 | X48: 27821 | Y48: 9944 | Z48: 12805 | AA48: 4095 | AB48: 977 | AC48: 26589 | AD48: 9642 | AE48: 12055 | AF48: 3864 | AG48: 1028 | AH48: 23326 | AI48: 8437 | AJ48: 10543 | AK48: 3412 | AL48: 934
L49: Italiener | N49: 5314 | O49: 2457 | P49: 2038 | Q49: 711 | R49: 108 | S49: 5267 | T49: 2358 | U49: 2013 | V49: 755 | W49: 141 | X49: 5407 | Y49: 2288 | Z49: 2215 | AA49: 753 | AB49: 151 | AC49: 5444 | AD49: 2451 | AE49: 2045 | AF49: 782 | AG49: 166 | AH49: 5236 | AI49: 2299 | AJ49: 2024 | AK49: 744 | AL49: 169
L50: Ohne Hauptschulabschluss | N50: 6481 | O50: 3026 | P50: 2489 | Q50: 534 | R50: 432 | S50: 6191 | T50: 2959 | U50: 2168 | V50: 543 | W50: 521 | X50: 6185 | Y50: 2908 | Z50: 2204 | AA50: 540 | AB50: 533 | AC50: 6296 | AD50: 3055 | AE50: 2106 | AF50: 606 | AG50: 529 | AH50: 6291 | AI50: 3049 | AJ50: 2220 | AK50: 564 | AL50: 458
L51: Hauptschulabschluss | N51: 138774 | O51: 69854 | P51: 49294 | Q51: 16348 | R51: 3278 | S51: 130849 | T51: 62879 | U51: 46587 | V51: 16527 | W51: 4856 | X51: 128767 | Y51: 60682 | Z51: 47533 | AA51: 15698 | AB51: 4854 | AC51: 123510 | AD51: 58509 | AE51: 45250 | AF51: 15038 | AG51: 4713 | AH51: 120301 | AI51: 56243 | AJ51: 44669 | AK51: 14709 | AL51: 4680
L52: Realschulabschluss | N52: 197986 | O52: 110070 | P52: 60947 | Q52: 23280 | R52: 3689 | S52: 197167 | T52: 106489 | U52: 60609 | V52: 24343 | W52: 5726 | X52: 195300 | Y52: 104893 | Z52: 61272 | AA52: 23383 | AB52: 5752 | AC52: 189035 | AD52: 102042 | AE52: 58598 | AF52: 22851 | AG52: 5544 | AH52: 185004 | AI52: 99726 | AJ52: 57909 | AK52: 22111 | AL52: 5258
L53: Fachhochschulreife | N53: 64134 | O53: 25375 | P53: 28301 | Q53: 8640 | R53: 1818 | S53: 65265 | T53: 23736 | U53: 29848 | V53: 8895 | W53: 2786 | X53: 66173 | Y53: 23676 | Z53: 31043 | AA53: 8488 | AB53: 2966 | AC53: 67932 | AD53: 25240 | AE53: 31014 | AF53: 8672 | AG53: 3006 | AH53: 68855 | AI53: 25755 | AJ53: 31219 | AK53: 8963 | AL53: 2918
L54: Allgemeine Hochschulreife | N54: 46147 | O54: 20231 | P54: 20182 | Q54: 4709 | R54: 1025 | S54: 52959 | T54: 22092 | U54: 23347 | V54: 5674 | W54: 1846 | X54: 54037 | Y54: 21869 | Z54: 24695 | AA54: 5529 | AB54: 1944 | AC54: 54389 | AD54: 21923 | AE54: 24619 | AF54: 5816 | AG54: 2031 | AH54: 58177 | AI54: 23557 | AJ54: 26216 | AK54: 6224 | AL54: 2180
L55: keine Angabe Schulabschluss | N55: 15139 | O55: 7857 | P55: 5583 | Q55: 1357 | R55: 342 | S55: 16328 | T55: 8609 | U55: 5799 | V55: 1354 | W55: 566 | X55: 15740 | Y55: 8128 | Z55: 5739 | AA55: 1348 | AB55: 525 | AC55: 15430 | AD55: 7830 | AE55: 5690 | AF55: 1392 | AG55: 518 | AH55: 16060 | AI55: 7581 | AJ55: 6179 | AK55: 1549 | AL55: 751
L56: Allgemeinbildende Schulen | N56: 221625 | O56: 134769 | P56: 62915 | Q56: 19411 | R56: 4530 | S56: 226530 | T56: 133584 | U56: 65758 | V56: 20579 | W56: 6609 | X56: 223595 | Y56: 130142 | Z56: 66845 | AA56: 19723 | AB56: 6885 | AC56: 217251 | AD56: 126824 | AE56: 64073 | AF56: 19615 | AG56: 6739 | AH56: 214698 | AI56: 124099 | AJ56: 64190 | AK56: 19552 | AL56: 6857
... L73: 24 Jahre | N73: 11156 | O73: 4161 | P73: 5332 | Q73: 1155 | R73: 508 | S73: 11612 | T73: 4160 | U73: 5446 | V73: 1219 | W73: 787 | X73: 12822 | Y73: 4590 | Z73: 5959 | AA73: 1423 | AB73: 850 | AC73: 12852 | AD73: 4624 | AE73: 5974 | AF73: 1454 | AG73: 800 | AH73: 12688 | AI73: 4417 | AJ73: 6100 | AK73: 1356 | AL73: 815
A74: 2 | K74: 01 Schleswig-Holstein | L74: Männer | N74: 9807 | O74: 5025 | P74: 3064 | Q74: 1108 | R74: 610 | S74: 10659 | T74: 5078 | U74: 3499 | V74: 1158 | W74: 924 | X74: 11072 | Y74: 5078 | Z74: 3734 | AA74: 1176 | AB74: 1084 | AC74: 11027 | AD74: 4865 | AE74: 3963 | AF74: 1203 | AG74: 996 | AH74: 11148 | AI74: 4841 | AJ74: 3930 | AK74: 1343 | AL74: 1034
L75: Frauen | N75: 8135 | O75: 4189 | P75: 2684 | Q75: 850 | R75: 412 | S75: 8317 | T75: 3870 | U75: 2880 | V75: 929 | W75: 638 | X75: 8603 | Y75: 3937 | Z75: 3077 | AA75: 863 | AB75: 726 | AC75: 8316 | AD75: 3775 | AE75: 3071 | AF75: 837 | AG75: 633 | AH75: 8213 | AI75: 3661 | AJ75: 2983 | AK75: 900 | AL75: 669
L76: Deutsche | N76: 17081 | O76: 8857 | P76: 5419 | Q76: 1832 | R76: 973 | S76: 17951 | T76: 8551 | U76: 6015 | V76: 1949 | W76: 1436 | X76: 18546 | Y76: 8621 | Z76: 6320 | AA76: 1927 | AB76: 1678 | AC76: 18159 | AD76: 8219 | AE76: 6527 | AF76: 1901 | AG76: 1512 | AH76: 18116 | AI76: 8054 | AJ76: 6387 | AK76: 2110 | AL76: 1565
L77: Ausländer | N77: 843 | O77: 349 | P77: 326 | Q77: 122 | R77: 46 | S77: 1010 | T77: 390 | U77: 359 | V77: 136 | W77: 125 | X77: 1112 | Y77: 387 | Z77: 485 | AA77: 111 | AB77: 129 | AC77: 1159 | AD77: 413 | AE77: 497 | AF77: 136 | AG77: 113 | AH77: 1229 | AI77: 442 | AJ77: 518 | AK77: 133 | AL77: 136
L78: Türken | N78: 402 | O78: 167 | P78: 145 | Q78: 68 | R78: 22 | S78: 464 | T78: 194 | U78: 147 | V78: 71 | W78: 52 | X78: 445 | Y78: 151 | Z78: 215 | AA78: 43 | AB78: 36 | AC78: 429 | AD78: 164 | AE78: 172 | AF78: 56 | AG78: 37 | AH78: 348 | AI78: 144 | AJ78: 131 | AK78: 38 | AL78: 35
L79: Italiener | N79: 15 | O79: 8 | P79: 4 | Q79: 3 | R79: 0 | S79: 17 | T79: 5 | U79: 10 | V79: 0 | W79: 2 | X79: 18 | Y79: 11 | Z79: 4 | AA79: 3 | AB79: 0 | AC79: 28 | AD79: 12 | AE79: 12 | AF79: 2 | AG79: 2 | AH79: 24 | AI79: 12 | AJ79: 9 | AK79: 2 | AL79: 1
L80: Ohne Hauptschulabschluss | N80: 362 | O80: 178 | P80: 92 | Q80: 41 | R80: 51 | S80: 339 | T80: 147 | U80: 99 | V80: 31 | W80: 62 | X80: 380 | Y80: 171 | Z80: 111 | AA80: 42 | AB80: 56 | AC80: 460 | AD80: 176 | AE80: 163 | AF80: 70 | AG80: 51 | AH80: 497 | AI80: 206 | AJ80: 161 | AK80: 53 | AL80: 77
L81: Hauptschulabschluss | N81: 6045 | O81: 2960 | P81: 1939 | Q81: 731 | R81: 415 | S81: 6361 | T81: 2708 | U81: 2171 | V81: 816 | W81: 666 | X81: 6592 | Y81: 2659 | Z81: 2356 | AA81: 804 | AB81: 773 | AC81: 6512 | AD81: 2602 | AE81: 2508 | AF81: 772 | AG81: 630 | AH81: 6003 | AI81: 2292 | AJ81: 2318 | AK81: 792 | AL81: 601
L82: Realschulabschluss | N82: 7790 | O82: 4358 | P82: 2309 | Q82: 766 | R82: 357 | S82: 8116 | T82: 4283 | U82: 2476 | V82: 860 | W82: 497 | X82: 8176 | Y82: 4279 | Z82: 2539 | AA82: 767 | AB82: 591 | AC82: 7604 | AD82: 3813 | AE82: 2514 | AF82: 760 | AG82: 517 | AH82: 7344 | AI82: 3721 | AJ82: 2238 | AK82: 842 | AL82: 543
L83: Fachhochschulreife | N83: 1107 | O83: 546 | P83: 354 | Q83: 137 | R83: 70 | S83: 1160 | T83: 560 | U83: 368 | V83: 111 | W83: 121 | X83: 1234 | Y83: 565 | Z83: 406 | AA83: 141 | AB83: 122 | AC83: 1340 | AD83: 643 | AE83: 412 | AF83: 140 | AG83: 145 | AH83: 1475 | AI83: 634 | AJ83: 493 | AK83: 197 | AL83: 151
L84: Allgemeine Hochschulreife | N84: 1913 | O84: 791 | P84: 879 | Q84: 154 | R84: 89 | S84: 2136 | T84: 750 | U84: 1042 | V84: 212 | W84: 132 | X84: 2462 | Y84: 880 | Z84: 1178 | AA84: 219 | AB84: 185 | AC84: 2681 | AD84: 1022 | AE84: 1201 | AF84: 229 | AG84: 229 | AH84: 3367 | AI84: 1348 | AJ84: 1453 | AK84: 294 | AL84: 272
L85: keine Angabe Schulabschluss | N85: 725 | O85: 381 | P85: 175 | Q85: 129 | R85: 40 | S85: 864 | T85: 500 | U85: 223 | V85: 57 | W85: 84 | X85: 831 | Y85: 461 | Z85: 221 | AA85: 66 | AB85: 83 | AC85: 746 | AD85: 384 | AE85: 236 | AF85: 69 | AG85: 57 | AH85: 675 | AI85: 301 | AJ85: 250 | AK85: 65 | AL85: 59
L86: Allgemeinbildende Schulen | N86: 9729 | O86: 5536 | P86: 2668 | Q86: 1011 | R86: 514 | S86: 10194 | T86: 5542 | U86: 2968 | V86: 966 | W86: 718 | X86: 10239 | Y86: 5357 | Z86: 3107 | AA86: 930 | AB86: 845 | AC86: 9874 | AD86: 5017 | AE86: 3181 | AF86: 937 | AG86: 739 | AH86: 9834 | AI86: 4937 | AJ86: 3083 | AK86: 1039 | AL86: 775
... L103: 24 Jahre | N103: 453 | O103: 168 | P103: 178 | Q103: 50 | R103: 57 | S103: 500 | T103: 153 | U103: 199 | V103: 50 | W103: 98 | X103: 656 | Y103: 227 | Z103: 232 | AA103: 72 | AB103: 125 | AC103: 643 | AD103: 219 | AE103: 284 | AF103: 63 | AG103: 77 | AH103: 610 | AI103: 176 | AJ103: 288 | AK103: 56 | AL103: 90
A104: 2 | K104: 02 Hamburg | L104: Männer | N104: 4654 | O104: 2131 | P104: 1548 | Q104: 552 | R104: 423 | S104: 4790 | T104: 2163 | U104: 1228 | V104: 661 | W104: 738 | X104: 5290 | Y104: 2204 | Z104: 1476 | AA104: 671 | AB104: 939 | AC104: 5342 | AD104: 2232 | AE104: 1739 | AF104: 630 | AG104: 741 | AH104: 5412 | AI104: 2370 | AJ104: 1646 | AK104: 678 | AL104: 718
L105: Frauen | N105: 3711 | O105: 1587 | P105: 1323 | Q105: 427 | R105: 374 | S105: 3656 | T105: 1603 | U105: 1029 | V105: 443 | W105: 581 | X105: 3931 | Y105: 1695 | Z105: 1126 | AA105: 512 | AB105: 598 | AC105: 3810 | AD105: 1679 | AE105: 1260 | AF105: 429 | AG105: 442 | AH105: 3831 | AI105: 1714 | AJ105: 1178 | AK105: 484 | AL105: 455
L106: Deutsche | N106: 6988 | O106: 3215 | P106: 2336 | Q106: 778 | R106: 659 | S106: 6981 | T106: 3166 | U106: 1852 | V106: 886 | W106: 1077 | X106: 7573 | Y106: 3266 | Z106: 2098 | AA106: 953 | AB106: 1256 | AC106: 7535 | AD106: 3275 | AE106: 2403 | AF106: 866 | AG106: 991 | AH106: 7703 | AI106: 3462 | AJ106: 2333 | AK106: 961 | AL106: 947
L107: Ausländer | N107: 1344 | O107: 491 | P107: 520 | Q107: 196 | R107: 137 | S107: 1438 | T107: 589 | U107: 397 | V107: 214 | W107: 238 | X107: 1609 | Y107: 619 | Z107: 494 | AA107: 222 | AB107: 274 | AC107: 1580 | AD107: 621 | AE107: 582 | AF107: 187 | AG107: 190 | AH107: 1526 | AI107: 615 | AJ107: 485 | AK107: 200 | AL107: 226
L108: Türken | N108: 585 | O108: 216 | P108: 216 | Q108: 94 | R108: 59 | S108: 583 | T108: 231 | U108: 150 | V108: 96 | W108: 106 | X108: 590 | Y108: 236 | Z108: 163 | AA108: 93 | AB108: 98 | AC108: 526 | AD108: 203 | AE108: 197 | AF108: 61 | AG108: 65 | AH108: 378 | AI108: 131 | AJ108: 131 | AK108: 52 | AL108: 64
L109: Italiener | N109: 32 | O109: 12 | P109: 11 | Q109: 5 | R109: 4 | S109: 29 | T109: 11 | U109: 6 | V109: 6 | W109: 6 | X109: 30 | Y109: 10 | Z109: 12 | AA109: 5 | AB109: 3 | AC109: 37 | AD109: 17 | AE109: 12 | AF109: 4 | AG109: 4 | AH109: 43 | AI109: 23 | AJ109: 15 | AK109: 2 | AL109: 3
L110: Ohne Hauptschulabschluss | N110: 54 | O110: 37 | P110: 13 | Q110: 1 | R110: 3 | S110: 96 | T110: 58 | U110: 26 | V110: 4 | W110: 8 | X110: 52 | Y110: 29 | Z110: 9 | AA110: 4 | AB110: 10 | AC110: 56 | AD110: 26 | AE110: 26 | AF110: 0 | AG110: 4 | AH110: 49 | AI110: 32 | AJ110: 11 | AK110: 4 | AL110: 2
L111: Hauptschulabschluss | N111: 2677 | O111: 1301 | P111: 809 | Q111: 378 | R111: 189 | S111: 2846 | T111: 1335 | U111: 637 | V111: 487 | W111: 387 | X111: 3417 | Y111: 1493 | Z111: 832 | AA111: 604 | AB111: 488 | AC111: 3538 | AD111: 1588 | AE111: 1027 | AF111: 531 | AG111: 392 | AH111: 3708 | AI111: 1738 | AJ111: 961 | AK111: 601 | AL111: 408
L112: Realschulabschluss | N112: 3097 | O112: 1383 | P112: 1005 | Q112: 390 | R112: 319 | S112: 2931 | T112: 1404 | U112: 670 | V112: 389 | W112: 468 | X112: 2951 | Y112: 1343 | Z112: 697 | AA112: 360 | AB112: 551 | AC112: 2812 | AD112: 1266 | AE112: 797 | AF112: 336 | AG112: 413 | AH112: 2659 | AI112: 1226 | AJ112: 726 | AK112: 354 | AL112: 353
L113: Fachhochschulreife | N113: 829 | O113: 306 | P113: 313 | Q113: 88 | R113: 122 | S113: 795 | T113: 293 | U113: 246 | V113: 81 | W113: 175 | X113: 821 | Y113: 278 | Z113: 295 | AA113: 72 | AB113: 176 | AC113: 797 | AD113: 286 | AE113: 312 | AF113: 68 | AG113: 131 | AH113: 834 | AI113: 301 | AJ113: 329 | AK113: 62 | AL113: 142
L114: Allgemeine Hochschulreife | N114: 1389 | O114: 505 | P114: 632 | Q114: 106 | R114: 146 | S114: 1435 | T114: 477 | U114: 590 | V114: 125 | W114: 243 | X114: 1593 | Y114: 544 | Z114: 655 | AA114: 129 | AB114: 265 | AC114: 1511 | AD114: 521 | AE114: 688 | AF114: 104 | AG114: 198 | AH114: 1598 | AI114: 585 | AJ114: 680 | AK114: 120 | AL114: 213
L115: keine Angabe Schulabschluss | N115: 319 | O115: 186 | P115: 99 | Q115: 16 | R115: 18 | S115: 343 | T115: 199 | U115: 88 | V115: 18 | W115: 38 | X115: 387 | Y115: 212 | Z115: 114 | AA115: 14 | AB115: 47 | AC115: 438 | AD115: 224 | AE115: 149 | AF115: 20 | AG115: 45 | AH115: 395 | AI115: 202 | AJ115: 117 | AK115: 21 | AL115: 55
L116: Allgemeinbildende Schulen | N116: 4175 | O116: 2031 | P116: 1395 | Q116: 357 | R116: 392 | S116: 4024 | T116: 1877 | U116: 1142 | V116: 416 | W116: 589 | X116: 4414 | Y116: 2119 | Z116: 1191 | AA116: 408 | AB116: 696 | AC116: 4464 | AD116: 2207 | AE116: 1353 | AF116: 347 | AG116: 557 | AH116: 4580 | AI116: 2297 | AJ116: 1331 | AK116: 380 | AL116: 572
... L133: 24 Jahre | N133: 285 | O133: 114 | P133: 110 | Q133: 26 | R133: 35 | S133: 315 | T133: 140 | U133: 96 | V133: 29 | W133: 50 | X133: 349 | Y133: 136 | Z133: 118 | AA133: 23 | AB133: 72 | AC133: 386 | AD133: 134 | AE133: 157 | AF133: 30 | AG133: 65 | AH133: 340 | AI133: 128 | AJ133: 136 | AK133: 24 | AL133: 52
A134: 2 | K134: 03 Niedersachsen | L134: Männer | N134: 37648 | O134: 17277 | P134: 14177 | Q134: 5361 | R134: 833 | S134: 36152 | T134: 15868 | U134: 13190 | V134: 5563 | W134: 1531 | X134: 36856 | Y134: 15969 | Z134: 14355 | AA134: 5237 | AB134: 1295 | AC134: 35398 | AD134: 15305 | AE134: 13476 | AF134: 5245 | AG134: 1372 | AH134: 35750 | AI134: 15312 | AJ134: 14273 | AK134: 5025 | AL134: 1140
L135: Frauen | N135: 30525 | O135: 13367 | P135: 12093 | Q135: 4334 | R135: 731 | S135: 28782 | T135: 12362 | U135: 10913 | V135: 4278 | W135: 1229 | X135: 28135 | Y135: 11880 | Z135: 11329 | AA135: 3970 | AB135: 956 | AC135: 26161 | AD135: 11208 | AE135: 10158 | AF135: 3768 | AG135: 1027 | AH135: 25532 | AI135: 10941 | AJ135: 10332 | AK135: 3507 | AL135: 752
L136: Deutsche | N136: 62717 | O136: 28886 | P136: 23566 | Q136: 8909 | R136: 1356 | S136: 59416 | T136: 26493 | U136: 21523 | V136: 8962 | W136: 2438 | X136: 59175 | Y136: 26019 | Z136: 22811 | AA136: 8365 | AB136: 1980 | AC136: 55788 | AD136: 24590 | AE136: 20940 | AF136: 8180 | AG136: 2078 | AH136: 55175 | AI136: 24357 | AJ136: 21532 | AK136: 7728 | AL136: 1558
L137: Ausländer | N137: 5248 | O137: 1690 | P137: 2618 | Q137: 750 | R137: 190 | S137: 5296 | T137: 1661 | U137: 2481 | V137: 849 | W137: 305 | X137: 5579 | Y137: 1758 | Z137: 2738 | AA137: 821 | AB137: 262 | AC137: 5566 | AD137: 1859 | AE137: 2590 | AF137: 805 | AG137: 312 | AH137: 5951 | AI137: 1844 | AJ137: 2996 | AK137: 785 | AL137: 326
L138: Türken | N138: 2292 | O138: 744 | P138: 1096 | Q138: 385 | R138: 67 | S138: 2183 | T138: 694 | U138: 1034 | V138: 351 | W138: 104 | X138: 2185 | Y138: 669 | Z138: 1084 | AA138: 358 | AB138: 74 | AC138: 2042 | AD138: 676 | AE138: 966 | AF138: 294 | AG138: 106 | AH138: 1857 | AI138: 591 | AJ138: 921 | AK138: 272 | AL138: 73
L139: Italiener | N139: 213 | O139: 79 | P139: 101 | Q139: 26 | R139: 7 | S139: 204 | T139: 66 | U139: 84 | V139: 46 | W139: 8 | X139: 221 | Y139: 77 | Z139: 93 | AA139: 43 | AB139: 8 | AC139: 242 | AD139: 94 | AE139: 96 | AF139: 46 | AG139: 6 | AH139: 211 | AI139: 71 | AJ139: 85 | AK139: 46 | AL139: 9
L140: Ohne Hauptschulabschluss | N140: 1379 | O140: 392 | P140: 620 | Q140: 194 | R140: 173 | S140: 1413 | T140: 447 | U140: 519 | V140: 195 | W140: 252 | X140: 1417 | Y140: 407 | Z140: 609 | AA140: 192 | AB140: 209 | AC140: 1303 | AD140: 444 | AE140: 466 | AF140: 173 | AG140: 220 | AH140: 1269 | AI140: 388 | AJ140: 649 | AK140: 120 | AL140: 112
L141: Hauptschulabschluss | N141: 18555 | O141: 7288 | P141: 7994 | Q141: 2697 | R141: 576 | S141: 17558 | T141: 6560 | U141: 7161 | V141: 2777 | W141: 1060 | X141: 17980 | Y141: 6733 | Z141: 7951 | AA141: 2480 | AB141: 816 | AC141: 16502 | AD141: 6155 | AE141: 7063 | AF141: 2385 | AG141: 899 | AH141: 16389 | AI141: 6101 | AJ141: 7282 | AK141: 2318 | AL141: 688
L142: Realschulabschluss | N142: 32676 | O142: 16369 | P142: 10818 | Q142: 4959 | R142: 530 | S142: 30751 | T142: 15046 | U142: 9729 | V142: 4981 | W142: 995 | X142: 30613 | Y142: 14811 | Z142: 10236 | AA142: 4754 | AB142: 812 | AC142: 28715 | AD142: 13938 | AE142: 9340 | AF142: 4584 | AG142: 853 | AH142: 27643 | AI142: 13378 | AJ142: 9468 | AK142: 4136 | AL142: 661
L143: Fachhochschulreife | N143: 6332 | O143: 2372 | P143: 2863 | Q143: 976 | R143: 121 | S143: 6276 | T143: 2214 | U143: 2885 | V143: 985 | W143: 192 | X143: 6182 | Y143: 2119 | Z143: 2953 | AA143: 904 | AB143: 206 | AC143: 6137 | AD143: 2198 | AE143: 2852 | AF143: 913 | AG143: 174 | AH143: 6368 | AI143: 2344 | AJ143: 2930 | AK143: 928 | AL143: 166
L144: Allgemeine Hochschulreife | N144: 7085 | O144: 3283 | P144: 2980 | Q144: 708 | R144: 114 | S144: 6655 | T144: 2963 | U144: 2812 | V144: 718 | W144: 162 | X144: 6695 | Y144: 2888 | Z144: 2960 | AA144: 699 | AB144: 148 | AC144: 6816 | AD144: 2872 | AE144: 2983 | AF144: 791 | AG144: 170 | AH144: 7365 | AI144: 3125 | AJ144: 3259 | AK144: 824 | AL144: 157
L145: keine Angabe Schulabschluss | N145: 2146 | O145: 940 | P145: 995 | Q145: 161 | R145: 50 | S145: 2281 | T145: 1000 | U145: 997 | V145: 185 | W145: 99 | X145: 2104 | Y145: 891 | Z145: 975 | AA145: 178 | AB145: 60 | AC145: 2086 | AD145: 906 | AE145: 930 | AF145: 167 | AG145: 83 | AH145: 2248 | AI145: 917 | AJ145: 1017 | AK145: 206 | AL145: 108
L146: Allgemeinbildende Schulen | N146: 21923 | O146: 12140 | P146: 7371 | Q146: 1955 | R146: 457 | S146: 20783 | T146: 11285 | U146: 6844 | V146: 1873 | W146: 781 | X146: 21182 | Y146: 11298 | Z146: 7302 | AA146: 1852 | AB146: 730 | AC146: 20043 | AD146: 10703 | AE146: 6735 | AF146: 1823 | AG146: 782 | AH146: 19899 | AI146: 10480 | AJ146: 7065 | AK146: 1750 | AL146: 604
... L163: 24 Jahre | N163: 1945 | O163: 637 | P163: 1018 | Q163: 199 | R163: 91 | S163: 1899 | T163: 624 | U163: 902 | V163: 201 | W163: 172 | X163: 2058 | Y163: 664 | Z163: 1034 | AA163: 226 | AB163: 134 | AC163: 1962 | AD163: 667 | AE163: 984 | AF163: 189 | AG163: 122 | AH163: 1949 | AI163: 605 | AJ163: 1059 | AK163: 171 | AL163: 114
A164: 2 | K164: 04 Bremen | L164: Männer | N164: 2448 | O164: 1000 | P164: 1044 | Q164: 338 | R164: 66 | S164: 2556 | T164: 929 | U164: 1125 | V164: 399 | W164: 103 | X164: 2532 | Y164: 919 | Z164: 1140 | AA164: 363 | AB164: 110 | AC164: 2814 | AD164: 1017 | AE164: 1304 | AF164: 366 | AG164: 127 | AH164: 2794 | AI164: 1019 | AJ164: 1210 | AK164: 439 | AL164: 126
L165: Frauen | N165: 2048 | O165: 818 | P165: 874 | Q165: 286 | R165: 70 | S165: 2209 | T165: 888 | U165: 938 | V165: 286 | W165: 97 | X165: 2034 | Y165: 776 | Z165: 876 | AA165: 306 | AB165: 76 | AC165: 2047 | AD165: 755 | AE165: 917 | AF165: 284 | AG165: 91 | AH165: 1995 | AI165: 767 | AJ165: 859 | AK165: 288 | AL165: 81
L166: Deutsche | N166: 3863 | O166: 1626 | P166: 1598 | Q166: 525 | R166: 114 | S166: 4061 | T166: 1596 | U166: 1704 | V166: 597 | W166: 164 | X166: 3874 | Y166: 1490 | Z166: 1655 | AA166: 583 | AB166: 146 | AC166: 4056 | AD166: 1533 | AE166: 1791 | AF166: 543 | AG166: 189 | AH166: 3988 | AI166: 1509 | AJ166: 1683 | AK166: 620 | AL166: 176
L167: Ausländer | N167: 628 | O167: 192 | P167: 315 | Q167: 99 | R167: 22 | S167: 698 | T167: 217 | U167: 358 | V167: 87 | W167: 36 | X167: 683 | Y167: 203 | Z167: 356 | AA167: 84 | AB167: 40 | AC167: 789 | AD167: 236 | AE167: 420 | AF167: 105 | AG167: 28 | AH167: 793 | AI167: 276 | AJ167: 380 | AK167: 106 | AL167: 31
L168: Türken | N168: 366 | O168: 114 | P168: 181 | Q168: 57 | R168: 14 | S168: 407 | T168: 117 | U168: 211 | V168: 54 | W168: 25 | X168: 362 | Y168: 102 | Z168: 194 | AA168: 42 | AB168: 24 | AC168: 402 | AD168: 106 | AE168: 234 | AF168: 41 | AG168: 21 | AH168: 313 | AI168: 94 | AJ168: 171 | AK168: 37 | AL168: 11
L169: Italiener | N169: 8 | O169: 4 | P169: 2 | Q169: 2 | R169: 0 | S169: 7 | T169: 3 | U169: 3 | V169: 0 | W169: 1 | X169: 6 | Y169: 2 | Z169: 4 | AA169: 0 | AB169: 0 | AC169: 6 | AD169: 2 | AE169: 3 | AF169: 1 | AG169: 0 | AH169: 9 | AI169: 7 | AJ169: 1 | AK169: 1 | AL169: 0
L170: Ohne Hauptschulabschluss | N170: 25 | O170: 15 | P170: 9 | Q170: 1 | R170: 0 | S170: 42 | T170: 31 | U170: 5 | V170: 5 | W170: 1 | X170: 31 | Y170: 23 | Z170: 4 | AA170: 3 | AB170: 1 | AC170: 51 | AD170: 26 | AE170: 8 | AF170: 17 | AG170: 0 | AH170: 79 | AI170: 23 | AJ170: 23 | AK170: 28 | AL170: 5
L171: Hauptschulabschluss | N171: 1223 | O171: 458 | P171: 553 | Q171: 179 | R171: 33 | S171: 1337 | T171: 504 | U171: 633 | V171: 167 | W171: 33 | X171: 1281 | Y171: 484 | Z171: 548 | AA171: 214 | AB171: 35 | AC171: 1466 | AD171: 549 | AE171: 650 | AF171: 209 | AG171: 58 | AH171: 1393 | AI171: 497 | AJ171: 608 | AK171: 242 | AL171: 46
L172: Realschulabschluss | N172: 1592 | O172: 658 | P172: 681 | Q172: 222 | R172: 31 | S172: 1607 | T172: 628 | U172: 674 | V172: 227 | W172: 78 | X172: 1613 | Y172: 613 | Z172: 713 | AA172: 221 | AB172: 66 | AC172: 1706 | AD172: 621 | AE172: 806 | AF172: 215 | AG172: 64 | AH172: 1583 | AI172: 622 | AJ172: 672 | AK172: 214 | AL172: 75
L173: Fachhochschulreife | N173: 829 | O173: 315 | P173: 330 | Q173: 145 | R173: 39 | S173: 846 | T173: 263 | U173: 377 | V173: 161 | W173: 45 | X173: 801 | Y173: 244 | Z173: 390 | AA173: 124 | AB173: 43 | AC173: 737 | AD173: 241 | AE173: 360 | AF173: 89 | AG173: 47 | AH173: 716 | AI173: 246 | AJ173: 341 | AK173: 93 | AL173: 36
