Workbook
Name Print_Area: Hinweis_Arbeitslosengeld!$A$1:$B$31
Name Print_Titles: Hinweis_Arbeitslosengeld!$1:$3

Sheet Auswahl
A1: Rechtskreis | E1: Überschriften Blätter
A2: =INDEX(A4:A6,A3) -> Insgesamt | E2: 1.1 Bestand an Arbeitsuchenden und Arbeitslosen | F2: =E2&$B$3 -> 1.1 Bestand an Arbeitsuchenden und Arbeitslosen
A3: 1 | B3: =INDEX(B4:B6,A3) | C3: =INDEX(C4:C6,A3) | E3: 1.2 Zugänge in und Abgänge aus Arbeitslosigkeit | F3: =E3&$B$3 -> 1.2 Zugänge in und Abgänge aus Arbeitslosigkeit
A4: Insgesamt | E4: 2 Unterbeschäftigung | F4: =E4&$B$3 -> 2 Unterbeschäftigung
A5: SGB III | B5: - Rechtskreis SGB III | C5: - Kostenträgerschaft SGB III | E5: 8.1 Bestand in ausgewählten arbeitsmarktpolitischen Instrumenten | F5: =E5&$C$3 -> 8.1 Bestand in ausgewählten arbeitsmarktpolitischen Instrumenten
A6: SGB II | B6: - Rechtskreis SGB II | C6: - Kostenträgerschaft SGB II | E6: 8.2 Eintritte in ausgewählte arbeitsmarktpolitische Instrumente | F6: =E6&$C$3 -> 8.2 Eintritte in ausgewählte arbeitsmarktpolitische Instrumente

Sheet Deckblatt

Sheet Impressum
A1: Frauen und Männer
A4: Impressum
A6: Produktlinie/Reihe: | B6: Tabellen
A8: Produkt-ID: | B8: 570
A10: Titel: | B10: Frauen und Männer
A12: Region: | B12: JC Tuttlingen (Gebietsstand: Juli 2026), SGB II-Vergleichstyp Ic
A14: Berichtsmonat: | B14: Juli 2026
A16: Erstellungsdatum: | B16: 46238
A18: Periodizität: | B18: monatlich
A20: Nächster Veröffentlichungstermin: | B20: Montag, 21.September 2026 (20. eines Monats. - fällt der 20. eines Monats auf einen Sonn- oder Feiertag zum nächsten darauffolgenden Arbeitstag)
A22: Hinweise:
A24: Herausgeberin: | B24: Bundesagentur für Arbeit
B25: Statistik
A26: Rückfragen an: | B26: Zentraler Statistik-Service
B27: Regensburger Straße 104
B28: 90478 Nürnberg
A29: E-Mail: | B29: Zentraler-Statistik-Service@arbeitsagentur.de
A30: Hotline: | B30: 0911/179-3632
A32: Internet: | B32: https://statistik.arbeitsagentur.de
A34: Zitierhinweis: | B34: Statistik der Bundesagentur für Arbeit
B35: Frauen und Männer, JC Tuttlingen, Nürnberg, August 2026
A37: Nutzungsbedingungen: | B37: © Statistik der Bundesagentur für Arbeit
B38: Die Produkte unterliegen dem Urheberrecht (siehe Impressum).
B39: Daten und Tabellen dürfen uneingeschränkt verwendet werden. Informationen dürfen (auch auszugsweise) gespeichert und mit Quellenangabe weitergegeben, vervielfältigt und verbreitet werden. Die Inhalte dürfen nicht verändert oder verfälscht werden. Eigene Berechnungen sind erlaubt, jedoch als solche kenntlich zu machen. Im Fall einer Veröffentlichung im Internet soll dies mit einer Verlinkung auf die Homepage der Statistik der Bundesagentur für Arbeit erfolgen.

Sheet Inhaltsverzeichnis
A1: Frauen und Männer
A4: Inhaltsverzeichnis
A7: Frauen und Männer
A8: JC Tuttlingen (Gebietsstand: Juli 2026), SGB II-Vergleichstyp Ic
A9: Juli 2026
A11: Tabelle
A13: Tab 1.1 | B13: 1.1 Bestand an Arbeitsuchenden und Arbeitslosen nach Rechtskreis
A14: Tab 1.2 | B14: 1.2 Zugänge in und Abgänge aus Arbeitslosigkeit nach Rechtskreis
A15: Tab 2 | B15: 2 Unterbeschäftigung nach Rechtskreis
A16: Tab 3 | B16: 3 Gemeldete Arbeitsstellen
A17: Tab 4 | B17: 4 Beschäftigte am Arbeitsort
A18: Tab 5 | B18: 5 Gemeldete Bewerber für Berufsausbildungsstellen und gemeldete Berufsausbildungsstellen
A19: Tab 6 | B19: 6 Leistungs- und Nichtleistungsempfänger im Rechtskreis SGB III
A20: Tab 7.1 | B20: 7.1 Grundsicherung für Arbeitsuchende
A21: Tab 7.2 | B21: 7.2 Erwerbstätige erwerbsfähige Leistungsberechtigte (ELB)
A22: Tab 8.1 | B22: 8.1 Bestand in ausgewählten arbeitsmarktpolitischen Instrumenten nach Rechtskreis
A23: Tab 8.2 | B23: 8.2 Eintritte in ausgewählte arbeitsmarktpolitische Instrumente nach Rechtskreis
A25: Statistik-Info
A28: Zeichenerklärungen
A30: X | B30: Nachweis nicht sinnvoll
A31: .X | B31: Veränderungwert >250%.
A32: … | B32: Angaben fallen später an
A33: - | B33: nichts vorhanden
A34: . | B34: auf Grund unvollständiger Daten ist kein Nachweis sinnvoll
A35: * | B35: Die erhobenen Daten unterliegen grundsätzlich der Geheimhaltung nach § 16 BStatG. Eine Übermittlung von Einzelangaben ist daher ausgeschlossen. Aus diesem Grund werden bei den Ihnen zur Verfügung gestellten Daten auch Zahlenwerte kleiner 3 und Daten, aus denen rechnerisch auf einen Zahlenwert kleiner 3 geschlossen werden kann, anonymisiert oder zu Gruppen zusammengefasst.

Sheet Tab 1.1_roh
C1: TabSpalten | AW1: XXX
C2: Hilfsspalten
C3: Überschrift | D3: 1.1 Bestand an Arbeitsuchenden und Arbeitslosen
C4: Gebiet | D4: JC Tuttlingen (Gebietsstand: Juli 2026), SGB II-Vergleichstyp Ic
C5: BM | D5: Juli 2026
C7: JC Tuttlingen
C8: 0
C9: Frauen | D9: Frauen | E9: Frauen | F9: Frauen | G9: Frauen | H9: Frauen | I9: Männer | J9: Männer | K9: Männer | L9: Männer | M9: Frauen | N9: Frauen | O9: Frauen | P9: Frauen | Q9: Frauen | R9: Frauen | S9: Männer | T9: Männer | U9: Männer | V9: Männer | W9: Frauen | X9: Frauen | Y9: Frauen | Z9: Frauen | AA9: Frauen | AB9: Frauen | AC9: Männer | AD9: Männer | AE9: Männer | AF9: Männer | AH9: Frauen | AI9: Frauen | AJ9: Frauen | AK9: Männer | AL9: Männer | AM9: Frauen | AN9: Frauen | AO9: Frauen | AP9: Männer | AQ9: Männer | AR9: Frauen | AS9: Frauen | AT9: Frauen | AU9: Männer | AV9: Männer
B10: Tab/DS | C10: Anzahl | D10: VJM | E10: Anteil der Personen- gruppe an Insgesamt in % | F10: Verände- rung zum Vorjahr in % | G10: Gesamt | H10: Anteil an Frauen und Männer insgesamt in % | I10: Anzahl | J10: VJM | K10: Anteil der Personen- gruppe an Insgesamt in % | L10: Verände- rung zum Vorjahr in % | M10: Anzahl | N10: VJM | O10: Anteil der Personen- gruppe an Insgesamt in % | P10: Verände- rung zum Vorjahr in % | Q10: Gesamt | R10: Anteil an Frauen und Männer insgesamt in % | S10: Anzahl | T10: VJM | U10: Anteil der Personen- gruppe an Insgesamt in % | V10: Verände- rung zum Vorjahr in % | W10: Anzahl | X10: VJM | Y10: Anteil der Personen- gruppe an Insgesamt in % | Z10: Verände- rung zum Vorjahr in % | AA10: Gesamt | AB10: Anteil an Frauen und Männer insgesamt in % | AC10: Anzahl | AD10: VJM | AE10: Anteil der Personen- gruppe an Insgesamt in % | AF10: Verände- rung zum Vorjahr in % | AH10: Anteil der Personen- gruppe an Insgesamt in % | AI10: Verände- rung zum Vorjahr in % | AJ10: Anteil an Frauen und Männer insgesamt in % | AK10: Anteil der Personen- gruppe an Insgesamt in % | AL10: Verände- rung zum Vorjahr in % | AM10: Anteil der Personen- gruppe an Insgesamt in % | AN10: Verände- rung zum Vorjahr in % | AO10: Anteil an Frauen und Männer insgesamt in % | AP10: Anteil der Personen- gruppe an Insgesamt in % | AQ10: Verände- rung zum Vorjahr in % | AR10: Anteil der Personen- gruppe an Insgesamt in % | AS10: Verände- rung zum Vorjahr in % | AT10: Anteil an Frauen und Männer insgesamt in % | AU10: Anteil der Personen- gruppe an Insgesamt in % | AV10: Verände- rung zum Vorjahr in %
C11: 1 | D11: 0 | E11: 2 | F11: 3 | G11: 0 | H11: 4 | I11: 5 | J11: 0 | K11: 6 | L11: 7 | AH11: 2 | AI11: 3 | AJ11: 4 | AK11: 6 | AL11: 7
C12: 1 | D12: 2 | E12: 3 | F12: 4 | G12: 5 | H12: 6 | I12: 7 | J12: 8 | K12: 9 | L12: 10 | M12: 1 | N12: 2 | O12: 3 | P12: 4 | Q12: 5 | R12: 6 | S12: 7 | T12: 8 | U12: 9 | V12: 10 | W12: 1 | X12: 2 | Y12: 3 | Z12: 4 | AA12: 5 | AB12: 6 | AC12: 7 | AD12: 8 | AE12: 9 | AF12: 10 | AH12: 3 | AI12: 4 | AJ12: 6 | AK12: 9 | AL12: 10 | AM12: 3 | AN12: 4 | AO12: 6 | AP12: 9 | AQ12: 10 | AR12: 3 | AS12: 4 | AT12: 6 | AU12: 9 | AV12: 10
C13: 1Insgesamt | D13: 2Insgesamt | G13: 5Insgesamt | I13: 7Insgesamt | J13: 8Insgesamt | M13: 1SGB III | N13: 2SGB III | Q13: 5SGB III | S13: 7SGB III | T13: 8SGB III | W13: 1SGB II | X13: 2SGB II | AA13: 5SGB II | AC13: 7SGB II | AD13: 8SGB II | AH13: 3Insgesamt | AI13: 4Insgesamt | AJ13: 6Insgesamt | AK13: 9Insgesamt | AL13: 10Insgesamt | AM13: 3SGB III | AN13: 4SGB III | AO13: 6SGB III | AP13: 9SGB III | AQ13: 10SGB III | AR13: 3SGB II | AS13: 4SGB II | AT13: 6SGB II | AU13: 9SGB II | AV13: 10SGB II
B14: ID für Auswahl | C14: Insgesamt | M14: SGB III | W14: SGB II
C15: 3157 | D15: 2975 | G15: 6721 | I15: 3564 | J15: 3472 | M15: 1462 | N15: 1325 | Q15: 3327 | S15: 1865 | T15: 1763 | W15: 1695 | X15: 1650 | AA15: 3394 | AC15: 1699 | AD15: 1709 | AH15: X | AI15: 6.1176471 | AJ15: 46.972177 | AK15: X | AL15: 2.6497696 | AM15: X | AN15: 10.339623 | AO15: 43.943493 | AP15: X | AQ15: 5.7855927 | AR15: X | AS15: 2.7272727 | AT15: 49.941072 | AU15: X | AV15: -0.58513751
C16: 2118 | D16: 2013 | G16: 4586 | I16: 2468 | J16: 2386 | M16: 903 | N16: 830 | Q16: 2135 | S16: 1232 | T16: 1134 | W16: 1215 | X16: 1183 | AA16: 2451 | AC16: 1236 | AD16: 1252 | AH16: 100 | AI16: 5.2160954 | AJ16: 46.184038 | AK16: 100 | AL16: 3.4367142 | AM16: 100 | AN16: 8.7951807 | AO16: 42.295082 | AP16: 100 | AQ16: 8.6419753 | AR16: 100 | AS16: 2.7049873 | AT16: 49.571603 | AU16: 100 | AV16: -1.2779553
C17: 1215 | D17: 0 | G17: 2451 | I17: 1236 | J17: 0 | M17: 0 | N17: 0 | Q17: 0 | S17: 0 | T17: 0 | W17: 1215 | X17: 0 | AA17: 2451 | AC17: 1236 | AD17: 0
C18: 243 | D18: 244 | G18: 560 | I18: 317 | J18: 353 | M18: 118 | N18: 101 | Q18: 296 | S18: 178 | T18: 172 | W18: 125 | X18: 143 | AA18: 264 | AC18: 139 | AD18: 181 | AH18: 11.473088 | AI18: -0.40983607 | AJ18: 43.392857 | AK18: 12.844408 | AL18: -10.1983 | AM18: 13.067553 | AN18: 16.831683 | AO18: 39.864865 | AP18: 14.448052 | AQ18: 3.4883721 | AR18: 10.288066 | AS18: -12.587413 | AT18: 47.348485 | AU18: 11.245955 | AV18: -23.20442
C19: 464 | D19: 437 | G19: 1044 | I19: 580 | J19: 595 | M19: 201 | N19: 190 | Q19: 482 | S19: 281 | T19: 302 | W19: 263 | X19: 247 | AA19: 562 | AC19: 299 | AD19: 293 | AH19: 21.90746 | AI19: 6.1784897 | AJ19: 44.444444 | AK19: 23.50081 | AL19: -2.5210084 | AM19: 22.259136 | AN19: 5.7894737 | AO19: 41.701245 | AP19: 22.808442 | AQ19: -6.9536424 | AR19: 21.646091 | AS19: 6.4777328 | AT19: 46.797153 | AU19: 24.190939 | AV19: 2.0477816
C20: 537 | D20: 518 | G20: 1146 | I20: 609 | J20: 563 | M20: 178 | N20: 159 | Q20: 439 | S20: 261 | T20: 232 | W20: 359 | X20: 359 | AA20: 707 | AC20: 348 | AD20: 331 | AH20: 25.354108 | AI20: 3.6679537 | AJ20: 46.858639 | AK20: 24.675851 | AL20: 8.1705151 | AM20: 19.712071 | AN20: 11.949686 | AO20: 40.546697 | AP20: 21.185065 | AQ20: 12.5 | AR20: 29.547325 | AS20: 0 | AT20: 50.777935 | AU20: 28.15534 | AV20: 5.1359517
C21: 355 | D21: 356 | G21: 751 | I21: 396 | J21: 364 | M21: 133 | N21: 141 | Q21: 305 | S21: 172 | T21: 146 | W21: 222 | X21: 215 | AA21: 446 | AC21: 224 | AD21: 218 | AH21: 16.761095 | AI21: -0.28089888 | AJ21: 47.270306 | AK21: 16.045381 | AL21: 8.7912088 | AM21: 14.728682 | AN21: -5.6737589 | AO21: 43.606557 | AP21: 13.961039 | AQ21: 17.808219 | AR21: 18.271605 | AS21: 3.255814 | AT21: 49.775785 | AU21: 18.122977 | AV21: 2.7522936
C22: 519 | D22: 458 | G22: 1085 | I22: 566 | J22: 511 | M22: 273 | N22: 239 | Q22: 613 | S22: 340 | T22: 282 | W22: 246 | X22: 219 | AA22: 472 | AC22: 226 | AD22: 229 | AH22: 24.504249 | AI22: 13.318777 | AJ22: 47.834101 | AK22: 22.933549 | AL22: 10.763209 | AM22: 30.232558 | AN22: 14.225941 | AO22: 44.535073 | AP22: 27.597403 | AQ22: 20.567376 | AR22: 20.246914 | AS22: 12.328767 | AT22: 52.118644 | AU22: 18.28479 | AV22: -1.3100437
C23: 962 | D23: 960 | G23: 1946 | I23: 984 | J23: 1035 | M23: 244 | N23: 230 | Q23: 600 | S23: 356 | T23: 353 | W23: 718 | X23: 730 | AA23: 1346 | AC23: 628 | AD23: 682 | AH23: 45.420208 | AI23: 0.20833333 | AJ23: 49.434738 | AK23: 39.87034 | AL23: -4.9275362 | AM23: 27.021041 | AN23: 6.0869565 | AO23: 40.666667 | AP23: 28.896104 | AQ23: 0.84985836 | AR23: 59.09465 | AS23: -1.6438356 | AT23: 53.343239 | AU23: 50.809061 | AV23: -7.9178886
C24: 65 | D24: 54 | G24: 174 | I24: 109 | J24: 98 | M24: 41 | N24: 38 | Q24: 112 | S24: 71 | T24: 66 | W24: 24 | X24: 16 | AA24: 62 | AC24: 38 | AD24: 32 | AH24: 3.068933 | AI24: 20.37037 | AJ24: 37.356322 | AK24: 4.4165316 | AL24: 11.22449 | AM24: 4.5404208 | AN24: 7.8947368 | AO24: 36.607143 | AP24: 5.762987 | AQ24: 7.5757576 | AR24: 1.9753086 | AS24: 50 | AT24: 38.709677 | AU24: 3.0744337 | AV24: 18.75
B25: 0 | C25: X | D25: 20 | G25: 24 | I25: X | J25: * | M25: 22 | N25: 20 | Q25: 24 | S25: * | T25: * | W25: X | X25: 0 | AA25: 0 | AC25: X | AD25: 0 | AH25: X | AI25: X | AJ25: X | AK25: X | AL25: X | AM25: 2.4363234 | AN25: 10 | AO25: X | AP25: X | AQ25: X | AR25: X | AS25: X | AT25: X | AU25: X | AV25: X
B26: 0 | C26: X | D26: 390 | G26: 40 | I26: X | J26: 27 | M26: 34 | N26: 31 | Q26: 40 | S26: 6 | T26: * | W26: X | X26: 359 | AA26: 0 | AC26: X | AD26: * | AH26: X | AI26: X | AJ26: X | AK26: X | AL26: X | AM26: 3.765227 | AN26: 9.6774194 | AO26: 85 | AP26: 0.48701299 | AQ26: X | AR26: X | AS26: X | AT26: X | AU26: X | AV26: X
B27: 0 | C27: X | D27: 1022 | G27: 1008 | I27: X | J27: 1112 | M27: 433 | N27: 439 | Q27: 1008 | S27: 575 | T27: 560 | W27: X | X27: 583 | AA27: 0 | AC27: X | AD27: 552 | AH27: X | AI27: X | AJ27: X | AK27: X | AL27: X | AM27: 47.951274 | AN27: -1.3667426 | AO27: 42.956349 | AP27: 46.672078 | AQ27: 2.6785714 | AR27: X | AS27: X | AT27: X | AU27: X | AV27: X
B28: 0 | C28: X | D28: 1268 | G28: 2632 | I28: X | J28: 1302 | M28: 133 | N28: 88 | Q28: 181 | S28: 48 | T28: * | W28: X | X28: 1180 | AA28: 2451 | AC28: X | AD28: * | AH28: X | AI28: X | AJ28: X | AK28: X | AL28: X | AM28: 14.728682 | AN28: 51.136364 | AO28: 73.480663 | AP28: 3.8961039 | AQ28: X | AR28: X | AS28: X | AT28: X | AU28: X | AV28: X
B29: 0 | C29: X | D29: 256 | G29: 340 | I29: X | J29: 31 | M29: 300 | N29: 256 | Q29: 340 | S29: 40 | T29: * | W29: X | X29: 0 | AA29: 0 | AC29: X | AD29: * | AH29: X | AI29: X | AJ29: X | AK29: X | AL29: X | AM29: 33.222591 | AN29: 17.1875 | AO29: 88.235294 | AP29: 3.2467532 | AQ29: X | AR29: X | AS29: X | AT29: X | AU29: X | AV29: X
C30: 838 | D30: 725 | G30: 1720 | I30: 882 | J30: 811 | M30: 100 | N30: 80 | Q30: 204 | S30: 104 | T30: 88 | W30: 738 | X30: 645 | AA30: 1516 | AC30: 778 | AD30: 723 | AH30: 39.565628 | AI30: 15.586207 | AJ30: 48.72093 | AK30: 35.737439 | AL30: 8.7546239 | AM30: 11.074197 | AN30: 25 | AO30: 49.019608 | AP30: 8.4415584 | AQ30: 18.181818 | AR30: 60.740741 | AS30: 14.418605 | AT30: 48.680739 | AU30: 62.944984 | AV30: 7.6071923
B31: 0 | C31: X | D31: 924 | G31: 630 | I31: X | J31: 947 | M31: 315 | N31: 299 | Q31: 630 | S31: 315 | T31: 356 | W31: X | X31: 625 | AA31: 0 | AC31: X | AD31: 591 | AH31: X | AI31: X | AJ31: X | AK31: X | AL31: X | AM31: 34.883721 | AN31: X | AO31: 50 | AP31: 25.568182 | AQ31: X | AR31: X | AS31: X | AT31: X | AU31: X | AV31: X
B32: 0 | C32: X | D32: 598 | G32: 919 | I32: X | J32: 768 | M32: 395 | N32: 351 | Q32: 919 | S32: 524 | T32: 451 | W32: X | X32: 247 | AA32: 0 | AC32: X | AD32: 317 | AH32: X | AI32: X | AJ32: X | AK32: X | AL32: X | AM32: 43.743079 | AN32: X | AO32: 42.981502 | AP32: 42.532468 | AQ32: X | AR32: X | AS32: X | AT32: X | AU32: X | AV32: X
B33: 0 | C33: X | D33: 184 | G33: 474 | I33: X | J33: 301 | M33: 139 | N33: 124 | Q33: 474 | S33: 335 | T33: 252 | W33: X | X33: 60 | AA33: 0 | AC33: X | AD33: 49 | AH33: X | AI33: X | AJ33: X | AK33: X | AL33: X | AM33: 15.393134 | AN33: 12.096774 | AO33: 29.324895 | AP33: 27.191558 | AQ33: 32.936508 | AR33: X | AS33: X | AT33: X | AU33: X | AV33: X
B34: 0 | C34: X | D34: 307 | G34: 2563 | I34: X | J34: 370 | M34: 54 | N34: 56 | Q34: 112 | S34: 58 | T34: 75 | W34: X | X34: 251 | AA34: 2451 | AC34: X | AD34: 295 | AH34: X | AI34: X | AJ34: X | AK34: X | AL34: X | AM34: 5.9800664 | AN34: -3.5714286 | AO34: 48.214286 | AP34: 4.7077922 | AQ34: -22.666667 | AR34: X | AS34: X | AT34: X | AU34: X | AV34: X
B35: 0 | C35: X | D35: 224 | G35: 640 | I35: X | J35: 640 | M35: 153 | N35: 161 | Q35: 640 | S35: 487 | T35: 424 | W35: X | X35: 63 | AA35: 0 | AC35: X | AD35: 216 | AH35: X | AI35: X | AJ35: X | AK35: X | AL35: X | AM35: 16.943522 | AN35: -4.9689441 | AO35: 23.90625 | AP35: 39.529221 | AQ35: 14.858491 | AR35: X | AS35: X | AT35: X | AU35: X | AV35: X
B36: 0 | C36: X | D36: 407 | G36: 845 | I36: X | J36: 1098 | M36: 234 | N36: 267 | Q36: 845 | S36: 611 | T36: 583 | W36: X | X36: 140 | AA36: 0 | AC36: X | AD36: 515 | AH36: X | AI36: X | AJ36: X | AK36: X | AL36: X | AM36: 25.913621 | AN36: -12.359551 | AO36: 27.692308 | AP36: 49.594156 | AQ36: 4.8027444 | AR36: X | AS36: X | AT36: X | AU36: X | AV36: X
B37: 0 | C37: X | D37: 459 | G37: 244 | I37: X | J37: 184 | M37: 188 | N37: 131 | Q37: 244 | S37: 56 | T37: 50 | W37: X | X37: 328 | AA37: 0 | AC37: X | AD37: 134 | AH37: X | AI37: X | AJ37: X | AK37: X | AL37: X | AM37: 20.819491 | AN37: 43.51145 | AO37: 77.04918 | AP37: 4.5454545 | AQ37: 12 | AR37: X | AS37: X | AT37: X | AU37: X | AV37: X
B38: 0 | C38: X | D38: 517 | G38: 504 | I38: X | J38: 209 | M38: 307 | N38: 272 | Q38: 504 | S38: 197 | T38: 150 | W38: X | X38: 245 | AA38: 0 | AC38: X | AD38: 59 | AH38: X | AI38: X | AJ38: X | AK38: X | AL38: X | AM38: 33.997785 | AN38: 12.867647 | AO38: 60.912698 | AP38: 15.99026 | AQ38: 31.333333 | AR38: X | AS38: X | AT38: X | AU38: X | AV38: X
B39: 0 | C39: X | D39: 22 | G39: 70 | I39: X | J39: 58 | M39: 17 | N39: 17 | Q39: 70 | S39: 53 | T39: 42 | W39: X | X39: 5 | AA39: 0 | AC39: X | AD39: 16 | AH39: X | AI39: X | AJ39: X | AK39: X | AL39: X | AM39: 1.8826135 | AN39: 0 | AO39: 24.285714 | AP39: 4.3019481 | AQ39: 26.190476 | AR39: X | AS39: X | AT39: X | AU39: X | AV39: X
B40: 0 | C40: X | D40: 301 | G40: 360 | I40: X | J40: 467 | M40: 103 | N40: 87 | Q40: 360 | S40: 257 | T40: 234 | W40: X | X40: 214 | AA40: 0 | AC40: X | AD40: 233 | AH40: X | AI40: X | AJ40: X | AK40: X | AL40: X | AM40: 11.406423 | AN40: 18.390805 | AO40: 28.611111 | AP40: 20.86039 | AQ40: 9.8290598 | AR40: X | AS40: X | AT40: X | AU40: X | AV40: X
B41: 0 | C41: X | D41: 307 | G41: 2563 | I41: X | J41: 370 | M41: 54 | N41: 56 | Q41: 112 | S41: 58 | T41: 75 | W41: X | X41: 251 | AA41: 2451 | AC41: X | AD41: 295 | AH41: X | AI41: X | AJ41: X | AK41: X | AL41: X | AM41: 5.9800664 | AN41: -3.5714286 | AO41: 48.214286 | AP41: 4.7077922 | AQ41: -22.666667 | AR41: X | AS41: X | AT41: X | AU41: X | AV41: X
...

Sheet Tab 1.1
A1: Frauen und Männer
A3: =Auswahl!F2 -> 1.1 Bestand an Arbeitsuchenden und Arbeitslosen
A4: ='Tab 1.1_roh'!D4 -> JC Tuttlingen (Gebietsstand: Juli 2026), SGB II-Vergleichstyp Ic
A5: ='Tab 1.1_roh'!D5 -> Juli 2026
A23: Die Arbeitsuchenden setzen sich zusammen aus Arbeitslosen und nichtarbeitslosen Arbeitsuchenden. Als Arbeitslose zählen Personen, die die Arbeitslosenkriterien Beschäftigungslosigkeit, Verfügbarkeit und Arbeitssuche erfüllen und nicht an einer arbeitsmarktpolitischen Maßnahme teilnehmen. Arbeitslosenquoten zeigen die relative Unterauslastung des Arbeitskräfteangebots an, indem sie die (registrierten) Arbeitslosen zu den Erwerbspersonen (EP = Erwerbstätige + Arbeitslose) in Beziehung setzen.
A32: Merkmale | C32: Frauen | G32: Männer
C33: Bestand | D33: Anteil an Merkmals- gruppe in % | E33: Verände- rung zum Vorjahr in %(-punkten) | F33: Anteil Frauen an allen Personen in % | G33: Bestand | H33: Anteil an Merkmals- gruppe in % | I33: Verände- rung zum Vorjahr in %(-punkten)
C34: 1 | D34: 2 | E34: 3 | F34: 4 | G34: 5 | H34: 6 | I34: 7
A35: Arbeitsuchende | C35: ='Tab 1.1_roh'!C81 -> 3157 | D35: ='Tab 1.1_roh'!D81 -> X | E35: ='Tab 1.1_roh'!E81 -> 6.1176471 | F35: ='Tab 1.1_roh'!F81 -> 46.972177 | G35: ='Tab 1.1_roh'!G81 -> 3564 | H35: ='Tab 1.1_roh'!H81 -> X | I35: ='Tab 1.1_roh'!I81 -> 2.6497696
A36: Arbeitslose | C36: ='Tab 1.1_roh'!C82 -> 2118 | D36: ='Tab 1.1_roh'!D82 -> 100 | E36: ='Tab 1.1_roh'!E82 -> 5.2160954 | F36: ='Tab 1.1_roh'!F82 -> 46.184038 | G36: ='Tab 1.1_roh'!G82 -> 2468 | H36: ='Tab 1.1_roh'!H82 -> 100 | I36: ='Tab 1.1_roh'!I82 -> 3.4367142
A37: dav.: | B37: unter 25 Jahre | C37: ='Tab 1.1_roh'!C83 -> 243 | D37: ='Tab 1.1_roh'!D83 -> 11.473088 | E37: ='Tab 1.1_roh'!E83 -> -0.40983607 | F37: ='Tab 1.1_roh'!F83 -> 43.392857 | G37: ='Tab 1.1_roh'!G83 -> 317 | H37: ='Tab 1.1_roh'!H83 -> 12.844408 | I37: ='Tab 1.1_roh'!I83 -> -10.1983
B38: 25 bis unter 35 Jahre | C38: ='Tab 1.1_roh'!C84 -> 464 | D38: ='Tab 1.1_roh'!D84 -> 21.90746 | E38: ='Tab 1.1_roh'!E84 -> 6.1784897 | F38: ='Tab 1.1_roh'!F84 -> 44.444444 | G38: ='Tab 1.1_roh'!G84 -> 580 | H38: ='Tab 1.1_roh'!H84 -> 23.50081 | I38: ='Tab 1.1_roh'!I84 -> -2.5210084
B39: 35 bis unter 45 Jahre | C39: ='Tab 1.1_roh'!C85 -> 537 | D39: ='Tab 1.1_roh'!D85 -> 25.354108 | E39: ='Tab 1.1_roh'!E85 -> 3.6679537 | F39: ='Tab 1.1_roh'!F85 -> 46.858639 | G39: ='Tab 1.1_roh'!G85 -> 609 | H39: ='Tab 1.1_roh'!H85 -> 24.675851 | I39: ='Tab 1.1_roh'!I85 -> 8.1705151
B40: 45 bis unter 55 Jahre | C40: ='Tab 1.1_roh'!C86 -> 355 | D40: ='Tab 1.1_roh'!D86 -> 16.761095 | E40: ='Tab 1.1_roh'!E86 -> -0.28089888 | F40: ='Tab 1.1_roh'!F86 -> 47.270306 | G40: ='Tab 1.1_roh'!G86 -> 396 | H40: ='Tab 1.1_roh'!H86 -> 16.045381 | I40: ='Tab 1.1_roh'!I86 -> 8.7912088
B41: 55 Jahre und älter | C41: ='Tab 1.1_roh'!C87 -> 519 | D41: ='Tab 1.1_roh'!D87 -> 24.504249 | E41: ='Tab 1.1_roh'!E87 -> 13.318777 | F41: ='Tab 1.1_roh'!F87 -> 47.834101 | G41: ='Tab 1.1_roh'!G87 -> 566 | H41: ='Tab 1.1_roh'!H87 -> 22.933549 | I41: ='Tab 1.1_roh'!I87 -> 10.763209
A42: dar.: | B42: Langzeitarbeitslose | C42: ='Tab 1.1_roh'!C88 -> 838 | D42: ='Tab 1.1_roh'!D88 -> 39.565628 | E42: ='Tab 1.1_roh'!E88 -> 15.586207 | F42: ='Tab 1.1_roh'!F88 -> 48.72093 | G42: ='Tab 1.1_roh'!G88 -> 882 | H42: ='Tab 1.1_roh'!H88 -> 35.737439 | I42: ='Tab 1.1_roh'!I88 -> 8.7546239
B43: Alleinerziehende | C43: ='Tab 1.1_roh'!C89 -> X | D43: ='Tab 1.1_roh'!D89 -> X | E43: ='Tab 1.1_roh'!E89 -> X | F43: ='Tab 1.1_roh'!F89 -> X | G43: ='Tab 1.1_roh'!G89 -> X | H43: ='Tab 1.1_roh'!H89 -> X | I43: ='Tab 1.1_roh'!I89 -> X
B44: Schwerbehinderte Menschen | C44: ='Tab 1.1_roh'!C90 -> 65 | D44: ='Tab 1.1_roh'!D90 -> 3.068933 | E44: ='Tab 1.1_roh'!E90 -> 20.37037 | F44: ='Tab 1.1_roh'!F90 -> 37.356322 | G44: ='Tab 1.1_roh'!G90 -> 109 | H44: ='Tab 1.1_roh'!H90 -> 4.4165316 | I44: ='Tab 1.1_roh'!I90 -> 11.22449
B45: Berufsrückkehrende | C45: ='Tab 1.1_roh'!C91 -> X | D45: ='Tab 1.1_roh'!D91 -> X | E45: ='Tab 1.1_roh'!E91 -> X | F45: ='Tab 1.1_roh'!F91 -> X | G45: ='Tab 1.1_roh'!G91 -> X | H45: ='Tab 1.1_roh'!H91 -> X | I45: ='Tab 1.1_roh'!I91 -> X
B46: ohne abgeschlossene Berufsausbildung | C46: ='Tab 1.1_roh'!C92 -> X | D46: ='Tab 1.1_roh'!D92 -> X | E46: ='Tab 1.1_roh'!E92 -> X | F46: ='Tab 1.1_roh'!F92 -> X | G46: ='Tab 1.1_roh'!G92 -> X | H46: ='Tab 1.1_roh'!H92 -> X | I46: ='Tab 1.1_roh'!I92 -> X
B47: Ausländer | C47: ='Tab 1.1_roh'!C93 -> 962 | D47: ='Tab 1.1_roh'!D93 -> 45.420208 | E47: ='Tab 1.1_roh'!E93 -> 0.20833333 | F47: ='Tab 1.1_roh'!F93 -> 49.434738 | G47: ='Tab 1.1_roh'!G93 -> 984 | H47: ='Tab 1.1_roh'!H93 -> 39.87034 | I47: ='Tab 1.1_roh'!I93 -> -4.9275362
A48: nach Arbeitszeit 1)
A49: dar.: | B49: Vollzeit oder Teilzeit | C49: ='Tab 1.1_roh'!C95 -> X | D49: ='Tab 1.1_roh'!D95 -> X | E49: ='Tab 1.1_roh'!E95 -> X | F49: ='Tab 1.1_roh'!F95 -> X | G49: ='Tab 1.1_roh'!G95 -> X | H49: ='Tab 1.1_roh'!H95 -> X | I49: ='Tab 1.1_roh'!I95 -> X
B50: Teilzeit | C50: ='Tab 1.1_roh'!C96 -> X | D50: ='Tab 1.1_roh'!D96 -> X | E50: ='Tab 1.1_roh'!E96 -> X | F50: ='Tab 1.1_roh'!F96 -> X | G50: ='Tab 1.1_roh'!G96 -> X | H50: ='Tab 1.1_roh'!H96 -> X | I50: ='Tab 1.1_roh'!I96 -> X
A51: nach Anforderungsniveau
A52: dav.: | B52: Helfer 2) | C52: ='Tab 1.1_roh'!C98 -> X | D52: ='Tab 1.1_roh'!D98 -> X | E52: ='Tab 1.1_roh'!E98 -> X | F52: ='Tab 1.1_roh'!F98 -> X | G52: ='Tab 1.1_roh'!G98 -> X | H52: ='Tab 1.1_roh'!H98 -> X | I52: ='Tab 1.1_roh'!I98 -> X
B53: Fachkraft 2) | C53: ='Tab 1.1_roh'!C99 -> X | D53: ='Tab 1.1_roh'!D99 -> X | E53: ='Tab 1.1_roh'!E99 -> X | F53: ='Tab 1.1_roh'!F99 -> X | G53: ='Tab 1.1_roh'!G99 -> X | H53: ='Tab 1.1_roh'!H99 -> X | I53: ='Tab 1.1_roh'!I99 -> X
B54: Spezialist/Experte | C54: ='Tab 1.1_roh'!C100 -> X | D54: ='Tab 1.1_roh'!D100 -> X | E54: ='Tab 1.1_roh'!E100 -> X | F54: ='Tab 1.1_roh'!F100 -> X | G54: ='Tab 1.1_roh'!G100 -> X | H54: ='Tab 1.1_roh'!H100 -> X | I54: ='Tab 1.1_roh'!I100 -> X
B55: keine Angabe zum Anforderungsniveau | C55: ='Tab 1.1_roh'!C101 -> X | D55: ='Tab 1.1_roh'!D101 -> X | E55: ='Tab 1.1_roh'!E101 -> X | F55: ='Tab 1.1_roh'!F101 -> X | G55: ='Tab 1.1_roh'!G101 -> X | H55: ='Tab 1.1_roh'!H101 -> X | I55: ='Tab 1.1_roh'!I101 -> X
A56: nach ausgewählten Merkmalen der Berufsklassifikation
A57: dar.: | B57: MINT-Berufe 3) | C57: ='Tab 1.1_roh'!C103 -> X | D57: ='Tab 1.1_roh'!D103 -> X | E57: ='Tab 1.1_roh'!E103 -> X | F57: ='Tab 1.1_roh'!F103 -> X | G57: ='Tab 1.1_roh'!G103 -> X | H57: ='Tab 1.1_roh'!H103 -> X | I57: ='Tab 1.1_roh'!I103 -> X
A58: =IF('Tab 1.1_roh'!B79="Insgesamt","Arbeitslosenquote (in %)","Arbeitslosenquote (rechtskreisanteilig, in %)") -> Arbeitslosenquote (in %) | C58: ='Tab 1.1_roh'!C104 -> 5.5 | D58: ='Tab 1.1_roh'!D104 -> X | E58: ='Tab 1.1_roh'!E104 -> 0.3 | F58: ='Tab 1.1_roh'!F104 -> X | G58: ='Tab 1.1_roh'!G104 -> 5.4 | H58: ='Tab 1.1_roh'!H104 -> X | I58: ='Tab 1.1_roh'!I104 -> 0.2
I59: © Statistik der Bundesagentur für Arbeit
A60: =IF('Tab 1.1_roh'!B135<>"","Aufgrund unvollständiger Daten können einige Merkmale nicht ausgewertet werden, da diese nicht geschätzt werden.","") -> Aufgrund unvollständiger Daten können einige Merkmale nicht ausgewertet werden, da diese nicht geschätzt werden.
A61: 1) Angaben zur gewünschten Arbeitszeit sind nicht im Lieferumfang der zugelassenen kommunalen Träger (zkT) an die Bundesagentur für Arbeit enthalten. Daher werden die gemeldeten Arbeitslosen und Arbeitsuchenden bei zkT grundsätzlich der Kategorie „Vollzeit oder Teilzeit“ (Oberkategorie "Vollzeit") zugeordnet.
A62: 2) Ab Januar 2020 gehören einige Berufspositionen nach der KldB 2010 zum Anforderungsniveau „Helfer“, die bisher dem Anforderungsniveau „Fachkraft“ zugeordnet waren. Nähere Informationen finden Sie in der Kurzinfo unter https://statistik.arbeitsagentur.de/DE/Statischer-Content/Statistiken/Fachstatistiken/Arbeitsuche-Arbeitslosigkeit-Unterbeschaeftigung/Generische-Publikationen/Kurzinfo-DKZ-Aenderungen.pdf
A63: 3) Weiterführende Hinweise zu Berufsaggregaten

Sheet Tab 1.2_roh
C1: TabSpalten | AW1: XXX
C2: Hilfsspalten
C3: Überschrift | D3: 1.2 Zugänge in und Abgänge aus Arbeitslosigkeit
C4: Gebiet | D4: JC Tuttlingen (Gebietsstand: Juli 2026), SGB II-Vergleichstyp Ic
C5: BM | D5: Juli 2026
C7: JC Tuttlingen
C8: 0
C9: Frauen | D9: Frauen | E9: Frauen | F9: Frauen | G9: Frauen | H9: Frauen | I9: Männer | J9: Männer | K9: Männer | L9: Männer | M9: Frauen | N9: Frauen | O9: Frauen | P9: Frauen | Q9: Frauen | R9: Frauen | S9: Männer | T9: Männer | U9: Männer | V9: Männer | W9: Frauen | X9: Frauen | Y9: Frauen | Z9: Frauen | AA9: Frauen | AB9: Frauen | AC9: Männer | AD9: Männer | AE9: Männer | AF9: Männer | AH9: Frauen | AI9: Frauen | AJ9: Frauen | AK9: Männer | AL9: Männer | AM9: Frauen | AN9: Frauen | AO9: Frauen | AP9: Männer | AQ9: Männer | AR9: Frauen | AS9: Frauen | AT9: Frauen | AU9: Männer | AV9: Männer
B10: Tab/DS | C10: Anzahl | D10: VJM | E10: Anteil der Personen- gruppe an Insgesamt in % | F10: Verände- rung zum Vorjahr in % | G10: Gesamt | H10: Anteil an Frauen und Männer insgesamt in % | I10: Anzahl | J10: VJM | K10: Anteil der Personen- gruppe an Insgesamt in % | L10: Verände- rung zum Vorjahr in % | M10: Anzahl | N10: VJM | O10: Anteil der Personen- gruppe an Insgesamt in % | P10: Verände- rung zum Vorjahr in % | Q10: Gesamt | R10: Anteil an Frauen und Männer insgesamt in % | S10: Anzahl | T10: VJM | U10: Anteil der Personen- gruppe an Insgesamt in % | V10: Verände- rung zum Vorjahr in % | W10: Anzahl | X10: VJM | Y10: Anteil der Personen- gruppe an Insgesamt in % | Z10: Verände- rung zum Vorjahr in % | AA10: Gesamt | AB10: Anteil an Frauen und Männer insgesamt in % | AC10: Anzahl | AD10: VJM | AE10: Anteil der Personen- gruppe an Insgesamt in % | AF10: Verände- rung zum Vorjahr in % | AH10: Anteil der Personen- gruppe an Insgesamt in % | AI10: Verände- rung zum Vorjahr in % | AJ10: Anteil an Frauen und Männer insgesamt in % | AK10: Anteil der Personen- gruppe an Insgesamt in % | AL10: Verände- rung zum Vorjahr in % | AM10: Anteil der Personen- gruppe an Insgesamt in % | AN10: Verände- rung zum Vorjahr in % | AO10: Anteil an Frauen und Männer insgesamt in % | AP10: Anteil der Personen- gruppe an Insgesamt in % | AQ10: Verände- rung zum Vorjahr in % | AR10: Anteil der Personen- gruppe an Insgesamt in % | AS10: Verände- rung zum Vorjahr in % | AT10: Anteil an Frauen und Männer insgesamt in % | AU10: Anteil der Personen- gruppe an Insgesamt in % | AV10: Verände- rung zum Vorjahr in %
C11: 1 | D11: 0 | E11: 2 | F11: 3 | G11: 0 | H11: 4 | I11: 5 | J11: 0 | K11: 6 | L11: 7 | M11: 1 | N11: 0 | O11: 2 | P11: 3 | Q11: 0 | R11: 4 | S11: 5 | T11: 0 | U11: 6 | V11: 7 | W11: 1 | X11: 0 | Y11: 2 | Z11: 3 | AA11: 0 | AB11: 4 | AC11: 5 | AD11: 0 | AE11: 6 | AF11: 7 | AH11: 2 | AI11: 3 | AJ11: 4 | AK11: 6 | AL11: 7 | AM11: 2 | AN11: 3 | AO11: 4 | AP11: 6 | AQ11: 7 | AR11: 2 | AS11: 3 | AT11: 4 | AU11: 6 | AV11: 7
C12: 1 | D12: 2 | E12: 3 | F12: 4 | G12: 5 | H12: 6 | I12: 7 | J12: 8 | K12: 9 | L12: 10 | M12: 1 | N12: 2 | O12: 3 | P12: 4 | Q12: 5 | R12: 6 | S12: 7 | T12: 8 | U12: 9 | V12: 10 | W12: 1 | X12: 2 | Y12: 3 | Z12: 4 | AA12: 5 | AB12: 6 | AC12: 7 | AD12: 8 | AE12: 9 | AF12: 10 | AH12: 3 | AI12: 4 | AJ12: 6 | AK12: 9 | AL12: 10 | AM12: 3 | AN12: 4 | AO12: 6 | AP12: 9 | AQ12: 10 | AR12: 3 | AS12: 4 | AT12: 6 | AU12: 9 | AV12: 10
C13: 1Insgesamt | D13: 2Insgesamt | G13: 5Insgesamt | I13: 7Insgesamt | J13: 8Insgesamt | M13: 1SGB III | N13: 2SGB III | Q13: 5SGB III | S13: 7SGB III | T13: 8SGB III | W13: 1SGB II | X13: 2SGB II | AA13: 5SGB II | AC13: 7SGB II | AD13: 8SGB II | AH13: 3Insgesamt | AI13: 4Insgesamt | AJ13: 6Insgesamt | AK13: 9Insgesamt | AL13: 10Insgesamt | AM13: 3SGB III | AN13: 4SGB III | AO13: 6SGB III | AP13: 9SGB III | AQ13: 10SGB III | AR13: 3SGB II | AS13: 4SGB II | AT13: 6SGB II | AU13: 9SGB II | AV13: 10SGB II
B14: ID für Auswahl | C14: Insgesamt | M14: SGB III | W14: SGB II
C15: 367 | D15: 323 | G15: 801 | I15: 434 | J15: 413 | M15: 271 | N15: 226 | Q15: 608 | S15: 337 | T15: 306 | W15: 96 | X15: 97 | AA15: 193 | AC15: 97 | AD15: 107 | AH15: 100 | AI15: 13.622291 | AJ15: 45.817728 | AK15: 100 | AL15: 5.0847458 | AM15: 100 | AN15: 19.911504 | AO15: 44.572368 | AP15: 100 | AQ15: 10.130719 | AR15: 100 | AS15: -1.0309278 | AT15: 49.740933 | AU15: 100 | AV15: -9.3457944
C16: 96 | D16: 0 | G16: 193 | I16: 97 | J16: 0 | M16: 0 | N16: 0 | Q16: 0 | S16: 0 | T16: 0 | W16: 96 | X16: 0 | AA16: 193 | AC16: 97 | AD16: 0
B17: 0 | C17: X | D17: 141 | G17: X | I17: X | J17: 198 | M17: 145 | N17: 136 | Q17: 329 | S17: 184 | T17: 185 | W17: X | X17: 5 | AA17: X | AC17: X | AD17: 13 | AH17: X | AI17: X | AJ17: X | AK17: X | AL17: X | AM17: 53.505535 | AN17: 6.6176471 | AO17: 44.072948 | AP17: 54.599407 | AQ17: -0.54054054 | AR17: X | AS17: X | AT17: X | AU17: X | AV17: X
B18: 0 | C18: X | D18: 140 | G18: X | I18: X | J18: 196 | M18: 145 | N18: 136 | Q18: 329 | S18: 184 | T18: * | W18: X | X18: 4 | AA18: X | AC18: X | AD18: * | AH18: X | AI18: X | AJ18: X | AK18: X | AL18: X | AM18: 53.505535 | AN18: 6.6176471 | AO18: 44.072948 | AP18: 54.599407 | AQ18: X | AR18: X | AS18: X | AT18: X | AU18: X | AV18: X
B19: 0 | C19: X | D19: 0 | G19: X | I19: X | J19: * | M19: 0 | N19: 0 | Q19: 0 | S19: 0 | T19: * | W19: X | X19: 0 | AA19: X | AC19: X | AD19: 0 | AH19: X | AI19: X | AJ19: X | AK19: X | AL19: X | AM19: 0 | AN19: X | AO19: X | AP19: 0 | AQ19: X | AR19: X | AS19: X | AT19: X | AU19: X | AV19: X
B20: 0 | C20: X | D20: 91 | G20: X | I20: X | J20: 99 | M20: 69 | N20: 51 | Q20: 166 | S20: 97 | T20: 62 | W20: X | X20: 40 | AA20: X | AC20: X | AD20: 37 | AH20: X | AI20: X | AJ20: X | AK20: X | AL20: X | AM20: 25.461255 | AN20: 35.294118 | AO20: 41.566265 | AP20: 28.783383 | AQ20: 56.451613 | AR20: X | AS20: X | AT20: X | AU20: X | AV20: X
B21: 0 | C21: X | D21: 56 | G21: X | I21: X | J21: 58 | M21: * | N21: * | Q21: 106 | S21: 51 | T21: 50 | W21: X | X21: * | AA21: X | AC21: X | AD21: 8 | AH21: X | AI21: X | AJ21: X | AK21: X | AL21: X | AM21: X | AN21: X | AO21: X | AP21: 15.133531 | AQ21: 2 | AR21: X | AS21: X | AT21: X | AU21: X | AV21: X
B22: 0 | C22: X | D22: 35 | G22: X | I22: X | J22: 58 | M22: * | N22: * | Q22: 7 | S22: 5 | T22: 9 | W22: X | X22: * | AA22: X | AC22: X | AD22: 49 | AH22: X | AI22: X | AJ22: X | AK22: X | AL22: X | AM22: X | AN22: X | AO22: X | AP22: 1.4836795 | AQ22: -44.444444 | AR22: X | AS22: X | AT22: X | AU22: X | AV22: X
C23: 330 | D23: 293 | G23: 758 | I23: 428 | J23: 398 | M23: 228 | N23: 183 | Q23: 545 | S23: 317 | T23: 273 | W23: 102 | X23: 110 | AA23: 213 | AC23: 111 | AD23: 125 | AH23: 100 | AI23: 12.627986 | AJ23: 43.53562 | AK23: 100 | AL23: 7.5376884 | AM23: 100 | AN23: 24.590164 | AO23: 41.834862 | AP23: 100 | AQ23: 16.117216 | AR23: 100 | AS23: -7.2727273 | AT23: 47.887324 | AU23: 100 | AV23: -11.2
C24: 102 | D24: 0 | G24: 213 | I24: 111 | J24: 0 | M24: 0 | N24: 0 | Q24: 0 | S24: 0 | T24: 0 | W24: 102 | X24: 0 | AA24: 213 | AC24: 111 | AD24: 0
B25: 0 | C25: X | D25: 76 | G25: X | I25: X | J25: 149 | M25: 95 | N25: 65 | Q25: 227 | S25: 132 | T25: 117 | W25: X | X25: 11 | AA25: X | AC25: X | AD25: 32 | AH25: X | AI25: X | AJ25: X | AK25: X | AL25: X | AM25: 41.666667 | AN25: 46.153846 | AO25: 41.85022 | AP25: 41.640379 | AQ25: 12.820513 | AR25: X | AS25: X | AT25: X | AU25: X | AV25: X
B26: 0 | C26: X | D26: 73 | G26: X | I26: X | J26: 140 | M26: 93 | N26: * | Q26: 221 | S26: 128 | T26: * | W26: X | X26: * | AA26: X | AC26: X | AD26: * | AH26: X | AI26: X | AJ26: X | AK26: X | AL26: X | AM26: 40.789474 | AN26: X | AO26: 42.081448 | AP26: 40.378549 | AQ26: X | AR26: X | AS26: X | AT26: X | AU26: X | AV26: X
B27: 0 | C27: X | D27: * | G27: X | I27: X | J27: 7 | M27: * | N27: * | Q27: 4 | S27: 3 | T27: * | W27: X | X27: * | AA27: X | AC27: X | AD27: * | AH27: X | AI27: X | AJ27: X | AK27: X | AL27: X | AM27: X | AN27: X | AO27: X | AP27: 0.94637224 | AQ27: X | AR27: X | AS27: X | AT27: X | AU27: X | AV27: X
B28: 0 | C28: X | D28: 76 | G28: X | I28: X | J28: 92 | M28: 30 | N28: 34 | Q28: 80 | S28: 50 | T28: 52 | W28: X | X28: 42 | AA28: X | AC28: X | AD28: 40 | AH28: X | AI28: X | AJ28: X | AK28: X | AL28: X | AM28: 13.157895 | AN28: -11.764706 | AO28: 37.5 | AP28: 15.772871 | AQ28: -3.8461538 | AR28: X | AS28: X | AT28: X | AU28: X | AV28: X
B29: 0 | C29: X | D29: 111 | G29: X | I29: X | J29: 114 | M29: 90 | N29: 80 | Q29: 198 | S29: 108 | T29: 98 | W29: X | X29: 31 | AA29: X | AC29: X | AD29: 16 | AH29: X | AI29: X | AJ29: X | AK29: X | AL29: X | AM29: 39.473684 | AN29: 12.5 | AO29: 45.454545 | AP29: 34.069401 | AQ29: 10.204082 | AR29: X | AS29: X | AT29: X | AU29: X | AV29: X
B30: 0 | C30: X | D30: 30 | G30: X | I30: X | J30: 43 | M30: 13 | N30: 4 | Q30: 40 | S30: 27 | T30: 6 | W30: X | X30: 26 | AA30: X | AC30: X | AD30: 37 | AH30: X | AI30: X | AJ30: X | AK30: X | AL30: X | AM30: 5.7017544 | AN30: 225 | AO30: 32.5 | AP30: 8.5173502 | AQ30: .X | AR30: X | AS30: X | AT30: X | AU30: X | AV30: X
B33: DiaDatRoh
E37: ID | G37: 45474 | H37: 45505 | I37: 45536 | J37: Okt 2024 | K37: 45597 | L37: Dez 2024 | M37: 45658 | N37: 45689 | O37: 45717 | P37: 45748 | Q37: Mai 2025 | R37: 45809 | S37: 45839 | T37: 45870 | U37: 45901 | V37: Okt 2025 | W37: 45962 | X37: Dez 2025 | Y37: 46023 | Z37: 46054 | AA37: 46082 | AB37: 46113 | AC37: Mai 2026 | AD37: 46174 | AE37: 46204
B38: X | C38: Abg | D38: G | E38: Insgesamt | G38: 0 | H38: 0 | I38: 0 | J38: 0 | K38: 0 | L38: 0 | M38: 0 | N38: 0 | O38: 0 | P38: 0 | Q38: 0 | R38: 0 | S38: 0 | T38: 0 | U38: 0 | V38: 0 | W38: 0 | X38: 0 | Y38: 0 | Z38: 0 | AA38: 0 | AB38: 0 | AC38: 0 | AD38: 0 | AE38: 213
B39: Insgesamt | C39: Abg | D39: F | E39: Insgesamt | G39: 85 | H39: 40 | I39: 125 | J39: 108 | K39: 90 | L39: 89 | M39: 85 | N39: 78 | O39: 61 | P39: 112 | Q39: 100 | R39: 85 | S39: 73 | T39: 72 | U39: 117 | V39: 132 | W39: 107 | X39: 81 | Y39: 111 | Z39: 100 | AA39: 95 | AB39: 89 | AC39: 96 | AD39: 84 | AE39: 93
B40: Insgesamt | C40: Abg | D40: M | E40: Insgesamt | G40: 129 | H40: 81 | I40: 162 | J40: 135 | K40: 123 | L40: 104 | M40: 106 | N40: 130 | O40: 103 | P40: 179 | Q40: 141 | R40: 124 | S40: 140 | T40: 144 | U40: 172 | V40: 167 | W40: 159 | X40: 134 | Y40: 122 | Z40: 162 | AA40: 162 | AB40: 163 | AC40: 137 | AD40: 141 | AE40: 128
B41: X | C41: Abg | D41: G | E41: SGB III | G41: 0 | H41: 0 | I41: 0 | J41: 0 | K41: 0 | L41: 0 | M41: 0 | N41: 0 | O41: 0 | P41: 0 | Q41: 0 | R41: 0 | S41: 0 | T41: 0 | U41: 0 | V41: 0 | W41: 0 | X41: 0 | Y41: 0 | Z41: 0 | AA41: 0 | AB41: 0 | AC41: 0 | AD41: 0 | AE41: 0
B42: Insgesamt | C42: Abg | D42: F | E42: SGB III | G42: 80 | H42: 33 | I42: 98 | J42: 96 | K42: 77 | L42: 78 | M42: 77 | N42: 71 | O42: 54 | P42: 89 | Q42: 92 | R42: 67 | S42: 64 | T42: 62 | U42: 110 | V42: 122 | W42: 94 | X42: 71 | Y42: 83 | Z42: 86 | AA42: 85 | AB42: 84 | AC42: 85 | AD42: 73 | AE42: 93
B43: Insgesamt | C43: Abg | D43: M | E43: SGB III | G43: 110 | H43: 68 | I43: 146 | J43: 114 | K43: 101 | L43: 83 | M43: 98 | N43: 115 | O43: 86 | P43: 148 | Q43: 121 | R43: 104 | S43: 112 | T43: 118 | U43: 153 | V43: 143 | W43: 124 | X43: 116 | Y43: 104 | Z43: 137 | AA43: 147 | AB43: 150 | AC43: 128 | AD43: 125 | AE43: 128
B44: X | C44: Abg | D44: G | E44: SGB II | G44: 0 | H44: 0 | I44: 0 | J44: 0 | K44: 0 | L44: 0 | M44: 0 | N44: 0 | O44: 0 | P44: 0 | Q44: 0 | R44: 0 | S44: 0 | T44: 0 | U44: 0 | V44: 0 | W44: 0 | X44: 0 | Y44: 0 | Z44: 0 | AA44: 0 | AB44: 0 | AC44: 0 | AD44: 0 | AE44: 213
B45: Insgesamt | C45: Abg | D45: F | E45: SGB II | G45: 5 | H45: 7 | I45: 27 | J45: 12 | K45: 13 | L45: 11 | M45: 8 | N45: 7 | O45: 7 | P45: 23 | Q45: 8 | R45: 18 | S45: 9 | T45: 10 | U45: 7 | V45: 10 | W45: 13 | X45: 10 | Y45: 28 | Z45: 14 | AA45: 10 | AB45: 5 | AC45: 11 | AD45: 11 | AE45: 0
B46: Insgesamt | C46: Abg | D46: M | E46: SGB II | G46: 19 | H46: 13 | I46: 16 | J46: 21 | K46: 22 | L46: 21 | M46: 8 | N46: 15 | O46: 17 | P46: 31 | Q46: 20 | R46: 20 | S46: 28 | T46: 26 | U46: 19 | V46: 24 | W46: 35 | X46: 18 | Y46: 18 | Z46: 25 | AA46: 15 | AB46: 13 | AC46: 9 | AD46: 16 | AE46: 0
...

Sheet Tab 1.2
A1: Frauen und Männer
A3: =Auswahl!F3 -> 1.2 Zugänge in und Abgänge aus Arbeitslosigkeit
A4: ='Tab 1.2_roh'!D4 -> JC Tuttlingen (Gebietsstand: Juli 2026), SGB II-Vergleichstyp Ic
A5: ='Tab 1.2_roh'!D5 -> Juli 2026
A23: Um ein Gesamtbild zur Arbeitslosigkeit zu erhalten, werden neben dem Bestand an Arbeitslosen die Zu- und Abgänge in und aus Arbeitslosigkeit abgebildet. Diese geben Informationen darüber, woher die Arbeitslosen kommen bzw. wohin sie gehen (Erwerbstätigkeit, Ausbildung/Maßnahmeteilnahme, Nichterwerbstätigkeit oder Sonstiges). Bei der Betrachtung der Bewegungen sind die saisonbedingten Einflüsse zu berücksichtigen. Im Frühjahr sind z.B. witterungsbedingt die Abgänge besonders hoch, insbesondere im Bau- und Gartenbaubereich. Das betrifft vor allem die Männer. Auch durch Einstellungstermine nach den Sommerferien und zu Jahresbeginn ergeben sich erhöhte Abgänge.
A33: Merkmale | D33: Frauen | H33: Männer
D34: Zugang/ Abgang | E34: Anteil an Merkmals- gruppe in % | F34: Verände- rung zum Vorjahr in % | G34: Anteil Frauen an allen Personen in % | H34: Zugang/ Abgang | I34: Anteil an Merkmals- gruppe in % | J34: Verände- rung zum Vorjahr in %
D35: 1 | E35: 2 | F35: 3 | G35: 4 | H35: 5 | I35: 6 | J35: 7
A36: Zugang an Arbeitslosen | D36: ='Tab 1.2_roh'!C66 -> 367 | E36: ='Tab 1.2_roh'!D66 -> 100 | F36: ='Tab 1.2_roh'!E66 -> 13.622291 | G36: ='Tab 1.2_roh'!F66 -> 45.817728 | H36: ='Tab 1.2_roh'!G66 -> 434 | I36: ='Tab 1.2_roh'!H66 -> 100 | J36: ='Tab 1.2_roh'!I66 -> 5.0847458
A37: dav.: | B37: Erwerbstätigkeit | D37: ='Tab 1.2_roh'!C67 -> X | E37: ='Tab 1.2_roh'!D67 -> X | F37: ='Tab 1.2_roh'!E67 -> X | G37: ='Tab 1.2_roh'!F67 -> X | H37: ='Tab 1.2_roh'!G67 -> X | I37: ='Tab 1.2_roh'!H67 -> X | J37: ='Tab 1.2_roh'!I67 -> X
B38: dar.: | C38: Beschäftigung am 1. Arbeitsmarkt | D38: ='Tab 1.2_roh'!C68 -> X | E38: ='Tab 1.2_roh'!D68 -> X | F38: ='Tab 1.2_roh'!E68 -> X | G38: ='Tab 1.2_roh'!F68 -> X | H38: ='Tab 1.2_roh'!G68 -> X | I38: ='Tab 1.2_roh'!H68 -> X | J38: ='Tab 1.2_roh'!I68 -> X
C39: Selbständigkeit | D39: ='Tab 1.2_roh'!C69 -> X | E39: ='Tab 1.2_roh'!D69 -> X | F39: ='Tab 1.2_roh'!E69 -> X | G39: ='Tab 1.2_roh'!F69 -> X | H39: ='Tab 1.2_roh'!G69 -> X | I39: ='Tab 1.2_roh'!H69 -> X | J39: ='Tab 1.2_roh'!I69 -> X
B40: Ausbildung u. sonst. Maßnahmeteilnahme | D40: ='Tab 1.2_roh'!C70 -> X | E40: ='Tab 1.2_roh'!D70 -> X | F40: ='Tab 1.2_roh'!E70 -> X | G40: ='Tab 1.2_roh'!F70 -> X | H40: ='Tab 1.2_roh'!G70 -> X | I40: ='Tab 1.2_roh'!H70 -> X | J40: ='Tab 1.2_roh'!I70 -> X
B41: Nichterwerbstätigkeit | D41: ='Tab 1.2_roh'!C71 -> X | E41: ='Tab 1.2_roh'!D71 -> X | F41: ='Tab 1.2_roh'!E71 -> X | G41: ='Tab 1.2_roh'!F71 -> X | H41: ='Tab 1.2_roh'!G71 -> X | I41: ='Tab 1.2_roh'!H71 -> X | J41: ='Tab 1.2_roh'!I71 -> X
B42: Sonstiges/ Keine Angabe | D42: ='Tab 1.2_roh'!C72 -> X | E42: ='Tab 1.2_roh'!D72 -> X | F42: ='Tab 1.2_roh'!E72 -> X | G42: ='Tab 1.2_roh'!F72 -> X | H42: ='Tab 1.2_roh'!G72 -> X | I42: ='Tab 1.2_roh'!H72 -> X | J42: ='Tab 1.2_roh'!I72 -> X
A43: Abgang an Arbeitslosen | D43: ='Tab 1.2_roh'!C73 -> 330 | E43: ='Tab 1.2_roh'!D73 -> 100 | F43: ='Tab 1.2_roh'!E73 -> 12.627986 | G43: ='Tab 1.2_roh'!F73 -> 43.53562 | H43: ='Tab 1.2_roh'!G73 -> 428 | I43: ='Tab 1.2_roh'!H73 -> 100 | J43: ='Tab 1.2_roh'!I73 -> 7.5376884
A44: dav.: | B44: Erwerbstätigkeit | D44: ='Tab 1.2_roh'!C74 -> X | E44: ='Tab 1.2_roh'!D74 -> X | F44: ='Tab 1.2_roh'!E74 -> X | G44: ='Tab 1.2_roh'!F74 -> X | H44: ='Tab 1.2_roh'!G74 -> X | I44: ='Tab 1.2_roh'!H74 -> X | J44: ='Tab 1.2_roh'!I74 -> X
B45: dar.: | C45: Beschäftigung am 1. Arbeitsmarkt | D45: ='Tab 1.2_roh'!C75 -> X | E45: ='Tab 1.2_roh'!D75 -> X | F45: ='Tab 1.2_roh'!E75 -> X | G45: ='Tab 1.2_roh'!F75 -> X | H45: ='Tab 1.2_roh'!G75 -> X | I45: ='Tab 1.2_roh'!H75 -> X | J45: ='Tab 1.2_roh'!I75 -> X
C46: Selbständigkeit | D46: ='Tab 1.2_roh'!C76 -> X | E46: ='Tab 1.2_roh'!D76 -> X | F46: ='Tab 1.2_roh'!E76 -> X | G46: ='Tab 1.2_roh'!F76 -> X | H46: ='Tab 1.2_roh'!G76 -> X | I46: ='Tab 1.2_roh'!H76 -> X | J46: ='Tab 1.2_roh'!I76 -> X
B47: Ausbildung u. sonst. Maßnahmeteilnahme | D47: ='Tab 1.2_roh'!C77 -> X | E47: ='Tab 1.2_roh'!D77 -> X | F47: ='Tab 1.2_roh'!E77 -> X | G47: ='Tab 1.2_roh'!F77 -> X | H47: ='Tab 1.2_roh'!G77 -> X | I47: ='Tab 1.2_roh'!H77 -> X | J47: ='Tab 1.2_roh'!I77 -> X
B48: Nichterwerbstätigkeit | D48: ='Tab 1.2_roh'!C78 -> X | E48: ='Tab 1.2_roh'!D78 -> X | F48: ='Tab 1.2_roh'!E78 -> X | G48: ='Tab 1.2_roh'!F78 -> X | H48: ='Tab 1.2_roh'!G78 -> X | I48: ='Tab 1.2_roh'!H78 -> X | J48: ='Tab 1.2_roh'!I78 -> X
B49: Sonstiges/ Keine Angabe | D49: ='Tab 1.2_roh'!C79 -> X | E49: ='Tab 1.2_roh'!D79 -> X | F49: ='Tab 1.2_roh'!E79 -> X | G49: ='Tab 1.2_roh'!F79 -> X | H49: ='Tab 1.2_roh'!G79 -> X | I49: ='Tab 1.2_roh'!H79 -> X | J49: ='Tab 1.2_roh'!I79 -> X
J50: © Statistik der Bundesagentur für Arbeit
A51: =IF('Tab 1.2_roh'!B104<>"","Aufgrund unvollständiger Daten können einige Merkmale nicht ausgewertet werden, da diese nicht geschätzt werden.","") -> Aufgrund unvollständiger Daten können einige Merkmale nicht ausgewertet werden, da diese nicht geschätzt werden.
A52: Hinweis zur Grafik Die Abgangsrate ist der Abgang Arbeitsloser eines Monats bezogen auf den Bestand des Vormonats.

Sheet Tab 2_roh
C1: TabSpalten | AW1: XXX
C2: Hilfsspalten
C3: Überschrift | D3: 2 Unterbeschäftigung
C4: Gebiet | D4: JC Tuttlingen (Gebietsstand: Juli 2026), SGB II-Vergleichstyp Ic
C5: BM | D5: April 2026, Daten mit einer Wartezeit von 3 Monaten
C9: Frauen | D9: Frauen | E9: Frauen | F9: Frauen | G9: Frauen | H9: Frauen | I9: Männer | J9: Männer | K9: Männer | L9: Männer | M9: Frauen | N9: Frauen | O9: Frauen | P9: Frauen | Q9: Frauen | R9: Frauen | S9: Männer | T9: Männer | U9: Männer | V9: Männer | W9: Frauen | X9: Frauen | Y9: Frauen | Z9: Frauen | AA9: Frauen | AB9: Frauen | AC9: Männer | AD9: Männer | AE9: Männer | AF9: Männer | AH9: Frauen | AI9: Frauen | AJ9: Frauen | AK9: Männer | AL9: Männer | AM9: Frauen | AN9: Frauen | AO9: Frauen | AP9: Männer | AQ9: Männer | AR9: Frauen | AS9: Frauen | AT9: Frauen | AU9: Männer | AV9: Männer
B10: Tab/DS | C10: Anzahl | D10: VJM | E10: Anteil der Personen- gruppe an Insgesamt in % | F10: Verände- rung zum Vorjahr in % | G10: Gesamt | H10: Anteil an Frauen und Männer insgesamt in % | I10: Anzahl | J10: VJM | K10: Anteil der Personen- gruppe an Insgesamt in % | L10: Verände- rung zum Vorjahr in % | M10: Anzahl | N10: VJM | O10: Anteil der Personen- gruppe an Insgesamt in % | P10: Verände- rung zum Vorjahr in % | Q10: Gesamt | R10: Anteil an Frauen und Männer insgesamt in % | S10: Anzahl | T10: VJM | U10: Anteil der Personen- gruppe an Insgesamt in % | V10: Verände- rung zum Vorjahr in % | W10: Anzahl | X10: VJM | Y10: Anteil der Personen- gruppe an Insgesamt in % | Z10: Verände- rung zum Vorjahr in % | AA10: Gesamt | AB10: Anteil an Frauen und Männer insgesamt in % | AC10: Anzahl | AD10: VJM | AE10: Anteil der Personen- gruppe an Insgesamt in % | AF10: Verände- rung zum Vorjahr in % | AH10: Anteil der Personen- gruppe an Insgesamt in % | AI10: Verände- rung zum Vorjahr in % | AJ10: Anteil an Frauen und Männer insgesamt in % | AK10: Anteil der Personen- gruppe an Insgesamt in % | AL10: Verände- rung zum Vorjahr in % | AM10: Anteil der Personen- gruppe an Insgesamt in % | AN10: Verände- rung zum Vorjahr in % | AO10: Anteil an Frauen und Männer insgesamt in % | AP10: Anteil der Personen- gruppe an Insgesamt in % | AQ10: Verände- rung zum Vorjahr in % | AR10: Anteil der Personen- gruppe an Insgesamt in % | AS10: Verände- rung zum Vorjahr in % | AT10: Anteil an Frauen und Männer insgesamt in % | AU10: Anteil der Personen- gruppe an Insgesamt in % | AV10: Verände- rung zum Vorjahr in %
C11: 1 | D11: 0 | E11: 2 | F11: 3 | G11: 0 | H11: 4 | I11: 5 | J11: 0 | K11: 6 | L11: 7 | AH11: 2 | AI11: 3 | AJ11: 4 | AK11: 6 | AL11: 7
C12: 1 | D12: 2 | E12: 3 | F12: 4 | G12: 5 | H12: 6 | I12: 7 | J12: 8 | K12: 9 | L12: 10 | M12: 1 | N12: 2 | O12: 3 | P12: 4 | Q12: 5 | R12: 6 | S12: 7 | T12: 8 | U12: 9 | V12: 10 | W12: 1 | X12: 2 | Y12: 3 | Z12: 4 | AA12: 5 | AB12: 6 | AC12: 7 | AD12: 8 | AE12: 9 | AF12: 10 | AH12: 3 | AI12: 4 | AJ12: 6 | AK12: 9 | AL12: 10 | AM12: 3 | AN12: 4 | AO12: 6 | AP12: 9 | AQ12: 10 | AR12: 3 | AS12: 4 | AT12: 6 | AU12: 9 | AV12: 10
C13: 1Insgesamt | D13: 2Insgesamt | G13: 5Insgesamt | I13: 7Insgesamt | J13: 8Insgesamt | M13: 1SGB III | N13: 2SGB III | Q13: 5SGB III | S13: 7SGB III | T13: 8SGB III | W13: 1SGB II | X13: 2SGB II | AA13: 5SGB II | AC13: 7SGB II | AD13: 8SGB II | AH13: 3Insgesamt | AI13: 4Insgesamt | AJ13: 6Insgesamt | AK13: 9Insgesamt | AL13: 10Insgesamt | AM13: 3SGB III | AN13: 4SGB III | AO13: 6SGB III | AP13: 9SGB III | AQ13: 10SGB III | AR13: 3SGB II | AS13: 4SGB II | AT13: 6SGB II | AU13: 9SGB II | AV13: 10SGB II
B14: ID für Auswahl | C14: Insgesamt | M14: SGB III | W14: SGB II
C15: 2125 | D15: 1972 | G15: 4609 | I15: 2484 | J15: 2405 | M15: 899 | N15: 798 | Q15: 2148 | S15: 1249 | T15: 1167 | W15: 1226 | X15: 1174 | AA15: 2461 | AC15: 1235 | AD15: 1238 | AH15: 85.034014 | AI15: 7.7586207 | AJ15: 46.105446 | AK15: 85.684719 | AL15: 3.2848233 | AM15: 86.859903 | AN15: 12.656642 | AO15: 41.852886 | AP15: 89.087019 | AQ15: 7.0265638 | AR15: 83.743169 | AS15: 4.4293015 | AT15: 49.817148 | AU15: 82.49833 | AV15: -0.24232633
C16: 55 | D16: 64 | G16: 142 | I16: 87 | J16: 64 | M16: 10 | N16: 15 | Q16: 31 | S16: 21 | T16: 23 | W16: 45 | X16: 49 | AA16: 111 | AC16: 66 | AD16: 41 | AH16: 2.2008804 | AI16: -14.0625 | AJ16: 38.732394 | AK16: 3.0010348 | AL16: 35.9375 | AM16: 0.96618357 | AN16: -33.333333 | AO16: 32.258065 | AP16: 1.4978602 | AQ16: -8.6956522 | AR16: 3.0737705 | AS16: -8.1632653 | AT16: 40.540541 | AU16: 4.4088176 | AV16: 60.97561
C17: 43 | D17: 46 | G17: 111 | I17: 68 | J17: 38 | M17: 10 | N17: 15 | Q17: 31 | S17: 21 | T17: 23 | W17: 33 | X17: 31 | AA17: 80 | AC17: 47 | AD17: 15 | AH17: 1.7206883 | AI17: -6.5217391 | AJ17: 38.738739 | AK17: 2.3456364 | AL17: 78.947368 | AM17: 0.96618357 | AN17: -33.333333 | AO17: 32.258065 | AP17: 1.4978602 | AQ17: -8.6956522 | AR17: 2.2540984 | AS17: 6.4516129 | AT17: 41.25 | AU17: 3.1396126 | AV17: 213.33333
C18: 12 | D18: 18 | G18: 31 | I18: 19 | J18: 26 | M18: 0 | N18: 0 | Q18: 0 | S18: 0 | T18: 0 | W18: 12 | X18: 18 | AA18: 31 | AC18: 19 | AD18: 26 | AH18: 0.48019208 | AI18: -33.333333 | AJ18: 38.709677 | AK18: 0.65539841 | AL18: -26.923077 | AM18: 0 | AN18: X | AO18: X | AP18: 0 | AQ18: X | AR18: 0.81967213 | AS18: -33.333333 | AT18: 38.709677 | AU18: 1.2692051 | AV18: -26.923077
C19: 2180 | D19: 2036 | G19: 4751 | I19: 2571 | J19: 2469 | M19: 909 | N19: 813 | Q19: 2179 | S19: 1270 | T19: 1190 | W19: 1271 | X19: 1223 | AA19: 2572 | AC19: 1301 | AD19: 1279 | AH19: 87.234894 | AI19: 7.0726916 | AJ19: 45.885077 | AK19: 88.685754 | AL19: 4.1312272 | AM19: 87.826087 | AN19: 11.808118 | AO19: 41.716384 | AP19: 90.584879 | AQ19: 6.7226891 | AR19: 86.81694 | AS19: 3.9247751 | AT19: 49.416796 | AU19: 86.907148 | AV19: 1.7200938
C20: 314 | D20: 344 | G20: 631 | I20: 317 | J20: 358 | M20: 121 | N20: 134 | Q20: 243 | S20: 122 | T20: 158 | W20: 193 | X20: 210 | AA20: * | AC20: * | AD20: 200 | AH20: 12.565026 | AI20: -8.7209302 | AJ20: 49.762282 | AK20: 10.934805 | AL20: -11.452514 | AM20: 11.690821 | AN20: -9.7014925 | AO20: 49.794239 | AP20: 8.7018545 | AQ20: -22.78481 | AR20: 13.18306 | AS20: -8.0952381 | AT20: X | AU20: X | AV20: X
C21: 79 | D21: 96 | G21: 172 | I21: 93 | J21: 118 | M21: 63 | N21: 82 | Q21: 145 | S21: 82 | T21: 106 | W21: 16 | X21: 14 | AA21: 27 | AC21: 11 | AD21: 12 | AH21: 3.1612645 | AI21: -17.708333 | AJ21: 45.930233 | AK21: 3.2080028 | AL21: -21.186441 | AM21: 6.0869565 | AN21: -23.170732 | AO21: 43.448276 | AP21: 5.8487874 | AQ21: -22.641509 | AR21: 1.0928962 | AS21: 14.285714 | AT21: 59.259259 | AU21: 0.73480294 | AV21: -8.3333333
C22: 16 | D22: 19 | G22: 28 | I22: 12 | J22: 15 | M22: 0 | N22: 0 | Q22: 0 | S22: 0 | T22: 0 | W22: 16 | X22: 19 | AA22: 28 | AC22: 12 | AD22: 15 | AH22: 0.6402561 | AI22: -15.789474 | AJ22: 57.142857 | AK22: 0.41393584 | AL22: -20 | AM22: 0 | AN22: X | AO22: X | AP22: 0 | AQ22: X | AR22: 1.0928962 | AS22: -15.789474 | AT22: 57.142857 | AU22: 0.80160321 | AV22: -20
C23: 185 | D23: 196 | G23: 372 | I23: 187 | J23: 194 | M23: 39 | N23: 36 | Q23: 60 | S23: 21 | T23: 35 | W23: 146 | X23: 160 | AA23: 312 | AC23: 166 | AD23: 159 | AH23: 7.4029612 | AI23: -5.6122449 | AJ23: 49.731183 | AK23: 6.4505002 | AL23: -3.6082474 | AM23: 3.7681159 | AN23: 8.3333333 | AO23: 65 | AP23: 1.4978602 | AQ23: -40 | AR23: 9.9726776 | AS23: -8.75 | AT23: 46.794872 | AU23: 11.088844 | AV23: 4.4025157
C24: 0 | D24: 0 | G24: 0 | I24: 0 | J24: 0 | M24: 0 | N24: 0 | Q24: 0 | S24: 0 | T24: 0 | W24: 0 | X24: 0 | AA24: 0 | AC24: 0 | AD24: 0 | AH24: 0 | AI24: X | AJ24: X | AK24: 0 | AL24: X | AM24: 0 | AN24: X | AO24: X | AP24: 0 | AQ24: X | AR24: 0 | AS24: X | AT24: X | AU24: 0 | AV24: X
C25: 0 | D25: 0 | G25: 0 | I25: 0 | J25: 0 | M25: 0 | N25: 0 | Q25: 0 | S25: 0 | T25: 0 | W25: 0 | X25: 0 | AA25: 0 | AC25: 0 | AD25: 0 | AH25: 0 | AI25: X | AJ25: X | AK25: 0 | AL25: X | AM25: 0 | AN25: X | AO25: X | AP25: 0 | AQ25: X | AR25: 0 | AS25: X | AT25: X | AU25: 0 | AV25: X
C26: 12 | D26: 13 | G26: 17 | I26: 5 | J26: 8 | M26: 0 | N26: 0 | Q26: 0 | S26: 0 | T26: 0 | W26: 12 | X26: 13 | AA26: 17 | AC26: 5 | AD26: 8 | AH26: 0.48019208 | AI26: -7.6923077 | AJ26: 70.588235 | AK26: 0.17247327 | AL26: -37.5 | AM26: 0 | AN26: X | AO26: X | AP26: 0 | AQ26: X | AR26: 0.81967213 | AS26: -7.6923077 | AT26: 70.588235 | AU26: 0.33400134 | AV26: -37.5
C27: 22 | D27: 20 | G27: 42 | I27: 20 | J27: 23 | M27: 19 | N27: 16 | Q27: 38 | S27: 19 | T27: 17 | W27: 3 | X27: 4 | AA27: * | AC27: * | AD27: 6 | AH27: 0.88035214 | AI27: 10 | AJ27: 52.380952 | AK27: 0.68989307 | AL27: -13.043478 | AM27: 1.8357488 | AN27: 18.75 | AO27: 50 | AP27: 1.3552068 | AQ27: 11.764706 | AR27: 0.20491803 | AS27: -25 | AT27: X | AU27: X | AV27: X
C28: 2494 | D28: 2380 | G28: 5382 | I28: 2888 | J28: 2827 | M28: 1030 | N28: 947 | Q28: 2422 | S28: 1392 | T28: 1348 | W28: 1464 | X28: 1433 | AA28: * | AC28: * | AD28: 1479 | AH28: 99.79992 | AI28: 4.789916 | AJ28: 46.339651 | AK28: 99.620559 | AL28: 2.1577644 | AM28: 99.516908 | AN28: 8.7645195 | AO28: 42.526837 | AP28: 99.286733 | AQ28: 3.264095 | AR28: 100 | AS28: 2.1632938 | AT28: X | AU28: X | AV28: X
C29: 5 | D29: 12 | G29: 16 | I29: 11 | J29: 20 | M29: 5 | N29: 12 | Q29: 15 | S29: 10 | T29: 20 | W29: 0 | X29: 0 | AA29: * | AC29: * | AD29: 0 | AH29: 0.20008003 | AI29: -58.333333 | AJ29: 31.25 | AK29: 0.37944119 | AL29: -45 | AM29: 0.48309179 | AN29: -58.333333 | AO29: 33.333333 | AP29: 0.71326676 | AQ29: -50 | AR29: 0 | AS29: X | AT29: X | AU29: X | AV29: X
C30: 5 | D30: 12 | G30: * | I30: * | J30: 20 | M30: 5 | N30: 12 | Q30: 15 | S30: 10 | T30: 20 | W30: 0 | X30: 0 | AA30: 0 | AC30: 0 | AD30: 0 | AH30: 0.20008003 | AI30: -58.333333 | AJ30: X | AK30: X | AL30: X | AM30: 0.48309179 | AN30: -58.333333 | AO30: 33.333333 | AP30: 0.71326676 | AQ30: -50 | AR30: 0 | AS30: X | AT30: X | AU30: 0 | AV30: X
C31: 0 | D31: 0 | G31: * | I31: * | J31: 0 | M31: 0 | N31: 0 | Q31: 0 | S31: 0 | T31: 0 | W31: 0 | X31: 0 | AA31: * | AC31: * | AD31: 0 | AH31: 0 | AI31: X | AJ31: X | AK31: X | AL31: X | AM31: 0 | AN31: X | AO31: X | AP31: 0 | AQ31: X | AR31: 0 | AS31: X | AT31: X | AU31: X | AV31: X
C32: 2499 | D32: 2392 | G32: 5398 | I32: 2899 | J32: 2847 | M32: 1035 | N32: 959 | Q32: 2437 | S32: 1402 | T32: 1368 | W32: 1464 | X32: 1433 | AA32: 2961 | AC32: 1497 | AD32: 1479 | AH32: 100 | AI32: 4.4732441 | AJ32: 46.294924 | AK32: 100 | AL32: 1.826484 | AM32: 100 | AN32: 7.9249218 | AO32: 42.47025 | AP32: 100 | AQ32: 2.4853801 | AR32: 100 | AS32: 2.1632938 | AT32: 49.442756 | AU32: 100 | AV32: 1.2170385
B35: DiaDatRoh
B36: UB-Quote
E38: Dezember 2018 | F38: Dezember 2019 | G38: Dezember 2020 | H38: Dezember 2021 | I38: Dezember 2022 | J38: Dezember 2023 | K38: Dezember 2024 | L38: Dezember 2025
B39: Weiblich | C39: Insgesamt | D39: WeiblichInsgesamt | E39: 3.5825646 | F39: 3.9066579 | G39: 4.9357894 | H39: 4.2245468 | I39: 5.764412 | J39: 5.8790363 | K39: 5.6730563 | L39: 6.2844314
B40: Männlich | C40: Insgesamt | D40: MännlichInsgesamt | E40: 3.3846172 | F40: 4.0502346 | G40: 5.1754191 | H40: 4.0520709 | I40: 4.4611102 | J40: 4.9419956 | K40: 5.7099512 | L40: 6.1288842
B41: Weiblich | C41: SGB III | D41: WeiblichSGB III | E41: 1.5952349 | F41: 2.0824965 | G41: 2.6853014 | H41: 1.8760938 | I41: 1.9294546 | J41: 1.992805 | K41: 2.1267532 | L41: 2.4936994
B42: Männlich | C42: SGB III | D42: MännlichSGB III | E42: 1.5688158 | F42: 2.2845749 | G42: 3.0498401 | H42: 1.9012192 | I42: 1.8172397 | J42: 2.0870138 | K42: 2.6611596 | L42: 2.8481157
B43: Weiblich | C43: SGB II | D43: WeiblichSGB II | E43: 1.9873297 | F43: 1.8241615 | G43: 2.2504881 | H43: 2.3484531 | I43: 3.8349574 | J43: 3.8862313 | K43: 3.5463031 | L43: 3.790732
B44: Männlich | C44: SGB II | D44: MännlichSGB II | E44: 1.8158014 | F44: 1.7656597 | G44: 2.125579 | H44: 2.1508517 | I44: 2.6438704 | J44: 2.8549818 | K44: 3.0487917 | L44: 3.2807684
C57: Frauen | D57: Frauen | E57: Frauen | F57: Frauen | G57: Männer | H57: Männer | I57: Männer
B58: Tab | C58: Bestand | D58: Anteil der Merkmals- gruppe an Insgesamt in % | E58: Verände- rung zum Vorjahr in % | F58: Anteil an allen Personen in % | G58: Bestand | H58: Anteil der Merkmals- gruppe an Insgesamt in % | I58: Verände- rung zum Vorjahr in %
...

Sheet Tab 2
A1: Frauen und Männer
A3: =Auswahl!F4 -> 2 Unterbeschäftigung
A4: ='Tab 2_roh'!D4 -> JC Tuttlingen (Gebietsstand: Juli 2026), SGB II-Vergleichstyp Ic
A5: ="Grafik: Dezember; Tabelle: "&'Tab 2_roh'!D5 -> Grafik: Dezember; Tabelle: April 2026, Daten mit einer Wartezeit von 3 Monaten
A23: In der Unterbeschäftigung werden zusätzlich zu den registrierten Arbeitslosen auch die Personen abgebildet, die nicht als arbeitslos gelten, weil sie Teilnehmer an einer Maßnahme der Arbeitsmarktpolitik oder in einem arbeitsmarktbedingten Sonderstatus sind. Diese Personen stehen für Menschen, denen ein reguläres Beschäftigungsverhältnis fehlt. Es wird unterstellt, dass ohne den Einsatz dieser Maßnahmen bzw. ohne die Zuweisung zu einem Sonderstatus die Arbeitslosigkeit entsprechend höher ausfallen würde. Mit dem Konzept der Unterbeschäftigung werden Defizite an regulärer Beschäftigung umfassender erfasst und realwirtschaftlich bedingte Einflüsse auf den Arbeitsmarkt besser erkannt. Zudem können die direkten Auswirkungen der Arbeitsmarktpolitik auf die Arbeitslosenzahlen nachvollzogen werden.
A33: Komponenten der Unterbeschäftigung | C33: Frauen | G33: Männer
C34: Bestand | D34: Anteil der Kompo- nenten in % | E34: Verände- rung zum Vorjahr in % | F34: Anteil Frauen an allen Personen in % | G34: Bestand | H34: Anteil der Kompo- nenten in % | I34: Verände- rung zum Vorjahr in %
C35: 1 | D35: 2 | E35: 3 | F35: 4 | G35: 5 | H35: 6 | I35: 7
A36: Arbeitslose | C36: ='Tab 2_roh'!C62 -> 2125 | D36: ='Tab 2_roh'!D62 -> 85.034014 | E36: ='Tab 2_roh'!E62 -> 7.7586207 | F36: ='Tab 2_roh'!F62 -> 46.105446 | G36: ='Tab 2_roh'!G62 -> 2484 | H36: ='Tab 2_roh'!H62 -> 85.684719 | I36: ='Tab 2_roh'!I62 -> 3.2848233
A37: + Personen, die im weiteren Sinne arbeitslos sind | C37: ='Tab 2_roh'!C63 -> 55 | D37: ='Tab 2_roh'!D63 -> 2.2008804 | E37: ='Tab 2_roh'!E63 -> -14.0625 | F37: ='Tab 2_roh'!F63 -> 38.732394 | G37: ='Tab 2_roh'!G63 -> 87 | H37: ='Tab 2_roh'!H63 -> 3.0010348 | I37: ='Tab 2_roh'!I63 -> 35.9375
B38: Aktivierung und berufliche Eingliederung | C38: ='Tab 2_roh'!C64 -> 43 | D38: ='Tab 2_roh'!D64 -> 1.7206883 | E38: ='Tab 2_roh'!E64 -> -6.5217391 | F38: ='Tab 2_roh'!F64 -> 38.738739 | G38: ='Tab 2_roh'!G64 -> 68 | H38: ='Tab 2_roh'!H64 -> 2.3456364 | I38: ='Tab 2_roh'!I64 -> 78.947368
B39: Sonderregelung für Ältere (§ 53a Abs. 2 SGB II) | C39: ='Tab 2_roh'!C65 -> 12 | D39: ='Tab 2_roh'!D65 -> 0.48019208 | E39: ='Tab 2_roh'!E65 -> -33.333333 | F39: ='Tab 2_roh'!F65 -> 38.709677 | G39: ='Tab 2_roh'!G65 -> 19 | H39: ='Tab 2_roh'!H65 -> 0.65539841 | I39: ='Tab 2_roh'!I65 -> -26.923077
A40: = Arbeitslosigkeit im weiteren Sinne | C40: ='Tab 2_roh'!C66 -> 2180 | D40: ='Tab 2_roh'!D66 -> 87.234894 | E40: ='Tab 2_roh'!E66 -> 7.0726916 | F40: ='Tab 2_roh'!F66 -> 45.885077 | G40: ='Tab 2_roh'!G66 -> 2571 | H40: ='Tab 2_roh'!H66 -> 88.685754 | I40: ='Tab 2_roh'!I66 -> 4.1312272
A41: + Personen, die nahe am Arbeitslosenstatus sind | C41: ='Tab 2_roh'!C67 -> 314 | D41: ='Tab 2_roh'!D67 -> 12.565026 | E41: ='Tab 2_roh'!E67 -> -8.7209302 | F41: ='Tab 2_roh'!F67 -> 49.762282 | G41: ='Tab 2_roh'!G67 -> 317 | H41: ='Tab 2_roh'!H67 -> 10.934805 | I41: ='Tab 2_roh'!I67 -> -11.452514
B42: Berufliche Weiterbildung inkl. Förd. behindert. Menschen | C42: ='Tab 2_roh'!C68 -> 79 | D42: ='Tab 2_roh'!D68 -> 3.1612645 | E42: ='Tab 2_roh'!E68 -> -17.708333 | F42: ='Tab 2_roh'!F68 -> 45.930233 | G42: ='Tab 2_roh'!G68 -> 93 | H42: ='Tab 2_roh'!H68 -> 3.2080028 | I42: ='Tab 2_roh'!I68 -> -21.186441
B43: Arbeitsgelegenheiten | C43: ='Tab 2_roh'!C69 -> 16 | D43: ='Tab 2_roh'!D69 -> 0.6402561 | E43: ='Tab 2_roh'!E69 -> -15.789474 | F43: ='Tab 2_roh'!F69 -> 57.142857 | G43: ='Tab 2_roh'!G69 -> 12 | H43: ='Tab 2_roh'!H69 -> 0.41393584 | I43: ='Tab 2_roh'!I69 -> -20
B44: Fremdförderung | C44: ='Tab 2_roh'!C70 -> 185 | D44: ='Tab 2_roh'!D70 -> 7.4029612 | E44: ='Tab 2_roh'!E70 -> -5.6122449 | F44: ='Tab 2_roh'!F70 -> 49.731183 | G44: ='Tab 2_roh'!G70 -> 187 | H44: ='Tab 2_roh'!H70 -> 6.4505002 | I44: ='Tab 2_roh'!I70 -> -3.6082474
B45: Förderung von Arbeitsverhältnissen | C45: ='Tab 2_roh'!C71 -> 0 | D45: ='Tab 2_roh'!D71 -> 0 | E45: ='Tab 2_roh'!E71 -> X | F45: ='Tab 2_roh'!F71 -> X | G45: ='Tab 2_roh'!G71 -> 0 | H45: ='Tab 2_roh'!H71 -> 0 | I45: ='Tab 2_roh'!I71 -> X
B46: Beschäftigungszuschuss | C46: ='Tab 2_roh'!C72 -> 0 | D46: ='Tab 2_roh'!D72 -> 0 | E46: ='Tab 2_roh'!E72 -> X | F46: ='Tab 2_roh'!F72 -> X | G46: ='Tab 2_roh'!G72 -> 0 | H46: ='Tab 2_roh'!H72 -> 0 | I46: ='Tab 2_roh'!I72 -> X
