Workbook
Name SAPCrosstab1: 'Überleitung SV Sonstige'!$I$7:$K$195
Name SAPCrosstab10: VMRD!$A$1:$AJ$971
Name SAPCrosstab11: MBLVJ!$A$1:$BP$971
Name SAPCrosstab12: VMBLVJ!$A$1:$BP$971
Name SAPCrosstab13: MRDVJ!$A$1:$AJ$971
Name SAPCrosstab14: VMRDVJ!$A$1:$AJ$971
Name SAPCrosstab2: 'Überleitung SV Sonstige'!$L$7:$N$195
Name SAPCrosstab3: 'HA&VS'!$A$1:$D$971
Name SAPCrosstab7: MBL!$A$1:$BP$971
Name SAPCrosstab8: VMBL!$A$1:$BP$971
Name SAPCrosstab9: MRD!$A$1:$AJ$971

Sheet _com.sap.ip.bi.xl.hiddensheet

Sheet ANBA-SGB III(Bildsch.optmiert)
A4: Finanzentwicklung im Beitragshaushalt SGB III
A5: in Euro (Einnahmen werden mit negativen Vorzeichen dargestellt)
A6: =VLOOKUP(Regionen_Steuerung!E1,Regionen_Steuerung!A1:B23,2,FALSE) -> Deutschland
A7: Berichtsmonat Februar 2026
A8: 46083
B10: Ist-Ergebnisse
A11: Haushaltspositionen | B11: Aktueller Monat | C11: Vorjahresmonat | D11: Jahresfort-schrittswert | E11: Jahresfort-schrittswert Vorjahr
A13: Einnahmen | B13: =IF($A$6="Deutschland",INDEX(Überleitung!$AE$8:$BF$106,MATCH(A13,Überleitung!$A$8:$A$106,0),MATCH($A$6,Überleitung!$AE$7:$BF$7,0)),"") -> -3.8623271e+09 | C13: =IF($A$6="Deutschland",INDEX(Überleitung!$CI$8:$DJ$106,MATCH(A13,Überleitung!$A$8:$A$106,0),MATCH($A$6,Überleitung!$CI$7:$DJ$7,0)),"") -> -3.7775052e+09 | D13: =IF($A$6="Deutschland",INDEX(Überleitung!$C$8:$AD$106,MATCH(A13,Überleitung!$A$8:$A$106,0),MATCH($A$6,Überleitung!$C$7:$AD$7,0)),"") -> -7.6932795e+09 | E13: =IF($A$6="Deutschland",INDEX(Überleitung!$BG$8:$CH$106,MATCH(A13,Überleitung!$A$8:$A$106,0),MATCH($A$6,Überleitung!$BG$7:$CH$7,0)),"") -> -7.4090904e+09
A14: Beiträge | B14: =IF($A$6="Deutschland",INDEX(Überleitung!$AE$8:$BF$106,MATCH(A14,Überleitung!$A$8:$A$106,0),MATCH($A$6,Überleitung!$AE$7:$BF$7,0)),"") -> -3.2231524e+09 | C14: =IF($A$6="Deutschland",INDEX(Überleitung!$CI$8:$DJ$106,MATCH(A14,Überleitung!$A$8:$A$106,0),MATCH($A$6,Überleitung!$CI$7:$DJ$7,0)),"") -> -3.1563703e+09 | D14: =IF($A$6="Deutschland",INDEX(Überleitung!$C$8:$AD$106,MATCH(A14,Überleitung!$A$8:$A$106,0),MATCH($A$6,Überleitung!$C$7:$AD$7,0)),"") -> -6.4709754e+09 | E14: =IF($A$6="Deutschland",INDEX(Überleitung!$BG$8:$CH$106,MATCH(A14,Überleitung!$A$8:$A$106,0),MATCH($A$6,Überleitung!$BG$7:$CH$7,0)),"") -> -6.2770681e+09
A15: Verwaltungskostenerstattungen SGB II | B15: =IF($A$6="Deutschland",INDEX(Überleitung!$AE$8:$BF$106,MATCH(A15,Überleitung!$A$8:$A$106,0),MATCH($A$6,Überleitung!$AE$7:$BF$7,0)),"") -> -3.3667814e+08 | C15: =IF($A$6="Deutschland",INDEX(Überleitung!$CI$8:$DJ$106,MATCH(A15,Überleitung!$A$8:$A$106,0),MATCH($A$6,Überleitung!$CI$7:$DJ$7,0)),"") -> -3.1603528e+08 | D15: =IF($A$6="Deutschland",INDEX(Überleitung!$C$8:$AD$106,MATCH(A15,Überleitung!$A$8:$A$106,0),MATCH($A$6,Überleitung!$C$7:$AD$7,0)),"") -> -6.3617718e+08 | E15: =IF($A$6="Deutschland",INDEX(Überleitung!$BG$8:$CH$106,MATCH(A15,Überleitung!$A$8:$A$106,0),MATCH($A$6,Überleitung!$BG$7:$CH$7,0)),"") -> -5.8836964e+08
A16: Erst. Vw.-kosten Kap. 6 vom Bund | B16: =IF($A$6="Deutschland",INDEX(Überleitung!$AE$8:$BF$106,MATCH(A16,Überleitung!$A$8:$A$106,0),MATCH($A$6,Überleitung!$AE$7:$BF$7,0)),"") -> -2.6595405e+08 | C16: =IF($A$6="Deutschland",INDEX(Überleitung!$CI$8:$DJ$106,MATCH(A16,Überleitung!$A$8:$A$106,0),MATCH($A$6,Überleitung!$CI$7:$DJ$7,0)),"") -> -2.5272668e+08 | D16: =IF($A$6="Deutschland",INDEX(Überleitung!$C$8:$AD$106,MATCH(A16,Überleitung!$A$8:$A$106,0),MATCH($A$6,Überleitung!$C$7:$AD$7,0)),"") -> -5.1900903e+08 | E16: =IF($A$6="Deutschland",INDEX(Überleitung!$BG$8:$CH$106,MATCH(A16,Überleitung!$A$8:$A$106,0),MATCH($A$6,Überleitung!$BG$7:$CH$7,0)),"") -> -4.8094036e+08
A17: Erst. Vw.-kosten Kap. 5 vom Bund und von den zkT | B17: =IF($A$6="Deutschland",INDEX(Überleitung!$AE$8:$BF$106,MATCH(A17,Überleitung!$A$8:$A$106,0),MATCH($A$6,Überleitung!$AE$7:$BF$7,0)),"") -> -70724092 | C17: =IF($A$6="Deutschland",INDEX(Überleitung!$CI$8:$DJ$106,MATCH(A17,Überleitung!$A$8:$A$106,0),MATCH($A$6,Überleitung!$CI$7:$DJ$7,0)),"") -> -63308595 | D17: =IF($A$6="Deutschland",INDEX(Überleitung!$C$8:$AD$106,MATCH(A17,Überleitung!$A$8:$A$106,0),MATCH($A$6,Überleitung!$C$7:$AD$7,0)),"") -> -1.1716815e+08 | E17: =IF($A$6="Deutschland",INDEX(Überleitung!$BG$8:$CH$106,MATCH(A17,Überleitung!$A$8:$A$106,0),MATCH($A$6,Überleitung!$BG$7:$CH$7,0)),"") -> -1.0742928e+08
A18: darunter: vom Bund | B18: =IF($A$6="Deutschland",INDEX(Überleitung!$AE$8:$BF$106,MATCH(A18,Überleitung!$A$8:$A$106,0),MATCH($A$6,Überleitung!$AE$7:$BF$7,0)),"") -> -70631425 | C18: =IF($A$6="Deutschland",INDEX(Überleitung!$CI$8:$DJ$106,MATCH(A18,Überleitung!$A$8:$A$106,0),MATCH($A$6,Überleitung!$CI$7:$DJ$7,0)),"") -> -63255358 | D18: =IF($A$6="Deutschland",INDEX(Überleitung!$C$8:$AD$106,MATCH(A18,Überleitung!$A$8:$A$106,0),MATCH($A$6,Überleitung!$C$7:$AD$7,0)),"") -> -1.1702632e+08 | E18: =IF($A$6="Deutschland",INDEX(Überleitung!$BG$8:$CH$106,MATCH(A18,Überleitung!$A$8:$A$106,0),MATCH($A$6,Überleitung!$BG$7:$CH$7,0)),"") -> -1.0731504e+08
A19: darunter: von den zkT | B19: =IF($A$6="Deutschland",INDEX(Überleitung!$AE$8:$BF$106,MATCH(A19,Überleitung!$A$8:$A$106,0),MATCH($A$6,Überleitung!$AE$7:$BF$7,0)),"") -> -92667.21 | C19: =IF($A$6="Deutschland",INDEX(Überleitung!$CI$8:$DJ$106,MATCH(A19,Überleitung!$A$8:$A$106,0),MATCH($A$6,Überleitung!$CI$7:$DJ$7,0)),"") -> -53237.63 | D19: =IF($A$6="Deutschland",INDEX(Überleitung!$C$8:$AD$106,MATCH(A19,Überleitung!$A$8:$A$106,0),MATCH($A$6,Überleitung!$C$7:$AD$7,0)),"") -> -141834.62 | E19: =IF($A$6="Deutschland",INDEX(Überleitung!$BG$8:$CH$106,MATCH(A19,Überleitung!$A$8:$A$106,0),MATCH($A$6,Überleitung!$BG$7:$CH$7,0)),"") -> -114238
A20: Winterbeschäftigungs-Umlage | B20: =IF($A$6="Deutschland",INDEX(Überleitung!$AE$8:$BF$106,MATCH(A20,Überleitung!$A$8:$A$106,0),MATCH($A$6,Überleitung!$AE$7:$BF$7,0)),"") -> -54772551 | C20: =IF($A$6="Deutschland",INDEX(Überleitung!$CI$8:$DJ$106,MATCH(A20,Überleitung!$A$8:$A$106,0),MATCH($A$6,Überleitung!$CI$7:$DJ$7,0)),"") -> -50106364 | D20: =IF($A$6="Deutschland",INDEX(Überleitung!$C$8:$AD$106,MATCH(A20,Überleitung!$A$8:$A$106,0),MATCH($A$6,Überleitung!$C$7:$AD$7,0)),"") -> -90298647 | E20: =IF($A$6="Deutschland",INDEX(Überleitung!$BG$8:$CH$106,MATCH(A20,Überleitung!$A$8:$A$106,0),MATCH($A$6,Überleitung!$BG$7:$CH$7,0)),"") -> -80877385
A21: Insolvenzgeld-Umlage | B21: =IF($A$6="Deutschland",INDEX(Überleitung!$AE$8:$BF$106,MATCH(A21,Überleitung!$A$8:$A$106,0),MATCH($A$6,Überleitung!$AE$7:$BF$7,0)),"") -> -1.6481662e+08 | C21: =IF($A$6="Deutschland",INDEX(Überleitung!$CI$8:$DJ$106,MATCH(A21,Überleitung!$A$8:$A$106,0),MATCH($A$6,Überleitung!$CI$7:$DJ$7,0)),"") -> -1.7102332e+08 | D21: =IF($A$6="Deutschland",INDEX(Überleitung!$C$8:$AD$106,MATCH(A21,Überleitung!$A$8:$A$106,0),MATCH($A$6,Überleitung!$C$7:$AD$7,0)),"") -> -3.3150524e+08 | E21: =IF($A$6="Deutschland",INDEX(Überleitung!$BG$8:$CH$106,MATCH(A21,Überleitung!$A$8:$A$106,0),MATCH($A$6,Überleitung!$BG$7:$CH$7,0)),"") -> -3.0547212e+08
A22: Erstattungen und Verwaltungseinnahmen | B22: =IF($A$6="Deutschland",INDEX(Überleitung!$AE$8:$BF$106,MATCH(A22,Überleitung!$A$8:$A$106,0),MATCH($A$6,Überleitung!$AE$7:$BF$7,0)),"") -> -82907368 | C22: =IF($A$6="Deutschland",INDEX(Überleitung!$CI$8:$DJ$106,MATCH(A22,Überleitung!$A$8:$A$106,0),MATCH($A$6,Überleitung!$CI$7:$DJ$7,0)),"") -> -83969988 | D22: =IF($A$6="Deutschland",INDEX(Überleitung!$C$8:$AD$106,MATCH(A22,Überleitung!$A$8:$A$106,0),MATCH($A$6,Überleitung!$C$7:$AD$7,0)),"") -> -1.6432303e+08 | E22: =IF($A$6="Deutschland",INDEX(Überleitung!$BG$8:$CH$106,MATCH(A22,Überleitung!$A$8:$A$106,0),MATCH($A$6,Überleitung!$BG$7:$CH$7,0)),"") -> -1.5730311e+08
A23: Verwaltungskostenerstattungen | B23: =IF($A$6="Deutschland",INDEX(Überleitung!$AE$8:$BF$106,MATCH(A23,Überleitung!$A$8:$A$106,0),MATCH($A$6,Überleitung!$AE$7:$BF$7,0)),"") -> -67741692 | C23: =IF($A$6="Deutschland",INDEX(Überleitung!$CI$8:$DJ$106,MATCH(A23,Überleitung!$A$8:$A$106,0),MATCH($A$6,Überleitung!$CI$7:$DJ$7,0)),"") -> -59432737 | D23: =IF($A$6="Deutschland",INDEX(Überleitung!$C$8:$AD$106,MATCH(A23,Überleitung!$A$8:$A$106,0),MATCH($A$6,Überleitung!$C$7:$AD$7,0)),"") -> -1.3175912e+08 | E23: =IF($A$6="Deutschland",INDEX(Überleitung!$BG$8:$CH$106,MATCH(A23,Überleitung!$A$8:$A$106,0),MATCH($A$6,Überleitung!$BG$7:$CH$7,0)),"") -> -1.1881646e+08
A24: Mittel aus der Ausgleichsabgabe | B24: =IF($A$6="Deutschland",INDEX(Überleitung!$AE$8:$BF$106,MATCH(A24,Überleitung!$A$8:$A$106,0),MATCH($A$6,Überleitung!$AE$7:$BF$7,0)),"") -> 0 | C24: =IF($A$6="Deutschland",INDEX(Überleitung!$CI$8:$DJ$106,MATCH(A24,Überleitung!$A$8:$A$106,0),MATCH($A$6,Überleitung!$CI$7:$DJ$7,0)),"") -> 0 | D24: =IF($A$6="Deutschland",INDEX(Überleitung!$C$8:$AD$106,MATCH(A24,Überleitung!$A$8:$A$106,0),MATCH($A$6,Überleitung!$C$7:$AD$7,0)),"") -> 0 | E24: =IF($A$6="Deutschland",INDEX(Überleitung!$BG$8:$CH$106,MATCH(A24,Überleitung!$A$8:$A$106,0),MATCH($A$6,Überleitung!$BG$7:$CH$7,0)),"") -> 0
... A26: Verwaltungseinnahmen und sonstige Erstattungen | B26: =IF($A$6="Deutschland",INDEX(Überleitung!$AE$8:$BF$106,MATCH(A26,Überleitung!$A$8:$A$106,0),MATCH($A$6,Überleitung!$AE$7:$BF$7,0)),"") -> -10757052 | C26: =IF($A$6="Deutschland",INDEX(Überleitung!$CI$8:$DJ$106,MATCH(A26,Überleitung!$A$8:$A$106,0),MATCH($A$6,Überleitung!$CI$7:$DJ$7,0)),"") -> -16118219 | D26: =IF($A$6="Deutschland",INDEX(Überleitung!$C$8:$AD$106,MATCH(A26,Überleitung!$A$8:$A$106,0),MATCH($A$6,Überleitung!$C$7:$AD$7,0)),"") -> -24942862 | E26: =IF($A$6="Deutschland",INDEX(Überleitung!$BG$8:$CH$106,MATCH(A26,Überleitung!$A$8:$A$106,0),MATCH($A$6,Überleitung!$BG$7:$CH$7,0)),"") -> -24971556
A27: Ausgaben | B27: =INDEX(Überleitung!$AE$8:$BF$106,MATCH(A27,Überleitung!$A$8:$A$106,0),MATCH($A$6,Überleitung!$AE$7:$BF$7,0)) -> 4.8457757e+09 | C27: =INDEX(Überleitung!$CI$8:$DJ$106,MATCH(A27,Überleitung!$A$8:$A$106,0),MATCH($A$6,Überleitung!$CI$7:$DJ$7,0)) -> 4.3034867e+09 | D27: =INDEX(Überleitung!$C$8:$AD$106,MATCH(A27,Überleitung!$A$8:$A$106,0),MATCH($A$6,Überleitung!$C$7:$AD$7,0)) -> 9.5643086e+09 | E27: =INDEX(Überleitung!$BG$8:$CH$106,MATCH(A27,Überleitung!$A$8:$A$106,0),MATCH($A$6,Überleitung!$BG$7:$CH$7,0)) -> 8.7986625e+09
A28: Kapitel 2 - Eingliederungstitel | B28: =INDEX(Überleitung!$AE$8:$BF$106,MATCH(A28,Überleitung!$A$8:$A$106,0),MATCH($A$6,Überleitung!$AE$7:$BF$7,0)) -> 3.2125809e+08 | C28: =INDEX(Überleitung!$CI$8:$DJ$106,MATCH(A28,Überleitung!$A$8:$A$106,0),MATCH($A$6,Überleitung!$CI$7:$DJ$7,0)) -> 2.9242937e+08 | D28: =INDEX(Überleitung!$C$8:$AD$106,MATCH(A28,Überleitung!$A$8:$A$106,0),MATCH($A$6,Überleitung!$C$7:$AD$7,0)) -> 6.3904559e+08 | E28: =INDEX(Überleitung!$BG$8:$CH$106,MATCH(A28,Überleitung!$A$8:$A$106,0),MATCH($A$6,Überleitung!$BG$7:$CH$7,0)) -> 5.7953369e+08
A29: Dezentral geplantes Budget | B29: =INDEX(Überleitung!$AE$8:$BF$106,MATCH(A29,Überleitung!$A$8:$A$106,0),MATCH($A$6,Überleitung!$AE$7:$BF$7,0)) -> 3.2125809e+08 | C29: =INDEX(Überleitung!$CI$8:$DJ$106,MATCH(A29,Überleitung!$A$8:$A$106,0),MATCH($A$6,Überleitung!$CI$7:$DJ$7,0)) -> 2.9233913e+08 | D29: =INDEX(Überleitung!$C$8:$AD$106,MATCH(A29,Überleitung!$A$8:$A$106,0),MATCH($A$6,Überleitung!$C$7:$AD$7,0)) -> 6.3904559e+08 | E29: =INDEX(Überleitung!$BG$8:$CH$106,MATCH(A29,Überleitung!$A$8:$A$106,0),MATCH($A$6,Überleitung!$BG$7:$CH$7,0)) -> 5.7944202e+08
A30: Integrationsorientierte Instrumente | B30: =INDEX(Überleitung!$AE$8:$BF$106,MATCH(A30,Überleitung!$A$8:$A$106,0),MATCH($A$6,Überleitung!$AE$7:$BF$7,0)) -> 2.7296875e+08 | C30: =INDEX(Überleitung!$CI$8:$DJ$106,MATCH(A30,Überleitung!$A$8:$A$106,0),MATCH($A$6,Überleitung!$CI$7:$DJ$7,0)) -> 2.4488336e+08 | D30: =INDEX(Überleitung!$C$8:$AD$106,MATCH(A30,Überleitung!$A$8:$A$106,0),MATCH($A$6,Überleitung!$C$7:$AD$7,0)) -> 5.4197478e+08 | E30: =INDEX(Überleitung!$BG$8:$CH$106,MATCH(A30,Überleitung!$A$8:$A$106,0),MATCH($A$6,Überleitung!$BG$7:$CH$7,0)) -> 4.8349659e+08
A31: Vermittlungsbudget nach § 44 SGB III | B31: =INDEX(Überleitung!$AE$8:$BF$106,MATCH(A31,Überleitung!$A$8:$A$106,0),MATCH($A$6,Überleitung!$AE$7:$BF$7,0)) -> 2294969.7 | C31: =INDEX(Überleitung!$CI$8:$DJ$106,MATCH(A31,Überleitung!$A$8:$A$106,0),MATCH($A$6,Überleitung!$CI$7:$DJ$7,0)) -> 2214641.3 | D31: =INDEX(Überleitung!$C$8:$AD$106,MATCH(A31,Überleitung!$A$8:$A$106,0),MATCH($A$6,Überleitung!$C$7:$AD$7,0)) -> 4335149.9 | E31: =INDEX(Überleitung!$BG$8:$CH$106,MATCH(A31,Überleitung!$A$8:$A$106,0),MATCH($A$6,Überleitung!$BG$7:$CH$7,0)) -> 4404581.5
A32: Aktivierung und berufliche Eingliederung | B32: =INDEX(Überleitung!$AE$8:$BF$106,MATCH(A32,Überleitung!$A$8:$A$106,0),MATCH($A$6,Überleitung!$AE$7:$BF$7,0)) -> 26501222 | C32: =INDEX(Überleitung!$CI$8:$DJ$106,MATCH(A32,Überleitung!$A$8:$A$106,0),MATCH($A$6,Überleitung!$CI$7:$DJ$7,0)) -> 26952229 | D32: =INDEX(Überleitung!$C$8:$AD$106,MATCH(A32,Überleitung!$A$8:$A$106,0),MATCH($A$6,Überleitung!$C$7:$AD$7,0)) -> 53225638 | E32: =INDEX(Überleitung!$BG$8:$CH$106,MATCH(A32,Überleitung!$A$8:$A$106,0),MATCH($A$6,Überleitung!$BG$7:$CH$7,0)) -> 55770857
A33: Reisekosten nach § 309 SGB III | B33: =INDEX(Überleitung!$AE$8:$BF$106,MATCH(A33,Überleitung!$A$8:$A$106,0),MATCH($A$6,Überleitung!$AE$7:$BF$7,0)) -> 54623.86 | C33: =INDEX(Überleitung!$CI$8:$DJ$106,MATCH(A33,Überleitung!$A$8:$A$106,0),MATCH($A$6,Überleitung!$CI$7:$DJ$7,0)) -> 63347.65 | D33: =INDEX(Überleitung!$C$8:$AD$106,MATCH(A33,Überleitung!$A$8:$A$106,0),MATCH($A$6,Überleitung!$C$7:$AD$7,0)) -> 107031.72 | E33: =INDEX(Überleitung!$BG$8:$CH$106,MATCH(A33,Überleitung!$A$8:$A$106,0),MATCH($A$6,Überleitung!$BG$7:$CH$7,0)) -> 117653.24
A34: Eingliederungszuschüsse (Egz) | B34: =INDEX(Überleitung!$AE$8:$BF$106,MATCH(A34,Überleitung!$A$8:$A$106,0),MATCH($A$6,Überleitung!$AE$7:$BF$7,0)) -> 14604121 | C34: =INDEX(Überleitung!$CI$8:$DJ$106,MATCH(A34,Überleitung!$A$8:$A$106,0),MATCH($A$6,Überleitung!$CI$7:$DJ$7,0)) -> 18710065 | D34: =INDEX(Überleitung!$C$8:$AD$106,MATCH(A34,Überleitung!$A$8:$A$106,0),MATCH($A$6,Überleitung!$C$7:$AD$7,0)) -> 29040170 | E34: =INDEX(Überleitung!$BG$8:$CH$106,MATCH(A34,Überleitung!$A$8:$A$106,0),MATCH($A$6,Überleitung!$BG$7:$CH$7,0)) -> 37189402
A35: Förderung der beruflichen Weiterbildung (FbW) | B35: =INDEX(Überleitung!$AE$8:$BF$106,MATCH(A35,Überleitung!$A$8:$A$106,0),MATCH($A$6,Überleitung!$AE$7:$BF$7,0)) -> 2.2951407e+08 | C35: =INDEX(Überleitung!$CI$8:$DJ$106,MATCH(A35,Überleitung!$A$8:$A$106,0),MATCH($A$6,Überleitung!$CI$7:$DJ$7,0)) -> 1.9694343e+08 | D35: =INDEX(Überleitung!$C$8:$AD$106,MATCH(A35,Überleitung!$A$8:$A$106,0),MATCH($A$6,Überleitung!$C$7:$AD$7,0)) -> 4.5526859e+08 | E35: =INDEX(Überleitung!$BG$8:$CH$106,MATCH(A35,Überleitung!$A$8:$A$106,0),MATCH($A$6,Überleitung!$BG$7:$CH$7,0)) -> 3.8601475e+08
A36: Freie Förderung | B36: =INDEX(Überleitung!$AE$8:$BF$106,MATCH(A36,Überleitung!$A$8:$A$106,0),MATCH($A$6,Überleitung!$AE$7:$BF$7,0)) -> -251.86 | C36: =INDEX(Überleitung!$CI$8:$DJ$106,MATCH(A36,Überleitung!$A$8:$A$106,0),MATCH($A$6,Überleitung!$CI$7:$DJ$7,0)) -> -351.86 | D36: =INDEX(Überleitung!$C$8:$AD$106,MATCH(A36,Überleitung!$A$8:$A$106,0),MATCH($A$6,Überleitung!$C$7:$AD$7,0)) -> -1791.27 | E36: =INDEX(Überleitung!$BG$8:$CH$106,MATCH(A36,Überleitung!$A$8:$A$106,0),MATCH($A$6,Überleitung!$BG$7:$CH$7,0)) -> -653.73
A37: Spezielle Maßnahmen für Jüngere | B37: =INDEX(Überleitung!$AE$8:$BF$106,MATCH(A37,Überleitung!$A$8:$A$106,0),MATCH($A$6,Überleitung!$AE$7:$BF$7,0)) -> 13582335 | C37: =INDEX(Überleitung!$CI$8:$DJ$106,MATCH(A37,Überleitung!$A$8:$A$106,0),MATCH($A$6,Überleitung!$CI$7:$DJ$7,0)) -> 16226375 | D37: =INDEX(Überleitung!$C$8:$AD$106,MATCH(A37,Überleitung!$A$8:$A$106,0),MATCH($A$6,Überleitung!$C$7:$AD$7,0)) -> 27495731 | E37: =INDEX(Überleitung!$BG$8:$CH$106,MATCH(A37,Überleitung!$A$8:$A$106,0),MATCH($A$6,Überleitung!$BG$7:$CH$7,0)) -> 33455565
A38: Berufsausbildung in außerbetrieblichen Einrichtungen (BaE) | B38: =INDEX(Überleitung!$AE$8:$BF$106,MATCH(A38,Überleitung!$A$8:$A$106,0),MATCH($A$6,Überleitung!$AE$7:$BF$7,0)) -> 2327827 | C38: =INDEX(Überleitung!$CI$8:$DJ$106,MATCH(A38,Überleitung!$A$8:$A$106,0),MATCH($A$6,Überleitung!$CI$7:$DJ$7,0)) -> 5662958 | D38: =INDEX(Überleitung!$C$8:$AD$106,MATCH(A38,Überleitung!$A$8:$A$106,0),MATCH($A$6,Überleitung!$C$7:$AD$7,0)) -> 5180936 | E38: =INDEX(Überleitung!$BG$8:$CH$106,MATCH(A38,Überleitung!$A$8:$A$106,0),MATCH($A$6,Überleitung!$BG$7:$CH$7,0)) -> 11600392
... A96: Ausgaben f. überörtliche Aufgaben SGB II (üKo - ohne Pers.) | B96: =INDEX(Überleitung!$AE$8:$BF$106,MATCH(A96,Überleitung!$A$8:$A$106,0),MATCH($A$6,Überleitung!$AE$7:$BF$7,0)) -> 373814.89 | C96: =INDEX(Überleitung!$CI$8:$DJ$106,MATCH(A96,Überleitung!$A$8:$A$106,0),MATCH($A$6,Überleitung!$CI$7:$DJ$7,0)) -> 529093.88 | D96: =INDEX(Überleitung!$C$8:$AD$106,MATCH(A96,Überleitung!$A$8:$A$106,0),MATCH($A$6,Überleitung!$C$7:$AD$7,0)) -> 411779.07 | E96: =INDEX(Überleitung!$BG$8:$CH$106,MATCH(A96,Überleitung!$A$8:$A$106,0),MATCH($A$6,Überleitung!$BG$7:$CH$7,0)) -> 745387.61
A97: Finanzierungssaldo (Überschuss (-) Defizit (+)) | B97: =IF($A$6="Deutschland",INDEX(Überleitung!$AE$8:$BF$106,MATCH(A97,Überleitung!$A$8:$A$106,0),MATCH($A$6,Überleitung!$AE$7:$BF$7,0)),"") -> 9.8344864e+08 | C97: =IF($A$6="Deutschland",INDEX(Überleitung!$CI$8:$DJ$106,MATCH(A97,Überleitung!$A$8:$A$106,0),MATCH($A$6,Überleitung!$CI$7:$DJ$7,0)),"") -> 5.2598149e+08 | D97: =IF($A$6="Deutschland",INDEX(Überleitung!$C$8:$AD$106,MATCH(A97,Überleitung!$A$8:$A$106,0),MATCH($A$6,Überleitung!$C$7:$AD$7,0)),"") -> 1.871029e+09 | E97: =IF($A$6="Deutschland",INDEX(Überleitung!$BG$8:$CH$106,MATCH(A97,Überleitung!$A$8:$A$106,0),MATCH($A$6,Überleitung!$BG$7:$CH$7,0)),"") -> 1.3895722e+09
A98: nachrichtlich: Zuführung (+) Entnahme (-)
A99: Bundesdarlehen | B99: =IF($A$6="Deutschland",INDEX(Überleitung!$AE$8:$BF$106,MATCH(A99,Überleitung!$A$8:$A$106,0),MATCH($A$6,Überleitung!$AE$7:$BF$7,0)),"") -> 0 | C99: =IF($A$6="Deutschland",INDEX(Überleitung!$CI$8:$DJ$106,MATCH(A99,Überleitung!$A$8:$A$106,0),MATCH($A$6,Überleitung!$CI$7:$DJ$7,0)),"") -> 0 | D99: =IF($A$6="Deutschland",INDEX(Überleitung!$C$8:$AD$106,MATCH(A99,Überleitung!$A$8:$A$106,0),MATCH($A$6,Überleitung!$C$7:$AD$7,0)),"") -> 0 | E99: =IF($A$6="Deutschland",INDEX(Überleitung!$BG$8:$CH$106,MATCH(A99,Überleitung!$A$8:$A$106,0),MATCH($A$6,Überleitung!$BG$7:$CH$7,0)),"") -> 0
A100: Darlehenstilgung | B100: =IF($A$6="Deutschland",INDEX(Überleitung!$AE$8:$BF$106,MATCH(A100,Überleitung!$A$8:$A$106,0),MATCH($A$6,Überleitung!$AE$7:$BF$7,0)),"") -> 0 | C100: =IF($A$6="Deutschland",INDEX(Überleitung!$CI$8:$DJ$106,MATCH(A100,Überleitung!$A$8:$A$106,0),MATCH($A$6,Überleitung!$CI$7:$DJ$7,0)),"") -> 0 | D100: =IF($A$6="Deutschland",INDEX(Überleitung!$C$8:$AD$106,MATCH(A100,Überleitung!$A$8:$A$106,0),MATCH($A$6,Überleitung!$C$7:$AD$7,0)),"") -> 0 | E100: =IF($A$6="Deutschland",INDEX(Überleitung!$BG$8:$CH$106,MATCH(A100,Überleitung!$A$8:$A$106,0),MATCH($A$6,Überleitung!$BG$7:$CH$7,0)),"") -> 0
A101: Insolvenzgeldrücklage | B101: =IF($A$6="Deutschland",INDEX(Überleitung!$AE$8:$BF$106,MATCH(A101,Überleitung!$A$8:$A$106,0),MATCH($A$6,Überleitung!$AE$7:$BF$7,0)),"") -> 0 | C101: =IF($A$6="Deutschland",INDEX(Überleitung!$CI$8:$DJ$106,MATCH(A101,Überleitung!$A$8:$A$106,0),MATCH($A$6,Überleitung!$CI$7:$DJ$7,0)),"") -> 0 | D101: =IF($A$6="Deutschland",INDEX(Überleitung!$C$8:$AD$106,MATCH(A101,Überleitung!$A$8:$A$106,0),MATCH($A$6,Überleitung!$C$7:$AD$7,0)),"") -> 0 | E101: =IF($A$6="Deutschland",INDEX(Überleitung!$BG$8:$CH$106,MATCH(A101,Überleitung!$A$8:$A$106,0),MATCH($A$6,Überleitung!$BG$7:$CH$7,0)),"") -> 0
A102: Winterbeschäftigungsrücklage | B102: =IF($A$6="Deutschland",INDEX(Überleitung!$AE$8:$BF$106,MATCH(A102,Überleitung!$A$8:$A$106,0),MATCH($A$6,Überleitung!$AE$7:$BF$7,0)),"") -> 0 | C102: =IF($A$6="Deutschland",INDEX(Überleitung!$CI$8:$DJ$106,MATCH(A102,Überleitung!$A$8:$A$106,0),MATCH($A$6,Überleitung!$CI$7:$DJ$7,0)),"") -> 0 | D102: =IF($A$6="Deutschland",INDEX(Überleitung!$C$8:$AD$106,MATCH(A102,Überleitung!$A$8:$A$106,0),MATCH($A$6,Überleitung!$C$7:$AD$7,0)),"") -> 0 | E102: =IF($A$6="Deutschland",INDEX(Überleitung!$BG$8:$CH$106,MATCH(A102,Überleitung!$A$8:$A$106,0),MATCH($A$6,Überleitung!$BG$7:$CH$7,0)),"") -> 0
A103: Allgemeine Rücklagen (inkl. Eingliederungsrücklage) | B103: =IF($A$6="Deutschland",INDEX(Überleitung!$AE$8:$BF$106,MATCH(A103,Überleitung!$A$8:$A$106,0),MATCH($A$6,Überleitung!$AE$7:$BF$7,0)),"") -> 0 | C103: =IF($A$6="Deutschland",INDEX(Überleitung!$CI$8:$DJ$106,MATCH(A103,Überleitung!$A$8:$A$106,0),MATCH($A$6,Überleitung!$CI$7:$DJ$7,0)),"") -> 0 | D103: =IF($A$6="Deutschland",INDEX(Überleitung!$C$8:$AD$106,MATCH(A103,Überleitung!$A$8:$A$106,0),MATCH($A$6,Überleitung!$C$7:$AD$7,0)),"") -> 0 | E103: =IF($A$6="Deutschland",INDEX(Überleitung!$BG$8:$CH$106,MATCH(A103,Überleitung!$A$8:$A$106,0),MATCH($A$6,Überleitung!$BG$7:$CH$7,0)),"") -> 0
...

Sheet ANBA-SGB III(Realisierungsgrad)
A4: Realisierungsgrad der Einnahmen und Ausgaben
A5: in Euro (Einnahmen werden mit negativen Vorzeichen dargestellt)
A6: Deutschland
A7: ='ANBA-SGB III(Bildsch.optmiert)'!A7 -> Berichtsmonat Februar 2026
A8: ='ANBA-SGB III(Bildsch.optmiert)'!A8 -> 46083
E10: Februar
A11: Haushaltspositionen | B11: =Regionen_Steuerung!I3 -> 2026 | C11: Haushaltsansatz (Bund) | D11: davon abweichend Verfügbares Soll | E11: zum Ansatz | F11: zum verf. Soll
A13: Einnahmen | B13: =INDEX(Überleitung!$C$8:$C$106,MATCH(A13,Überleitung!$A$8:$A$106,0),MATCH($A$6,Überleitung!$C$7,0)) -> -7.6932795e+09 | C13: =INDEX(Überleitung!$DK$8:$DK$106,MATCH(A13,Überleitung!$A$8:$A$106,0),MATCH($A$6,Überleitung!$DK$5,0)) -> -49226912000 | E13: =IF(C13=0,0,IF(B13*100/C13<-100,"<-100",IF(B13*100/C13>100,">100",B13*100/C13))) -> 15.628199 | G13: 1
A14: Beiträge | B14: =INDEX(Überleitung!$C$8:$C$106,MATCH(A14,Überleitung!$A$8:$A$106,0),MATCH($A$6,Überleitung!$C$7,0)) -> -6.4709754e+09 | C14: =INDEX(Überleitung!$DK$8:$DK$106,MATCH(A14,Überleitung!$A$8:$A$106,0),MATCH($A$6,Überleitung!$DK$5,0)) -> -41121000000 | E14: =IF(C14=0,0,IF(B14*100/C14<-100,"<-100",IF(B14*100/C14>100,">100",B14*100/C14))) -> 15.736425 | G14: 2
A15: Verwaltungskostenerstattungen SGB II | B15: =INDEX(Überleitung!$C$8:$C$106,MATCH(A15,Überleitung!$A$8:$A$106,0),MATCH($A$6,Überleitung!$C$7,0)) -> -6.3617718e+08 | C15: =INDEX(Überleitung!$DK$8:$DK$106,MATCH(A15,Überleitung!$A$8:$A$106,0),MATCH($A$6,Überleitung!$DK$5,0)) -> -4334684000 | E15: =IF(C15=0,0,IF(B15*100/C15<-100,"<-100",IF(B15*100/C15>100,">100",B15*100/C15))) -> 14.676437 | G15: 3
A16: Erst. Vw.-kosten Kap. 6 vom Bund | B16: =INDEX(Überleitung!$C$8:$C$106,MATCH(A16,Überleitung!$A$8:$A$106,0),MATCH($A$6,Überleitung!$C$7,0)) -> -5.1900903e+08 | C16: =INDEX(Überleitung!$DK$8:$DK$106,MATCH(A16,Überleitung!$A$8:$A$106,0),MATCH($A$6,Überleitung!$DK$5,0)) -> -3463784000 | E16: =IF(C16=0,0,IF(B16*100/C16<-100,"<-100",IF(B16*100/C16>100,">100",B16*100/C16))) -> 14.983874 | G16: 4
A17: Erst. Vw.-kosten Kap. 5 vom Bund und von den zkT | B17: =INDEX(Überleitung!$C$8:$C$106,MATCH(A17,Überleitung!$A$8:$A$106,0),MATCH($A$6,Überleitung!$C$7,0)) -> -1.1716815e+08 | C17: =INDEX(Überleitung!$DK$8:$DK$106,MATCH(A17,Überleitung!$A$8:$A$106,0),MATCH($A$6,Überleitung!$DK$5,0)) -> -870900000 | E17: =IF(C17=0,0,IF(B17*100/C17<-100,"<-100",IF(B17*100/C17>100,">100",B17*100/C17))) -> 13.453686 | G17: 4
A18: darunter: vom Bund | B18: =INDEX(Überleitung!$C$8:$C$106,MATCH(A18,Überleitung!$A$8:$A$106,0),MATCH($A$6,Überleitung!$C$7,0)) -> -1.1702632e+08 | C18: =INDEX(Überleitung!$DK$8:$DK$106,MATCH(A18,Überleitung!$A$8:$A$106,0),MATCH($A$6,Überleitung!$DK$5,0)) -> -870000000 | E18: =IF(C18=0,0,IF(B18*100/C18<-100,"<-100",IF(B18*100/C18>100,">100",B18*100/C18))) -> 13.451301 | G18: 18
A19: darunter: von den zkT | B19: =INDEX(Überleitung!$C$8:$C$106,MATCH(A19,Überleitung!$A$8:$A$106,0),MATCH($A$6,Überleitung!$C$7,0)) -> -141834.62 | C19: =INDEX(Überleitung!$DK$8:$DK$106,MATCH(A19,Überleitung!$A$8:$A$106,0),MATCH($A$6,Überleitung!$DK$5,0)) -> -900000 | E19: =IF(C19=0,0,IF(B19*100/C19<-100,"<-100",IF(B19*100/C19>100,">100",B19*100/C19))) -> 15.759402 | G19: 19
A20: Winterbeschäftigungs-Umlage | B20: =INDEX(Überleitung!$C$8:$C$106,MATCH(A20,Überleitung!$A$8:$A$106,0),MATCH($A$6,Überleitung!$C$7,0)) -> -90298647 | C20: =INDEX(Überleitung!$DK$8:$DK$106,MATCH(A20,Überleitung!$A$8:$A$106,0),MATCH($A$6,Überleitung!$DK$5,0)) -> -511000000 | E20: =IF(C20=0,0,IF(B20*100/C20<-100,"<-100",IF(B20*100/C20>100,">100",B20*100/C20))) -> 17.670968 | G20: 6
A21: Insolvenzgeld-Umlage | B21: =INDEX(Überleitung!$C$8:$C$106,MATCH(A21,Überleitung!$A$8:$A$106,0),MATCH($A$6,Überleitung!$C$7,0)) -> -3.3150524e+08 | C21: =INDEX(Überleitung!$DK$8:$DK$106,MATCH(A21,Überleitung!$A$8:$A$106,0),MATCH($A$6,Überleitung!$DK$5,0)) -> -2077000000 | E21: =IF(C21=0,0,IF(B21*100/C21<-100,"<-100",IF(B21*100/C21>100,">100",B21*100/C21))) -> 15.960772 | G21: 7
A22: Erstattungen und Verwaltungseinnahmen | B22: =INDEX(Überleitung!$C$8:$C$106,MATCH(A22,Überleitung!$A$8:$A$106,0),MATCH($A$6,Überleitung!$C$7,0)) -> -1.6432303e+08 | C22: =INDEX(Überleitung!$DK$8:$DK$106,MATCH(A22,Überleitung!$A$8:$A$106,0),MATCH($A$6,Überleitung!$DK$5,0)) -> -1183228000 | E22: =IF(C22=0,0,IF(B22*100/C22<-100,"<-100",IF(B22*100/C22>100,">100",B22*100/C22))) -> 13.887689 | G22: 5
A23: Verwaltungskostenerstattungen | B23: =INDEX(Überleitung!$C$8:$C$106,MATCH(A23,Überleitung!$A$8:$A$106,0),MATCH($A$6,Überleitung!$C$7,0)) -> -1.3175912e+08 | C23: =INDEX(Überleitung!$DK$8:$DK$106,MATCH(A23,Überleitung!$A$8:$A$106,0),MATCH($A$6,Überleitung!$DK$5,0)) -> -828063000 | E23: =IF(C23=0,0,IF(B23*100/C23<-100,"<-100",IF(B23*100/C23>100,">100",B23*100/C23))) -> 15.911727 | G23: 9
A24: Mittel aus der Ausgleichsabgabe | B24: =INDEX(Überleitung!$C$8:$C$106,MATCH(A24,Überleitung!$A$8:$A$106,0),MATCH($A$6,Überleitung!$C$7,0)) -> 0 | C24: =INDEX(Überleitung!$DK$8:$DK$106,MATCH(A24,Überleitung!$A$8:$A$106,0),MATCH($A$6,Überleitung!$DK$5,0)) -> -155000000 | E24: =IF(C24=0,0,IF(B24*100/C24<-100,"<-100",IF(B24*100/C24>100,">100",B24*100/C24))) -> 0 | G24: 10
... A26: Verwaltungseinnahmen und sonstige Erstattungen | B26: =INDEX(Überleitung!$C$8:$C$106,MATCH(A26,Überleitung!$A$8:$A$106,0),MATCH($A$6,Überleitung!$C$7,0)) -> -24942862 | C26: =INDEX(Überleitung!$DK$8:$DK$106,MATCH(A26,Überleitung!$A$8:$A$106,0),MATCH($A$6,Überleitung!$DK$5,0)) -> -160915000 | E26: =IF(C26=0,0,IF(B26*100/C26<-100,"<-100",IF(B26*100/C26>100,">100",B26*100/C26))) -> 15.500644 | G26: 13
A27: Ausgaben | B27: =INDEX(Überleitung!$C$8:$C$106,MATCH(A27,Überleitung!$A$8:$A$106,0),MATCH($A$6,Überleitung!$C$7,0)) -> 9.5643086e+09 | C27: =INDEX(Überleitung!$DK$8:$DK$106,MATCH(A27,Überleitung!$A$8:$A$106,0),MATCH($A$6,Überleitung!$DK$5,0)) -> 52600459000 | D27: =IF(INDEX(Überleitung!$DL$8:$DL$106,MATCH(A27,Überleitung!$A$8:$A$106,0),MATCH($A$6,Überleitung!$DL$5,0))=$C27,"",INDEX(Überleitung!$DL$8:$DL$106,MATCH(A27,Überleitung!$A$8:$A$106,0),MATCH($A$6,Überleitung!$DL$5,0))) -> 5.2581636e+10 | E27: =IF(C27=0,0,IF(B27*100/C27<-100,"<-100",IF(B27*100/C27>100,">100",B27*100/C27))) -> 18.182937 | F27: =IF(D27="",0,IF(B27*100/D27<-100,"<-100",IF(B27*100/D27>100,">100",B27*100/D27))) -> 18.189447 | G27: 14
A28: Kapitel 2 - Eingliederungstitel | B28: =INDEX(Überleitung!$C$8:$C$106,MATCH(A28,Überleitung!$A$8:$A$106,0),MATCH($A$6,Überleitung!$C$7,0)) -> 6.3904559e+08 | C28: =INDEX(Überleitung!$DK$8:$DK$106,MATCH(A28,Überleitung!$A$8:$A$106,0),MATCH($A$6,Überleitung!$DK$5,0)) -> 4495000000 | D28: =IF(INDEX(Überleitung!$DL$8:$DL$106,MATCH(A28,Überleitung!$A$8:$A$106,0),MATCH($A$6,Überleitung!$DL$5,0))=$C28,"",INDEX(Überleitung!$DL$8:$DL$106,MATCH(A28,Überleitung!$A$8:$A$106,0),MATCH($A$6,Überleitung!$DL$5,0))) | E28: =IF(C28=0,0,IF(B28*100/C28<-100,"<-100",IF(B28*100/C28>100,">100",B28*100/C28))) -> 14.21681 | F28: =IF(D28="",0,IF(B28*100/D28<-100,"<-100",IF(B28*100/D28>100,">100",B28*100/D28))) -> 0 | G28: 15
A29: Dezentral geplantes Budget | B29: =INDEX(Überleitung!$C$8:$C$106,MATCH(A29,Überleitung!$A$8:$A$106,0),MATCH($A$6,Überleitung!$C$7,0)) -> 6.3904559e+08 | C29: =INDEX(Überleitung!$DK$8:$DK$106,MATCH(A29,Überleitung!$A$8:$A$106,0),MATCH($A$6,Überleitung!$DK$5,0)) -> 4495000000 | D29: =IF(INDEX(Überleitung!$DL$8:$DL$106,MATCH(A29,Überleitung!$A$8:$A$106,0),MATCH($A$6,Überleitung!$DL$5,0))=$C29,"",INDEX(Überleitung!$DL$8:$DL$106,MATCH(A29,Überleitung!$A$8:$A$106,0),MATCH($A$6,Überleitung!$DL$5,0))) -> 4.4899989e+09 | E29: =IF(C29=0,0,IF(B29*100/C29<-100,"<-100",IF(B29*100/C29>100,">100",B29*100/C29))) -> 14.21681 | F29: =IF(D29="",0,IF(B29*100/D29<-100,"<-100",IF(B29*100/D29>100,">100",B29*100/D29))) -> 14.232645 | G29: 16
A30: Integrationsorientierte Instrumente | B30: =INDEX(Überleitung!$C$8:$C$106,MATCH(A30,Überleitung!$A$8:$A$106,0),MATCH($A$6,Überleitung!$C$7,0)) -> 5.4197478e+08 | C30: =INDEX(Überleitung!$DK$8:$DK$106,MATCH(A30,Überleitung!$A$8:$A$106,0),MATCH($A$6,Überleitung!$DK$5,0)) -> 0 | D30: =IF(INDEX(Überleitung!$DL$8:$DL$106,MATCH(A30,Überleitung!$A$8:$A$106,0),MATCH($A$6,Überleitung!$DL$5,0))=$C30,"",INDEX(Überleitung!$DL$8:$DL$106,MATCH(A30,Überleitung!$A$8:$A$106,0),MATCH($A$6,Überleitung!$DL$5,0))) -> 3.7203312e+09 | E30: =IF(C30=0,0,IF(B30*100/C30<-100,"<-100",IF(B30*100/C30>100,">100",B30*100/C30))) -> 0 | F30: =IF(D30="",0,IF(B30*100/D30<-100,"<-100",IF(B30*100/D30>100,">100",B30*100/D30))) -> 14.567918 | G30: 17
A31: Vermittlungsbudget nach § 44 SGB III | B31: =INDEX(Überleitung!$C$8:$C$106,MATCH(A31,Überleitung!$A$8:$A$106,0),MATCH($A$6,Überleitung!$C$7,0)) -> 4335149.9 | C31: =INDEX(Überleitung!$DK$8:$DK$106,MATCH(A31,Überleitung!$A$8:$A$106,0),MATCH($A$6,Überleitung!$DK$5,0)) -> 0 | D31: =IF(INDEX(Überleitung!$DL$8:$DL$106,MATCH(A31,Überleitung!$A$8:$A$106,0),MATCH($A$6,Überleitung!$DL$5,0))=$C31,"",INDEX(Überleitung!$DL$8:$DL$106,MATCH(A31,Überleitung!$A$8:$A$106,0),MATCH($A$6,Überleitung!$DL$5,0))) -> 36861410 | E31: =IF(C31=0,0,IF(B31*100/C31<-100,"<-100",IF(B31*100/C31>100,">100",B31*100/C31))) -> 0 | F31: =IF(D31="",0,IF(B31*100/D31<-100,"<-100",IF(B31*100/D31>100,">100",B31*100/D31))) -> 11.760673 | G31: 18
A32: Aktivierung und berufliche Eingliederung | B32: =INDEX(Überleitung!$C$8:$C$106,MATCH(A32,Überleitung!$A$8:$A$106,0),MATCH($A$6,Überleitung!$C$7,0)) -> 53225638 | C32: =INDEX(Überleitung!$DK$8:$DK$106,MATCH(A32,Überleitung!$A$8:$A$106,0),MATCH($A$6,Überleitung!$DK$5,0)) -> 0 | D32: =IF(INDEX(Überleitung!$DL$8:$DL$106,MATCH(A32,Überleitung!$A$8:$A$106,0),MATCH($A$6,Überleitung!$DL$5,0))=$C32,"",INDEX(Überleitung!$DL$8:$DL$106,MATCH(A32,Überleitung!$A$8:$A$106,0),MATCH($A$6,Überleitung!$DL$5,0))) -> 5.0675845e+08 | E32: =IF(C32=0,0,IF(B32*100/C32<-100,"<-100",IF(B32*100/C32>100,">100",B32*100/C32))) -> 0 | F32: =IF(D32="",0,IF(B32*100/D32<-100,"<-100",IF(B32*100/D32>100,">100",B32*100/D32))) -> 10.503157 | G32: 19
A33: Reisekosten nach § 309 SGB III | B33: =INDEX(Überleitung!$C$8:$C$106,MATCH(A33,Überleitung!$A$8:$A$106,0),MATCH($A$6,Überleitung!$C$7,0)) -> 107031.72 | C33: =INDEX(Überleitung!$DK$8:$DK$106,MATCH(A33,Überleitung!$A$8:$A$106,0),MATCH($A$6,Überleitung!$DK$5,0)) -> 0 | D33: =IF(INDEX(Überleitung!$DL$8:$DL$106,MATCH(A33,Überleitung!$A$8:$A$106,0),MATCH($A$6,Überleitung!$DL$5,0))=$C33,"",INDEX(Überleitung!$DL$8:$DL$106,MATCH(A33,Überleitung!$A$8:$A$106,0),MATCH($A$6,Überleitung!$DL$5,0))) -> 1253983.4 | E33: =IF(C33=0,0,IF(B33*100/C33<-100,"<-100",IF(B33*100/C33>100,">100",B33*100/C33))) -> 0 | F33: =IF(D33="",0,IF(B33*100/D33<-100,"<-100",IF(B33*100/D33>100,">100",B33*100/D33))) -> 8.5353377 | G33: 20
A34: Eingliederungszuschüsse (Egz) | B34: =INDEX(Überleitung!$C$8:$C$106,MATCH(A34,Überleitung!$A$8:$A$106,0),MATCH($A$6,Überleitung!$C$7,0)) -> 29040170 | C34: =INDEX(Überleitung!$DK$8:$DK$106,MATCH(A34,Überleitung!$A$8:$A$106,0),MATCH($A$6,Überleitung!$DK$5,0)) -> 0 | D34: =IF(INDEX(Überleitung!$DL$8:$DL$106,MATCH(A34,Überleitung!$A$8:$A$106,0),MATCH($A$6,Überleitung!$DL$5,0))=$C34,"",INDEX(Überleitung!$DL$8:$DL$106,MATCH(A34,Überleitung!$A$8:$A$106,0),MATCH($A$6,Überleitung!$DL$5,0))) -> 2.5819136e+08 | E34: =IF(C34=0,0,IF(B34*100/C34<-100,"<-100",IF(B34*100/C34>100,">100",B34*100/C34))) -> 0 | F34: =IF(D34="",0,IF(B34*100/D34<-100,"<-100",IF(B34*100/D34>100,">100",B34*100/D34))) -> 11.247537 | G34: 21
A35: Förderung der beruflichen Weiterbildung (FbW) | B35: =INDEX(Überleitung!$C$8:$C$106,MATCH(A35,Überleitung!$A$8:$A$106,0),MATCH($A$6,Überleitung!$C$7,0)) -> 4.5526859e+08 | C35: =INDEX(Überleitung!$DK$8:$DK$106,MATCH(A35,Überleitung!$A$8:$A$106,0),MATCH($A$6,Überleitung!$DK$5,0)) -> 0 | D35: =IF(INDEX(Überleitung!$DL$8:$DL$106,MATCH(A35,Überleitung!$A$8:$A$106,0),MATCH($A$6,Überleitung!$DL$5,0))=$C35,"",INDEX(Überleitung!$DL$8:$DL$106,MATCH(A35,Überleitung!$A$8:$A$106,0),MATCH($A$6,Überleitung!$DL$5,0))) -> 2.917266e+09 | E35: =IF(C35=0,0,IF(B35*100/C35<-100,"<-100",IF(B35*100/C35>100,">100",B35*100/C35))) -> 0 | F35: =IF(D35="",0,IF(B35*100/D35<-100,"<-100",IF(B35*100/D35>100,">100",B35*100/D35))) -> 15.606002 | G35: 22
A36: Freie Förderung | B36: =INDEX(Überleitung!$C$8:$C$106,MATCH(A36,Überleitung!$A$8:$A$106,0),MATCH($A$6,Überleitung!$C$7,0)) -> -1791.27 | C36: =INDEX(Überleitung!$DK$8:$DK$106,MATCH(A36,Überleitung!$A$8:$A$106,0),MATCH($A$6,Überleitung!$DK$5,0)) -> 0 | D36: =IF(INDEX(Überleitung!$DL$8:$DL$106,MATCH(A36,Überleitung!$A$8:$A$106,0),MATCH($A$6,Überleitung!$DL$5,0))=$C36,"",INDEX(Überleitung!$DL$8:$DL$106,MATCH(A36,Überleitung!$A$8:$A$106,0),MATCH($A$6,Überleitung!$DL$5,0))) | E36: =IF(C36=0,0,IF(B36*100/C36<-100,"<-100",IF(B36*100/C36>100,">100",B36*100/C36))) -> 0 | F36: =IF(D36="",0,IF(B36*100/D36<-100,"<-100",IF(B36*100/D36>100,">100",B36*100/D36))) -> 0 | G36: 23
A37: Spezielle Maßnahmen für Jüngere | B37: =INDEX(Überleitung!$C$8:$C$106,MATCH(A37,Überleitung!$A$8:$A$106,0),MATCH($A$6,Überleitung!$C$7,0)) -> 27495731 | C37: =INDEX(Überleitung!$DK$8:$DK$106,MATCH(A37,Überleitung!$A$8:$A$106,0),MATCH($A$6,Überleitung!$DK$5,0)) -> 0 | D37: =IF(INDEX(Überleitung!$DL$8:$DL$106,MATCH(A37,Überleitung!$A$8:$A$106,0),MATCH($A$6,Überleitung!$DL$5,0))=$C37,"",INDEX(Überleitung!$DL$8:$DL$106,MATCH(A37,Überleitung!$A$8:$A$106,0),MATCH($A$6,Überleitung!$DL$5,0))) -> 2.9993051e+08 | E37: =IF(C37=0,0,IF(B37*100/C37<-100,"<-100",IF(B37*100/C37>100,">100",B37*100/C37))) -> 0 | F37: =IF(D37="",0,IF(B37*100/D37<-100,"<-100",IF(B37*100/D37>100,">100",B37*100/D37))) -> 9.167367 | G37: 24
A38: Berufsausbildung in außerbetrieblichen Einrichtungen (BaE) | B38: =INDEX(Überleitung!$C$8:$C$106,MATCH(A38,Überleitung!$A$8:$A$106,0),MATCH($A$6,Überleitung!$C$7,0)) -> 5180936 | C38: =INDEX(Überleitung!$DK$8:$DK$106,MATCH(A38,Überleitung!$A$8:$A$106,0),MATCH($A$6,Überleitung!$DK$5,0)) -> 0 | D38: =IF(INDEX(Überleitung!$DL$8:$DL$106,MATCH(A38,Überleitung!$A$8:$A$106,0),MATCH($A$6,Überleitung!$DL$5,0))=$C38,"",INDEX(Überleitung!$DL$8:$DL$106,MATCH(A38,Überleitung!$A$8:$A$106,0),MATCH($A$6,Überleitung!$DL$5,0))) -> 49322615 | E38: =IF(C38=0,0,IF(B38*100/C38<-100,"<-100",IF(B38*100/C38>100,">100",B38*100/C38))) -> 0 | F38: =IF(D38="",0,IF(B38*100/D38<-100,"<-100",IF(B38*100/D38>100,">100",B38*100/D38))) -> 10.504179 | G38: 25
... A97: Finanzierungssaldo (Überschuss (-) Defizit (+)) | B97: =INDEX(Überleitung!$C$8:$C$106,MATCH(A97,Überleitung!$A$8:$A$106,0),MATCH($A$6,Überleitung!$C$7,0)) -> 1.871029e+09 | C97: =INDEX(Überleitung!$DK$8:$DK$106,MATCH(A97,Überleitung!$A$8:$A$106,0),MATCH($A$6,Überleitung!$DK$5,0)) -> 3373547000 | D97: =IF(INDEX(Überleitung!$DL$8:$DL$106,MATCH(A97,Überleitung!$A$8:$A$106,0),MATCH($A$6,Überleitung!$DL$5,0))=$C97,"",INDEX(Überleitung!$DL$8:$DL$106,MATCH(A97,Überleitung!$A$8:$A$106,0),MATCH($A$6,Überleitung!$DL$5,0))) -> 3.3547238e+09 | E97: =IF(C97=0,0,IF(B97*100/C97<-100,"<-100",IF(B97*100/C97>100,">100",B97*100/C97))) -> 55.461775 | F97: =IF(D97="",0,IF(B97*100/D97<-100,"<-100",IF(B97*100/D97>100,">100",B97*100/D97))) -> 55.772968 | G97: 78
A98: nachrichtlich: Zuführung (+) Entnahme (-)
A99: Bundesdarlehen | B99: =INDEX(Überleitung!$C$8:$C$106,MATCH(A99,Überleitung!$A$8:$A$106,0),MATCH($A$6,Überleitung!$C$7,0)) -> 0 | C99: =INDEX(Überleitung!$DK$8:$DK$106,MATCH(A99,Überleitung!$A$8:$A$106,0),MATCH($A$6,Überleitung!$DK$5,0)) -> -3970506000 | D99: =IF(INDEX(Überleitung!$DL$8:$DL$106,MATCH(A99,Überleitung!$A$8:$A$106,0),MATCH($A$6,Überleitung!$DL$5,0))=$C99,"",INDEX(Überleitung!$DL$8:$DL$106,MATCH(A99,Überleitung!$A$8:$A$106,0),MATCH($A$6,Überleitung!$DL$5,0))) | E99: =IF(C99=0,0,IF(B99*100/C99<-100,"<-100",IF(B99*100/C99>100,">100",B99*100/C99))) -> 0 | F99: =IF(D99="",0,IF(B99*100/D99<-100,"<-100",IF(B99*100/D99>100,">100",B99*100/D99))) -> 0
A100: Darlehenstilgung | B100: =INDEX(Überleitung!$C$8:$C$106,MATCH(A100,Überleitung!$A$8:$A$106,0),MATCH($A$6,Überleitung!$C$7,0)) -> 0 | C100: =INDEX(Überleitung!$DK$8:$DK$106,MATCH(A100,Überleitung!$A$8:$A$106,0),MATCH($A$6,Überleitung!$DK$5,0)) -> 0 | D100: =IF(INDEX(Überleitung!$DL$8:$DL$106,MATCH(A100,Überleitung!$A$8:$A$106,0),MATCH($A$6,Überleitung!$DL$5,0))=$C100,"",INDEX(Überleitung!$DL$8:$DL$106,MATCH(A100,Überleitung!$A$8:$A$106,0),MATCH($A$6,Überleitung!$DL$5,0))) | E100: =IF(C100=0,0,IF(B100*100/C100<-100,"<-100",IF(B100*100/C100>100,">100",B100*100/C100))) -> 0 | F100: =IF(D100="",0,IF(B100*100/D100<-100,"<-100",IF(B100*100/D100>100,">100",B100*100/D100))) -> 0
A101: Insolvenzgeldrücklage | B101: =INDEX(Überleitung!$C$8:$C$106,MATCH(A101,Überleitung!$A$8:$A$106,0),MATCH($A$6,Überleitung!$C$7,0)) -> 0 | C101: =INDEX(Überleitung!$DK$8:$DK$106,MATCH(A101,Überleitung!$A$8:$A$106,0),MATCH($A$6,Überleitung!$DK$5,0)) -> 555577000 | D101: =IF(INDEX(Überleitung!$DL$8:$DL$106,MATCH(A101,Überleitung!$A$8:$A$106,0),MATCH($A$6,Überleitung!$DL$5,0))=$C101,"",INDEX(Überleitung!$DL$8:$DL$106,MATCH(A101,Überleitung!$A$8:$A$106,0),MATCH($A$6,Überleitung!$DL$5,0))) | E101: =IF(C101=0,0,IF(B101*100/C101<-100,"<-100",IF(B101*100/C101>100,">100",B101*100/C101))) -> 0 | F101: =IF(D101="",0,IF(B101*100/D101<-100,"<-100",IF(B101*100/D101>100,">100",B101*100/D101))) -> 0
A102: Winterbeschäftigungsrücklage | B102: =INDEX(Überleitung!$C$8:$C$106,MATCH(A102,Überleitung!$A$8:$A$106,0),MATCH($A$6,Überleitung!$C$7,0)) -> 0 | C102: =INDEX(Überleitung!$DK$8:$DK$106,MATCH(A102,Überleitung!$A$8:$A$106,0),MATCH($A$6,Überleitung!$DK$5,0)) -> 41382000 | D102: =IF(INDEX(Überleitung!$DL$8:$DL$106,MATCH(A102,Überleitung!$A$8:$A$106,0),MATCH($A$6,Überleitung!$DL$5,0))=$C102,"",INDEX(Überleitung!$DL$8:$DL$106,MATCH(A102,Überleitung!$A$8:$A$106,0),MATCH($A$6,Überleitung!$DL$5,0))) | E102: =IF(C102=0,0,IF(B102*100/C102<-100,"<-100",IF(B102*100/C102>100,">100",B102*100/C102))) -> 0 | F102: =IF(D102="",0,IF(B102*100/D102<-100,"<-100",IF(B102*100/D102>100,">100",B102*100/D102))) -> 0
A103: Allgemeine Rücklagen (inkl. Eingliederungsrücklage) | B103: =INDEX(Überleitung!$C$8:$C$106,MATCH(A103,Überleitung!$A$8:$A$106,0),MATCH($A$6,Überleitung!$C$7,0)) -> 0 | C103: =INDEX(Überleitung!$DK$8:$DK$106,MATCH(A103,Überleitung!$A$8:$A$106,0),MATCH($A$6,Überleitung!$DK$5,0)) -> 0 | D103: =IF(INDEX(Überleitung!$DL$8:$DL$106,MATCH(A103,Überleitung!$A$8:$A$106,0),MATCH($A$6,Überleitung!$DL$5,0))=$C103,"",INDEX(Überleitung!$DL$8:$DL$106,MATCH(A103,Überleitung!$A$8:$A$106,0),MATCH($A$6,Überleitung!$DL$5,0))) | E103: =IF(C103=0,0,IF(B103*100/C103<-100,"<-100",IF(B103*100/C103>100,">100",B103*100/C103))) -> 0 | F103: =IF(D103="",0,IF(B103*100/D103<-100,"<-100",IF(B103*100/D103>100,">100",B103*100/D103))) -> 0
A105: Finanzsystem der BA | B105: ='ANBA-SGB III(Bildsch.optmiert)'!B106 -> 46084 | F105: Seite 1

Sheet ANBA - SGB III(barrierefrei)
A4: Finanzergebnisse der BA in regionaler Gliederung - (ANBA-Übersicht)
A5: Einnahmen und Ausgaben
A6: in Euro (Einnahmen werden mit negativen Vorzeichen dargestellt)
A7: Deutschland und Regionaldirektionsbezirke gemäß Gebietsstruktur der BA
A8: ='ANBA-SGB III(Bildsch.optmiert)'!A7 -> Berichtsmonat Februar 2026
A9: ='ANBA-SGB III(Bildsch.optmiert)'!A8 -> 46083
A11: Haushaltspositionen | B11: Deutschland | C11: RD-Bezirk Nord | D11: Schleswig-Holstein | E11: Hamburg | F11: Mecklenburg-Vorpommern | G11: RD-Bezirk Niedersachsen-Bremen | H11: Niedersachsen | I11: Bremen | J11: RD-Bezirk Nordrhein-Westfalen | K11: RD-Bezirk Hessen | L11: RD-Bezirk Rheinland-Pfalz-Saarland | M11: Rheinland-Pfalz | N11: Saarland | O11: RD-Bezirk Baden-Württemberg | P11: RD-Bezirk Bayern | Q11: RD-Bezirk Berlin-Brandenburg | R11: Berlin | S11: Brandenburg | T11: RD-Bezirk Sachsen-Anhalt-Thüringen | U11: Sachsen-Anhalt | V11: Thüringen | W11: RD-Bezirk Sachsen | X11: besondere Dienststellen und Zentrale
A13: Einnahmen | B13: =INDEX(Überleitung!$AE$8:$BF$106,MATCH($A13,Überleitung!$A$8:$A$106,0),MATCH(B$11,Überleitung!$AE$7:$BF$7,0)) -> -3.8623271e+09
A14: Beiträge | B14: =INDEX(Überleitung!$AE$8:$BF$106,MATCH($A14,Überleitung!$A$8:$A$106,0),MATCH(B$11,Überleitung!$AE$7:$BF$7,0)) -> -3.2231524e+09
A15: Verwaltungskostenerstattungen SGB II | B15: =INDEX(Überleitung!$AE$8:$BF$106,MATCH($A15,Überleitung!$A$8:$A$106,0),MATCH(B$11,Überleitung!$AE$7:$BF$7,0)) -> -3.3667814e+08
A16: Erst. Vw.-kosten Kap. 6 vom Bund | B16: =INDEX(Überleitung!$AE$8:$BF$106,MATCH($A16,Überleitung!$A$8:$A$106,0),MATCH(B$11,Überleitung!$AE$7:$BF$7,0)) -> -2.6595405e+08
A17: Erst. Vw.-kosten Kap. 5 vom Bund und von den zkT | B17: =INDEX(Überleitung!$AE$8:$BF$106,MATCH($A17,Überleitung!$A$8:$A$106,0),MATCH(B$11,Überleitung!$AE$7:$BF$7,0)) -> -70724092
A18: darunter: vom Bund | B18: =INDEX(Überleitung!$AE$8:$BF$106,MATCH($A18,Überleitung!$A$8:$A$106,0),MATCH(B$11,Überleitung!$AE$7:$BF$7,0)) -> -70631425
A19: darunter: von den zkT | B19: =INDEX(Überleitung!$AE$8:$BF$106,MATCH($A19,Überleitung!$A$8:$A$106,0),MATCH(B$11,Überleitung!$AE$7:$BF$7,0)) -> -92667.21
A20: Winterbeschäftigungs-Umlage | B20: =INDEX(Überleitung!$AE$8:$BF$106,MATCH($A20,Überleitung!$A$8:$A$106,0),MATCH(B$11,Überleitung!$AE$7:$BF$7,0)) -> -54772551
A21: Insolvenzgeld-Umlage | B21: =INDEX(Überleitung!$AE$8:$BF$106,MATCH($A21,Überleitung!$A$8:$A$106,0),MATCH(B$11,Überleitung!$AE$7:$BF$7,0)) -> -1.6481662e+08
A22: Erstattungen und Verwaltungseinnahmen | B22: =INDEX(Überleitung!$AE$8:$BF$106,MATCH($A22,Überleitung!$A$8:$A$106,0),MATCH(B$11,Überleitung!$AE$7:$BF$7,0)) -> -82907368
A23: Verwaltungskostenerstattungen | B23: =INDEX(Überleitung!$AE$8:$BF$106,MATCH($A23,Überleitung!$A$8:$A$106,0),MATCH(B$11,Überleitung!$AE$7:$BF$7,0)) -> -67741692
A24: Mittel aus der Ausgleichsabgabe | B24: =INDEX(Überleitung!$AE$8:$BF$106,MATCH($A24,Überleitung!$A$8:$A$106,0),MATCH(B$11,Überleitung!$AE$7:$BF$7,0)) -> 0
... A26: Verwaltungseinnahmen und sonstige Erstattungen | B26: =INDEX(Überleitung!$AE$8:$BF$106,MATCH($A26,Überleitung!$A$8:$A$106,0),MATCH(B$11,Überleitung!$AE$7:$BF$7,0)) -> -10757052
A27: Ausgaben | B27: =INDEX(Überleitung!$AE$8:$BF$106,MATCH($A27,Überleitung!$A$8:$A$106,0),MATCH(B$11,Überleitung!$AE$7:$BF$7,0)) -> 4.8457757e+09 | C27: =INDEX(Überleitung!$AE$8:$BF$106,MATCH($A27,Überleitung!$A$8:$A$106,0),MATCH(C$11,Überleitung!$AE$7:$BF$7,0)) -> 3.8432946e+08 | D27: =INDEX(Überleitung!$AE$8:$BF$106,MATCH($A27,Überleitung!$A$8:$A$106,0),MATCH(D$11,Überleitung!$AE$7:$BF$7,0)) -> 1.5849654e+08 | E27: =INDEX(Überleitung!$AE$8:$BF$106,MATCH($A27,Überleitung!$A$8:$A$106,0),MATCH(E$11,Überleitung!$AE$7:$BF$7,0)) -> 1.2889578e+08 | F27: =INDEX(Überleitung!$AE$8:$BF$106,MATCH($A27,Überleitung!$A$8:$A$106,0),MATCH(F$11,Überleitung!$AE$7:$BF$7,0)) -> 96043805 | G27: =INDEX(Überleitung!$AE$8:$BF$106,MATCH($A27,Überleitung!$A$8:$A$106,0),MATCH(G$11,Überleitung!$AE$7:$BF$7,0)) -> 4.8128111e+08 | H27: =INDEX(Überleitung!$AE$8:$BF$106,MATCH($A27,Überleitung!$A$8:$A$106,0),MATCH(H$11,Überleitung!$AE$7:$BF$7,0)) -> 4.2853559e+08 | I27: =INDEX(Überleitung!$AE$8:$BF$106,MATCH($A27,Überleitung!$A$8:$A$106,0),MATCH(I$11,Überleitung!$AE$7:$BF$7,0)) -> 51700603 | ... X27: =INDEX(Überleitung!$AE$8:$BF$106,MATCH($A27,Überleitung!$A$8:$A$106,0),MATCH(X$11,Überleitung!$AE$7:$BF$7,0)) -> 2.088724e+08
A28: Kapitel 2 - Eingliederungstitel | B28: =INDEX(Überleitung!$AE$8:$BF$106,MATCH($A28,Überleitung!$A$8:$A$106,0),MATCH(B$11,Überleitung!$AE$7:$BF$7,0)) -> 3.2125809e+08 | C28: =INDEX(Überleitung!$AE$8:$BF$106,MATCH($A28,Überleitung!$A$8:$A$106,0),MATCH(C$11,Überleitung!$AE$7:$BF$7,0)) -> 29302382 | D28: =INDEX(Überleitung!$AE$8:$BF$106,MATCH($A28,Überleitung!$A$8:$A$106,0),MATCH(D$11,Überleitung!$AE$7:$BF$7,0)) -> 11271399 | E28: =INDEX(Überleitung!$AE$8:$BF$106,MATCH($A28,Überleitung!$A$8:$A$106,0),MATCH(E$11,Überleitung!$AE$7:$BF$7,0)) -> 11161870 | F28: =INDEX(Überleitung!$AE$8:$BF$106,MATCH($A28,Überleitung!$A$8:$A$106,0),MATCH(F$11,Überleitung!$AE$7:$BF$7,0)) -> 6869112.9 | G28: =INDEX(Überleitung!$AE$8:$BF$106,MATCH($A28,Überleitung!$A$8:$A$106,0),MATCH(G$11,Überleitung!$AE$7:$BF$7,0)) -> 31299964 | H28: =INDEX(Überleitung!$AE$8:$BF$106,MATCH($A28,Überleitung!$A$8:$A$106,0),MATCH(H$11,Überleitung!$AE$7:$BF$7,0)) -> 27129324 | I28: =INDEX(Überleitung!$AE$8:$BF$106,MATCH($A28,Überleitung!$A$8:$A$106,0),MATCH(I$11,Überleitung!$AE$7:$BF$7,0)) -> 4170639.6 | ... X28: =INDEX(Überleitung!$AE$8:$BF$106,MATCH($A28,Überleitung!$A$8:$A$106,0),MATCH(X$11,Überleitung!$AE$7:$BF$7,0)) -> 33762.96
A29: Dezentral geplantes Budget | B29: =INDEX(Überleitung!$AE$8:$BF$106,MATCH($A29,Überleitung!$A$8:$A$106,0),MATCH(B$11,Überleitung!$AE$7:$BF$7,0)) -> 3.2125809e+08 | C29: =INDEX(Überleitung!$AE$8:$BF$106,MATCH($A29,Überleitung!$A$8:$A$106,0),MATCH(C$11,Überleitung!$AE$7:$BF$7,0)) -> 29302382 | D29: =INDEX(Überleitung!$AE$8:$BF$106,MATCH($A29,Überleitung!$A$8:$A$106,0),MATCH(D$11,Überleitung!$AE$7:$BF$7,0)) -> 11271399 | E29: =INDEX(Überleitung!$AE$8:$BF$106,MATCH($A29,Überleitung!$A$8:$A$106,0),MATCH(E$11,Überleitung!$AE$7:$BF$7,0)) -> 11161870 | F29: =INDEX(Überleitung!$AE$8:$BF$106,MATCH($A29,Überleitung!$A$8:$A$106,0),MATCH(F$11,Überleitung!$AE$7:$BF$7,0)) -> 6869112.9 | G29: =INDEX(Überleitung!$AE$8:$BF$106,MATCH($A29,Überleitung!$A$8:$A$106,0),MATCH(G$11,Überleitung!$AE$7:$BF$7,0)) -> 31299964 | H29: =INDEX(Überleitung!$AE$8:$BF$106,MATCH($A29,Überleitung!$A$8:$A$106,0),MATCH(H$11,Überleitung!$AE$7:$BF$7,0)) -> 27129324 | I29: =INDEX(Überleitung!$AE$8:$BF$106,MATCH($A29,Überleitung!$A$8:$A$106,0),MATCH(I$11,Überleitung!$AE$7:$BF$7,0)) -> 4170639.6 | ... X29: =INDEX(Überleitung!$AE$8:$BF$106,MATCH($A29,Überleitung!$A$8:$A$106,0),MATCH(X$11,Überleitung!$AE$7:$BF$7,0)) -> 33762.96
A30: Integrationsorientierte Instrumente | B30: =INDEX(Überleitung!$AE$8:$BF$106,MATCH($A30,Überleitung!$A$8:$A$106,0),MATCH(B$11,Überleitung!$AE$7:$BF$7,0)) -> 2.7296875e+08 | C30: =INDEX(Überleitung!$AE$8:$BF$106,MATCH($A30,Überleitung!$A$8:$A$106,0),MATCH(C$11,Überleitung!$AE$7:$BF$7,0)) -> 25247948 | D30: =INDEX(Überleitung!$AE$8:$BF$106,MATCH($A30,Überleitung!$A$8:$A$106,0),MATCH(D$11,Überleitung!$AE$7:$BF$7,0)) -> 9862938.1 | E30: =INDEX(Überleitung!$AE$8:$BF$106,MATCH($A30,Überleitung!$A$8:$A$106,0),MATCH(E$11,Überleitung!$AE$7:$BF$7,0)) -> 9466224.4 | F30: =INDEX(Überleitung!$AE$8:$BF$106,MATCH($A30,Überleitung!$A$8:$A$106,0),MATCH(F$11,Überleitung!$AE$7:$BF$7,0)) -> 5918785.1 | G30: =INDEX(Überleitung!$AE$8:$BF$106,MATCH($A30,Überleitung!$A$8:$A$106,0),MATCH(G$11,Überleitung!$AE$7:$BF$7,0)) -> 27117728 | H30: =INDEX(Überleitung!$AE$8:$BF$106,MATCH($A30,Überleitung!$A$8:$A$106,0),MATCH(H$11,Überleitung!$AE$7:$BF$7,0)) -> 23374794 | I30: =INDEX(Überleitung!$AE$8:$BF$106,MATCH($A30,Überleitung!$A$8:$A$106,0),MATCH(I$11,Überleitung!$AE$7:$BF$7,0)) -> 3742933.7 | ... X30: =INDEX(Überleitung!$AE$8:$BF$106,MATCH($A30,Überleitung!$A$8:$A$106,0),MATCH(X$11,Überleitung!$AE$7:$BF$7,0)) -> 33762.96
A31: Vermittlungsbudget nach § 44 SGB III | B31: =INDEX(Überleitung!$AE$8:$BF$106,MATCH($A31,Überleitung!$A$8:$A$106,0),MATCH(B$11,Überleitung!$AE$7:$BF$7,0)) -> 2294969.7 | C31: =INDEX(Überleitung!$AE$8:$BF$106,MATCH($A31,Überleitung!$A$8:$A$106,0),MATCH(C$11,Überleitung!$AE$7:$BF$7,0)) -> 278544.84 | D31: =INDEX(Überleitung!$AE$8:$BF$106,MATCH($A31,Überleitung!$A$8:$A$106,0),MATCH(D$11,Überleitung!$AE$7:$BF$7,0)) -> 144022.58 | E31: =INDEX(Überleitung!$AE$8:$BF$106,MATCH($A31,Überleitung!$A$8:$A$106,0),MATCH(E$11,Überleitung!$AE$7:$BF$7,0)) -> 55550.51 | F31: =INDEX(Überleitung!$AE$8:$BF$106,MATCH($A31,Überleitung!$A$8:$A$106,0),MATCH(F$11,Überleitung!$AE$7:$BF$7,0)) -> 78971.75 | G31: =INDEX(Überleitung!$AE$8:$BF$106,MATCH($A31,Überleitung!$A$8:$A$106,0),MATCH(G$11,Überleitung!$AE$7:$BF$7,0)) -> 273581.57 | H31: =INDEX(Überleitung!$AE$8:$BF$106,MATCH($A31,Überleitung!$A$8:$A$106,0),MATCH(H$11,Überleitung!$AE$7:$BF$7,0)) -> 244492.79 | I31: =INDEX(Überleitung!$AE$8:$BF$106,MATCH($A31,Überleitung!$A$8:$A$106,0),MATCH(I$11,Überleitung!$AE$7:$BF$7,0)) -> 29088.78 | ... X31: =INDEX(Überleitung!$AE$8:$BF$106,MATCH($A31,Überleitung!$A$8:$A$106,0),MATCH(X$11,Überleitung!$AE$7:$BF$7,0)) -> 33762.96
A32: Aktivierung und berufliche Eingliederung | B32: =INDEX(Überleitung!$AE$8:$BF$106,MATCH($A32,Überleitung!$A$8:$A$106,0),MATCH(B$11,Überleitung!$AE$7:$BF$7,0)) -> 26501222 | C32: =INDEX(Überleitung!$AE$8:$BF$106,MATCH($A32,Überleitung!$A$8:$A$106,0),MATCH(C$11,Überleitung!$AE$7:$BF$7,0)) -> 1618563.1 | D32: =INDEX(Überleitung!$AE$8:$BF$106,MATCH($A32,Überleitung!$A$8:$A$106,0),MATCH(D$11,Überleitung!$AE$7:$BF$7,0)) -> 877593.18 | E32: =INDEX(Überleitung!$AE$8:$BF$106,MATCH($A32,Überleitung!$A$8:$A$106,0),MATCH(E$11,Überleitung!$AE$7:$BF$7,0)) -> 318412.34 | F32: =INDEX(Überleitung!$AE$8:$BF$106,MATCH($A32,Überleitung!$A$8:$A$106,0),MATCH(F$11,Überleitung!$AE$7:$BF$7,0)) -> 422557.6 | G32: =INDEX(Überleitung!$AE$8:$BF$106,MATCH($A32,Überleitung!$A$8:$A$106,0),MATCH(G$11,Überleitung!$AE$7:$BF$7,0)) -> 2473877.5 | H32: =INDEX(Überleitung!$AE$8:$BF$106,MATCH($A32,Überleitung!$A$8:$A$106,0),MATCH(H$11,Überleitung!$AE$7:$BF$7,0)) -> 2272782.6 | I32: =INDEX(Überleitung!$AE$8:$BF$106,MATCH($A32,Überleitung!$A$8:$A$106,0),MATCH(I$11,Überleitung!$AE$7:$BF$7,0)) -> 201094.89 | ... X32: =INDEX(Überleitung!$AE$8:$BF$106,MATCH($A32,Überleitung!$A$8:$A$106,0),MATCH(X$11,Überleitung!$AE$7:$BF$7,0)) -> 0
A33: Reisekosten nach § 309 SGB III | B33: =INDEX(Überleitung!$AE$8:$BF$106,MATCH($A33,Überleitung!$A$8:$A$106,0),MATCH(B$11,Überleitung!$AE$7:$BF$7,0)) -> 54623.86 | C33: =INDEX(Überleitung!$AE$8:$BF$106,MATCH($A33,Überleitung!$A$8:$A$106,0),MATCH(C$11,Überleitung!$AE$7:$BF$7,0)) -> 6971.42 | D33: =INDEX(Überleitung!$AE$8:$BF$106,MATCH($A33,Überleitung!$A$8:$A$106,0),MATCH(D$11,Überleitung!$AE$7:$BF$7,0)) -> 1765.35 | E33: =INDEX(Überleitung!$AE$8:$BF$106,MATCH($A33,Überleitung!$A$8:$A$106,0),MATCH(E$11,Überleitung!$AE$7:$BF$7,0)) -> 88.85 | F33: =INDEX(Überleitung!$AE$8:$BF$106,MATCH($A33,Überleitung!$A$8:$A$106,0),MATCH(F$11,Überleitung!$AE$7:$BF$7,0)) -> 5117.22 | G33: =INDEX(Überleitung!$AE$8:$BF$106,MATCH($A33,Überleitung!$A$8:$A$106,0),MATCH(G$11,Überleitung!$AE$7:$BF$7,0)) -> 5488.53 | H33: =INDEX(Überleitung!$AE$8:$BF$106,MATCH($A33,Überleitung!$A$8:$A$106,0),MATCH(H$11,Überleitung!$AE$7:$BF$7,0)) -> 5410.65 | I33: =INDEX(Überleitung!$AE$8:$BF$106,MATCH($A33,Überleitung!$A$8:$A$106,0),MATCH(I$11,Überleitung!$AE$7:$BF$7,0)) -> 77.88 | ... X33: =INDEX(Überleitung!$AE$8:$BF$106,MATCH($A33,Überleitung!$A$8:$A$106,0),MATCH(X$11,Überleitung!$AE$7:$BF$7,0)) -> 0
A34: Eingliederungszuschüsse (Egz) | B34: =INDEX(Überleitung!$AE$8:$BF$106,MATCH($A34,Überleitung!$A$8:$A$106,0),MATCH(B$11,Überleitung!$AE$7:$BF$7,0)) -> 14604121 | C34: =INDEX(Überleitung!$AE$8:$BF$106,MATCH($A34,Überleitung!$A$8:$A$106,0),MATCH(C$11,Überleitung!$AE$7:$BF$7,0)) -> 871465.35 | D34: =INDEX(Überleitung!$AE$8:$BF$106,MATCH($A34,Überleitung!$A$8:$A$106,0),MATCH(D$11,Überleitung!$AE$7:$BF$7,0)) -> 271810.8 | E34: =INDEX(Überleitung!$AE$8:$BF$106,MATCH($A34,Überleitung!$A$8:$A$106,0),MATCH(E$11,Überleitung!$AE$7:$BF$7,0)) -> 157576.09 | F34: =INDEX(Überleitung!$AE$8:$BF$106,MATCH($A34,Überleitung!$A$8:$A$106,0),MATCH(F$11,Überleitung!$AE$7:$BF$7,0)) -> 442078.46 | G34: =INDEX(Überleitung!$AE$8:$BF$106,MATCH($A34,Überleitung!$A$8:$A$106,0),MATCH(G$11,Überleitung!$AE$7:$BF$7,0)) -> 1426653.9 | H34: =INDEX(Überleitung!$AE$8:$BF$106,MATCH($A34,Überleitung!$A$8:$A$106,0),MATCH(H$11,Überleitung!$AE$7:$BF$7,0)) -> 1311900.2 | I34: =INDEX(Überleitung!$AE$8:$BF$106,MATCH($A34,Überleitung!$A$8:$A$106,0),MATCH(I$11,Überleitung!$AE$7:$BF$7,0)) -> 114753.69 | ... X34: =INDEX(Überleitung!$AE$8:$BF$106,MATCH($A34,Überleitung!$A$8:$A$106,0),MATCH(X$11,Überleitung!$AE$7:$BF$7,0)) -> 0
A35: Förderung der beruflichen Weiterbildung (FbW) | B35: =INDEX(Überleitung!$AE$8:$BF$106,MATCH($A35,Überleitung!$A$8:$A$106,0),MATCH(B$11,Überleitung!$AE$7:$BF$7,0)) -> 2.2951407e+08 | C35: =INDEX(Überleitung!$AE$8:$BF$106,MATCH($A35,Überleitung!$A$8:$A$106,0),MATCH(C$11,Überleitung!$AE$7:$BF$7,0)) -> 22472415 | D35: =INDEX(Überleitung!$AE$8:$BF$106,MATCH($A35,Überleitung!$A$8:$A$106,0),MATCH(D$11,Überleitung!$AE$7:$BF$7,0)) -> 8567746.1 | E35: =INDEX(Überleitung!$AE$8:$BF$106,MATCH($A35,Überleitung!$A$8:$A$106,0),MATCH(E$11,Überleitung!$AE$7:$BF$7,0)) -> 8934596.6 | F35: =INDEX(Überleitung!$AE$8:$BF$106,MATCH($A35,Überleitung!$A$8:$A$106,0),MATCH(F$11,Überleitung!$AE$7:$BF$7,0)) -> 4970071.9 | G35: =INDEX(Überleitung!$AE$8:$BF$106,MATCH($A35,Überleitung!$A$8:$A$106,0),MATCH(G$11,Überleitung!$AE$7:$BF$7,0)) -> 22938157 | H35: =INDEX(Überleitung!$AE$8:$BF$106,MATCH($A35,Überleitung!$A$8:$A$106,0),MATCH(H$11,Überleitung!$AE$7:$BF$7,0)) -> 19540238 | I35: =INDEX(Überleitung!$AE$8:$BF$106,MATCH($A35,Überleitung!$A$8:$A$106,0),MATCH(I$11,Überleitung!$AE$7:$BF$7,0)) -> 3397918.5 | ... X35: =INDEX(Überleitung!$AE$8:$BF$106,MATCH($A35,Überleitung!$A$8:$A$106,0),MATCH(X$11,Überleitung!$AE$7:$BF$7,0)) -> 0
A36: Freie Förderung | B36: =INDEX(Überleitung!$AE$8:$BF$106,MATCH($A36,Überleitung!$A$8:$A$106,0),MATCH(B$11,Überleitung!$AE$7:$BF$7,0)) -> -251.86 | C36: =INDEX(Überleitung!$AE$8:$BF$106,MATCH($A36,Überleitung!$A$8:$A$106,0),MATCH(C$11,Überleitung!$AE$7:$BF$7,0)) -> -11.86 | D36: =INDEX(Überleitung!$AE$8:$BF$106,MATCH($A36,Überleitung!$A$8:$A$106,0),MATCH(D$11,Überleitung!$AE$7:$BF$7,0)) -> 0 | E36: =INDEX(Überleitung!$AE$8:$BF$106,MATCH($A36,Überleitung!$A$8:$A$106,0),MATCH(E$11,Überleitung!$AE$7:$BF$7,0)) -> 0 | F36: =INDEX(Überleitung!$AE$8:$BF$106,MATCH($A36,Überleitung!$A$8:$A$106,0),MATCH(F$11,Überleitung!$AE$7:$BF$7,0)) -> -11.86 | G36: =INDEX(Überleitung!$AE$8:$BF$106,MATCH($A36,Überleitung!$A$8:$A$106,0),MATCH(G$11,Überleitung!$AE$7:$BF$7,0)) -> -30 | H36: =INDEX(Überleitung!$AE$8:$BF$106,MATCH($A36,Überleitung!$A$8:$A$106,0),MATCH(H$11,Überleitung!$AE$7:$BF$7,0)) -> -30 | I36: =INDEX(Überleitung!$AE$8:$BF$106,MATCH($A36,Überleitung!$A$8:$A$106,0),MATCH(I$11,Überleitung!$AE$7:$BF$7,0)) -> 0 | ... X36: =INDEX(Überleitung!$AE$8:$BF$106,MATCH($A36,Überleitung!$A$8:$A$106,0),MATCH(X$11,Überleitung!$AE$7:$BF$7,0)) -> 0
A37: Spezielle Maßnahmen für Jüngere | B37: =INDEX(Überleitung!$AE$8:$BF$106,MATCH($A37,Überleitung!$A$8:$A$106,0),MATCH(B$11,Überleitung!$AE$7:$BF$7,0)) -> 13582335 | C37: =INDEX(Überleitung!$AE$8:$BF$106,MATCH($A37,Überleitung!$A$8:$A$106,0),MATCH(C$11,Überleitung!$AE$7:$BF$7,0)) -> 1063980.3 | D37: =INDEX(Überleitung!$AE$8:$BF$106,MATCH($A37,Überleitung!$A$8:$A$106,0),MATCH(D$11,Überleitung!$AE$7:$BF$7,0)) -> 404915.95 | E37: =INDEX(Überleitung!$AE$8:$BF$106,MATCH($A37,Überleitung!$A$8:$A$106,0),MATCH(E$11,Überleitung!$AE$7:$BF$7,0)) -> 129670.18 | F37: =INDEX(Überleitung!$AE$8:$BF$106,MATCH($A37,Überleitung!$A$8:$A$106,0),MATCH(F$11,Überleitung!$AE$7:$BF$7,0)) -> 529394.19 | G37: =INDEX(Überleitung!$AE$8:$BF$106,MATCH($A37,Überleitung!$A$8:$A$106,0),MATCH(G$11,Überleitung!$AE$7:$BF$7,0)) -> 1319196.3 | H37: =INDEX(Überleitung!$AE$8:$BF$106,MATCH($A37,Überleitung!$A$8:$A$106,0),MATCH(H$11,Überleitung!$AE$7:$BF$7,0)) -> 1192311.1 | I37: =INDEX(Überleitung!$AE$8:$BF$106,MATCH($A37,Überleitung!$A$8:$A$106,0),MATCH(I$11,Überleitung!$AE$7:$BF$7,0)) -> 126885.19 | ... X37: =INDEX(Überleitung!$AE$8:$BF$106,MATCH($A37,Überleitung!$A$8:$A$106,0),MATCH(X$11,Überleitung!$AE$7:$BF$7,0)) -> 0
A38: Berufsausbildung in außerbetrieblichen Einrichtungen (BaE) | B38: =INDEX(Überleitung!$AE$8:$BF$106,MATCH($A38,Überleitung!$A$8:$A$106,0),MATCH(B$11,Überleitung!$AE$7:$BF$7,0)) -> 2327827 | C38: =INDEX(Überleitung!$AE$8:$BF$106,MATCH($A38,Überleitung!$A$8:$A$106,0),MATCH(C$11,Überleitung!$AE$7:$BF$7,0)) -> 117176.3 | D38: =INDEX(Überleitung!$AE$8:$BF$106,MATCH($A38,Überleitung!$A$8:$A$106,0),MATCH(D$11,Überleitung!$AE$7:$BF$7,0)) -> 66453.81 | E38: =INDEX(Überleitung!$AE$8:$BF$106,MATCH($A38,Überleitung!$A$8:$A$106,0),MATCH(E$11,Überleitung!$AE$7:$BF$7,0)) -> 41087.79 | F38: =INDEX(Überleitung!$AE$8:$BF$106,MATCH($A38,Überleitung!$A$8:$A$106,0),MATCH(F$11,Überleitung!$AE$7:$BF$7,0)) -> 9634.7 | G38: =INDEX(Überleitung!$AE$8:$BF$106,MATCH($A38,Überleitung!$A$8:$A$106,0),MATCH(G$11,Überleitung!$AE$7:$BF$7,0)) -> 386823.39 | H38: =INDEX(Überleitung!$AE$8:$BF$106,MATCH($A38,Überleitung!$A$8:$A$106,0),MATCH(H$11,Überleitung!$AE$7:$BF$7,0)) -> 356766.84 | I38: =INDEX(Überleitung!$AE$8:$BF$106,MATCH($A38,Überleitung!$A$8:$A$106,0),MATCH(I$11,Überleitung!$AE$7:$BF$7,0)) -> 30056.55 | ... X38: =INDEX(Überleitung!$AE$8:$BF$106,MATCH($A38,Überleitung!$A$8:$A$106,0),MATCH(X$11,Überleitung!$AE$7:$BF$7,0)) -> 0
... A96: Ausgaben f. überörtliche Aufgaben SGB II (üKo - ohne Pers.) | B96: =INDEX(Überleitung!$AE$8:$BF$106,MATCH($A96,Überleitung!$A$8:$A$106,0),MATCH(B$11,Überleitung!$AE$7:$BF$7,0)) -> 373814.89 | C96: =INDEX(Überleitung!$AE$8:$BF$106,MATCH($A96,Überleitung!$A$8:$A$106,0),MATCH(C$11,Überleitung!$AE$7:$BF$7,0)) -> 0 | D96: =INDEX(Überleitung!$AE$8:$BF$106,MATCH($A96,Überleitung!$A$8:$A$106,0),MATCH(D$11,Überleitung!$AE$7:$BF$7,0)) -> 0 | E96: =INDEX(Überleitung!$AE$8:$BF$106,MATCH($A96,Überleitung!$A$8:$A$106,0),MATCH(E$11,Überleitung!$AE$7:$BF$7,0)) -> 0 | F96: =INDEX(Überleitung!$AE$8:$BF$106,MATCH($A96,Überleitung!$A$8:$A$106,0),MATCH(F$11,Überleitung!$AE$7:$BF$7,0)) -> 0 | G96: =INDEX(Überleitung!$AE$8:$BF$106,MATCH($A96,Überleitung!$A$8:$A$106,0),MATCH(G$11,Überleitung!$AE$7:$BF$7,0)) -> 0 | H96: =INDEX(Überleitung!$AE$8:$BF$106,MATCH($A96,Überleitung!$A$8:$A$106,0),MATCH(H$11,Überleitung!$AE$7:$BF$7,0)) -> 0 | I96: =INDEX(Überleitung!$AE$8:$BF$106,MATCH($A96,Überleitung!$A$8:$A$106,0),MATCH(I$11,Überleitung!$AE$7:$BF$7,0)) -> 0 | ... X96: =INDEX(Überleitung!$AE$8:$BF$106,MATCH($A96,Überleitung!$A$8:$A$106,0),MATCH(X$11,Überleitung!$AE$7:$BF$7,0)) -> 373531.9
A97: Finanzierungssaldo (Überschuss (-) Defizit (+)) | B97: =INDEX(Überleitung!$AE$8:$BF$106,MATCH($A97,Überleitung!$A$8:$A$106,0),MATCH(B$11,Überleitung!$AE$7:$BF$7,0)) -> 9.8344864e+08
A98: nachrichtlich: Zuführung (+) Entnahme (-)
A99: Bundesdarlehen | B99: =INDEX(Überleitung!$AE$8:$BF$106,MATCH($A99,Überleitung!$A$8:$A$106,0),MATCH(B$11,Überleitung!$AE$7:$BF$7,0)) -> 0
A100: Darlehenstilgung | B100: =INDEX(Überleitung!$AE$8:$BF$106,MATCH($A100,Überleitung!$A$8:$A$106,0),MATCH(B$11,Überleitung!$AE$7:$BF$7,0)) -> 0
A101: Insolvenzgeldrücklage | B101: =INDEX(Überleitung!$AE$8:$BF$106,MATCH($A101,Überleitung!$A$8:$A$106,0),MATCH(B$11,Überleitung!$AE$7:$BF$7,0)) -> 0
A102: Winterbeschäftigungsrücklage | B102: =INDEX(Überleitung!$AE$8:$BF$106,MATCH($A102,Überleitung!$A$8:$A$106,0),MATCH(B$11,Überleitung!$AE$7:$BF$7,0)) -> 0
A103: Allgemeine Rücklagen (inkl. Eingliederungsrücklage) | B103: =INDEX(Überleitung!$AE$8:$BF$106,MATCH($A103,Überleitung!$A$8:$A$106,0),MATCH(B$11,Überleitung!$AE$7:$BF$7,0)) -> 0
...

Sheet Anlage_SV_Sonstige
D4: Monatsergebnisse sonstiger Auftragsangelegenheiten (außerhalb des Beitragshaushalts)
D5: in Euro (Einnahmen werden mit negativen Vorzeichen dargestellt)
D6: Deutschland
D7: ='ANBA-SGB III(Bildsch.optmiert)'!A7 -> Berichtsmonat Februar 2026
D8: ='ANBA-SGB III(Bildsch.optmiert)'!A8 -> 46083
G9: Einnahmen | I9: Ausgaben
D10: Mittelherkunft und Haushaltsposition | G10: im Berichtsmonat | H10: seit Jahresbeginn | I10: im Berichtsmonat | J10: seit Jahresbeginn
D12: A. Aus Mitteln des Bundeshaushalts | G12: =G13+G14+G15+G16+G17+G21+G22+G28+G29+G30 -> -1284824 | H12: =H13+H14+H15+H16+H17+H21+H22+H28+H29+H30 -> -2480476.4 | I12: =I13+I14+I15+I16+I17+I21+I22+I28+I29+I30 -> 4.9360868e+09 | J12: =J13+J14+J15+J16+J17+J21+J22+J28+J29+J30 -> 9.8902891e+09
