Workbook

Sheet Hinweisblatt
B6: Aufgrund von Kreisgebietsreformen
B7: sind Kreisschlüssel
B8: entfallen und
B9: Vorquartalswerte deshalb
B10: teilweise nicht ausweisbar.

Sheet Deckblatt
N64: _

Sheet Impressum
F1: Beschäftigungsstatistik
A4: Impressum
A6: Produktlinie/Reihe: | C6: Tabellen
A8: Titel: | C8: Regionalreport über Beschäftigte (Quartalszahlen)
A10: Region: | C10: Leipzig, Stadt (14713)
A12: Stichtag: | C12: 30. September 2020
A14: Erstellungsdatum: | C14: 10. April 2021
A16: Periodizität: | C16: vierteljährlich
A18: Nächster Veröffentlichungstermin: | C18: 10. Juli 2021
A20: Hinweise: | C20: In dieser Publikation wird über die sozialversicherungspflichtig und geringfügig entlohnten Beschäftigten berichtet. Eine weitere Unterteilung der geringfügig entlohnten Beschäftigten in ausschließlich geringfügig entlohnte und im Nebenjob tätige Beschäftigte ist bei ausgewählten Merkmalen, wie dem Beruf, aus Geheimhaltungsgründen nicht möglich. Weitergehende Informationen erhalten Sie über Ihren regionalen Statistik-Service. Soweit nicht anders angegeben, beziehen sich alle Zahlen auf den Arbeitsort.
A22: Herausgeberin: | C22: Bundesagentur für Arbeit
C23: Statistik
A25: Rückfragen an: | C25: Statistik-Service Südost
C26: Nordostpark 14
C27: 90411 Nürnberg
A28: E-Mail: | C28: Statistik-Service-Suedost@arbeitsagentur.de
A29: Hotline: | C29: 0911/179-8001
A30: Fax: | C30: 0911/179-908001
A33: Internet: | C33: http://statistik.arbeitsagentur.de
C34: Register: "Statistik nach Themen"
C35: http://statistik.arbeitsagentur.de/Navigation/Statistik/Statistik-nach-Themen/Statistik-nach-Themen-Nav.html
A37: Zitierhinweis: | C37: Statistik der Bundesagentur für Arbeit
C38: Tabellen, Regionalreport über Beschäftigte, Nürnberg, März 2021
A40: Nutzungsbedingungen: | C40: © Statistik der Bundesagentur für Arbeit
C41: Sie können Informationen speichern, (auch auszugsweise) mit Quellen-
C42: angabe weitergeben, vervielfältigen und verbreiten. Die Inhalte dürfen
C43: nicht verändert oder verfälscht werden. Eigene Berechnungen sind
C44: erlaubt, jedoch als solche kenntlich zu machen.
C45: Im Falle einer Zugänglichmachung im Internet soll dies in Form einer
C46: Verlinkung auf die Homepage der Statistik der Bundesagentur für Arbeit
C47: erfolgen.
C48: Die Nutzung der Inhalte für gewerbliche Zwecke, ausgenommen Presse,
C49: Rundfunk und Fernsehen und wissenschaftliche Publikationen, bedarf
C50: der Genehmigung durch die Statistik der Bundesagentur für Arbeit.

Sheet Inhaltsverzeichnis
G1: Beschäftigungsstatistik
A4: Inhaltsverzeichnis
A7: Regionalreport über Beschäftigte (Quartalszahlen)
A8: Leipzig, Stadt (14713)
A9: Stichtag: 30. September 2020
A12: Quartalszahlen im Überblick
A13: Sozialversicherungspflichtig und geringfügig entlohnte Beschäftigte
B14: nach ausgewählten Merkmalen | G14: Tabelle 1
A15: Diagramm: Entwicklung sozialversicherungspflichtig Beschäftigter
B16: und geringfügig entlohnter Beschäftigter nach Regionen und nach
B17: der Klassifikation der Wirtschaftszweige (WZ 2008) | G17: Diagramm
A19: Sozialversicherungspflichtig Beschäftigte
B20: nach Regionen und ausgewählten Merkmalen | G20: Tabelle 2.1
B21: nach ausgewählten Merkmalen | G21: Tabelle 2.2
B22: nach der Klassifikation der Wirtschaftszweige 2008 (WZ 2008) | G22: Tabelle 2.3
B23: nach der Klassifikation der Berufe (KldB 2010) | G23: Tabelle 2.4
A25: Geringfügig entlohnte Beschäftigte
B26: nach Regionen und ausgewählten Merkmalen | G26: Tabelle 3.1
B27: nach ausgewählten Merkmalen | G27: Tabelle 3.2
B28: nach der Klassifikation der Wirtschaftszweige 2008 (WZ 2008) | G28: Tabelle 3.3
B29: nach der Klassifikation der Berufe (KldB 2010) | G29: Tabelle 3.4
A31: Begonnene sozialversicherungspflichtige Beschäftigungsverhältnisse
B32: Insgesamt / darunter befristet nach ausgewählten Merkmalen | G32: Tabelle 4.1
B33: nach der Klassifikation der Wirtschaftszweige 2008 (WZ 2008) | G33: Tabelle 4.2
B34: nach der Klassifikation der Berufe (KldB 2010) | G34: Tabelle 4.3
A36: Beendete sozialversicherungspflichtige Beschäftigungsverhältnisse
B37: nach der Klassifikation der Wirtschaftszweige 2008 (WZ 2008) | G37: Tabelle 5.1
B38: nach der Klassifikation der Berufe (KldB 2010) | G38: Tabelle 5.2
A40: Zeitreihe
B41: Sozialversicherungspflichtig und geringfügig entlohnte Beschäftigte sowie begonnene und beendete Beschäftigungsverhältnisse | G41: Tabelle 6

Sheet Tabelle 1
J1: Beschäftigungsstatistik
A3: 1. Sozialversicherungspflichtig und geringfügig entlohnte Beschäftigte nach ausgewählten Merkmalen
A4: Leipzig, Stadt (14713); Gebietsstand des jeweiligen Stichtags
A5: Stichtag: 30. September 2020
A7: Merkmale | C7: Anteile in % 1) | D7: Beschäftigte am Stichtag Ende ... | I7: Veränderung gegenüber dem Vorjahresstichtag (Sp. 1 zu Sp. 5)
D8: Sep. 20 | E8: Jun. 20 | F8: Mrz. 20 | G8: Dez. 19 | H8: Sep. 19
I9: absolut | J9: in %
D10: 1 | E10: 2 | F10: 3 | G10: 4 | H10: 5 | I10: 6 | J10: 7
A11: Sozialversicherungspflichtig Beschäftigte
A12: Insgesamt | C12: 100 | D12: 278940 | E12: 274019 | F12: 275915 | G12: 277145 | H12: 277007 | I12: 1933 | J12: 0.6978163
A13: dav. | B13: Männer | C13: 51.150785 | D13: 142680 | E13: 139878 | F13: 140722 | G13: 141066 | H13: 140971 | I13: 1709 | J13: 1.2123061
B14: Frauen | C14: 48.849215 | D14: 136260 | E14: 134141 | F14: 135193 | G14: 136079 | H14: 136036 | I14: 224 | J14: 0.1646623
A15: dav. | B15: unter 25 Jahre | C15: 8.7957984 | D15: 24535 | E15: 22080 | F15: 22779 | G15: 23521 | H15: 23584 | I15: 951 | J15: 4.0323948
B16: 25 bis unter 55 Jahre | C16: 71.559834 | D16: 199609 | E16: 197920 | F16: 199571 | G16: 200294 | H16: 200445 | I16: -836 | J16: -0.41707201
B17: 55 bis unter 65 Jahre | C17: 18.718362 | D17: 52213 | E17: 51503 | F17: 51055 | G17: 50789 | H17: 50479 | I17: 1734 | J17: 3.4350918
B18: 65 Jahre und älter | C18: 0.92600559 | D18: 2583 | E18: 2516 | F18: 2510 | G18: 2541 | H18: 2499 | I18: 84 | J18: 3.3613445
B19: dar.: bis zur Altersgrenze | C19: 0.30544203 | D19: 852 | E19: 839 | F19: 807 | G19: 784 | H19: 790 | I19: 62 | J19: 7.8481013
A20: dar. | B20: Vollzeitbeschäftigte | C20: 67.060658 | D20: 187059 | E20: 184625 | F20: 185968 | G20: 186807 | H20: 187487 | I20: -428 | J20: -0.22828249
B21: Teilzeitbeschäftigte | C21: 32.939342 | D21: 91881 | E21: 89394 | F21: 89947 | G21: 90338 | H21: 89520 | I21: 2361 | J21: 2.6373995
A22: dar. | B22: Deutsche | C22: 92.990966 | D22: 259389 | E22: 255689 | F22: 257650 | G22: 258865 | H22: 259057 | I22: 332 | J22: 0.12815712
B23: Ausländer | C23: 6.9470137 | D23: 19378 | E23: 18161 | F23: 18091 | G23: 18112 | H23: 17779 | I23: 1599 | J23: 8.9937567
A24: Geringfügig entlohnte Beschäftigte (GeB)
A25: GeB - Insgesamt
A26: Insgesamt | C26: 100 | D26: 34758 | E26: 33455 | F26: 34810 | G26: 36994 | H26: 36580 | I26: -1822 | J26: -4.9808639
A27: dav. | B27: Männer | C27: 45.224121 | D27: 15719 | E27: 15236 | F27: 15941 | G27: 16753 | H27: 16485 | I27: -766 | J27: -4.6466485
B28: Frauen | C28: 54.775879 | D28: 19039 | E28: 18219 | F28: 18869 | G28: 20241 | H28: 20095 | I28: -1056 | J28: -5.2550386
A29: dav. | B29: unter 25 Jahre | C29: 21.730249 | D29: 7553 | E29: 7287 | F29: 7678 | G29: 8575 | H29: 8208 | I29: -655 | J29: -7.9800195
B30: 25 bis unter 55 Jahre | C30: 45.995167 | D30: 15987 | E30: 15376 | F30: 15970 | G30: 17003 | H30: 16991 | I30: -1004 | J30: -5.9090107
B31: 55 bis unter 65 Jahre | C31: 14.629726 | D31: 5085 | E31: 4834 | F31: 4998 | G31: 5116 | H31: 5188 | I31: -103 | J31: -1.9853508
B32: 65 Jahre und älter | C32: 17.644859 | D32: 6133 | E32: 5958 | F32: 6164 | G32: 6300 | H32: 6193 | I32: -60 | J32: -0.96883578
B33: dar.: bis zur Altersgrenze | C33: 1.7204672 | D33: 598 | E33: 571 | F33: 636 | G33: 682 | H33: 695 | I33: -97 | J33: -13.956835
A34: dar. | B34: Deutsche | C34: 90.992002 | D34: 31627 | E34: 30689 | F34: 31843 | G34: 33802 | H34: 33463 | I34: -1836 | J34: -5.4866569
B35: Ausländer | C35: 8.8756545 | D35: 3085 | E35: 2729 | F35: 2928 | G35: 3152 | H35: 3079 | I35: 6 | J35: 0.19486846
A36: GeB - ausschließlich
A37: Insgesamt | C37: 100 | D37: 22853 | E37: 22338 | F37: 23228 | G37: 24725 | H37: 24317 | I37: -1464 | J37: -6.0204795
A38: dav. | B38: Männer | C38: 44.948147 | D38: 10272 | E38: 10190 | F38: 10626 | G38: 11159 | H38: 10951 | I38: -679 | J38: -6.200347
B39: Frauen | C39: 55.051853 | D39: 12581 | E39: 12148 | F39: 12602 | G39: 13566 | H39: 13366 | I39: -785 | J39: -5.8731109
A40: dav. | B40: unter 25 Jahre | C40: 27.073032 | D40: 6187 | E40: 6131 | F40: 6370 | G40: 7141 | H40: 6769 | I40: -582 | J40: -8.5980204
B41: 25 bis unter 55 Jahre | C41: 32.218965 | D41: 7363 | E41: 7219 | F41: 7521 | G41: 8051 | H41: 8033 | I41: -670 | J41: -8.340595
B42: 55 bis unter 65 Jahre | C42: 14.514506 | D42: 3317 | E42: 3165 | F42: 3317 | G42: 3370 | H42: 3452 | I42: -135 | J42: -3.9107764
B43: 65 Jahre und älter | C43: 26.193498 | D43: 5986 | E43: 5823 | F43: 6020 | G43: 6163 | H43: 6063 | I43: -77 | J43: -1.2699984
B44: dar.: bis zur Altersgrenze | C44: 2.4416926 | D44: 558 | E44: 531 | F44: 594 | G44: 644 | H44: 667 | I44: -109 | J44: -16.341829
A45: dar. | B45: Deutsche | C45: 90.644554 | D45: 20715 | E45: 20384 | F45: 21139 | G45: 22494 | H45: 22133 | I45: -1418 | J45: -6.406723
B46: Ausländer | C46: 9.158535 | D46: 2093 | E46: 1917 | F46: 2050 | G46: 2191 | H46: 2147 | I46: -54 | J46: -2.5151374
A47: GeB - im Nebenjob
A48: Insgesamt | C48: 100 | D48: 11905 | E48: 11117 | F48: 11582 | G48: 12269 | H48: 12263 | I48: -358 | J48: -2.9193509
A49: dav. | B49: Männer | C49: 45.753885 | D49: 5447 | E49: 5046 | F49: 5315 | G49: 5594 | H49: 5534 | I49: -87 | J49: -1.5720997
B50: Frauen | C50: 54.246115 | D50: 6458 | E50: 6071 | F50: 6267 | G50: 6675 | H50: 6729 | I50: -271 | J50: -4.0273443
A51: dav. | B51: unter 25 Jahre | C51: 11.474171 | D51: 1366 | E51: 1156 | F51: 1308 | G51: 1434 | H51: 1439 | I51: -73 | J51: -5.0729673
B52: 25 bis unter 55 Jahre | C52: 72.440151 | D52: 8624 | E52: 8157 | F52: 8449 | G52: 8952 | H52: 8958 | I52: -334 | J52: -3.7285108
B53: 55 bis unter 65 Jahre | C53: 14.850903 | D53: 1768 | E53: 1669 | F53: 1681 | G53: 1746 | H53: 1736 | I53: 32 | J53: 1.843318
B54: 65 Jahre und älter | C54: 1.2347753 | D54: 147 | E54: 135 | F54: 144 | G54: 137 | H54: 130 | I54: 17 | J54: 13.076923
B55: dar.: bis zur Altersgrenze | C55: 0.33599328 | D55: 40 | E55: 40 | F55: 42 | G55: 38 | H55: 28 | I55: 12 | J55: 42.857143
A56: dar. | B56: Deutsche | C56: 91.658967 | D56: 10912 | E56: 10305 | F56: 10704 | G56: 11308 | H56: 11330 | I56: -418 | J56: -3.6893204
B57: Ausländer | C57: 8.3326333 | D57: 992 | E57: 812 | F57: 878 | G57: 961 | H57: 932 | I57: 60 | J57: 6.4377682
J58: © Statistik der Bundesagentur für Arbeit
A59: 1) Anteil an der jeweiligen Gesamtsumme (Spaltenprozent)
A60: *) Aus Datenschutzgründen und Gründen der statistischen Geheimhaltung werden Zahlenwerte von 1 oder 2 und Daten, aus denen rechnerisch auf einen solchen Zahlenwert geschlossen werden kann, anonymisiert.

Sheet Diagramm
I1: Beschäftigungsstatistik
A3: Entwicklung sozialversicherungspflichtig Beschäftigter und geringfügig entlohnter Beschäftigter nach Regionen
A4: und nach der Klassifikation der Wirtschaftszweige (WZ 2008)
A5: ausgewählte Regionen; Gebietsstand des jeweiligen Stichtags
A6: Stichtag: 30. September 2020 | D6: Veränderung gegenüber dem Vorjahresstichtag in %
D7: Sozialversicherungspflichtig Beschäftigte | G7: Geringfügig entlohnte Beschäftigte (insgesamt)
A9: Leipzig, Stadt (14713)
A10: Bundesland Sachsen
A11: Ostdeutschland
A12: Deutschland
A15: Leipzig, Stadt (14713)
A16: Insgesamt
A17: A | B17: Land-, Forstwirtschaft und Fischerei
A18: B,D,E | B18: Bergbau, Energie- und Wasserversorgung, Energiewirtschaft
A19: C dav. | B19: Verarbeitendes Gewerbe
A20: 10-15, 18, 21, 31 | B20: Herstellung von überwiegend häuslich konsumierten Gütern (ohne Güter der Metall-, Elektro- und Chemieindustrie)
A21: 24-30,32,33 | B21: Metall- und Elektroindustrie sowie Stahlindustrie
A22: 16, 17, 19, 20, ,22, 23 | B22: Hrst. v. Vorleistungsgütern, insb. v. chem. Erzeugnissen u. Kunsstoffwaren (ohne Güter der Metall- u. Elektroindustrie)
A23: F | B23: Baugewerbe
A24: G | B24: Handel, Instandhaltung, Reparatur von Kfz
A25: H | B25: Verkehr und Lagerei
A26: I | B26: Gastgewerbe
A27: J | B27: Information und Kommunikation
A28: K | B28: Erbringung von Finanz- und Versicherungsdienstleistungen
... A31: dav. N (ohne ANÜ | B31: sonstige wirtschaftliche Dienstleistungen (ohne Arbeitnehmerüberlassung)
A32: 782.783 | B32: Arbeitnehmerüberlassung
A33: O, U | B33: Öffentliche Verwaltung, Verteidigung, Sozialversicherung, Ext. Organisationen
A34: P | B34: Erziehung und Unterricht
A35: 86 | B35: Gesundheitswesen
A36: 87.88 | B36: Heime und Sozialwesen
A37: R,S,T | B37: sonstige Dienstleistungen, Private Haushalte
B38: keine Zuordnung möglich
A39: davon nach Sektoren:
A40: A | B40: Land-, Forstwirtschaft und Fischerei
A41: B - F | B41: Produzierendes Gewerbe
A42: G - U | B42: Dienstleistungsbereich
I44: © Statistik der Bundesagentur für Arbeit
A45: *) Aus Datenschutzgründen und Gründen der statistischen Geheimhaltung werden Zahlenwerte von 1 oder 2 und Daten, aus denen rechnerisch auf einen solchen Zahlenwert geschlossen werden kann, anonymisiert. Gleiches gilt, wenn in einer Region weniger als 3 Betriebe ansässig sind oder einer der Betriebe einen so hohen Beschäftigtenanteil auf sich vereint, dass die Beschäftigtenzahl praktisch eine Einzelangabe über den Branchenführer darstellt (Dominanzfall).

Sheet Tabelle 2.1
J1: Beschäftigungsstatistik
A3: 2.1 Sozialversicherungspflichtig Beschäftigte nach Regionen und ausgewählten Merkmalen
A4: ausgewählte Regionen; Gebietsstand des jeweiligen Stichtags
A5: Stichtag: 30. September 2020
A7: Regionen / Merkmale | C7: Anteile in % 1) | D7: sozialversicherungspflichtig Beschäftigte am Stichtag Ende ... | I7: Veränderung gegenüber dem Vorjahresstichtag (Spalte 1 zu Spalte 5)
D8: Sep. 20 | E8: Jun. 20 | F8: Mrz. 20 | G8: Dez. 19 | H8: Sep. 19
I9: absolut | J9: in %
D10: 1 | E10: 2 | F10: 3 | G10: 4 | H10: 5 | I10: 6 | J10: 7
A11: Leipzig, Stadt (14713)
A12: Insgesamt | C12: 100 | D12: 278940 | E12: 274019 | F12: 275915 | G12: 277145 | H12: 277007 | I12: 1933 | J12: 0.6978163
A13: dav. | B13: Männer | C13: 51.150785 | D13: 142680 | E13: 139878 | F13: 140722 | G13: 141066 | H13: 140971 | I13: 1709 | J13: 1.2123061
B14: Frauen | C14: 48.849215 | D14: 136260 | E14: 134141 | F14: 135193 | G14: 136079 | H14: 136036 | I14: 224 | J14: 0.1646623
A15: dav. | B15: unter 25 Jahre | C15: 8.7957984 | D15: 24535 | E15: 22080 | F15: 22779 | G15: 23521 | H15: 23584 | I15: 951 | J15: 4.0323948
B16: 25 bis unter 55 Jahre | C16: 71.559834 | D16: 199609 | E16: 197920 | F16: 199571 | G16: 200294 | H16: 200445 | I16: -836 | J16: -0.41707201
B17: 55 bis unter 65 Jahre | C17: 18.718362 | D17: 52213 | E17: 51503 | F17: 51055 | G17: 50789 | H17: 50479 | I17: 1734 | J17: 3.4350918
B18: 65 Jahre und älter | C18: 0.92600559 | D18: 2583 | E18: 2516 | F18: 2510 | G18: 2541 | H18: 2499 | I18: 84 | J18: 3.3613445
B19: dar.: bis zur Altersgrenze | C19: 0.30544203 | D19: 852 | E19: 839 | F19: 807 | G19: 784 | H19: 790 | I19: 62 | J19: 7.8481013
A20: dar. | B20: in Vollzeit | C20: 67.060658 | D20: 187059 | E20: 184625 | F20: 185968 | G20: 186807 | H20: 187487 | I20: -428 | J20: -0.22828249
B21: in Teilzeit | C21: 32.939342 | D21: 91881 | E21: 89394 | F21: 89947 | G21: 90338 | H21: 89520 | I21: 2361 | J21: 2.6373995
A22: dar. | B22: Deutsche | C22: 92.990966 | D22: 259389 | E22: 255689 | F22: 257650 | G22: 258865 | H22: 259057 | I22: 332 | J22: 0.12815712
B23: Ausländer | C23: 6.9470137 | D23: 19378 | E23: 18161 | F23: 18091 | G23: 18112 | H23: 17779 | I23: 1599 | J23: 8.9937567
A24: Bundesland Sachsen
A25: Insgesamt | C25: 100 | D25: 1632351 | E25: 1608511 | F25: 1620306 | G25: 1629804 | H25: 1639872 | I25: -7521 | J25: -0.45863336
A26: dav. | B26: Männer | C26: 51.718472 | D26: 844227 | E26: 830811 | F26: 835618 | G26: 839643 | H26: 847225 | I26: -2998 | J26: -0.35386113
B27: Frauen | C27: 48.281528 | D27: 788124 | E27: 777700 | F27: 784688 | G27: 790161 | H27: 792647 | I27: -4523 | J27: -0.57061971
A28: dav. | B28: unter 25 Jahre | C28: 8.7706014 | D28: 143167 | E28: 127879 | F28: 132123 | G28: 135925 | H28: 138141 | I28: 5026 | J28: 3.6383116
B29: 25 bis unter 55 Jahre | C29: 67.784625 | D29: 1106483 | E29: 1101323 | F29: 1111781 | G29: 1117612 | H29: 1126503 | I29: -20020 | J29: -1.7771812
B30: 55 bis unter 65 Jahre | C30: 22.491057 | D30: 367133 | E30: 364120 | F30: 361490 | G30: 360974 | H30: 360281 | I30: 6852 | J30: 1.9018488
B31: 65 Jahre und älter | C31: 0.95371645 | D31: 15568 | E31: 15189 | F31: 14912 | G31: 15293 | H31: 14947 | I31: 621 | J31: 4.1546799
B32: dar.: bis zur Altersgrenze | C32: 0.3032436 | D32: 4950 | E32: 4811 | F32: 4636 | G32: 4636 | H32: 4671 | I32: 279 | J32: 5.973025
A33: dar. | B33: in Vollzeit | C33: 68.099447 | D33: 1111622 | E33: 1099325 | F33: 1108085 | G33: 1117208 | H33: 1128824 | I33: -17202 | J33: -1.5238868
B34: in Teilzeit | C34: 31.900553 | D34: 520729 | E34: 509186 | F34: 512221 | G34: 512596 | H34: 511048 | I34: 9681 | J34: 1.8943426
A35: dar. | B35: Deutsche | C35: 94.163449 | D35: 1537078 | E35: 1519250 | F35: 1530487 | G35: 1540840 | H35: 1550775 | I35: -13697 | J35: -0.8832358
B36: Ausländer | C36: 5.8179889 | D36: 94970 | E36: 88955 | F36: 89503 | G36: 88669 | H36: 88801 | I36: 6169 | J36: 6.9469938
A37: Ostdeutschland
A38: Insgesamt | C38: 100 | D38: 6239770 | E38: 6151086 | F38: 6205288 | G38: 6228885 | H38: 6266099 | I38: -26329 | J38: -0.42018168
A39: dav. | B39: Männer | C39: 51.213106 | D39: 3195580 | E39: 3144389 | F39: 3170080 | G39: 3179150 | H39: 3209502 | I39: -13922 | J39: -0.43377446
B40: Frauen | C40: 48.786894 | D40: 3044190 | E40: 3006697 | F40: 3035208 | G40: 3049735 | H40: 3056597 | I40: -12407 | J40: -0.40590892
A41: dav. | B41: unter 25 Jahre | C41: 8.5885377 | D41: 535905 | E41: 484177 | F41: 503380 | G41: 517562 | H41: 523920 | I41: 11985 | J41: 2.287563
B42: 25 bis unter 55 Jahre | C42: 67.858415 | D42: 4234209 | E42: 4211123 | F42: 4256336 | G42: 4269069 | H42: 4304095 | I42: -69886 | J42: -1.6237095
B43: 55 bis unter 65 Jahre | C43: 22.472816 | D43: 1402252 | E43: 1390622 | F43: 1381190 | G43: 1376950 | H43: 1374667 | I43: 27585 | J43: 2.0066678
B44: 65 Jahre und älter | C44: 1.0802321 | D44: 67404 | E44: 65164 | F44: 64382 | G44: 65303 | H44: 63416 | I44: 3988 | J44: 6.2886338
B45: dar.: bis zur Altersgrenze | C45: 0.34062153 | D45: 21254 | E45: 20281 | F45: 19616 | G45: 19529 | H45: 19574 | I45: 1680 | J45: 8.5828139
A46: dar. | B46: in Vollzeit | C46: 68.432042 | D46: 4270002 | E46: 4217172 | F46: 4250917 | G46: 4270897 | H46: 4313879 | I46: -43877 | J46: -1.0171124
B47: in Teilzeit | C47: 31.567958 | D47: 1969768 | E47: 1933914 | F47: 1954371 | G47: 1957988 | H47: 1952220 | I47: 17548 | J47: 0.8988741
A48: dar. | B48: Deutsche | C48: 91.586485 | D48: 5714786 | E48: 5649784 | F48: 5697974 | G48: 5728083 | H48: 5767106 | I48: -52320 | J48: -0.90721412
B49: Ausländer | C49: 8.3416216 | D49: 520498 | E49: 496923 | F49: 502847 | G49: 496442 | H49: 494714 | I49: 25784 | J49: 5.2119002
A50: Deutschland
A51: Insgesamt | C51: 100 | D51: 33791865 | E51: 33322952 | F51: 33648183 | G51: 33740124 | H51: 33938159 | I51: -146294 | J51: -0.43106051
A52: dav. | B52: Männer | C52: 53.690058 | D52: 18142872 | E52: 17894118 | F52: 18057396 | G52: 18100348 | H52: 18283323 | I52: -140451 | J52: -0.76819187
B53: Frauen | C53: 46.309942 | D53: 15648993 | E53: 15428834 | F53: 15590787 | G53: 15639776 | H53: 15654836 | I53: -5843 | J53: -0.03732393
A54: dav. | B54: unter 25 Jahre | C54: 10.471162 | D54: 3538401 | E54: 3251040 | F54: 3395512 | G54: 3515501 | H54: 3596470 | I54: -58069 | J54: -1.614611
B55: 25 bis unter 55 Jahre | C55: 67.681843 | D55: 22870957 | E55: 22767423 | F55: 23007059 | G55: 23038764 | H55: 23203085 | I55: -332128 | J55: -1.4313959
B56: 55 bis unter 65 Jahre | C56: 20.666865 | D56: 6983719 | E56: 6913238 | F56: 6856741 | G56: 6796785 | H56: 6757185 | I56: 226534 | J56: 3.3524907
B57: 65 Jahre und älter | C57: 1.1801302 | D57: 398788 | E57: 391250 | F57: 388870 | G57: 389071 | H57: 381418 | I57: 17370 | J57: 4.5540588
B58: dar.: bis zur Altersgrenze | C58: 0.36012218 | D58: 121692 | E58: 117828 | F58: 113539 | G58: 110794 | H58: 112751 | I58: 8941 | J58: 7.9298631
A59: dar. | B59: in Vollzeit | C59: 71.116193 | D59: 24031488 | E59: 23694815 | F59: 23917380 | G59: 24009698 | H59: 24264487 | I59: -232999 | J59: -0.96024697
B60: in Teilzeit | C60: 28.883807 | D60: 9760377 | E60: 9628137 | F60: 9730803 | G60: 9730426 | H60: 9673671 | I60: 86706 | J60: 0.89630917
A61: dar. | B61: Deutsche | C61: 87.036013 | D61: 29411092 | E61: 29068114 | F61: 29352948 | G61: 29504034 | H61: 29659173 | I61: -248081 | J61: -0.83643937
B62: Ausländer | C62: 12.907059 | D62: 4361536 | E62: 4235911 | F62: 4276040 | G62: 4217256 | H62: 4260341 | I62: 101195 | J62: 2.3752793
A63: Leipzig, Stadt (14713) am Wohnort
A64: Insgesamt | C64: 100 | D64: 246163 | E64: 242738 | F64: 244633 | G64: 245190 | H64: 244304 | I64: 1859 | J64: 0.76093719
A65: dav. | B65: Männer | C65: 51.87254 | D65: 127691 | E65: 125911 | F65: 126741 | G65: 126898 | H65: 126634 | I65: 1057 | J65: 0.83468895
B66: Frauen | C66: 48.12746 | D66: 118472 | E66: 116827 | F66: 117892 | G66: 118292 | H66: 117670 | I66: 802 | J66: 0.68156709
A67: dav. | B67: unter 25 Jahre | C67: 9.1370352 | D67: 22492 | E67: 20694 | F67: 21348 | G67: 21812 | H67: 21616 | I67: 876 | J67: 4.0525537
B68: 25 bis unter 55 Jahre | C68: 73.657292 | D68: 181317 | E68: 180131 | F68: 181652 | G68: 181939 | H68: 181695 | I68: -378 | J68: -0.20804095
B69: 55 bis unter 65 Jahre | C69: 16.318862 | D69: 40171 | E69: 39759 | F69: 39476 | G69: 39264 | H69: 38885 | I69: 1286 | J69: 3.3071879
B70: 65 Jahre und älter | C70: 0.88681077 | D70: 2183 | E70: 2154 | F70: 2157 | G70: 2175 | H70: 2108 | I70: 75 | J70: 3.5578748
B71: dar.: bis zur Altersgrenze | C71: 0.28070831 | D71: 691 | E71: 703 | F71: 671 | G71: 676 | H71: 656 | I71: 35 | J71: 5.3353659
A72: dar. | B72: in Vollzeit | C72: 66.337346 | D72: 163298 | E72: 161373 | F72: 162581 | G72: 163015 | H72: 163247 | I72: 51 | J72: 0.031241003
B73: in Teilzeit | C73: 33.662654 | D73: 82865 | E73: 81365 | F73: 82052 | G73: 82175 | H73: 81057 | I73: 1808 | J73: 2.2305291
A74: dar. | B74: Deutsche | C74: 92.284381 | D74: 227170 | E74: 224552 | F74: 226329 | G74: 227061 | H74: 226616 | I74: 554 | J74: 0.24446641
B75: Ausländer | C75: 7.6729647 | D75: 18888 | E75: 18084 | F75: 18194 | G75: 18022 | H75: 17585 | I75: 1303 | J75: 7.4097242
J76: © Statistik der Bundesagentur für Arbeit
A77: 1) Anteil an der jeweiligen Gesamtsumme (Spaltenprozent)
A78: *) Aus Datenschutzgründen und Gründen der statistischen Geheimhaltung werden Zahlenwerte von 1 oder 2 und Daten, aus denen rechnerisch auf einen solchen Zahlenwert geschlossen werden kann, anonymisiert.

Sheet Tabelle 2.2
L1: Beschäftigungsstatistik
A3: 2.2 Sozialversicherungspflichtig Beschäftigte nach ausgewählten Merkmalen
A4: Leipzig, Stadt (14713); Gebietsstand des jeweiligen Stichtags
A5: Stichtag: 30. September 2020
A7: Merkmale | E7: Anteile in % 1) | F7: sozialversicherungspflichtig Beschäftigte am Stichtag Ende ... | K7: Veränderung gegenüber dem Vorjahresstichtag (Spalte 1 zu Spalte 5)
F8: Sep. 20 | G8: Jun. 20 | H8: Mrz. 20 | I8: Dez. 19 | J8: Sep. 19
K9: absolut | L9: in %
F10: 1 | G10: 2 | H10: 3 | I10: 4 | J10: 5 | K10: 6 | L10: 7
A11: Insgesamt | E11: 100 | F11: 278940 | G11: 274019 | H11: 275915 | I11: 277145 | J11: 277007 | K11: 1933 | L11: 0.6978163
A12: nach dem Geschlecht dav. Männer | E12: 51.150785 | F12: 142680 | G12: 139878 | H12: 140722 | I12: 141066 | J12: 140971 | K12: 1709 | L12: 1.2123061
B13: Frauen | E13: 48.849215 | F13: 136260 | G13: 134141 | H13: 135193 | I13: 136079 | J13: 136036 | K13: 224 | L13: 0.1646623
A14: nach Altersgruppen und Geschlecht dav. unter 25 Jahre | E14: 8.7957984 | F14: 24535 | G14: 22080 | H14: 22779 | I14: 23521 | J14: 23584 | K14: 951 | L14: 4.0323948
C15: Männer | E15: 52.895863 | F15: 12978 | G15: 11690 | H15: 11990 | I15: 12339 | J15: 12382 | K15: 596 | L15: 4.8134389
C16: Frauen | E16: 47.104137 | F16: 11557 | G16: 10390 | H16: 10789 | I16: 11182 | J16: 11202 | K16: 355 | L16: 3.169077
B17: 25 bis unter 55 Jahre | E17: 71.559834 | F17: 199609 | G17: 197920 | H17: 199571 | I17: 200294 | J17: 200445 | K17: -836 | L17: -0.41707201
C18: Männer | E18: 51.65198 | F18: 103102 | G18: 102107 | H18: 102805 | I18: 102966 | J18: 102964 | K18: 138 | L18: 0.13402743
C19: Frauen | E19: 48.34802 | F19: 96507 | G19: 95813 | H19: 96766 | I19: 97328 | J19: 97481 | K19: -974 | L19: -0.99916907
B20: 55 bis unter 65 Jahre | E20: 18.718362 | F20: 52213 | G20: 51503 | H20: 51055 | I20: 50789 | J20: 50479 | K20: 1734 | L20: 3.4350918
C21: Männer | E21: 47.966981 | F21: 25045 | G21: 24598 | H21: 24458 | I21: 24298 | J21: 24157 | K21: 888 | L21: 3.6759531
C22: Frauen | E22: 52.033019 | F22: 27168 | G22: 26905 | H22: 26597 | I22: 26491 | J22: 26322 | K22: 846 | L22: 3.2140415
B23: 65 Jahre und älter | E23: 0.92600559 | F23: 2583 | G23: 2516 | H23: 2510 | I23: 2541 | J23: 2499 | K23: 84 | L23: 3.3613445
C24: Männer | E24: 60.201316 | F24: 1555 | G24: 1483 | H24: 1469 | I24: 1463 | J24: 1468 | K24: 87 | L24: 5.9264305
C25: Frauen | E25: 39.798684 | F25: 1028 | G25: 1033 | H25: 1041 | I25: 1078 | J25: 1031 | K25: -3 | L25: -0.29097963
C26: dar. | D26: bis zur Altersgrenze | E26: 0.30544203 | F26: 852 | G26: 839 | H26: 807 | I26: 784 | J26: 790 | K26: 62 | L26: 7.8481013
D27: Männer | E27: 57.276995 | F27: 488 | G27: 459 | H27: 416 | I27: 402 | J27: 413 | K27: 75 | L27: 18.159806
D28: Frauen | E28: 42.723005 | F28: 364 | G28: 380 | H28: 391 | I28: 382 | J28: 377 | K28: -13 | L28: -3.4482759
A29: nach Nationalität und Geschlecht dar. Deutsche | E29: 92.990966 | F29: 259389 | G29: 255689 | H29: 257650 | I29: 258865 | J29: 259057 | K29: 332 | L29: 0.12815712
C30: Männer | E30: 50.002506 | F30: 129701 | G30: 127709 | H30: 128634 | I30: 128973 | J30: 129014 | K30: 687 | L30: 0.53250035
C31: Frauen | E31: 49.997494 | F31: 129688 | G31: 127980 | H31: 129016 | I31: 129892 | J31: 130043 | K31: -355 | L31: -0.27298663
B32: Ausländer | E32: 6.9470137 | F32: 19378 | G32: 18161 | H32: 18091 | I32: 18112 | J32: 17779 | K32: 1599 | L32: 8.9937567
C33: Männer | E33: 66.436165 | F33: 12874 | G33: 12069 | H33: 11986 | I33: 11998 | J33: 11860 | K33: 1014 | L33: 8.549747
C34: Frauen | E34: 33.563835 | F34: 6504 | G34: 6092 | H34: 6105 | I34: 6114 | J34: 5919 | K34: 585 | L34: 9.8834263
A35: nach der Arbeitszeit und Geschlecht dar. in Vollzeit | E35: 67.060658 | F35: 187059 | G35: 184625 | H35: 185968 | I35: 186807 | J35: 187487 | K35: -428 | L35: -0.22828249
C36: Männer | E36: 61.831828 | F36: 115662 | G36: 114053 | H36: 114661 | I36: 115077 | J36: 115327 | K36: 335 | L36: 0.29047838
C37: Frauen | E37: 38.168172 | F37: 71397 | G37: 70572 | H37: 71307 | I37: 71730 | J37: 72160 | K37: -763 | L37: -1.0573725
B38: in Teilzeit | E38: 32.939342 | F38: 91881 | G38: 89394 | H38: 89947 | I38: 90338 | J38: 89520 | K38: 2361 | L38: 2.6373995
C39: Männer | E39: 29.405427 | F39: 27018 | G39: 25825 | H39: 26061 | I39: 25989 | J39: 25644 | K39: 1374 | L39: 5.3579785
C40: Frauen | E40: 70.594573 | F40: 64863 | G40: 63569 | H40: 63886 | I40: 64349 | J40: 63876 | K40: 987 | L40: 1.5451813
A41: Auszubildende nach Geschlecht Auszubildende | E41: 3.8904424 | F41: 10852 | G41: 9519 | H41: 9776 | I41: 10535 | J41: 10686 | K41: 166 | L41: 1.5534344
C42: Männer | E42: 53.363435 | F42: 5791 | G42: 4987 | H42: 5100 | I42: 5601 | J42: 5680 | K42: 111 | L42: 1.9542254
C43: Frauen | E43: 46.636565 | F43: 5061 | G43: 4532 | H43: 4676 | I43: 4934 | J43: 5006 | K43: 55 | L43: 1.0986816
A44: Sozialversicherungspflichtig Beschäftigte in Werkstätten oder gleichartigen Einrichtungen für Menschen mit Behinderung 2) Insgesamt | E44: 0.82885208 | F44: 2312 | G44: 2238 | H44: 2269 | I44: 2313 | J44: 2345 | K44: -33 | L44: -1.4072495
C45: Männer | E45: 58.261246 | F45: 1347 | G45: 1318 | H45: 1334 | I45: 1370 | J45: 1393 | K45: -46 | L45: -3.3022254
C46: Frauen | E46: 41.738754 | F46: 965 | G46: 920 | H46: 935 | I46: 943 | J46: 952 | K46: 13 | L46: 1.3655462
A47: Sozialversicherungspflichtig Beschäftigte in Freiwilligendiensten Insgesamt | E47: 0.25740303 | F47: 718 | G47: 760 | H47: 804 | I47: 816 | J47: 706 | K47: 12 | L47: 1.6997167
C48: Männer | E48: 39.693593 | F48: 285 | G48: 280 | H48: 296 | I48: 301 | J48: 262 | K48: 23 | L48: 8.778626
C49: Frauen | E49: 60.306407 | F49: 433 | G49: 480 | H49: 508 | I49: 515 | J49: 444 | K49: -11 | L49: -2.4774775
A50: nach dem Berufsabschluss und Geschlecht dav. ohne beruflichen Ausbildungsabschluss | E50: 9.0087474 | F50: 25129 | G50: 22715 | H50: 23332 | I50: 24083 | J50: 24078 | K50: 1051 | L50: 4.3649805
C51: Männer | E51: 58.812527 | F51: 14779 | G51: 13464 | H51: 13687 | I51: 14047 | J51: 14107 | K51: 672 | L51: 4.7635925
C52: Frauen | E52: 41.187473 | F52: 10350 | G52: 9251 | H52: 9645 | I52: 10036 | J52: 9971 | K52: 379 | L52: 3.801023
C53: dar. | D53: Auszubildende | E53: 31.732262 | F53: 7974 | G53: 6329 | H53: 6941 | I53: 7816 | J53: 7971 | K53: 3 | L53: 0.037636432
D54: Männer | E54: 54.000502 | F54: 4306 | G54: 3448 | H54: 3706 | I54: 4191 | J54: 4262 | K54: 44 | L54: 1.0323792
D55: Frauen | E55: 45.999498 | F55: 3668 | G55: 2881 | H55: 3235 | I55: 3625 | J55: 3709 | K55: -41 | L55: -1.1054193
B56: mit anerkanntem Berufsabschluss 3) | E56: 58.653832 | F56: 163609 | G56: 162370 | H56: 163375 | I56: 163401 | J56: 163821 | K56: -212 | L56: -0.12940954
C57: Männer | E57: 51.453771 | F57: 84183 | G57: 83346 | H57: 83888 | I57: 83723 | J57: 83904 | K57: 279 | L57: 0.33252288
C58: Frauen | E58: 48.546229 | F58: 79426 | G58: 79024 | H58: 79487 | I58: 79678 | J58: 79917 | K58: -491 | L58: -0.61438743
C59: dav. | D59: Abschluss anerkannte Berufsausbildung | E59: 92.18686 | F59: 150826 | G59: 149758 | H59: 150713 | I59: 150727 | J59: 151204 | K59: -378 | L59: -0.24999339
D60: Männer | E60: 51.020381 | F60: 76952 | G60: 76246 | H60: 76790 | I60: 76638 | J60: 76876 | K60: 76 | L60: 0.098860503
D61: Frauen | E61: 48.979619 | F61: 73874 | G61: 73512 | H61: 73923 | I61: 74089 | J61: 74328 | K61: -454 | L61: -0.61080616
D62: Meister- / Techn . / gleichw. Fachschulabschl. | E62: 7.8131399 | F62: 12783 | G62: 12612 | H62: 12662 | I62: 12674 | J62: 12617 | K62: 166 | L62: 1.3156852
D63: Männer | E63: 56.567316 | F63: 7231 | G63: 7100 | H63: 7098 | I63: 7085 | J63: 7028 | K63: 203 | L63: 2.8884462
D64: Frauen | E64: 43.432684 | F64: 5552 | G64: 5512 | H64: 5564 | I64: 5589 | J64: 5589 | K64: -37 | L64: -0.66201467
B65: mit akademischem Abschluss 4) | E65: 24.462608 | F65: 68236 | G65: 67360 | H65: 66940 | I65: 67051 | J65: 66114 | K65: 2122 | L65: 3.2096076
C66: Männer | E66: 47.068996 | F66: 32118 | G66: 31637 | H66: 31382 | I66: 31435 | J66: 30879 | K66: 1239 | L66: 4.0124356
C67: Frauen | E67: 52.931004 | F67: 36118 | G67: 35723 | H67: 35558 | I67: 35616 | J67: 35235 | K67: 883 | L67: 2.5060309
C68: dav. | D68: Bachelor | E68: 18.537136 | F68: 12649 | G68: 12268 | H68: 12022 | I68: 11915 | J68: 11427 | K68: 1222 | L68: 10.69397
D69: Männer | E69: 46.549134 | F69: 5888 | G69: 5757 | H69: 5657 | I69: 5591 | J69: 5347 | K69: 541 | L69: 10.117823
D70: Frauen | E70: 53.450866 | F70: 6761 | G70: 6511 | H70: 6365 | I70: 6324 | J70: 6080 | K70: 681 | L70: 11.200658
D71: Diplom/Magister/Master/Staatsexamen | E71: 74.777244 | F71: 51025 | G71: 50641 | H71: 50513 | I71: 50789 | J71: 50415 | K71: 610 | L71: 1.2099574
D72: Männer | E72: 46.684958 | F72: 23821 | G72: 23521 | H72: 23370 | I72: 23510 | J72: 23229 | K72: 592 | L72: 2.5485385
D73: Frauen | E73: 53.315042 | F73: 27204 | G73: 27120 | H73: 27143 | I73: 27279 | J73: 27186 | K73: 18 | L73: 0.06621055
D74: Promotion | E74: 6.6856205 | F74: 4562 | G74: 4451 | H74: 4405 | I74: 4347 | J74: 4272 | K74: 290 | L74: 6.7883895
D75: Männer | E75: 52.805787 | F75: 2409 | G75: 2359 | H75: 2355 | I75: 2334 | J75: 2303 | K75: 106 | L75: 4.6026921
D76: Frauen | E76: 47.194213 | F76: 2153 | G76: 2092 | H76: 2050 | I76: 2013 | J76: 1969 | K76: 184 | L76: 9.3448451
B77: Ausbildung unbekannt | E77: 7.8748118 | F77: 21966 | G77: 21574 | H77: 22268 | I77: 22610 | J77: 22994 | K77: -1028 | L77: -4.4707315
C78: Männer | E78: 52.808886 | F78: 11600 | G78: 11431 | H78: 11765 | I78: 11861 | J78: 12081 | K78: -481 | L78: -3.9814585
C79: Frauen | E79: 47.191114 | F79: 10366 | G79: 10143 | H79: 10503 | I79: 10749 | J79: 10913 | K79: -547 | L79: -5.0123706
L80: © Statistik der Bundesagentur für Arbeit
A81: 1) Anteil an der jeweiligen Gesamtsumme (Spaltenprozent)
A82: 2) Menschen mit Behinderung in anerkannten Einrichtungen, Personen in Einrichtungen der Jugendhilfe, Menschen mit Behinderung in Integrationsprojekt, Teiln. Teilhabe am Arbeitsleben.
A83: 3) "mit anerkanntem Berufsabschluss" ist die Summe aus "mit anerkannter Berufsausbildung" und "Meister-/Techniker-/gleichw. Fachschulabschluss"
A84: 4) "mit akademischem Abschluss" ist die Summe aus "Bachelor", "Diplom/Magister/Master/Staatsexamen" und "Promotion"
A85: *) Aus Datenschutzgründen und Gründen der statistischen Geheimhaltung werden Zahlenwerte von 1 oder 2 und Daten, aus denen rechnerisch auf einen solchen Zahlenwert geschlossen werden kann, anonymisiert.
A86: .X) Nachweis von Veränderungswerten < -250% bzw. > 250% nicht sinnvoll

Sheet Tabelle 2.3
J1: Beschäftigungsstatistik
A3: 2.3 Sozialversicherungspflichtig Beschäftigte nach der Klassifikation der Wirtschaftszweige 2008 (WZ 2008)
A4: Leipzig, Stadt (14713); Gebietsstand des jeweiligen Stichtags
A5: Stichtag: 30. September 2020
A7: Wirtschaftsabschnitte / Wirtschaftsabteilungen / Wirtschaftsgruppen WZ 2008 | C7: Anteile in % 1) | D7: sozialversicherungspflichtig Beschäftigte am Stichtag Ende ... | I7: Veränderung gegenüber dem Vorjahresstichtag (Spalte 1 zu Spalte 5)
D8: Sep. 20 | E8: Jun. 20 | F8: Mrz. 20 | G8: Dez. 19 | H8: Sep. 19
I9: absolut | J9: in %
D10: 1 | E10: 2 | F10: 3 | G10: 4 | H10: 5 | I10: 6 | J10: 7
A11: Insgesamt | C11: 100 | D11: 278940 | E11: 274019 | F11: 275915 | G11: 277145 | H11: 277007 | I11: 1933 | J11: 0.6978163
A12: A | B12: Land-, Forstwirtschaft und Fischerei | C12: 0.09787051 | D12: 273 | E12: 277 | F12: 265 | G12: 245 | H12: 276 | I12: -3 | J12: -1.0869565
A13: B,D,E | B13: Bergbau, Energie- und Wasserversorgung, Entsorgungswirtschaft | C13: 1.6534022 | D13: 4612 | E13: 4597 | F13: 4589 | G13: 4518 | H13: 4506 | I13: 106 | J13: 2.352419
A14: C | B14: Verarbeitendes Gewerbe | C14: 9.1442604 | D14: 25507 | E14: 25404 | F14: 25657 | G14: 25774 | H14: 25755 | I14: -248 | J14: -0.96291982
A15: dav. 10-15, 18, 21, 31 | B15: Herstellung von überwiegend häuslich konsumierten Gütern (ohne Güter der Metall-, Elektro- und Chemieindustrie) | C15: 1.0195741 | D15: 2844 | E15: 2800 | F15: 2847 | G15: 2862 | H15: 2841 | I15: 3 | J15: 0.10559662
A16: 24-30, 32, 33 | B16: Metall- und Elektroindustrie sowie Stahlindustrie | C16: 7.6206353 | D16: 21257 | E16: 21207 | F16: 21422 | G16: 21538 | H16: 21508 | I16: -251 | J16: -1.1670076
A17: 16, 17, 19, 20, 22, 23 | B17: Hrst. v. Vorleistungsgütern, insb. v. chem. Erzeugnissen u. Kunststoffwaren (ohne Güter der Metall- u. Elektroindustrie) | C17: 0.50405105 | D17: 1406 | E17: 1397 | F17: 1388 | G17: 1374 | H17: 1406 | I17: 0 | J17: 0
A18: F | B18: Baugewerbe | C18: 4.4299849 | D18: 12357 | E18: 12413 | F18: 12304 | G18: 12205 | H18: 12413 | I18: -56 | J18: -0.45113993
A19: G | B19: Handel, Instandhaltung, Reparatur von Kfz | C19: 10.904854 | D19: 30418 | E19: 31185 | F19: 31210 | G19: 31967 | H19: 31608 | I19: -1190 | J19: -3.7648697
A20: H | B20: Verkehr und Lagerei | C20: 6.6179107 | D20: 18460 | E20: 16932 | F20: 17136 | G20: 17052 | H20: 17078 | I20: 1382 | J20: 8.0922825
A21: I | B21: Gastgewerbe | C21: 3.8868574 | D21: 10842 | E21: 10878 | F21: 11208 | G21: 11497 | H21: 11622 | I21: -780 | J21: -6.7114094
A22: J | B22: Information und Kommunikation | C22: 6.5874382 | D22: 18375 | E22: 18083 | F22: 17872 | G22: 17645 | H22: 17641 | I22: 734 | J22: 4.1607619
A23: K | B23: Erbringung von Finanz- und Versicherungsdienstleistungen | C23: 2.7382233 | D23: 7638 | E23: 7470 | F23: 7468 | G23: 7519 | H23: 7502 | I23: 136 | J23: 1.8128499
... A26: dav. N (ohne ANÜ) | B26: sonstige wirtschaftliche Dienstleistungen (ohne Arbeitnehmerüberlassung) | C26: 8.9997849 | D26: 25104 | E26: 24071 | F26: 24543 | G26: 24428 | H26: 24807 | I26: 297 | J26: 1.1972427
A27: 782.783 | B27: Arbeitnehmerüberlassung | C27: 4.3486054 | D27: 12130 | E27: 11671 | F27: 12232 | G27: 12372 | H27: 12824 | I27: -694 | J27: -5.411728
A28: O, U | B28: Öffentliche Verwaltung, Verteidigung, Sozialversicherung, Ext. Organisationen | C28: 4.517459 | D28: 12601 | E28: 12401 | F28: 12436 | G28: 12635 | H28: 12629 | I28: -28 | J28: -0.22171193
A29: P | B29: Erziehung und Unterricht | C29: 6.8656342 | D29: 19151 | E29: 18939 | F29: 18823 | G29: 18970 | H29: 18573 | I29: 578 | J29: 3.1120444
A30: 86 | B30: Gesundheitswesen | C30: 8.1035348 | D30: 22604 | E30: 22002 | F30: 22074 | G30: 22083 | H30: 21909 | I30: 695 | J30: 3.1722123
A31: 87.88 | B31: Heime und Sozialwesen | C31: 6.6272317 | D31: 18486 | E31: 18130 | F31: 18189 | G31: 18271 | H31: 18159 | I31: 327 | J31: 1.80076
A32: R,S,T | B32: sonstige Dienstleistungen, Private Haushalte | C32: 4.0005019 | D32: 11159 | E32: 11094 | F32: 11198 | G32: 11232 | H32: 11244 | I32: -85 | J32: -0.75595873
B33: keine Zuordnung möglich | C33: 0 | D33: 0 | E33: 0 | F33: 0 | G33: 0 | H33: 0 | I33: 0 | J33: 0
A34: davon nach Sektoren:
A35: A | B35: Land-, Forstwirtschaft und Fischerei | C35: 0.09787051 | D35: 273 | E35: 277 | F35: 265 | G35: 245 | H35: 276 | I35: -3 | J35: -1.0869565
A36: B - F | B36: Produzierendes Gewerbe | C36: 15.227648 | D36: 42476 | E36: 42414 | F36: 42550 | G36: 42497 | H36: 42674 | I36: -198 | J36: -0.46398275
A37: G - U | B37: Dienstleistungsbereich | C37: 84.674482 | D37: 236191 | E37: 231328 | F37: 233100 | G37: 234403 | H37: 234057 | I37: 2134 | J37: 0.91174372
J38: © Statistik der Bundesagentur für Arbeit
A39: 1) Anteil an der jeweiligen Gesamtsumme (Spaltenprozent)
A40: *) Aus Datenschutzgründen und Gründen der statistischen Geheimhaltung werden Zahlenwerte von 1 oder 2 und Daten, aus denen rechnerisch auf einen solchen Zahlenwert geschlossen werden kann, anonymisiert. Gleiches gilt, wenn in einer Region weniger als 3 Betriebe ansässig sind oder einer der Betriebe einen so hohen Beschäftigtenanteil auf sich vereint, dass die Beschäftigtenzahl praktisch eine Einzelangabe über den Branchenführer darstellt (Dominanzfall).

Sheet Tabelle 2.4
K1: Beschäftigungsstatistik
A3: 2.4 Sozialversicherungspflichtig Beschäftigte nach der Klassifikation der Berufe (KldB 2010)
A4: Leipzig, Stadt (14713); Gebietsstand des jeweiligen Stichtags
A5: Stichtag: 30. September 2020
A7: Anforderungsniveau/ Berufshauptgruppen/-gruppen (KldB2010) | D7: Anteile in % 1) | E7: sozialversicherungspflichtig Beschäftigte am Stichtag Ende ... | J7: Veränderung gegenüber dem Vorjahresstichtag (Spalte 1 zu Spalte 5)
E8: Sep. 20 | F8: Jun. 20 | G8: Mrz. 20 | H8: Dez. 19 | I8: Sep. 19
J9: absolut | K9: in %
E10: 1 | F10: 2 | G10: 3 | H10: 4 | I10: 5 | J10: 6 | K10: 7
A11: Insgesamt | D11: 100 | E11: 278940 | F11: 274019 | G11: 275915 | H11: 277145 | I11: 277007 | J11: 1933 | K11: 0.6978163
A12: darunter nach Anforderungsniveau der ausgeübten Tätigkeit (KldB 2010)
A13: Helfer | D13: 13.698286 | E13: 38210 | F13: 36929 | G13: 37006 | H13: 37535 | I13: 37633 | J13: 577 | K13: 1.5332288
A14: Fachkraft | D14: 53.110705 | E14: 148147 | F14: 145904 | G14: 147710 | H14: 148467 | I14: 149034 | J14: -887 | K14: -0.5951662
A15: Spezialist | D15: 14.960206 | E15: 41730 | F15: 40955 | G15: 41113 | H15: 40934 | I15: 40643 | J15: 1087 | K15: 2.6745073
A16: Experte | D16: 17.936474 | E16: 50032 | F16: 49441 | G16: 49281 | H16: 49407 | I16: 48861 | J16: 1171 | K16: 2.3965944
A17: davon nach Berufsfachlichkeit der ausgeübten Tätigkeit (KldB 2010)
A18: 11 | B18: Land-, Tier-, Forstwirtschaftsberufe | D18: 0.20434502 | E18: 570 | F18: 573 | G18: 577 | H18: 561 | I18: 573 | J18: -3 | K18: -0.52356021
A19: dar. 111 | B19: Landwirtschaft | D19: 0.056284506 | E19: 157 | F19: 162 | G19: 157 | H19: 149 | I19: 158 | J19: -1 | K19: -0.63291139
A20: 12 | B20: Gartenbauberufe, Floristik | D20: 0.56356206 | E20: 1572 | F20: 1528 | G20: 1515 | H20: 1521 | I20: 1597 | J20: -25 | K20: -1.5654352
A21: 21 | B21: Rohstoffgewinn,Glas-,Keramikverarbeitung | D21: 0.089266509 | E21: 249 | F21: 260 | G21: 260 | H21: 241 | I21: 281 | J21: -32 | K21: -11.3879
A22: 22 | B22: Kunststoff- u. Holzherst.,-verarbeitung | D22: 0.68115007 | E22: 1900 | F22: 1895 | G22: 1893 | H22: 1930 | I22: 1933 | J22: -33 | K22: -1.7071909
A23: 23 | B23: Papier-,Druckberufe, tech.Mediengestalt. | D23: 0.90915609 | E23: 2536 | F23: 2512 | G23: 2560 | H23: 2633 | I23: 2633 | J23: -97 | K23: -3.6840106
A24: 24 | B24: Metallerzeugung,-bearbeitung, Metallbau | D24: 1.8563132 | E24: 5178 | F24: 5186 | G24: 5277 | H24: 5374 | I24: 5350 | J24: -172 | K24: -3.2149533
A25: 25 | B25: Maschinen- und Fahrzeugtechnikberufe | D25: 5.7474726 | E25: 16032 | F25: 15655 | G25: 15858 | H25: 15794 | I25: 15729 | J25: 303 | K25: 1.926378
A26: 26 | B26: Mechatronik-, Energie- u. Elektroberufe | D26: 2.6966373 | E26: 7522 | F26: 7343 | G26: 7388 | H26: 7604 | I26: 7724 | J26: -202 | K26: -2.6152253
A27: 27 | B27: Techn.Entwickl.Konstr.Produktionssteuer. | D27: 2.6084463 | E27: 7276 | F27: 7133 | G27: 7202 | H27: 7255 | I27: 7282 | J27: -6 | K27: -0.082394946
A28: 28 | B28: Textil- und Lederberufe | D28: 0.091417509 | E28: 255 | F28: 249 | G28: 260 | H28: 252 | I28: 250 | J28: 5 | K28: 2
A29: 29 | B29: Lebensmittelherstellung u. -verarbeitung | D29: 1.8882197 | E29: 5267 | F29: 5289 | G29: 5414 | H29: 5585 | I29: 5643 | J29: -376 | K29: -6.6631225
A30: dar. 292 | B30: Lebensmittel- u. Genussmittelherstellung | D30: 0.26529003 | E30: 740 | F30: 713 | G30: 725 | H30: 735 | I30: 728 | J30: 12 | K30: 1.6483516
A31: dar. 293 | B31: Speisenzubereitung | D31: 1.6007027 | E31: 4465 | F31: 4514 | G31: 4626 | H31: 4786 | I31: 4850 | J31: -385 | K31: -7.9381443
A32: 31 | B32: Bauplanung,Architektur,Vermessungsberufe | D32: 1.1816161 | E32: 3296 | F32: 3223 | G32: 3206 | H32: 3213 | I32: 3196 | J32: 100 | K32: 3.1289111
A33: 32 | B33: Hoch- und Tiefbauberufe | D33: 1.3465261 | E33: 3756 | F33: 3866 | G33: 3867 | H33: 3840 | I33: 3965 | J33: -209 | K33: -5.2711223
A34: 33 | B34: (Innen-)Ausbauberufe | D34: 0.87402309 | E34: 2438 | F34: 2360 | G34: 2367 | H34: 2356 | I34: 2438 | J34: 0 | K34: 0
A35: 34 | B35: Gebäude- u. versorgungstechnische Berufe | D35: 2.6468058 | E35: 7383 | F35: 7189 | G35: 7175 | H35: 7079 | I35: 7158 | J35: 225 | K35: 3.1433361
A36: 41 | B36: Mathematik-Biologie-Chemie-,Physikberufe | D36: 0.65713057 | E36: 1833 | F36: 1830 | G36: 1824 | H36: 1821 | I36: 1845 | J36: -12 | K36: -0.6504065
A37: 42 | B37: Geologie-,Geografie-,Umweltschutzberufe | D37: 0.14662651 | E37: 409 | F37: 404 | G37: 386 | H37: 372 | I37: 368 | J37: 41 | K37: 11.141304
A38: 43 | B38: Informatik- und andere IKT-Berufe | D38: 2.8823403 | E38: 8040 | F38: 7803 | G38: 7806 | H38: 7588 | I38: 7424 | J38: 616 | K38: 8.2974138
A39: 51 | B39: Verkehr, Logistik (außer Fahrzeugführ.) | D39: 6.3784326 | E39: 17792 | F39: 17301 | G39: 17346 | H39: 17813 | I39: 17557 | J39: 235 | K39: 1.3384975
A40: dar. 513 | B40: Lagerwirt.,Post,Zustellung,Güterumschlag | D40: 5.097512 | E40: 14219 | F40: 13880 | G40: 13870 | H40: 14316 | I40: 14035 | J40: 184 | K40: 1.3110082
B41: dar. Berufe in der Lagerwirtschaft (5131) | D41: 4.1962429 | E41: 11705 | F41: 11507 | G41: 11390 | H41: 11855 | I41: 11649 | J41: 56 | K41: 0.48072796
A42: 52 | B42: Führer von Fahrzeug- u. Transportgeräten | D42: 2.8522263 | E42: 7956 | F42: 7949 | G42: 8039 | H42: 7898 | I42: 8037 | J42: -81 | K42: -1.0078387
A43: dar. 521 | B43: Fahrzeugführung im Straßenverkehr | D43: 2.1786047 | E43: 6077 | F43: 6005 | G43: 6082 | H43: 5943 | I43: 6014 | J43: 63 | K43: 1.0475557
A44: 53 | B44: Schutz-,Sicherheits-, Überwachungsberufe | D44: 1.6171937 | E44: 4511 | F44: 4472 | G44: 4542 | H44: 4514 | I44: 4550 | J44: -39 | K44: -0.85714286
A45: dar. 531 | B45: Obj.-,Pers.-,Brandschutz,Arbeitssicherh. | D45: 1.5655697 | E45: 4367 | F45: 4322 | G45: 4389 | H45: 4359 | I45: 4365 | J45: 2 | K45: 0.045819015
A46: 54 | B46: Reinigungsberufe | D46: 3.2265003 | E46: 9000 | F46: 8087 | G46: 8134 | H46: 8134 | I46: 8402 | J46: 598 | K46: 7.117353
A47: 61 | B47: Einkaufs-, Vertriebs- und Handelsberufe | D47: 3.0002868 | E47: 8369 | F47: 8191 | G47: 8240 | H47: 8152 | I47: 8077 | J47: 292 | K47: 3.6152037
A48: 62 | B48: Verkaufsberufe | D48: 5.388614 | E48: 15031 | F48: 14907 | G48: 14954 | H48: 15227 | I48: 15309 | J48: -278 | K48: -1.8159253
A49: 63 | B49: Tourismus-, Hotel- und Gaststättenberufe | D49: 2.9407758 | E49: 8203 | F49: 8167 | G49: 8543 | H49: 8783 | I49: 8807 | J49: -604 | K49: -6.858181
A50: dar. 632 | B50: Hotellerie | D50: 0.64458306 | E50: 1798 | F50: 1753 | G50: 1868 | H50: 1882 | I50: 1869 | J50: -71 | K50: -3.7988229
A51: dar. 633 | B51: Gastronomie | D51: 1.8606152 | E51: 5190 | F51: 5144 | G51: 5380 | H51: 5575 | I51: 5556 | J51: -366 | K51: -6.587473
A52: 71 | B52: Berufe Unternehmensführung,-organisation | D52: 13.044741 | E52: 36387 | F52: 35751 | G52: 36127 | H52: 35960 | I52: 35839 | J52: 548 | K52: 1.5290605
A53: dar. 713 | B53: Unternehmensorganisation und -strategie | D53: 5.278196 | E53: 14723 | F53: 14412 | G53: 14443 | H53: 14375 | I53: 14319 | J53: 404 | K53: 2.8214261
A54: dar. 714 | B54: Büro und Sekretariat | D54: 6.0608016 | E54: 16906 | F54: 16746 | G54: 17092 | H54: 16989 | I54: 16941 | J54: -35 | K54: -0.20659937
A55: 72 | B55: Finanzdienstl.Rechnungsw.,Steuerberatung | D55: 4.2532444 | E55: 11864 | F55: 11754 | G55: 11771 | H55: 11859 | I55: 11834 | J55: 30 | K55: 0.25350684
A56: dar. 721 | B56: Versicherungs- u. Finanzdienstleistungen | D56: 2.0635262 | E56: 5756 | F56: 5677 | G56: 5682 | H56: 5772 | I56: 5773 | J56: -17 | K56: -0.29447428
A57: dar. 722 | B57: Rechnungswesen, Controlling und Revision | D57: 1.6666667 | E57: 4649 | F57: 4642 | G57: 4639 | H57: 4619 | I57: 4574 | J57: 75 | K57: 1.6397027
A58: 73 | B58: Berufe in Recht und Verwaltung | D58: 3.6627949 | E58: 10217 | F58: 9960 | G58: 10012 | H58: 10007 | I58: 9953 | J58: 264 | K58: 2.6524666
A59: dar. 732 | B59: Verwaltung | D59: 2.5844268 | E59: 7209 | F59: 7030 | G59: 7042 | H59: 7040 | I59: 6977 | J59: 232 | K59: 3.3252114
A60: 81 | B60: Medizinische Gesundheitsberufe | D60: 8.4595253 | E60: 23597 | F60: 23112 | G60: 23180 | H60: 23115 | I60: 23028 | J60: 569 | K60: 2.470905
A61: dar. 811 | B61: Arzt- und Praxishilfe | D61: 1.4282641 | E61: 3984 | F61: 3874 | G61: 3935 | H61: 3938 | I61: 3954 | J61: 30 | K61: 0.75872534
A62: dar. 813 | B62: Gesundh.,Krankenpfl.,Rettungsd.Geburtsh. | D62: 3.6968524 | E62: 10312 | F62: 10035 | G62: 10028 | H62: 9987 | I62: 9984 | J62: 328 | K62: 3.2852564
B63: dar. Gesundheits- und Krankenpflege 2) | D63: 3.1669893 | E63: 8834 | F63: 8614 | G63: 8597 | H63: 8571 | I63: 8592 | J63: 242 | K63: 2.8165736
A64: dar. 814 | B64: Human- und Zahnmedizin | D64: 1.1945221 | E64: 3332 | F64: 3311 | G64: 3303 | H64: 3263 | I64: 3227 | J64: 105 | K64: 3.2537961
A65: dar. 817 | B65: Nicht ärztliche Therapie und Heilkunde | D65: 0.9618556 | E65: 2683 | F65: 2656 | G65: 2682 | H65: 2690 | I65: 2651 | J65: 32 | K65: 1.2070917
A66: 82 | B66: Nichtmed.Gesundheit,Körperpfl.,Medizint. | D66: 2.8651323 | E66: 7992 | F66: 7816 | G66: 7843 | H66: 7926 | I66: 7883 | J66: 109 | K66: 1.3827223
A67: dar. 821 | B67: Altenpflege | D67: 1.8211802 | E67: 5080 | F67: 4949 | G67: 4966 | H67: 5010 | I67: 4942 | J67: 138 | K67: 2.7923917
A68: dar. 823 | B68: Körperpflege | D68: 0.55997706 | E68: 1562 | F68: 1549 | G68: 1558 | H68: 1591 | I68: 1606 | J68: -44 | K68: -2.739726
A69: 83 | B69: Erziehung,soz.,hauswirt.Berufe,Theologie | D69: 5.222987 | E69: 14569 | F69: 14241 | G69: 14251 | H69: 14224 | I69: 13920 | J69: 649 | K69: 4.6623563
A70: dar. 831 | B70: Erziehung,Sozialarb.,Heilerziehungspfl. | D70: 4.6483115 | E70: 12966 | F70: 12626 | G70: 12653 | H70: 12628 | I70: 12340 | J70: 626 | K70: 5.0729335
B71: dar. Berufe i.d. Kinderbetr., -erziehung (8311) | D71: 2.6794293 | E71: 7474 | F71: 7152 | G71: 7210 | H71: 7205 | I71: 7041 | J71: 433 | K71: 6.1496946
A72: 84 | B72: Lehrende und ausbildende Berufe | D72: 4.4400229 | E72: 12385 | F72: 12349 | G72: 12188 | H72: 12497 | I72: 12204 | J72: 181 | K72: 1.4831203
A73: dar. 841 | B73: Lehrtätigkeit an allgemeinbild. Schulen | D73: 1.3859611 | E73: 3866 | F73: 3898 | G73: 3893 | H73: 4112 | I73: 4149 | J73: -283 | K73: -6.8209207
A74: dar. 842 | B74: Lehrt.berufsb.Fächer,betr.Ausb.,Betr.päd | D74: 0.54599555 | E74: 1523 | F74: 1522 | G74: 1502 | H74: 1488 | I74: 1484 | J74: 39 | K74: 2.6280323
A75: dar. 843 | B75: Lehr-, Forschungstätigkeit an Hochschulen | D75: 1.9853732 | E75: 5538 | F75: 5514 | G75: 5323 | H75: 5416 | I75: 5106 | J75: 432 | K75: 8.4606345
A76: 91 | B76: Geistes-Gesellschafts-Wirtschaftswissen. | D76: 0.35706604 | E76: 996 | F76: 1009 | G76: 1034 | H76: 1083 | I76: 1076 | J76: -80 | K76: -7.4349442
A77: 92 | B77: Werbung,Marketing,kaufm,red.Medienberufe | D77: 3.8266294 | E77: 10674 | F77: 10767 | G77: 10932 | H77: 11074 | I77: 11140 | J77: -466 | K77: -4.1831239
A78: 93 | B78: Produktdesign, Kunsthandwerk | D78: 0.11722951 | E78: 327 | F78: 330 | G78: 345 | H78: 355 | I78: 354 | J78: -27 | K78: -7.6271186
A79: 94 | B79: Darstellende, unterhaltende Berufe | D79: 0.9758371 | E79: 2722 | F79: 2755 | G79: 2779 | H79: 2691 | I79: 2800 | J79: -78 | K79: -2.7857143
A80: XX | B80: Sonstige / Keine Angabe | D80: 0.29970603 | E80: 836 | F80: 803 | G80: 820 | H80: 814 | I80: 848 | J80: -12 | K80: -1.4150943
K81: © Statistik der Bundesagentur für Arbeit
A82: 1) Anteil an der jeweiligen Gesamtsumme (Spaltenprozent)
A83: 2) Gesundheits- und Krankenpflege = Summe der Berufsuntergruppen 8130,8131,8132,8138
A84: *) Aus Datenschutzgründen und Gründen der statistischen Geheimhaltung werden Zahlenwerte von 1 oder 2 und Daten, aus denen rechnerisch auf einen solchen Zahlenwert geschlossen werden kann, anonymisiert.

Sheet Tabelle 3.1
J1: Beschäftigungsstatistik
A3: 3.1 Geringfügig entlohnte Beschäftigte nach Regionen und ausgewählten Merkmalen
A4: ausgewählte Regionen; Gebietsstand des jeweiligen Stichtags
A5: Stichtag: 30. September 2020
A7: Regionen / Merkmale | C7: Anteile in % 1) | D7: geringfügig entlohnte Beschäftigte am Stichtag Ende ... | I7: Veränderung gegenüber dem Vorjahresstichtag (Spalte 1 zu Spalte 5)
D8: Sep. 20 | E8: Jun. 20 | F8: Mrz. 20 | G8: Dez. 19 | H8: Sep. 19
I9: absolut | J9: in %
D10: 1 | E10: 2 | F10: 3 | G10: 4 | H10: 5 | I10: 6 | J10: 7
A11: Leipzig, Stadt (14713)
A12: Insgesamt | C12: 100 | D12: 34758 | E12: 33455 | F12: 34810 | G12: 36994 | H12: 36580 | I12: -1822 | J12: -4.9808639
A13: dav. | B13: Männer | C13: 45.224121 | D13: 15719 | E13: 15236 | F13: 15941 | G13: 16753 | H13: 16485 | I13: -766 | J13: -4.6466485
B14: Frauen | C14: 54.775879 | D14: 19039 | E14: 18219 | F14: 18869 | G14: 20241 | H14: 20095 | I14: -1056 | J14: -5.2550386
A15: dav. | B15: unter 25 Jahre | C15: 21.730249 | D15: 7553 | E15: 7287 | F15: 7678 | G15: 8575 | H15: 8208 | I15: -655 | J15: -7.9800195
B16: 25 bis unter 55 Jahre | C16: 45.995167 | D16: 15987 | E16: 15376 | F16: 15970 | G16: 17003 | H16: 16991 | I16: -1004 | J16: -5.9090107
B17: 55 bis unter 65 Jahre | C17: 14.629726 | D17: 5085 | E17: 4834 | F17: 4998 | G17: 5116 | H17: 5188 | I17: -103 | J17: -1.9853508
B18: 65 Jahre und älter | C18: 17.644859 | D18: 6133 | E18: 5958 | F18: 6164 | G18: 6300 | H18: 6193 | I18: -60 | J18: -0.96883578
B19: dar.: bis zur Altersgrenze | C19: 1.7204672 | D19: 598 | E19: 571 | F19: 636 | G19: 682 | H19: 695 | I19: -97 | J19: -13.956835
A20: dar. | B20: Deutsche | C20: 90.992002 | D20: 31627 | E20: 30689 | F20: 31843 | G20: 33802 | H20: 33463 | I20: -1836 | J20: -5.4866569
B21: Ausländer | C21: 8.8756545 | D21: 3085 | E21: 2729 | F21: 2928 | G21: 3152 | H21: 3079 | I21: 6 | J21: 0.19486846
A22: Bundesland Sachsen
A23: Insgesamt | C23: 100 | D23: 210849 | E23: 206344 | F23: 211191 | G23: 221416 | H23: 220956 | I23: -10107 | J23: -4.5742139
A24: dav. | B24: Männer | C24: 45.169766 | D24: 95240 | E24: 93254 | F24: 95552 | G24: 98939 | H24: 98664 | I24: -3424 | J24: -3.4703641
B25: Frauen | C25: 54.830234 | D25: 115609 | E25: 113090 | F25: 115639 | G25: 122477 | H25: 122292 | I25: -6683 | J25: -5.4647892
A26: dav. | B26: unter 25 Jahre | C26: 16.379969 | D26: 34537 | E26: 33470 | F26: 33916 | G26: 36199 | H26: 35407 | I26: -870 | J26: -2.4571412
B27: 25 bis unter 55 Jahre | C27: 39.836566 | D27: 83995 | E27: 82053 | F27: 84195 | G27: 88824 | H27: 88671 | I27: -4676 | J27: -5.2734265
B28: 55 bis unter 65 Jahre | C28: 19.084274 | D28: 40239 | E28: 40072 | F28: 41507 | G28: 42873 | H28: 43663 | I28: -3424 | J28: -7.8418799
B29: 65 Jahre und älter | C29: 24.699192 | D29: 52078 | E29: 50749 | F29: 51572 | G29: 53519 | H29: 53214 | I29: -1136 | J29: -2.1347766
B30: dar.: bis zur Altersgrenze | C30: 2.7071506 | D30: 5708 | E30: 5573 | F30: 5776 | G30: 6057 | H30: 6154 | I30: -446 | J30: -7.2473188
A31: dar. | B31: Deutsche | C31: 94.071113 | D31: 198348 | E31: 195043 | F31: 199345 | G31: 208839 | H31: 208590 | I31: -10242 | J31: -4.9101107
B32: Ausländer | C32: 5.8496839 | D32: 12334 | E32: 11135 | F32: 11673 | G32: 12378 | H32: 12175 | I32: 159 | J32: 1.3059548
A33: Ostdeutschland
A34: Insgesamt | C34: 100 | D34: 824418 | E34: 807727 | F34: 827771 | G34: 869191 | H34: 869265 | I34: -44847 | J34: -5.1591862
A35: dav. | B35: Männer | C35: 45.631342 | D35: 376193 | E35: 368039 | F35: 376600 | G35: 392372 | H35: 392701 | I35: -16508 | J35: -4.2037071
B36: Frauen | C36: 54.368658 | D36: 448225 | E36: 439688 | F36: 451171 | G36: 476819 | H36: 476564 | I36: -28339 | J36: -5.9465255
A37: dav. | B37: unter 25 Jahre | C37: 16.786873 | D37: 138394 | E37: 135028 | F37: 136534 | G37: 146803 | H37: 145061 | I37: -6667 | J37: -4.5959975
B38: 25 bis unter 55 Jahre | C38: 42.506714 | D38: 350433 | E38: 342924 | F38: 352977 | G38: 373475 | H38: 373209 | I38: -22776 | J38: -6.1027467
B39: 55 bis unter 65 Jahre | C39: 19.209794 | D39: 158369 | E39: 157150 | F39: 162393 | G39: 167462 | H39: 169905 | I39: -11536 | J39: -6.7896766
B40: 65 Jahre und älter | C40: 21.496134 | D40: 177218 | E40: 172621 | F40: 175862 | G40: 181447 | H40: 181087 | I40: -3869 | J40: -2.1365421
B41: dar.: bis zur Altersgrenze | C41: 2.3691865 | D41: 19532 | E41: 18948 | F41: 19876 | G41: 20815 | H41: 21300 | I41: -1768 | J41: -8.3004695
A42: dar. | B42: Deutsche | C42: 91.233937 | D42: 752149 | E42: 739883 | F42: 757384 | G42: 792993 | H42: 794963 | I42: -42814 | J42: -5.3856595
B43: Ausländer | C43: 8.5019978 | D43: 70092 | E43: 65735 | F43: 68307 | G43: 73923 | H43: 72110 | I43: -2018 | J43: -2.7985023
A44: Deutschland
A45: Insgesamt | C45: 100 | D45: 7178562 | E45: 7076792 | F45: 7244669 | G45: 7536693 | H45: 7540791 | I45: -362229 | J45: -4.8035942
A46: dav. | B46: Männer | C46: 41.739585 | D46: 2996302 | E46: 2942440 | F46: 3001053 | G46: 3107622 | H46: 3108131 | I46: -111829 | J46: -3.59795
B47: Frauen | C47: 58.260415 | D47: 4182260 | E47: 4134352 | F47: 4243616 | G47: 4429071 | H47: 4432660 | I47: -250400 | J47: -5.6489783
A48: dav. | B48: unter 25 Jahre | C48: 17.633281 | D48: 1265816 | E48: 1248516 | F48: 1271955 | G48: 1354023 | H48: 1343855 | I48: -78039 | J48: -5.8070997
B49: 25 bis unter 55 Jahre | C49: 48.414376 | D49: 3475456 | E49: 3422368 | F49: 3515168 | G49: 3672418 | H49: 3685931 | I49: -210475 | J49: -5.7102263
B50: 55 bis unter 65 Jahre | C50: 18.3309 | D50: 1315895 | E50: 1301188 | F50: 1328336 | G50: 1355288 | H50: 1361107 | I50: -45212 | J50: -3.321708
B51: 65 Jahre und älter | C51: 15.621137 | D51: 1121373 | E51: 1104695 | F51: 1129184 | G51: 1154951 | H51: 1149888 | I51: -28515 | J51: -2.4798067
B52: dar.: bis zur Altersgrenze | C52: 1.5065413 | D52: 108148 | E52: 105768 | F52: 109341 | G52: 112076 | H52: 116075 | I52: -7927 | J52: -6.8292053
A53: dar. | B53: Deutsche | C53: 86.08224 | D53: 6179467 | E53: 6111160 | F53: 6257395 | G53: 6508406 | H53: 6524111 | I53: -344644 | J53: -5.2826201
B54: Ausländer | C54: 13.670133 | D54: 981319 | E54: 948221 | F54: 970181 | G54: 1010231 | H54: 999034 | I54: -17715 | J54: -1.7732129
A55: Leipzig, Stadt (14713) am Wohnort
A56: Insgesamt | C56: 100 | D56: 32732 | E56: 32107 | F56: 33291 | G56: 35217 | H56: 34470 | I56: -1738 | J56: -5.0420656
A57: dav. | B57: Männer | C57: 45.933643 | D57: 15035 | E57: 14721 | F57: 15258 | G57: 16090 | H57: 15765 | I57: -730 | J57: -4.6305106
B58: Frauen | C58: 54.066357 | D58: 17697 | E58: 17386 | F58: 18033 | G58: 19127 | H58: 18705 | I58: -1008 | J58: -5.3889334
A59: dav. | B59: unter 25 Jahre | C59: 26.20677 | D59: 8578 | E59: 8341 | F59: 8757 | G59: 9589 | H59: 8957 | I59: -379 | J59: -4.2313275
B60: 25 bis unter 55 Jahre | C60: 46.715752 | D60: 15291 | E60: 14984 | F60: 15420 | G60: 16225 | H60: 16186 | I60: -895 | J60: -5.5294699
B61: 55 bis unter 65 Jahre | C61: 11.456678 | D61: 3750 | E61: 3722 | F61: 3833 | G61: 3956 | H61: 3984 | I61: -234 | J61: -5.873494
B62: 65 Jahre und älter | C62: 15.620799 | D62: 5113 | E62: 5060 | F62: 5281 | G62: 5447 | H62: 5343 | I62: -230 | J62: -4.3046977
B63: dar.: bis zur Altersgrenze | C63: 1.3961872 | D63: 457 | E63: 473 | F63: 523 | G63: 575 | H63: 576 | I63: -119 | J63: -20.659722
A64: dar. | B64: Deutsche | C64: 90.828547 | D64: 29730 | E64: 29351 | F64: 30403 | G64: 32146 | H64: 31501 | I64: -1771 | J64: -5.6220437
B65: Ausländer | C65: 9.0339729 | D65: 2957 | E65: 2719 | F65: 2849 | G65: 3025 | H65: 2932 | I65: 25 | J65: 0.8526603
J66: © Statistik der Bundesagentur für Arbeit
A67: 1) Anteil an der jeweiligen Gesamtsumme (Spaltenprozent)
A68: *) Aus Datenschutzgründen und Gründen der statistischen Geheimhaltung werden Zahlenwerte von 1 oder 2 und Daten, aus denen rechnerisch auf einen solchen Zahlenwert geschlossen werden kann, anonymisiert.

Sheet Tabelle 3.2
L1: Beschäftigungsstatistik
A3: 3.2 Geringfügig entlohnte Beschäftigte nach ausgewählten Merkmalen
A4: Leipzig, Stadt (14713); Gebietsstand des jeweiligen Stichtags
A5: Stichtag: 30. September 2020
A7: Merkmale | E7: Anteile in % 1) | F7: geringfügig entlohnte Beschäftigte am Stichtag Ende ... | K7: Veränderung gegenüber dem Vorjahresstichtag (Spalte 1 zu Spalte 5)
F8: Sep. 20 | G8: Jun. 20 | H8: Mrz. 20 | I8: Dez. 19 | J8: Sep. 19
K9: absolut | L9: in %
F10: 1 | G10: 2 | H10: 3 | I10: 4 | J10: 5 | K10: 6 | L10: 7
A11: Insgesamt | E11: 100 | F11: 34758 | G11: 33455 | H11: 34810 | I11: 36994 | J11: 36580 | K11: -1822 | L11: -4.9808639
A12: nach dem Geschlecht dav. Männer | E12: 45.224121 | F12: 15719 | G12: 15236 | H12: 15941 | I12: 16753 | J12: 16485 | K12: -766 | L12: -4.6466485
B13: Frauen | E13: 54.775879 | F13: 19039 | G13: 18219 | H13: 18869 | I13: 20241 | J13: 20095 | K13: -1056 | L13: -5.2550386
A14: nach Altersgruppen und Geschlecht dav. unter 25 Jahre | E14: 21.730249 | F14: 7553 | G14: 7287 | H14: 7678 | I14: 8575 | J14: 8208 | K14: -655 | L14: -7.9800195
C15: Männer | E15: 42.896862 | F15: 3240 | G15: 3148 | H15: 3348 | I15: 3683 | J15: 3550 | K15: -310 | L15: -8.7323944
C16: Frauen | E16: 57.103138 | F16: 4313 | G16: 4139 | H16: 4330 | I16: 4892 | J16: 4658 | K16: -345 | L16: -7.4066123
B17: 25 bis unter 55 Jahre | E17: 45.995167 | F17: 15987 | G17: 15376 | H17: 15970 | I17: 17003 | J17: 16991 | K17: -1004 | L17: -5.9090107
C18: Männer | E18: 45.530744 | F18: 7279 | G18: 6998 | H18: 7349 | I18: 7760 | J18: 7680 | K18: -401 | L18: -5.2213542
C19: Frauen | E19: 54.469256 | F19: 8708 | G19: 8378 | H19: 8621 | I19: 9243 | J19: 9311 | K19: -603 | L19: -6.4762109
B20: 55 bis unter 65 Jahre | E20: 14.629726 | F20: 5085 | G20: 4834 | H20: 4998 | I20: 5116 | J20: 5188 | K20: -103 | L20: -1.9853508
C21: Männer | E21: 39.665683 | F21: 2017 | G21: 1941 | H21: 1984 | I21: 2012 | J21: 2042 | K21: -25 | L21: -1.2242899
C22: Frauen | E22: 60.334317 | F22: 3068 | G22: 2893 | H22: 3014 | I22: 3104 | J22: 3146 | K22: -78 | L22: -2.4793388
B23: 65 Jahre und älter | E23: 17.644859 | F23: 6133 | G23: 5958 | H23: 6164 | I23: 6300 | J23: 6193 | K23: -60 | L23: -0.96883578
C24: Männer | E24: 51.89956 | F24: 3183 | G24: 3149 | H24: 3260 | I24: 3298 | J24: 3213 | K24: -30 | L24: -0.93370682
C25: Frauen | E25: 48.10044 | F25: 2950 | G25: 2809 | H25: 2904 | I25: 3002 | J25: 2980 | K25: -30 | L25: -1.0067114
C26: dar. | D26: bis zur Altersgrenze | E26: 1.7204672 | F26: 598 | G26: 571 | H26: 636 | I26: 682 | J26: 695 | K26: -97 | L26: -13.956835
D27: Männer | E27: 47.157191 | F27: 282 | G27: 297 | H27: 313 | I27: 331 | J27: 346 | K27: -64 | L27: -18.49711
D28: Frauen | E28: 52.842809 | F28: 316 | G28: 274 | H28: 323 | I28: 351 | J28: 349 | K28: -33 | L28: -9.4555874
A29: nach Nationalität und Geschlecht dar. Deutsche | E29: 90.992002 | F29: 31627 | G29: 30689 | H29: 31843 | I29: 33802 | J29: 33463 | K29: -1836 | L29: -5.4866569
C30: Männer | E30: 44.167958 | F30: 13969 | G30: 13711 | H30: 14275 | I30: 14986 | J30: 14780 | K30: -811 | L30: -5.4871448
C31: Frauen | E31: 55.832042 | F31: 17658 | G31: 16978 | H31: 17568 | I31: 18816 | J31: 18683 | K31: -1025 | L31: -5.4862709
B32: Ausländer | E32: 8.8756545 | F32: 3085 | G32: 2729 | H32: 2928 | I32: 3152 | J32: 3079 | K32: 6 | L32: 0.19486846
C33: Männer | E33: 56.207455 | F33: 1734 | G33: 1513 | H33: 1654 | I33: 1755 | J33: 1689 | K33: 45 | L33: 2.6642984
C34: Frauen | E34: 43.792545 | F34: 1351 | G34: 1216 | H34: 1274 | I34: 1397 | J34: 1390 | K34: -39 | L34: -2.8057554
A35: nach dem Berufsabschluss und Geschlecht dav. ohne beruflichen Ausbildungsabschluss | E35: 20.274469 | F35: 7047 | G35: 6848 | H35: 7136 | I35: 7852 | J35: 7602 | K35: -555 | L35: -7.3007103
C36: Männer | E36: 44.586349 | F36: 3142 | G36: 3075 | H36: 3232 | I36: 3486 | J36: 3399 | K36: -257 | L36: -7.5610474
C37: Frauen | E37: 55.413651 | F37: 3905 | G37: 3773 | H37: 3904 | I37: 4366 | J37: 4203 | K37: -298 | L37: -7.0901737
B38: mit anerkanntem Berufsabschluss 2) | E38: 47.525749 | F38: 16519 | G38: 15950 | H38: 16520 | I38: 17272 | J38: 17227 | K38: -708 | L38: -4.1098276
C39: Männer | E39: 45.79575 | F39: 7565 | G39: 7304 | H39: 7599 | I39: 7898 | J39: 7832 | K39: -267 | L39: -3.4090909
C40: Frauen | E40: 54.20425 | F40: 8954 | G40: 8646 | H40: 8921 | I40: 9374 | J40: 9395 | K40: -441 | L40: -4.6939862
B41: mit akademischem Abschluss 3) | E41: 16.554462 | F41: 5754 | G41: 5634 | H41: 5775 | I41: 6050 | J41: 5958 | K41: -204 | L41: -3.4239678
C42: Männer | E42: 44.264859 | F42: 2547 | G42: 2523 | H42: 2633 | I42: 2708 | J42: 2666 | K42: -119 | L42: -4.4636159
C43: Frauen | E43: 55.735141 | F43: 3207 | G43: 3111 | H43: 3142 | I43: 3342 | J43: 3292 | K43: -85 | L43: -2.582017
B44: Ausbildung unbekannt | E44: 15.645319 | F44: 5438 | G44: 5023 | H44: 5379 | I44: 5820 | J44: 5793 | K44: -355 | L44: -6.1280856
C45: Männer | E45: 45.329165 | F45: 2465 | G45: 2334 | H45: 2477 | I45: 2661 | J45: 2588 | K45: -123 | L45: -4.7527048
C46: Frauen | E46: 54.670835 | F46: 2973 | G46: 2689 | H46: 2902 | I46: 3159 | J46: 3205 | K46: -232 | L46: -7.2386895
L47: © Statistik der Bundesagentur für Arbeit
A48: 1) Anteil an der jeweiligen Gesamtsumme (Spaltenprozent)
A49: 2) "mit anerkanntem Berufsabschluss" ist die Summe aus "mit anerkannter Berufsausbildung" und "Meister-/Techniker-/gleichw. Fachschulabschluss"
A50: 3) "mit akademischem Abschluss" ist die Summe aus "Bachelor", "Diplom/Magister/Master/Staatsexamen" und "Promotion"
A51: *) Aus Datenschutzgründen und Gründen der statistischen Geheimhaltung werden Zahlenwerte von 1 oder 2 und Daten, aus denen rechnerisch auf einen solchen Zahlenwert geschlossen werden kann, anonymisiert.
A52: .X) Nachweis von Veränderungswerten < -250% bzw. > 250% nicht sinnvoll

Sheet Tabelle 3.3
J1: Beschäftigungsstatistik
A3: 3.3 Geringfügig entlohnte Beschäftigte nach der Klassifikation der Wirtschaftszweige 2008 (WZ 2008)
A4: Leipzig, Stadt (14713); Gebietsstand des jeweiligen Stichtags
A5: Stichtag: 30. September 2020
A7: Wirtschaftsabschnitte / Wirtschaftsabteilungen / Wirtschaftsgruppen WZ 2008 | C7: Anteile in % 1) | D7: geringfügig entlohnte Beschäftigte am Stichtag Ende ... | I7: Veränderung gegenüber dem Vorjahresstichtag (Spalte 1 zu Spalte 5)
D8: Sep. 20 | E8: Jun. 20 | F8: Mrz. 20 | G8: Dez. 19 | H8: Sep. 19
I9: absolut | J9: in %
D10: 1 | E10: 2 | F10: 3 | G10: 4 | H10: 5 | I10: 6 | J10: 7
A11: Insgesamt | C11: 100 | D11: 34758 | E11: 33455 | F11: 34810 | G11: 36994 | H11: 36580 | I11: -1822 | J11: -4.9808639
A12: A | B12: Land-, Forstwirtschaft und Fischerei | C12: 0.15823695 | D12: 55 | E12: 63 | F12: 50 | G12: 53 | H12: 56 | I12: -1 | J12: -1.7857143
A13: B,D,E | B13: Bergbau, Energie- und Wasserversorgung, Entsorgungswirtschaft | C13: 0.19851545 | D13: 69 | E13: 60 | F13: 56 | G13: 57 | H13: 53 | I13: 16 | J13: 30.188679
A14: C | B14: Verarbeitendes Gewerbe | C14: 3.245296 | D14: 1128 | E14: 1130 | F14: 1165 | G14: 1132 | H14: 1113 | I14: 15 | J14: 1.3477089
A15: dav. 10-15, 18, 21, 31 | B15: Herstellung von überwiegend häuslich konsumierten Gütern (ohne Güter der Metall-, Elektro- und Chemieindustrie) | C15: 0.85160251 | D15: 296 | E15: 291 | F15: 300 | G15: 302 | H15: 299 | I15: -3 | J15: -1.0033445
A16: 24-30, 32, 33 | B16: Metall- und Elektroindustrie sowie Stahlindustrie | C16: 2.1491455 | D16: 747 | E16: 752 | F16: 772 | G16: 734 | H16: 721 | I16: 26 | J16: 3.6061026
A17: 16, 17, 19, 20, ,22, 23 | B17: Hrst. v. Vorleistungsgütern, insb. v. chem. Erzeugnissen u. Kunststoffwaren (ohne Güter der Metall- u. Elektroindustrie) | C17: 0.24454802 | D17: 85 | E17: 87 | F17: 93 | G17: 96 | H17: 93 | I17: -8 | J17: -8.6021505
A18: F | B18: Baugewerbe | C18: 3.0208873 | D18: 1050 | E18: 1076 | F18: 1070 | G18: 1101 | H18: 1089 | I18: -39 | J18: -3.5812672
A19: G | B19: Handel, Instandhaltung, Reparatur von Kfz | C19: 13.306289 | D19: 4625 | E19: 4552 | F19: 4580 | G19: 4811 | H19: 4572 | I19: 53 | J19: 1.1592301
A20: H | B20: Verkehr und Lagerei | C20: 4.2723977 | D20: 1485 | E20: 1426 | F20: 1438 | G20: 1440 | H20: 1441 | I20: 44 | J20: 3.0534351
A21: I | B21: Gastgewerbe | C21: 14.451349 | D21: 5023 | E21: 4522 | F21: 4760 | G21: 5424 | H21: 5504 | I21: -481 | J21: -8.7390988
A22: J | B22: Information und Kommunikation | C22: 2.5030209 | D22: 870 | E22: 886 | F22: 955 | G22: 1017 | H22: 1028 | I22: -158 | J22: -15.36965
A23: K | B23: Erbringung von Finanz- und Versicherungsdienstleistungen | C23: 1.0645031 | D23: 370 | E23: 351 | F23: 355 | G23: 357 | H23: 352 | I23: 18 | J23: 5.1136364
... A26: dav. N (ohne ANÜ) | B26: sonstige wirtschaftliche Dienstleistungen (ohne Arbeitnehmerüberlassung) | C26: 18.873353 | D26: 6560 | E26: 5866 | F26: 6383 | G26: 6664 | H26: 6696 | I26: -136 | J26: -2.0310633
A27: 782.783 | B27: Arbeitnehmerüberlassung | C27: 1.786639 | D27: 621 | E27: 609 | F27: 788 | G27: 963 | H27: 937 | I27: -316 | J27: -33.724653
A28: O, U | B28: Öffentliche Verwaltung, Verteidigung, Sozialversicherung, Ext. Organisationen | C28: 0.46032568 | D28: 160 | E28: 161 | F28: 166 | G28: 180 | H28: 184 | I28: -24 | J28: -13.043478
A29: P | B29: Erziehung und Unterricht | C29: 4.6377812 | D29: 1612 | E29: 1733 | F29: 1727 | G29: 1984 | H29: 1768 | I29: -156 | J29: -8.8235294
A30: 86 | B30: Gesundheitswesen | C30: 6.4704528 | D30: 2249 | E30: 2233 | F30: 2305 | G30: 2297 | H30: 2247 | I30: 2 | J30: 0.089007566
A31: 87.88 | B31: Heime und Sozialwesen | C31: 2.4800046 | D31: 862 | E31: 876 | F31: 874 | G31: 911 | H31: 912 | I31: -50 | J31: -5.4824561
A32: R,S,T | B32: sonstige Dienstleistungen, Private Haushalte | C32: 8.7289257 | D32: 3034 | E32: 3028 | F32: 3040 | G32: 3283 | H32: 3313 | I32: -279 | J32: -8.4213704
B33: keine Zuordnung möglich | C33: 0 | D33: 0 | E33: 0 | F33: 0 | G33: 0 | H33: 0 | I33: 0 | J33: 0
A34: davon nach Sektoren:
A35: A | B35: Land-, Forstwirtschaft und Fischerei | C35: 0.15823695 | D35: 55 | E35: 63 | F35: 50 | G35: 53 | H35: 56 | I35: -1 | J35: -1.7857143
A36: B - F | B36: Produzierendes Gewerbe | C36: 6.4646988 | D36: 2247 | E36: 2266 | F36: 2291 | G36: 2290 | H36: 2255 | I36: -8 | J36: -0.35476718
A37: G - U | B37: Dienstleistungsbereich | C37: 93.377064 | D37: 32456 | E37: 31126 | F37: 32469 | G37: 34651 | H37: 34269 | I37: -1813 | J37: -5.2904958
J38: © Statistik der Bundesagentur für Arbeit
A39: 1) Anteil an der jeweiligen Gesamtsumme (Spaltenprozent)
A40: *) Aus Datenschutzgründen und Gründen der statistischen Geheimhaltung werden Zahlenwerte von 1 oder 2 und Daten, aus denen rechnerisch auf einen solchen Zahlenwert geschlossen werden kann, anonymisiert. Gleiches gilt, wenn in einer Region weniger als 3 Betriebe ansässig sind oder einer der Betriebe einen so hohen Beschäftigtenanteil auf sich vereint, dass die Beschäftigtenzahl praktisch eine Einzelangabe über den Branchenführer darstellt (Dominanzfall).

Sheet Tabelle 3.4
K1: Beschäftigungsstatistik
A3: 3.4 Geringfügig entlohnte Beschäftigte nach der Klassifikation der Berufe (KldB 2010)
A4: Leipzig, Stadt (14713); Gebietsstand des jeweiligen Stichtags
A5: Stichtag: 30. September 2020
A7: Anforderungsniveau/ Berufshauptgruppen/-gruppen (KldB2010) | D7: Anteile in % 1) | E7: geringfügig entlohnte Beschäftigte am Stichtag Ende ... | J7: Veränderung gegenüber dem Vorjahresstichtag (Spalte 1 zu Spalte 5)
E8: Sep. 20 | F8: Jun. 20 | G8: Mrz. 20 | H8: Dez. 19 | I8: Sep. 19
J9: absolut | K9: in %
E10: 1 | F10: 2 | G10: 3 | H10: 4 | I10: 5 | J10: 6 | K10: 7
A11: Insgesamt | D11: 100 | E11: 34758 | F11: 33455 | G11: 34810 | H11: 36994 | I11: 36580 | J11: -1822 | K11: -4.9808639
A12: darunter nach Anforderungsniveau der ausgeübten Tätigkeit (KldB 2010)
A13: Helfer | D13: 38.929167 | E13: 13531 | F13: 12589 | G13: 13302 | H13: 14061 | I13: 14141 | J13: -610 | K13: -4.3136978
A14: Fachkraft | D14: 46.038322 | E14: 16002 | F14: 15482 | G14: 16051 | H14: 17115 | I14: 16936 | J14: -934 | K14: -5.5148795
A15: Spezialist | D15: 6.2230278 | E15: 2163 | F15: 2142 | G15: 2241 | H15: 2317 | I15: 2278 | J15: -115 | K15: -5.048288
A16: Experte | D16: 6.8502215 | E16: 2381 | F16: 2533 | G16: 2527 | H16: 2776 | I16: 2511 | J16: -130 | K16: -5.1772202
A17: davon nach Berufsfachlichkeit der ausgeübten Tätigkeit (KldB 2010)
A18: 11 | B18: Land-, Tier-, Forstwirtschaftsberufe | D18: 0.2272858 | E18: 79 | F18: 81 | G18: 70 | H18: 71 | I18: 77 | J18: 2 | K18: 2.5974026
A19: dar. 111 | B19: Landwirtschaft | D19: 0.08343403 | E19: 29 | F19: 32 | G19: 26 | H19: 27 | I19: 26 | J19: 3 | K19: 11.538462
A20: 12 | B20: Gartenbauberufe, Floristik | D20: 0.51786639 | E20: 180 | F20: 184 | G20: 162 | H20: 178 | I20: 178 | J20: 2 | K20: 1.1235955
A21: 21 | B21: Rohstoffgewinn,Glas-,Keramikverarbeitung | D21: 0.051786639 | E21: 18 | F21: 21 | G21: 26 | H21: 22 | I21: 23 | J21: -5 | K21: -21.73913
A22: 22 | B22: Kunststoff- u. Holzherst.,-verarbeitung | D22: 0.20139249 | E22: 70 | F22: 74 | G22: 83 | H22: 83 | I22: 76 | J22: -6 | K22: -7.8947368
A23: 23 | B23: Papier-,Druckberufe, tech.Mediengestalt. | D23: 0.4459405 | E23: 155 | F23: 153 | G23: 180 | H23: 175 | I23: 180 | J23: -25 | K23: -13.888889
A24: 24 | B24: Metallerzeugung,-bearbeitung, Metallbau | D24: 0.25030209 | E24: 87 | F24: 85 | G24: 91 | H24: 87 | I24: 86 | J24: 1 | K24: 1.1627907
A25: 25 | B25: Maschinen- und Fahrzeugtechnikberufe | D25: 1.4931814 | E25: 519 | F25: 536 | G25: 536 | H25: 501 | I25: 473 | J25: 46 | K25: 9.7251586
A26: 26 | B26: Mechatronik-, Energie- u. Elektroberufe | D26: 0.58979228 | E26: 205 | F26: 199 | G26: 206 | H26: 220 | I26: 213 | J26: -8 | K26: -3.7558685
A27: 27 | B27: Techn.Entwickl.Konstr.Produktionssteuer. | D27: 0.5754071 | E27: 200 | F27: 205 | G27: 201 | H27: 192 | I27: 197 | J27: 3 | K27: 1.5228426
A28: 28 | B28: Textil- und Lederberufe | D28: 0.10069624 | E28: 35 | F28: 35 | G28: 34 | H28: 34 | I28: 38 | J28: -3 | K28: -7.8947368
A29: 29 | B29: Lebensmittelherstellung u. -verarbeitung | D29: 3.0669198 | E29: 1066 | F29: 1003 | G29: 1014 | H29: 1197 | I29: 1220 | J29: -154 | K29: -12.622951
A30: dar. 292 | B30: Lebensmittel- u. Genussmittelherstellung | D30: * | E30: * | F30: * | G30: * | H30: * | I30: * | J30: * | K30: *
A31: dar. 293 | B31: Speisenzubereitung | D31: 2.6957823 | E31: 937 | F31: 882 | G31: 908 | H31: 1083 | I31: 1107 | J31: -170 | K31: -15.35682
A32: 31 | B32: Bauplanung,Architektur,Vermessungsberufe | D32: 0.35387537 | E32: 123 | F32: 115 | G32: 124 | H32: 113 | I32: 114 | J32: 9 | K32: 7.8947368
A33: 32 | B33: Hoch- und Tiefbauberufe | D33: 0.51786639 | E33: 180 | F33: 184 | G33: 173 | H33: 186 | I33: 199 | J33: -19 | K33: -9.5477387
A34: 33 | B34: (Innen-)Ausbauberufe | D34: 0.27619541 | E34: 96 | F34: 99 | G34: 92 | H34: 103 | I34: 101 | J34: -5 | K34: -4.950495
A35: 34 | B35: Gebäude- u. versorgungstechnische Berufe | D35: 3.7056217 | E35: 1288 | F35: 1272 | G35: 1322 | H35: 1396 | I35: 1372 | J35: -84 | K35: -6.122449
A36: 41 | B36: Mathematik-Biologie-Chemie-,Physikberufe | D36: 0.25605616 | E36: 89 | F36: 88 | G36: 103 | H36: 103 | I36: 94 | J36: -5 | K36: -5.3191489
A37: 42 | B37: Geologie-,Geografie-,Umweltschutzberufe | D37: 0.08343403 | E37: 29 | F37: 31 | G37: 28 | H37: 27 | I37: 26 | J37: 3 | K37: 11.538462
A38: 43 | B38: Informatik- und andere IKT-Berufe | D38: 0.61280856 | E38: 213 | F38: 201 | G38: 214 | H38: 214 | I38: 204 | J38: 9 | K38: 4.4117647
A39: 51 | B39: Verkehr, Logistik (außer Fahrzeugführ.) | D39: 8.5505495 | E39: 2972 | F39: 2875 | G39: 2938 | H39: 2932 | I39: 2901 | J39: 71 | K39: 2.4474319
A40: dar. 513 | B40: Lagerwirt.,Post,Zustellung,Güterumschlag | D40: 8.3549111 | E40: 2904 | F40: 2807 | G40: 2872 | H40: 2873 | I40: 2839 | J40: 65 | K40: 2.2895386
B41: dar. Berufe in der Lagerwirtschaft (5131) | D41: 2.592209 | E41: 901 | F41: 858 | G41: 897 | H41: 893 | I41: 832 | J41: 69 | K41: 8.2932692
A42: 52 | B42: Führer von Fahrzeug- u. Transportgeräten | D42: 5.8144888 | E42: 2021 | F42: 1959 | G42: 1949 | H42: 1984 | I42: 1931 | J42: 90 | K42: 4.6607975
A43: dar. 521 | B43: Fahrzeugführung im Straßenverkehr | D43: 5.7310547 | E43: 1992 | F43: 1933 | G43: 1926 | H43: 1960 | I43: 1902 | J43: 90 | K43: 4.7318612
A44: 53 | B44: Schutz-,Sicherheits-, Überwachungsberufe | D44: 3.7516543 | E44: 1304 | F44: 1293 | G44: 1439 | H44: 1540 | I44: 1614 | J44: -310 | K44: -19.206939
A45: dar. 531 | B45: Obj.-,Pers.-,Brandschutz,Arbeitssicherh. | D45: 3.7372691 | E45: 1299 | F45: 1288 | G45: 1436 | H45: 1536 | I45: 1611 | J45: -312 | K45: -19.366853
A46: 54 | B46: Reinigungsberufe | D46: 13.516313 | E46: 4698 | F46: 4049 | G46: 4250 | H46: 4492 | I46: 4591 | J46: 107 | K46: 2.3306469
A47: 61 | B47: Einkaufs-, Vertriebs- und Handelsberufe | D47: 1.2313712 | E47: 428 | F47: 424 | G47: 410 | H47: 401 | I47: 416 | J47: 12 | K47: 2.8846154
A48: 62 | B48: Verkaufsberufe | D48: 9.1978825 | E48: 3197 | F48: 3124 | G48: 3138 | H48: 3390 | I48: 3248 | J48: -51 | K48: -1.570197
A49: 63 | B49: Tourismus-, Hotel- und Gaststättenberufe | D49: 12.725128 | E49: 4423 | F49: 4076 | G49: 4634 | H49: 5394 | I49: 5429 | J49: -1006 | K49: -18.530116
A50: dar. 632 | B50: Hotellerie | D50: 0.54663675 | E50: 190 | F50: 169 | G50: 232 | H50: 254 | I50: 260 | J50: -70 | K50: -26.923077
A51: dar. 633 | B51: Gastronomie | D51: 11.404569 | E51: 3964 | F51: 3621 | G51: 4047 | H51: 4727 | I51: 4770 | J51: -806 | K51: -16.897275
A52: 71 | B52: Berufe Unternehmensführung,-organisation | D52: 13.165314 | E52: 4576 | F52: 4435 | G52: 4544 | H52: 4666 | I52: 4614 | J52: -38 | K52: -0.82358041
A53: dar. 713 | B53: Unternehmensorganisation und -strategie | D53: 1.5564762 | E53: 541 | F53: 525 | G53: 532 | H53: 550 | I53: 552 | J53: -11 | K53: -1.9927536
A54: dar. 714 | B54: Büro und Sekretariat | D54: 11.039185 | E54: 3837 | F54: 3713 | G54: 3817 | H54: 3929 | I54: 3875 | J54: -38 | K54: -0.98064516
A55: 72 | B55: Finanzdienstl.Rechnungsw.,Steuerberatung | D55: 1.4270096 | E55: 496 | F55: 492 | G55: 493 | H55: 512 | I55: 497 | J55: -1 | K55: -0.20120724
A56: dar. 721 | B56: Versicherungs- u. Finanzdienstleistungen | D56: 0.22153173 | E56: 77 | F56: 74 | G56: 84 | H56: 84 | I56: 71 | J56: 6 | K56: 8.4507042
A57: dar. 722 | B57: Rechnungswesen, Controlling und Revision | D57: 0.89763508 | E57: 312 | F57: 312 | G57: 303 | H57: 322 | I57: 316 | J57: -4 | K57: -1.2658228
A58: 73 | B58: Berufe in Recht und Verwaltung | D58: 1.0788883 | E58: 375 | F58: 359 | G58: 372 | H58: 374 | I58: 364 | J58: 11 | K58: 3.021978
A59: dar. 732 | B59: Verwaltung | D59: 0.55239082 | E59: 192 | F59: 177 | G59: 191 | H59: 192 | I59: 189 | J59: 3 | K59: 1.5873016
A60: 81 | B60: Medizinische Gesundheitsberufe | D60: 3.7976869 | E60: 1320 | F60: 1356 | G60: 1369 | H60: 1371 | I60: 1353 | J60: -33 | K60: -2.4390244
A61: dar. 811 | B61: Arzt- und Praxishilfe | D61: 1.0472409 | E61: 364 | F61: 362 | G61: 361 | H61: 338 | I61: 344 | J61: 20 | K61: 5.8139535
A62: dar. 813 | B62: Gesundh.,Krankenpfl.,Rettungsd.Geburtsh. | D62: 1.4787962 | E62: 514 | F62: 544 | G62: 540 | H62: 553 | I62: 536 | J62: -22 | K62: -4.1044776
B63: dar. Gesundheits- und Krankenpflege 2) | D63: 0.87461879 | E63: 304 | F63: 320 | G63: 310 | H63: 327 | I63: 315 | J63: -11 | K63: -3.4920635
A64: dar. 814 | B64: Human- und Zahnmedizin | D64: 0.21577766 | E64: 75 | F64: 79 | G64: 74 | H64: 67 | I64: 66 | J64: 9 | K64: 13.636364
A65: dar. 817 | B65: Nicht ärztliche Therapie und Heilkunde | D65: 0.55814489 | E65: 194 | F65: 186 | G65: 208 | H65: 218 | I65: 200 | J65: -6 | K65: -3
A66: 82 | B66: Nichtmed.Gesundheit,Körperpfl.,Medizint. | D66: 1.214109 | E66: 422 | F66: 425 | G66: 408 | H66: 450 | I66: 447 | J66: -25 | K66: -5.5928412
A67: dar. 821 | B67: Altenpflege | D67: 0.51786639 | E67: 180 | F67: 195 | G67: 191 | H67: 199 | I67: 204 | J67: -24 | K67: -11.764706
A68: dar. 823 | B68: Körperpflege | D68: 0.49485011 | E68: 172 | F68: 165 | G68: 146 | H68: 180 | I68: 178 | J68: -6 | K68: -3.3707865
A69: 83 | B69: Erziehung,soz.,hauswirt.Berufe,Theologie | D69: 2.0944818 | E69: 728 | F69: 703 | G69: 727 | H69: 707 | I69: 712 | J69: 16 | K69: 2.247191
A70: dar. 831 | B70: Erziehung,Sozialarb.,Heilerziehungspfl. | D70: 0.96956096 | E70: 337 | F70: 311 | G70: 332 | H70: 330 | I70: 330 | J70: 7 | K70: 2.1212121
B71: dar. Berufe i.d. Kinderbetr., -erziehung (8311) | D71: 0.48334196 | E71: 168 | F71: 155 | G71: 168 | H71: 157 | I71: 165 | J71: 3 | K71: 1.8181818
A72: 84 | B72: Lehrende und ausbildende Berufe | D72: 4.3443236 | E72: 1510 | F72: 1638 | G72: 1634 | H72: 1909 | I72: 1671 | J72: -161 | K72: -9.6349491
A73: dar. 841 | B73: Lehrtätigkeit an allgemeinbild. Schulen | D73: 0.080556994 | E73: 28 | F73: 36 | G73: 35 | H73: 35 | I73: 28 | J73: 0 | K73: 0
A74: dar. 842 | B74: Lehrt.berufsb.Fächer,betr.Ausb.,Betr.päd | D74: 0.063294781 | E74: 22 | F74: 23 | G74: 25 | H74: 23 | I74: 20 | J74: 2 | K74: 10
A75: dar. 843 | B75: Lehr-, Forschungstätigkeit an Hochschulen | D75: 3.3546234 | E75: 1166 | F75: 1297 | G75: 1290 | H75: 1562 | I75: 1335 | J75: -169 | K75: -12.659176
A76: 91 | B76: Geistes-Gesellschafts-Wirtschaftswissen. | D76: 0.33085908 | E76: 115 | F76: 94 | G76: 196 | H76: 224 | I76: 243 | J76: -128 | K76: -52.674897
A77: 92 | B77: Werbung,Marketing,kaufm,red.Medienberufe | D77: 1.2083549 | E77: 420 | F77: 398 | G77: 416 | H77: 450 | I77: 439 | J77: -19 | K77: -4.3280182
A78: 93 | B78: Produktdesign, Kunsthandwerk | D78: 0.097819207 | E78: 34 | F78: 35 | G78: 33 | H78: 36 | I78: 33 | J78: 1 | K78: 3.030303
A79: 94 | B79: Darstellende, unterhaltende Berufe | D79: 1.1594453 | E79: 403 | F79: 442 | G79: 509 | H79: 532 | I79: 490 | J79: -87 | K79: -17.755102
A80: XX | B80: Sonstige / Keine Angabe | D80: 1.9678923 | E80: 684 | F80: 712 | G80: 692 | H80: 728 | I80: 716 | J80: -32 | K80: -4.4692737
K81: © Statistik der Bundesagentur für Arbeit
A82: 1) Anteil an der jeweiligen Gesamtsumme (Spaltenprozent)
A83: 2) Gesundheits- und Krankenpflege = Summe der Berufsuntergruppen 8130,8131,8132,8138
A84: *) Aus Datenschutzgründen und Gründen der statistischen Geheimhaltung werden Zahlenwerte von 1 oder 2 und Daten, aus denen rechnerisch auf einen solchen Zahlenwert geschlossen werden kann, anonymisiert.

Sheet Tabelle 4.1
L1: Beschäftigungsstatistik
A3: 4.1 Begonnene sozialversicherungspflichtige Beschäftigungsverhältnisse und darunter befristete Beschäftigungsverhältnisse sowie Befristungsanteile nach ausgewählten Merkmalen
A4: Leipzig, Stadt (14713); Gebietsstand des jeweiligen Stichtags
A5: 3. Quartal 2020
A7: Merkmale | F7: Insgesamt
F8: 3. Quartal 2020 | G8: 2. Quartal 2020 | H8: 1. Quartal 2020 | I8: 4. Quartal 2019 | J8: 3. Quartal 2019 | K8: Veränderung gegenüber dem Vorjahresquartal (Spalte 1 zu Spalte 5)
K9: absolut | L9: in %(-Pkt.)
F10: 1 | G10: 2 | H10: 3 | I10: 4 | J10: 5 | K10: 6 | L10: 7
A11: begonnene sozialversicherungspflichtige Beschäftigungsverhältnisse (begBV)
A12: Insgesamt | F12: 33037 | G12: 18358 | H12: 27192 | I12: 25692 | J12: 32696 | K12: 341 | L12: 1.042941
A13: dav.: | B13: Männer | F13: 18218 | G13: 10343 | H13: 15696 | I13: 14439 | J13: 17687 | K13: 531 | L13: 3.002205
B14: Frauen | F14: 14819 | G14: 8015 | H14: 11496 | I14: 11253 | J14: 15009 | K14: -190 | L14: -1.2659071
A15: dar.: | B15: unter 25 Jahre | F15: 9665 | G15: 3013 | H15: 4505 | I15: 4886 | J15: 9235 | K15: 430 | L15: 4.6561992
B16: 25 bis unter 55 Jahre | F16: 20337 | G16: 13450 | H16: 19416 | I16: 17737 | J16: 19998 | K16: 339 | L16: 1.6951695
B17: 55 bis unter 65 Jahre | F17: 2484 | G17: 1659 | H17: 2625 | I17: 2224 | J17: 2572 | K17: -88 | L17: -3.4214619
B18: 65 Jahre und älter | F18: 551 | G18: 236 | H18: 646 | I18: 845 | J18: 891 | K18: -340 | L18: -38.159371
A19: dar. | B19: in Vollzeit | F19: 21746 | G19: 11696 | H19: 17285 | I19: 15491 | J19: 21275 | K19: 471 | L19: 2.213866
B20: in Teilzeit | F20: 11291 | G20: 6662 | H20: 9907 | I20: 10201 | J20: 11421 | K20: -130 | L20: -1.1382541
A21: dar. | B21: Deutsche | F21: 27335 | G21: 15379 | H21: 22892 | I21: 21539 | J21: 27654 | K21: -319 | L21: -1.1535402
B22: Ausländer | F22: 5624 | G22: 2901 | H22: 4227 | I22: 4063 | J22: 4928 | K22: 696 | L22: 14.123377
A23: dar.: | B23: Auszubildende | F23: 3742 | G23: 148 | H23: 354 | I23: 678 | J23: 3696 | K23: 46 | L23: 1.2445887
A24: Befristungsanteil 2)
A25: Insgesamt | F25: 43.6 | G25: 49.5 | H25: 42.5 | I25: 49.5 | J25: 45.7 | K25: x | L25: -2.1
A26: dav. | B26: Männer | F26: 42.4 | G26: 47 | H26: 39.7 | I26: 47.3 | J26: 43.1 | K26: x | L26: -0.7
B27: Frauen | F27: 45.2 | G27: 52.8 | H27: 46.4 | I27: 52.4 | J27: 48.7 | K27: x | L27: -3.5
A28: dar. | B28: unter 25 Jahre | F28: 49 | G28: 56.7 | H28: 47.4 | I28: 54.6 | J28: 51.4 | K28: x | L28: -2.4
B29: 25 bis unter 55 Jahre | F29: 42.2 | G29: 48.2 | H29: 41.3 | I29: 47.3 | J29: 43.6 | K29: x | L29: -1.4
B30: 55 bis unter 65 Jahre | F30: 39.2 | G30: 46.3 | H30: 37.8 | I30: 49.5 | J30: 43.2 | K30: x | L30: -4
B31: 65 Jahre und älter | F31: 61 | G31: 60.6 | H31: 65.4 | I31: 71.6 | J31: 62.6 | K31: x | L31: -1.6
A32: dar. | B32: in Vollzeit | F32: 42.2 | G32: 49.6 | H32: 40.8 | I32: 48.3 | J32: 43.7 | K32: x | L32: -1.5
B33: in Teilzeit | F33: 45.9 | G33: 49.2 | H33: 45.5 | I33: 51.3 | J33: 48.6 | K33: x | L33: -2.7
A34: dar. | B34: Deutsche | F34: 43.9 | G34: 51.5 | H34: 43.8 | I34: 50.6 | J34: 47.2 | K34: x | L34: -3.3
B35: Ausländer | F35: 41.9 | G35: 37.6 | H35: 35 | I35: 43 | J35: 36.6 | K35: x | L35: 5.3
A36: dar.: beg. svpfl. BV in der SvB-Kerngruppe 3) | F36: 28443 | G36: 18107 | H36: 26619 | I36: 24739 | J36: 28153 | K36: 290 | L36: 1.0300856
B37: dar. | C37: befristet | F37: 12406 | G37: 8963 | H37: 11317 | I37: 12254 | J37: 12852 | K37: -446 | L37: -3.470277
B38: dav. | C38: Männer | F38: 15823 | G38: 10216 | H38: 15415 | I38: 13956 | J38: 15356 | K38: 467 | L38: 3.0411566
C39: dar. befristet | F39: 6705 | G39: 4800 | H39: 6113 | I39: 6604 | J39: 6623 | K39: 82 | L39: 1.2381096
C40: Frauen | F40: 12620 | G40: 7891 | H40: 11204 | I40: 10783 | J40: 12797 | K40: -177 | L40: -1.3831367
C41: dar. befristet | F41: 5701 | G41: 4163 | H41: 5204 | I41: 5650 | J41: 6229 | K41: -528 | L41: -8.476481
B42: dar. | C42: unter 25 Jahren | F42: 5633 | G42: 2854 | H42: 4100 | I42: 4135 | J42: 5337 | K42: 296 | L42: 5.546187
C43: dar. befristet | F43: 2758 | G43: 1617 | H43: 1945 | I43: 2259 | J43: 2741 | K43: 17 | L43: 0.6202116
C44: 25 bis unter 55 Jahre | F44: 19784 | G44: 13368 | H44: 19258 | I44: 17546 | J44: 19370 | K44: 414 | L44: 2.1373258
C45: dar. befristet | F45: 8342 | G45: 6440 | H45: 7960 | I45: 8295 | J45: 8449 | K45: -107 | L45: -1.2664221
C46: 55 bis unter 65 Jahre | F46: 2475 | G46: 1649 | H46: 2616 | I46: 2214 | J46: 2558 | K46: -83 | L46: -3.2447224
C47: dar. befristet | F47: 970 | G47: 763 | H47: 990 | I47: 1096 | J47: 1106 | K47: -136 | L47: -12.296564
C48: 65 Jahre und älter | F48: 551 | G48: 236 | H48: 645 | I48: 844 | J48: 888 | K48: -337 | L48: -37.95045
C49: dar. befristet | F49: 336 | G49: 143 | H49: 422 | I49: 604 | J49: 556 | K49: -220 | L49: -39.568345
B50: dar. | C50: in Vollzeit | F50: 17350 | G50: 11491 | H50: 16809 | I50: 14693 | J50: 16927 | K50: 423 | L50: 2.4989661
C51: dar. befristet | F51: 7318 | G51: 5705 | H51: 6854 | I51: 7097 | J51: 7393 | K51: -75 | L51: -1.0144732
C52: in Teilzeit | F52: 11093 | G52: 6616 | H52: 9810 | I52: 10046 | J52: 11226 | K52: -133 | L52: -1.1847497
C53: dar. befristet | F53: 5088 | G53: 3258 | H53: 4463 | I53: 5157 | J53: 5459 | K53: -371 | L53: -6.7961165
B54: dar. | C54: Deutsche | F54: 23082 | G54: 15163 | H54: 22416 | I54: 20689 | J54: 23528 | K54: -446 | L54: -1.8956137
C55: dar. befristet | F55: 10126 | G55: 7814 | H55: 9809 | I55: 10466 | J55: 11106 | K55: -980 | L55: -8.8240591
C56: Ausländer | F56: 5285 | G56: 2867 | H56: 4130 | I56: 3960 | J56: 4516 | K56: 769 | L56: 17.028344
C57: dar. befristet | F57: 2213 | G57: 1077 | H57: 1447 | I57: 1703 | J57: 1651 | K57: =IF(OR(F57=".",J57=".")=TRUE,".",IF(OR(F57="*",J57="*")=TRUE,"*",IF(AND(F57="-",J57="-")=TRUE,"-",IF(AND(ISNUMBER(J57),ISNUMBER(F57))=TRUE,IF(F57-J57=0,0,F57-J57),IF(ISNUMBER(F57)=TRUE,F57,-J57))))) -> 562 | L57: =IF(K57 =".",".",IF(K57 ="*","*",IF(K57="-","-",IF(K57=0,0,IF(OR(J57="-",J57=".",F57="-",F57=".")=TRUE,"X",IF(J57=0,"0,0",IF(ABS(K57*100/J57)>250,".X",(K57*100/J57)))))))) -> 34.039976
L58: © Statistik der Bundesagentur für Arbeit
A59: 1) Als begonnene Beschäftigungsverhältnisse im Sinne der Beschäftigungsstatistik zählen die Anmeldungen zu einem sozialversicherungspflichtigen Beschäftigungsverhältnis innerhalb eines Zeitraums. Mehrfacherfassungen von Beschäftigten sind möglich.
A60: 2) bezogen auf SvB-Kerngruppe-Befristung
A61: 3) SvB-Kerngruppe Befristung - siehe methodische Hinweise

Sheet Tabelle 4.2
J1: Beschäftigungsstatistik
A3: 4.2 Begonnene sozialversicherungspflichtige Beschäftigungsverhältnisse nach der Klassifikation der Wirtschaftszweige 2008 (WZ 2008)
A4: Leipzig, Stadt (14713); Gebietsstand des jeweiligen Stichtags
A5: 3. Quartal 2020
A7: Wirtschaftsabschnitte / Wirtschaftsabteilungen / Wirtschaftsgruppen WZ 2008 | C7: Anteile in % 1) | D7: begonnene sozialversicherungspflichtige Beschäftigungsverhältnisse2) im… | I7: Veränderung gegenüber dem Vorjahresquartal (Spalte 1 zu Spalte 5)
D8: 3. Quartal 2020 | E8: 2. Quartal 2020 | F8: 1. Quartal 2020 | G8: 4. Quartal 2019 | H8: 3. Quartal 2019
I9: absolut | J9: in %
D10: 1 | E10: 2 | F10: 3 | G10: 4 | H10: 5 | I10: 6 | J10: 7
A11: Insgesamt | C11: 100 | D11: 33037 | E11: 18358 | F11: 27192 | G11: 25692 | H11: 32696 | I11: 341 | J11: 1.042941
A12: A | B12: Land-, Forstwirtschaft und Fischerei | C12: 0.099888004 | D12: 33 | E12: 30 | F12: 47 | G12: 18 | H12: 67 | I12: -34 | J12: -50.746269
A13: B,D,E | B13: Bergbau, Energie- und Wasserversorgung, Entsorgungswirtschaft | C13: 0.6235433 | D13: 206 | E13: 151 | F13: 231 | G13: 139 | H13: 199 | I13: 7 | J13: 3.5175879
A14: C | B14: Verarbeitendes Gewerbe | C14: 3.8804976 | D14: 1282 | E14: 458 | F14: 1660 | G14: 1247 | H14: 989 | I14: 293 | J14: 29.625885
A15: dav. 10-15, 18, 21, 31 | B15: Herstellung von überwiegend häuslich konsumierten Gütern (ohne Güter der Metall-, Elektro- und Chemieindustrie) | C15: 0.5902473 | D15: 195 | E15: 79 | F15: 220 | G15: 161 | H15: 188 | I15: 7 | J15: 3.7234043
A16: 24-30, 32, 33 | B16: Metall- und Elektroindustrie sowie Stahlindustrie | C16: 2.167267 | D16: 716 | E16: 330 | F16: 1337 | G16: 1037 | H16: 729 | I16: -13 | J16: -1.7832647
A17: 16, 17, 19, 20, ,22, 23 | B17: Hrst. v. Vorleistungsgütern, insb. v. chem. Erzeugnissen u. Kunststoffwaren (ohne Güter der Metall- u. Elektroindustrie) | C17: 1.1229833 | D17: 371 | E17: 49 | F17: 103 | G17: 49 | H17: 72 | I17: 299 | J17: .X
A18: F | B18: Baugewerbe | C18: 3.9894664 | D18: 1318 | E18: 1080 | F18: 1473 | G18: 945 | H18: 1513 | I18: -195 | J18: -12.888301
A19: G | B19: Handel, Instandhaltung, Reparatur von Kfz | C19: 9.6407059 | D19: 3185 | E19: 2047 | F19: 2253 | G19: 2765 | H19: 2994 | I19: 191 | J19: 6.3794255
A20: H | B20: Verkehr und Lagerei | C20: 7.2978781 | D20: 2411 | E20: 696 | F20: 1198 | G20: 793 | H20: 1356 | I20: 1055 | J20: 77.80236
A21: I | B21: Gastgewerbe | C21: 6.2566214 | D21: 2067 | E21: 803 | F21: 1717 | G21: 1808 | H21: 2539 | I21: -472 | J21: -18.589996
A22: J | B22: Information und Kommunikation | C22: 14.359657 | D22: 4744 | E22: 4293 | F22: 4808 | G22: 4996 | H22: 5079 | I22: -335 | J22: -6.5957866
A23: K | B23: Erbringung von Finanz- und Versicherungsdienstleistungen | C23: 1.3500015 | D23: 446 | E23: 164 | F23: 241 | G23: 220 | H23: 371 | I23: 75 | J23: 20.215633
A24: L,M | B24: Immobilien, freiberufliche wissenschaftliche und technische Dienstleistungen | C24: 6.9043799 | D24: 2281 | E24: 1456 | F24: 2264 | G24: 1915 | H24: 2366 | I24: -85 | J24: -3.5925613
A25: N | B25: sonstige wirtschaftliche Dienstleistungen | C25: 23.979175 | D25: 7922 | E25: 3686 | F25: 6504 | G25: 6090 | H25: 7715 | I25: 207 | J25: 2.6830849
A26: dav. N (ohne ANÜ) | B26: sonstige wirtschaftliche Dienstleistungen (ohne Arbeitnehmerüberlassung) | C26: 11.741381 | D26: 3879 | E26: 1570 | F26: 3179 | G26: 2872 | H26: 3714 | I26: 165 | J26: 4.4426494
A27: 782.783 | B27: Arbeitnehmerüberlassung | C27: 12.237794 | D27: 4043 | E27: 2116 | F27: 3325 | G27: 3218 | H27: 4001 | I27: 42 | J27: 1.0497376
A28: O, U | B28: Öffentliche Verwaltung, Verteidigung, Sozialversicherung, Ext. Organisationen | C28: 1.9251143 | D28: 636 | E28: 266 | F28: 345 | G28: 330 | H28: 673 | I28: -37 | J28: -5.4977712
A29: P | B29: Erziehung und Unterricht | C29: 4.7764628 | D29: 1578 | E29: 875 | F29: 1027 | G29: 1284 | H29: 1632 | I29: -54 | J29: -3.3088235
A30: 86 | B30: Gesundheitswesen | C30: 6.0447377 | D30: 1997 | E30: 916 | F30: 1279 | G30: 1264 | H30: 1994 | I30: 3 | J30: 0.15045135
A31: 87.88 | B31: Heime und Sozialwesen | C31: 6.0084148 | D31: 1985 | E31: 836 | F31: 1179 | G31: 1111 | H31: 2037 | I31: -52 | J31: -2.5527737
A32: R,S,T | B32: sonstige Dienstleistungen, Private Haushalte | C32: 2.8634561 | D32: 946 | E32: 601 | F32: 966 | G32: 767 | H32: 1172 | I32: -226 | J32: -19.283276
B33: keine Zuordnung möglich | C33: 0 | D33: 0 | E33: 0 | F33: 0 | G33: 0 | H33: 0 | I33: 0 | J33: 0
A34: davon nach Sektoren:
A35: A | B35: Land-, Forstwirtschaft und Fischerei | C35: 0.099888004 | D35: 33 | E35: 30 | F35: 47 | G35: 18 | H35: 67 | I35: -34 | J35: -50.746269
A36: B - F | B36: Produzierendes Gewerbe | C36: 8.4935073 | D36: 2806 | E36: 1689 | F36: 3364 | G36: 2331 | H36: 2701 | I36: 105 | J36: 3.8874491
A37: G - U | B37: Dienstleistungsbereich | C37: 91.406605 | D37: 30198 | E37: 16639 | F37: 23781 | G37: 23343 | H37: 29928 | I37: 270 | J37: 0.9021652
J38: © Statistik der Bundesagentur für Arbeit
A39: 1) Anteil an der jeweiligen Gesamtsumme (Spaltenprozent)
A40: 2) Als begonnene Beschäftigungsverhältnisse im Sinne der Beschäftigungsstatistik zählen die Anmeldungen zu einem sozialversicherungspflichtigen Beschäftigungsverhältnis innerhalb eines Zeitraums. Mehrfacherfassungen von Beschäftigten sind möglich.
A41: *) Aus Datenschutzgründen und Gründen der statistischen Geheimhaltung werden Zahlenwerte von 1 oder 2 und Daten, aus denen rechnerisch auf einen solchen Zahlenwert geschlossen werden kann, anonymisiert. Gleiches gilt, wenn eine Region oder ein Wirtschaftszweig 1 oder 2 Betriebe aufweist oder einer der Betriebe einen so hohen Beschäftigtenanteil auf sich vereint, dass die Beschäftigtenzahl praktisch eine Einzelangabe über diesen Betrieb darstellt (Dominanzfall). In Fällen, in denen Werte von Null eine Information über den Merkmalsträger offen legen, werden auch diese Nullwerte anonymisiert.

Sheet Tabelle 4.3
K1: Beschäftigungsstatistik
A3: 4.3 Begonnene sozialversicherungspflichtige Beschäftigungsverhältnisse nach der Klassifikation der Berufe (KldB 2010)
A4: Leipzig, Stadt (14713); Gebietsstand des jeweiligen Stichtags
A5: 3. Quartal 2020
A7: Anforderungsniveau/ Berufshauptgruppen/-gruppen (KldB2010) | D7: Anteile in % 1) | E7: begonnene sozialversicherungspflichtige Beschäftigungsverhältnisse3) im… | J7: Veränderung gegenüber dem Vorjahresquartal (Spalte 1 zu Spalte 5)
E8: 3. Quartal 2020 | F8: 2. Quartal 2020 | G8: 1. Quartal 2020 | H8: 4. Quartal 2019 | I8: 3. Quartal 2019
J9: absolut | K9: in %
E10: 1 | F10: 2 | G10: 3 | H10: 4 | I10: 5 | J10: 6 | K10: 7
A11: Insgesamt | D11: 100 | E11: 33037 | F11: 18358 | G11: 27192 | H11: 25692 | I11: 32696 | J11: 341 | K11: 1.042941
A12: darunter nach Anforderungsniveau der ausgeübten Tätigkeit (KldB 2010)
A13: Helfer | D13: 25.111239 | E13: 8296 | F13: 4090 | G13: 5736 | H13: 5728 | I13: 7070 | J13: 1226 | K13: 17.340877
A14: Fachkraft | D14: 49.532343 | E14: 16364 | F14: 8008 | G14: 13296 | H14: 12148 | I14: 17063 | J14: -699 | K14: -4.0965833
A15: Spezialist | D15: 10.615371 | E15: 3507 | F15: 2286 | G15: 3242 | H15: 3099 | I15: 3516 | J15: -9 | K15: -0.2559727
A16: Experte | D16: 14.226473 | E16: 4700 | F16: 3960 | G16: 4880 | H16: 4701 | I16: 4866 | J16: -166 | K16: -3.4114262
A17: davon nach Berufsfachlichkeit der ausgeübten Tätigkeit (KldB 2010)
A18: 11 | B18: Land-, Tier-, Forstwirtschaftsberufe | D18: 0.18161455 | E18: 60 | F18: 17 | G18: 38 | H18: 21 | I18: 61 | J18: -1 | K18: -1.6393443
A19: dar. 111 | B19: Landwirtschaft | D19: 0.069618912 | E19: 23 | F19: 8 | G19: 15 | H19: 4 | I19: 27 | J19: -4 | K19: -14.814815
A20: 12 | B20: Gartenbauberufe, Floristik | D20: 0.53878984 | E20: 178 | F20: 83 | G20: 117 | H20: 70 | I20: 179 | J20: -1 | K20: -0.55865922
A21: 21 | B21: Rohstoffgewinn,Glas-,Keramikverarbeitung | D21: 0.057511275 | E21: 19 | F21: 16 | G21: 45 | H21: 10 | I21: 31 | J21: -12 | K21: -38.709677
A22: 22 | B22: Kunststoff- u. Holzherst.,-verarbeitung | D22: 0.4933862 | E22: 163 | F22: 85 | G22: 91 | H22: 105 | I22: 199 | J22: -36 | K22: -18.090452
A23: 23 | B23: Papier-,Druckberufe, tech.Mediengestalt. | D23: 0.80515785 | E23: 266 | F23: 153 | G23: 222 | H23: 278 | I23: 313 | J23: -47 | K23: -15.015974
A24: 24 | B24: Metallerzeugung,-bearbeitung, Metallbau | D24: 1.6526924 | E24: 546 | F24: 251 | G24: 877 | H24: 889 | I24: 588 | J24: -42 | K24: -7.1428571
A25: 25 | B25: Maschinen- und Fahrzeugtechnikberufe | D25: 4.0863275 | E25: 1350 | F25: 490 | G25: 1018 | H25: 896 | I25: 1089 | J25: 261 | K25: 23.966942
A26: 26 | B26: Mechatronik-, Energie- u. Elektroberufe | D26: 2.4608772 | E26: 813 | F26: 314 | G26: 525 | H26: 428 | I26: 831 | J26: -18 | K26: -2.166065
A27: 27 | B27: Techn.Entwickl.Konstr.Produktionssteuer. | D27: 0.91109968 | E27: 301 | F27: 190 | G27: 348 | H27: 278 | I27: 317 | J27: -16 | K27: -5.0473186
A28: 28 | B28: Textil- und Lederberufe | D28: 0.093834186 | E28: 31 | F28: 23 | G28: 32 | H28: 23 | I28: 23 | J28: 8 | K28: 34.782609
A29: 29 | B29: Lebensmittelherstellung u. -verarbeitung | D29: 2.5395768 | E29: 839 | F29: 288 | G29: 713 | H29: 680 | I29: 1113 | J29: -274 | K29: -24.618149
A30: dar. 292 | B30: Lebensmittel- u. Genussmittelherstellung | D30: 0.46311711 | E30: 153 | F30: 61 | G30: 114 | H30: 120 | I30: 134 | J30: 19 | K30: 14.179104
A31: dar. 293 | B31: Speisenzubereitung | D31: 2.067379 | E31: 683 | F31: 227 | G31: 599 | H31: 560 | I31: 976 | J31: -293 | K31: -30.020492
A32: 31 | B32: Bauplanung,Architektur,Vermessungsberufe | D32: 0.5266822 | E32: 174 | F32: 179 | G32: 187 | H32: 161 | I32: 178 | J32: -4 | K32: -2.247191
A33: 32 | B33: Hoch- und Tiefbauberufe | D33: 2.0098677 | E33: 664 | F33: 593 | G33: 830 | H33: 560 | I33: 865 | J33: -201 | K33: -23.236994
A34: 33 | B34: (Innen-)Ausbauberufe | D34: 0.91715349 | E34: 303 | F34: 150 | G34: 223 | H34: 150 | I34: 277 | J34: 26 | K34: 9.3862816
A35: 34 | B35: Gebäude- u. versorgungstechnische Berufe | D35: 2.1400248 | E35: 707 | F35: 359 | G35: 619 | H35: 399 | I35: 623 | J35: 84 | K35: 13.483146
A36: 41 | B36: Mathematik-Biologie-Chemie-,Physikberufe | D36: 0.7234313 | E36: 239 | F36: 58 | G36: 122 | H36: 66 | I36: 121 | J36: 118 | K36: 97.520661
A37: 42 | B37: Geologie-,Geografie-,Umweltschutzberufe | D37: 0.11199564 | E37: 37 | F37: 40 | G37: 33 | H37: 25 | I37: 32 | J37: 5 | K37: 15.625
A38: 43 | B38: Informatik- und andere IKT-Berufe | D38: 2.1037019 | E38: 695 | F38: 370 | G38: 612 | H38: 473 | I38: 673 | J38: 22 | K38: 3.268945
A39: 51 | B39: Verkehr, Logistik (außer Fahrzeugführ.) | D39: 10.881739 | E39: 3595 | F39: 1774 | G39: 1961 | H39: 2195 | I39: 2265 | J39: 1330 | K39: 58.719647
A40: dar. 513 | B40: Lagerwirt.,Post,Zustellung,Güterumschlag | D40: 10.082635 | E40: 3331 | F40: 1675 | G40: 1806 | H40: 2101 | I40: 2036 | J40: 1295 | K40: 63.605108
B41: dar. Berufe in der Lagerwirtschaft (5131) | D41: 9.2926113 | E41: 3070 | F41: 1542 | G41: 1563 | H41: 1830 | I41: 1674 | J41: 1396 | K41: 83.39307
A42: 52 | B42: Führer von Fahrzeug- u. Transportgeräten | D42: 2.3609892 | E42: 780 | F42: 482 | G42: 1047 | H42: 628 | I42: 849 | J42: -69 | K42: -8.1272085
A43: dar. 521 | B43: Fahrzeugführung im Straßenverkehr | D43: 1.7889034 | E43: 591 | F43: 367 | G43: 691 | H43: 471 | I43: 635 | J43: -44 | K43: -6.9291339
A44: 53 | B44: Schutz-,Sicherheits-, Überwachungsberufe | D44: 1.2168175 | E44: 402 | F44: 240 | G44: 480 | H44: 346 | I44: 482 | J44: -80 | K44: -16.59751
A45: dar. 531 | B45: Obj.-,Pers.-,Brandschutz,Arbeitssicherh. | D45: 1.201683 | E45: 397 | F45: 234 | G45: 472 | H45: 336 | I45: 463 | J45: -66 | K45: -14.25486
A46: 54 | B46: Reinigungsberufe | D46: 5.4756788 | E46: 1809 | F46: 652 | G46: 1025 | H46: 892 | I46: 1328 | J46: 481 | K46: 36.21988
A47: 61 | B47: Einkaufs-, Vertriebs- und Handelsberufe | D47: 2.1097557 | E47: 697 | F47: 373 | G47: 663 | H47: 523 | I47: 691 | J47: 6 | K47: 0.8683068
A48: 62 | B48: Verkaufsberufe | D48: 5.5392439 | E48: 1830 | F48: 1011 | G48: 1310 | H48: 1392 | I48: 1850 | J48: -20 | K48: -1.0810811
A49: 63 | B49: Tourismus-, Hotel- und Gaststättenberufe | D49: 5.5452977 | E49: 1832 | F49: 667 | G49: 1641 | H49: 2098 | I49: 2475 | J49: -643 | K49: -25.979798
A50: dar. 632 | B50: Hotellerie | D50: 0.86872295 | E50: 287 | F50: 91 | G50: 208 | H50: 330 | I50: 415 | J50: -128 | K50: -30.843373
A51: dar. 633 | B51: Gastronomie | D51: 3.4234343 | E51: 1131 | F51: 466 | G51: 995 | H51: 1142 | I51: 1271 | J51: -140 | K51: -11.014949
A52: 71 | B52: Berufe Unternehmensführung,-organisation | D52: 7.8608833 | E52: 2597 | F52: 1596 | G52: 2561 | H52: 2130 | I52: 2706 | J52: -109 | K52: -4.0280857
A53: dar. 713 | B53: Unternehmensorganisation und -strategie | D53: 2.7272452 | E53: 901 | F53: 660 | G53: 972 | H53: 806 | I53: 915 | J53: -14 | K53: -1.5300546
A54: dar. 714 | B54: Büro und Sekretariat | D54: 4.267942 | E54: 1410 | F54: 745 | G54: 1305 | H54: 1119 | I54: 1485 | J54: -75 | K54: -5.0505051
A55: 72 | B55: Finanzdienstl.Rechnungsw.,Steuerberatung | D55: 2.0976481 | E55: 693 | F55: 391 | G55: 529 | H55: 516 | I55: 640 | J55: 53 | K55: 8.28125
A56: dar. 721 | B56: Versicherungs- u. Finanzdienstleistungen | D56: 0.71737749 | E56: 237 | F56: 105 | G56: 138 | H56: 144 | I56: 268 | J56: -31 | K56: -11.567164
A57: dar. 722 | B57: Rechnungswesen, Controlling und Revision | D57: 1.0473106 | E57: 346 | F57: 227 | G57: 325 | H57: 279 | I57: 252 | J57: 94 | K57: 37.301587
A58: 73 | B58: Berufe in Recht und Verwaltung | D58: 2.0189485 | E58: 667 | F58: 315 | G58: 504 | H58: 415 | I58: 672 | J58: -5 | K58: -0.74404762
A59: dar. 732 | B59: Verwaltung | D59: 1.1653601 | E59: 385 | F59: 180 | G59: 291 | H59: 241 | I59: 414 | J59: -29 | K59: -7.0048309
A60: 81 | B60: Medizinische Gesundheitsberufe | D60: 6.8559494 | E60: 2265 | F60: 1109 | G60: 1577 | H60: 1316 | I60: 2169 | J60: 96 | K60: 4.4260028
A61: dar. 811 | B61: Arzt- und Praxishilfe | D61: 1.3772437 | E61: 455 | F61: 243 | G61: 289 | H61: 211 | I61: 398 | J61: 57 | K61: 14.321608
A62: dar. 813 | B62: Gesundh.,Krankenpfl.,Rettungsd.Geburtsh. | D62: 3.3084118 | E62: 1093 | F62: 423 | G62: 599 | H62: 511 | I62: 1064 | J62: 29 | K62: 2.7255639
B63: dar. Gesundheits- und Krankenpflege 2) | D63: 2.8755638 | E63: 950 | F63: 369 | G63: 522 | H63: 429 | I63: 926 | J63: 24 | K63: 2.5917927
A64: dar. 814 | B64: Human- und Zahnmedizin | D64: 0.75672731 | E64: 250 | F64: 202 | G64: 280 | H64: 207 | I64: 224 | J64: 26 | K64: 11.607143
A65: dar. 817 | B65: Nicht ärztliche Therapie und Heilkunde | D65: 0.7234313 | E65: 239 | F65: 98 | G65: 182 | H65: 222 | I65: 241 | J65: -2 | K65: -0.82987552
A66: 82 | B66: Nichtmed.Gesundheit,Körperpfl.,Medizint. | D66: 3.0541514 | E66: 1009 | F66: 531 | G66: 720 | H66: 721 | I66: 1076 | J66: -67 | K66: -6.2267658
A67: dar. 821 | B67: Altenpflege | D67: 2.0310561 | E67: 671 | F67: 362 | G67: 461 | H67: 470 | I67: 692 | J67: -21 | K67: -3.0346821
A68: dar. 823 | B68: Körperpflege | D68: 0.67802767 | E68: 224 | F68: 121 | G68: 191 | H68: 197 | I68: 262 | J68: -38 | K68: -14.503817
A69: 83 | B69: Erziehung,soz.,hauswirt.Berufe,Theologie | D69: 4.4858795 | E69: 1482 | F69: 565 | G69: 862 | H69: 946 | I69: 1665 | J69: -183 | K69: -10.990991
A70: dar. 831 | B70: Erziehung,Sozialarb.,Heilerziehungspfl. | D70: 4.0711929 | E70: 1345 | F70: 478 | G70: 732 | H70: 828 | I70: 1507 | J70: -162 | K70: -10.749834
B71: dar. Berufe i.d. Kinderbetr., -erziehung (8311) | D71: 2.7787027 | E71: 918 | F71: 203 | G71: 364 | H71: 423 | I71: 938 | J71: -20 | K71: -2.1321962
A72: 84 | B72: Lehrende und ausbildende Berufe | D72: 3.0874474 | E72: 1020 | F72: 826 | G72: 876 | H72: 1048 | I72: 989 | J72: 31 | K72: 3.1344793
A73: dar. 841 | B73: Lehrtätigkeit an allgemeinbild. Schulen | D73: 0.92623422 | E73: 306 | F73: 71 | G73: 105 | H73: 79 | I73: 239 | J73: 67 | K73: 28.033473
A74: dar. 842 | B74: Lehrt.berufsb.Fächer,betr.Ausb.,Betr.päd | D74: 0.17858764 | E74: 59 | F74: 34 | G74: 39 | H74: 51 | I74: 64 | J74: -5 | K74: -7.8125
A75: dar. 843 | B75: Lehr-, Forschungstätigkeit an Hochschulen | D75: 1.4922662 | E75: 493 | F75: 670 | G75: 612 | H75: 816 | I75: 517 | J75: -24 | K75: -4.6421663
A76: 91 | B76: Geistes-Gesellschafts-Wirtschaftswissen. | D76: 0.30571783 | E76: 101 | F76: 46 | G76: 80 | H76: 104 | I76: 168 | J76: -67 | K76: -39.880952
A77: 92 | B77: Werbung,Marketing,kaufm,red.Medienberufe | D77: 8.9112208 | E77: 2944 | F77: 2624 | G77: 2900 | H77: 2895 | I77: 3019 | J77: -75 | K77: -2.4842663
A78: 93 | B78: Produktdesign, Kunsthandwerk | D78: 0.11502255 | E78: 38 | F78: 21 | G78: 17 | H78: 23 | I78: 38 | J78: 0 | K78: 0
A79: 94 | B79: Darstellende, unterhaltende Berufe | D79: 5.1972031 | E79: 1717 | F79: 1461 | G79: 1746 | H79: 1973 | I79: 1917 | J79: -200 | K79: -10.432968
A80: XX | B80: Sonstige / Keine Angabe | D80: 0.5266822 | E80: 174 | F80: 15 | G80: 41 | H80: 19 | I80: 184 | J80: -10 | K80: -5.4347826
A81: 1) Anteil an der jeweiligen Gesamtsumme (Spaltenprozent) | K81: © Statistik der Bundesagentur für Arbeit
A82: 2) Gesundheits- und Krankenpflege = Summe der Berufsuntergruppen 8130,8131,8132,8138
A83: 3) Als begonnene Beschäftigungsverhältnisse im Sinne der Beschäftigungsstatistik zählen die Anmeldungen zu einem sozialversicherungspflichtigen Beschäftigungsverhältnis innerhalb eines Zeitraums. Mehrfacherfassungen von Beschäftigten sind möglich.
A84: *) Aus Datenschutzgründen und Gründen der statistischen Geheimhaltung werden Zahlenwerte von 1 oder 2 und Daten, aus denen rechnerisch auf einen solchen Zahlenwert geschlossen werden kann, anonymisiert.
A85: .X Veränderungswert >250%. In begründeten Ausnahmefällen kann von der Regel abgewichen werden.

Sheet Tabelle 5.1
J1: Beschäftigungsstatistik
A3: 5.1 Beendete sozialversicherungspflichtige Beschäftigungsverhältnisse nach der Klassifikation der Wirtschaftszweige 2008 (WZ 2008)
A4: Leipzig, Stadt (14713); Gebietsstand des jeweiligen Stichtags
A5: 3. Quartal 2020
A7: Wirtschaftsabschnitte / Wirtschaftsabteilungen / Wirtschaftsgruppen WZ 2008 | C7: Anteile in % 1) | D7: beendete sozialversicherungspflichtige Beschäftigungsverhältnisse2) im… | I7: Veränderung gegenüber dem Vorjahresquartal (Spalte 1 zu Spalte 5)
D8: 3. Quartal 2020 | E8: 2. Quartal 2020 | F8: 1. Quartal 2020 | G8: 4. Quartal 2019 | H8: 3. Quartal 2019
I9: absolut | J9: in %
D10: 1 | E10: 2 | F10: 3 | G10: 4 | H10: 5 | I10: 6 | J10: 7
A11: Insgesamt | C11: 100 | D11: 28481 | E11: 20697 | F11: 28793 | G11: 25478 | H11: 29068 | I11: -587 | J11: -2.0194028
A12: A | B12: Land-, Forstwirtschaft und Fischerei | C12: 0.12288894 | D12: 35 | E12: 16 | F12: 26 | G12: 48 | H12: 57 | I12: -22 | J12: -38.596491
A13: B,D,E | B13: Bergbau, Energie- und Wasserversorgung, Entsorgungswirtschaft | C13: 0.51964468 | D13: 148 | E13: 133 | F13: 159 | G13: 149 | H13: 155 | I13: -7 | J13: -4.516129
A14: C | B14: Verarbeitendes Gewerbe | C14: 4.332713 | D14: 1234 | E14: 679 | F14: 1787 | G14: 1248 | H14: 951 | I14: 283 | J14: 29.758149
A15: dav. 10-15, 18, 21, 31 | B15: Herstellung von überwiegend häuslich konsumierten Gütern (ohne Güter der Metall-, Elektro- und Chemieindustrie) | C15: 0.56177803 | D15: 160 | E15: 122 | F15: 241 | G15: 146 | H15: 192 | I15: -32 | J15: -16.666667
A16: 24-30, 32, 33 | B16: Metall- und Elektroindustrie sowie Stahlindustrie | C16: 2.49289 | D16: 710 | E16: 512 | F16: 1457 | G16: 1018 | H16: 706 | I16: 4 | J16: 0.56657224
A17: 16, 17, 19, 20, ,22, 23 | B17: Hrst. v. Vorleistungsgütern, insb. v. chem. Erzeugnissen u. Kunststoffwaren (ohne Güter der Metall- u. Elektroindustrie) | C17: 1.278045 | D17: 364 | E17: 45 | F17: 89 | G17: 84 | H17: 53 | I17: 311 | J17: .X
A18: F | B18: Baugewerbe | C18: 4.0342685 | D18: 1149 | E18: 984 | F18: 1352 | G18: 1118 | H18: 1151 | I18: -2 | J18: -0.17376195
A19: G | B19: Handel, Instandhaltung, Reparatur von Kfz | C19: 14.093606 | D19: 4014 | E19: 2134 | F19: 2894 | G19: 2421 | H19: 2654 | I19: 1360 | J19: 51.243406
A20: H | B20: Verkehr und Lagerei | C20: 3.5462238 | D20: 1010 | E20: 883 | F20: 1244 | G20: 832 | H20: 1173 | I20: -163 | J20: -13.895993
A21: I | B21: Gastgewerbe | C21: 6.2076472 | D21: 1768 | E21: 1245 | F21: 1964 | G21: 1944 | H21: 1920 | I21: -152 | J21: -7.9166667
A22: J | B22: Information und Kommunikation | C22: 15.982585 | D22: 4552 | E22: 4341 | F22: 4626 | G22: 5022 | H22: 4750 | I22: -198 | J22: -4.1684211
A23: K | B23: Erbringung von Finanz- und Versicherungsdienstleistungen | C23: 0.97960044 | D23: 279 | E23: 160 | F23: 335 | G23: 219 | H23: 242 | I23: 37 | J23: 15.289256
A24: L,M | B24: Immobilien, freiberufliche wissenschaftliche und technische Dienstleistungen | C24: 6.5622696 | D24: 1869 | E24: 1637 | F24: 2291 | G24: 1675 | H24: 2084 | I24: -215 | J24: -10.316699
A25: N | B25: sonstige wirtschaftliche Dienstleistungen | C25: 22.839788 | D25: 6505 | E25: 4784 | F25: 6735 | G25: 6689 | H25: 7797 | I25: -1292 | J25: -16.570476
A26: dav. N (ohne ANÜ) | B26: sonstige wirtschaftliche Dienstleistungen (ohne Arbeitnehmerüberlassung) | C26: 10.821249 | D26: 3082 | E26: 2090 | F26: 3270 | G26: 3004 | H26: 3667 | I26: -585 | J26: -15.953095
A27: 782.783 | B27: Arbeitnehmerüberlassung | C27: 12.018539 | D27: 3423 | E27: 2694 | F27: 3465 | G27: 3685 | H27: 4130 | I27: -707 | J27: -17.118644
A28: O, U | B28: Öffentliche Verwaltung, Verteidigung, Sozialversicherung, Ext. Organisationen | C28: 1.745023 | D28: 497 | E28: 316 | F28: 537 | G28: 340 | H28: 625 | I28: -128 | J28: -20.48
A29: P | B29: Erziehung und Unterricht | C29: 4.9998244 | D29: 1424 | E29: 786 | F29: 1265 | G29: 870 | H29: 1561 | I29: -137 | J29: -8.7764254
A30: 86 | B30: Gesundheitswesen | C30: 5.1964468 | D30: 1480 | E30: 980 | F30: 1316 | G30: 1091 | H30: 1382 | I30: 98 | J30: 7.0911722
A31: 87.88 | B31: Heime und Sozialwesen | C31: 5.610758 | D31: 1598 | E31: 898 | F31: 1234 | G31: 1006 | H31: 1601 | I31: -3 | J31: -0.18738289
A32: R,S,T | B32: sonstige Dienstleistungen, Private Haushalte | C32: 3.2267125 | D32: 919 | E32: 721 | F32: 1028 | G32: 806 | H32: 965 | I32: -46 | J32: -4.7668394
B33: keine Zuordnung möglich | C33: 0 | D33: 0 | E33: 0 | F33: 0 | G33: 0 | H33: 0 | I33: 0 | J33: 0
A34: davon nach Sektoren:
A35: A | B35: Land-, Forstwirtschaft und Fischerei | C35: 0.12288894 | D35: 35 | E35: 16 | F35: 26 | G35: 48 | H35: 57 | I35: -22 | J35: -38.596491
A36: B - F | B36: Produzierendes Gewerbe | C36: 8.8866262 | D36: 2531 | E36: 1796 | F36: 3298 | G36: 2515 | H36: 2257 | I36: 274 | J36: 12.140009
A37: G - U | B37: Dienstleistungsbereich | C37: 90.990485 | D37: 25915 | E37: 18885 | F37: 25469 | G37: 22915 | H37: 26754 | I37: -839 | J37: -3.1359797
J38: © Statistik der Bundesagentur für Arbeit
A39: 1) Anteil an der jeweiligen Gesamtsumme (Spaltenprozent)
A40: 2) Als beendete Beschäftigungsverhältnisse im Sinne der Beschäftigungsstatistik zählen die Abmeldungen von einem sozialversicherungspflichtigen Beschäftigungsverhältnis innerhalb eines Zeitraums. Mehrfacherfassungen von Beschäftigten sind möglich.
A41: *) Aus Datenschutzgründen und Gründen der statistischen Geheimhaltung werden Zahlenwerte von 1 oder 2 und Daten, aus denen rechnerisch auf einen solchen Zahlenwert geschlossen werden kann, anonymisiert. Gleiches gilt, wenn in einer Region weniger als 3 Betriebe ansässig sind oder einer der Betriebe einen so hohen Beschäftigtenanteil auf sich vereint, dass die Beschäftigtenzahl praktisch eine Einzelangabe über den Branchenführer darstellt (Dominanzfall).

Sheet Tabelle 5.2
K1: Beschäftigungsstatistik
A3: 5.2 Beendete sozialversicherungspflichtige Beschäftigungsverhältnisse nach der Klassifikation der Berufe (KldB 2010)
A4: Leipzig, Stadt (14713); Gebietsstand des jeweiligen Stichtags
A5: 3. Quartal 2020
A7: Anforderungsniveau/ Berufshauptgruppen/-gruppen (KldB2010) | D7: Anteile in % 1) | E7: beendete sozialversicherungspflichtige Beschäftigungsverhältnisse3) im… | J7: Veränderung gegenüber dem Vorjahresquartal (Spalte 1 zu Spalte 5)
E8: 3. Quartal 2020 | F8: 2. Quartal 2020 | G8: 1. Quartal 2020 | H8: 4. Quartal 2019 | I8: 3. Quartal 2019
J9: absolut | K9: in %
E10: 1 | F10: 2 | G10: 3 | H10: 4 | I10: 5 | J10: 6 | K10: 7
A11: Insgesamt | D11: 100 | E11: 28481 | F11: 20697 | G11: 28793 | H11: 25478 | I11: 29068 | J11: -587 | K11: -2.0194028
A12: darunter nach Anforderungsniveau der ausgeübten Tätigkeit (KldB 2010)
A13: Helfer | D13: 24.026544 | E13: 6843 | F13: 4377 | G13: 6317 | H13: 5613 | I13: 6823 | J13: 20 | K13: 0.29312619
A14: Fachkraft | D14: 48.010955 | E14: 13674 | F14: 9972 | G14: 14147 | H14: 12750 | I14: 14153 | J14: -479 | K14: -3.3844415
A15: Spezialist | D15: 10.849338 | E15: 3090 | F15: 2472 | G15: 3150 | H15: 2851 | I15: 3085 | J15: 5 | K15: 0.16207455
A16: Experte | D16: 16.62863 | E16: 4736 | F16: 3849 | G16: 5142 | H16: 4225 | I16: 4882 | J16: -146 | K16: -2.9905776
A17: davon nach Berufsfachlichkeit der ausgeübten Tätigkeit (KldB 2010)
A18: 11 | B18: Land-, Tier-, Forstwirtschaftsberufe | D18: 0.1931112 | E18: 55 | F18: 26 | G18: 29 | H18: 35 | I18: 51 | J18: 4 | K18: 7.8431373
A19: dar. 111 | B19: Landwirtschaft | D19: 0.073733366 | E19: 21 | F19: 6 | G19: 9 | H19: 15 | I19: 16 | J19: 5 | K19: 31.25
A20: 12 | B20: Gartenbauberufe, Floristik | D20: 0.47751132 | E20: 136 | F20: 66 | G20: 121 | H20: 148 | I20: 150 | J20: -14 | K20: -9.3333333
A21: 21 | B21: Rohstoffgewinn,Glas-,Keramikverarbeitung | D21: 0.094800042 | E21: 27 | F21: 14 | G21: 25 | H21: 51 | I21: 21 | J21: 6 | K21: 28.571429
A22: 22 | B22: Kunststoff- u. Holzherst.,-verarbeitung | D22: 0.50911134 | E22: 145 | F22: 88 | G22: 125 | H22: 117 | I22: 172 | J22: -27 | K22: -15.697674
A23: 23 | B23: Papier-,Druckberufe, tech.Mediengestalt. | D23: 0.87777817 | E23: 250 | F23: 204 | G23: 213 | H23: 290 | I23: 306 | J23: -56 | K23: -18.300654
A24: 24 | B24: Metallerzeugung,-bearbeitung, Metallbau | D24: 1.6677785 | E24: 475 | F24: 318 | G24: 948 | H24: 874 | I24: 458 | J24: 17 | K24: 3.7117904
A25: 25 | B25: Maschinen- und Fahrzeugtechnikberufe | D25: 3.4444015 | E25: 981 | F25: 675 | G25: 967 | H25: 875 | I25: 1283 | J25: -302 | K25: -23.538581
A26: 26 | B26: Mechatronik-, Energie- u. Elektroberufe | D26: 2.0434676 | E26: 582 | F26: 345 | G26: 699 | H26: 539 | I26: 591 | J26: -9 | K26: -1.5228426
A27: 27 | B27: Techn.Entwickl.Konstr.Produktionssteuer. | D27: 0.97257821 | E27: 277 | F27: 253 | G27: 386 | H27: 295 | I27: 286 | J27: -9 | K27: -3.1468531
A28: 28 | B28: Textil- und Lederberufe | D28: 0.091288929 | E28: 26 | F28: 32 | G28: 23 | H28: 19 | I28: 32 | J28: -6 | K28: -18.75
A29: 29 | B29: Lebensmittelherstellung u. -verarbeitung | D29: 2.5069344 | E29: 714 | F29: 483 | G29: 840 | H29: 751 | I29: 805 | J29: -91 | K29: -11.304348
A30: dar. 292 | B30: Lebensmittel- u. Genussmittelherstellung | D30: * | E30: * | F30: * | G30: * | H30: * | I30: * | J30: * | K30: *
A31: dar. 293 | B31: Speisenzubereitung | D31: 2.0996454 | E31: 598 | F31: 393 | G31: 716 | H31: 629 | I31: 669 | J31: -71 | K31: -10.612855
A32: 31 | B32: Bauplanung,Architektur,Vermessungsberufe | D32: 0.5828447 | E32: 166 | F32: 153 | G32: 205 | H32: 141 | I32: 170 | J32: -4 | K32: -2.3529412
A33: 32 | B33: Hoch- und Tiefbauberufe | D33: 2.2225343 | E33: 633 | F33: 582 | G33: 774 | H33: 666 | I33: 653 | J33: -20 | K33: -3.0627871
A34: 33 | B34: (Innen-)Ausbauberufe | D34: 0.76191145 | E34: 217 | F34: 154 | G34: 213 | H34: 240 | I34: 249 | J34: -32 | K34: -12.851406
A35: 34 | B35: Gebäude- u. versorgungstechnische Berufe | D35: 1.808223 | E35: 515 | F35: 371 | G35: 545 | H35: 485 | I35: 483 | J35: 32 | K35: 6.6252588
A36: 41 | B36: Mathematik-Biologie-Chemie-,Physikberufe | D36: 0.84266704 | E36: 240 | F36: 66 | G36: 123 | H36: 88 | I36: 90 | J36: 150 | K36: 166.66667
A37: 42 | B37: Geologie-,Geografie-,Umweltschutzberufe | D37: 0.10533338 | E37: 30 | F37: 22 | G37: 20 | H37: 22 | I37: 30 | J37: 0 | K37: 0
A38: 43 | B38: Informatik- und andere IKT-Berufe | D38: 1.8679119 | E38: 532 | F38: 374 | G38: 496 | H38: 336 | I38: 490 | J38: 42 | K38: 8.5714286
A39: 51 | B39: Verkehr, Logistik (außer Fahrzeugführ.) | D39: 11.393561 | E39: 3245 | F39: 1794 | G39: 2489 | H39: 1978 | I39: 2253 | J39: 992 | K39: 44.030182
A40: dar. 513 | B40: Lagerwirt.,Post,Zustellung,Güterumschlag | D40: 10.782627 | E40: 3071 | F40: 1649 | G40: 2292 | H40: 1853 | I40: 2103 | J40: 968 | K40: 46.029482
B41: dar. Berufe in der Lagerwirtschaft (5131) | D41: 9.9680489 | E41: 2839 | F41: 1452 | G41: 2041 | H41: 1653 | I41: 1789 | J41: 1050 | K41: 58.692007
A42: 52 | B42: Führer von Fahrzeug- u. Transportgeräten | D42: 2.3945788 | E42: 682 | F42: 583 | G42: 950 | H42: 771 | I42: 770 | J42: -88 | K42: -11.428571
A43: dar. 521 | B43: Fahrzeugführung im Straßenverkehr | D43: 1.745023 | E43: 497 | F43: 441 | G43: 580 | H43: 541 | I43: 595 | J43: -98 | K43: -16.470588
A44: 53 | B44: Schutz-,Sicherheits-, Überwachungsberufe | D44: 1.2745339 | E44: 363 | F44: 302 | G44: 476 | H44: 389 | I44: 371 | J44: -8 | K44: -2.1563342
A45: dar. 531 | B45: Obj.-,Pers.-,Brandschutz,Arbeitssicherh. | D45: 1.2394228 | E45: 353 | F45: 293 | G45: 465 | H45: 348 | I45: 358 | J45: -5 | K45: -1.396648
A46: 54 | B46: Reinigungsberufe | D46: 3.4163126 | E46: 973 | F46: 834 | G46: 1122 | H46: 925 | I46: 1364 | J46: -391 | K46: -28.665689
A47: 61 | B47: Einkaufs-, Vertriebs- und Handelsberufe | D47: 1.962712 | E47: 559 | F47: 443 | G47: 583 | H47: 446 | I47: 579 | J47: -20 | K47: -3.4542314
A48: 62 | B48: Verkaufsberufe | D48: 6.046136 | E48: 1722 | F48: 1195 | G48: 1514 | H48: 1478 | I48: 1681 | J48: 41 | K48: 2.4390244
A49: 63 | B49: Tourismus-, Hotel- und Gaststättenberufe | D49: 5.8846248 | E49: 1676 | F49: 1077 | G49: 1999 | H49: 2102 | I49: 2167 | J49: -491 | K49: -22.658053
A50: dar. 632 | B50: Hotellerie | D50: 0.89182262 | E50: 254 | F50: 221 | G50: 250 | H50: 316 | I50: 332 | J50: -78 | K50: -23.493976
A51: dar. 633 | B51: Gastronomie | D51: 3.395246 | E51: 967 | F51: 723 | G51: 1211 | H51: 1115 | I51: 1105 | J51: -138 | K51: -12.488688
A52: 71 | B52: Berufe Unternehmensführung,-organisation | D52: 8.0896036 | E52: 2304 | F52: 2030 | G52: 2569 | H52: 2027 | I52: 2574 | J52: -270 | K52: -10.48951
A53: dar. 713 | B53: Unternehmensorganisation und -strategie | D53: 2.8791124 | E53: 820 | F53: 721 | G53: 898 | H53: 778 | I53: 931 | J53: -111 | K53: -11.922664
A54: dar. 714 | B54: Büro und Sekretariat | D54: 4.3432464 | E54: 1237 | F54: 1098 | G54: 1341 | H54: 1052 | I54: 1357 | J54: -120 | K54: -8.8430361
A55: 72 | B55: Finanzdienstl.Rechnungsw.,Steuerberatung | D55: 1.9592009 | E55: 558 | F55: 426 | G55: 622 | H55: 482 | I55: 471 | J55: 87 | K55: 18.471338
A56: dar. 721 | B56: Versicherungs- u. Finanzdienstleistungen | D56: 0.49506689 | E56: 141 | F56: 123 | G56: 252 | H56: 158 | I56: 145 | J56: -4 | K56: -2.7586207
A57: dar. 722 | B57: Rechnungswesen, Controlling und Revision | D57: 1.1551561 | E57: 329 | F57: 230 | G57: 287 | H57: 236 | I57: 215 | J57: 114 | K57: 53.023256
A58: 73 | B58: Berufe in Recht und Verwaltung | D58: 1.6467118 | E58: 469 | F58: 347 | G58: 503 | H58: 370 | I58: 495 | J58: -26 | K58: -5.2525253
A59: dar. 732 | B59: Verwaltung | D59: 0.88128928 | E59: 251 | F59: 181 | G59: 294 | H59: 182 | I59: 283 | J59: -32 | K59: -11.30742
A60: 81 | B60: Medizinische Gesundheitsberufe | D60: 6.1374249 | E60: 1748 | F60: 1168 | G60: 1511 | H60: 1238 | I60: 1621 | J60: 127 | K60: 7.83467
A61: dar. 811 | B61: Arzt- und Praxishilfe | D61: 1.2710228 | E61: 362 | F61: 298 | G61: 295 | H61: 227 | I61: 273 | J61: 89 | K61: 32.600733
A62: dar. 813 | B62: Gesundh.,Krankenpfl.,Rettungsd.Geburtsh. | D62: 2.6403567 | E62: 752 | F62: 413 | G62: 548 | H62: 510 | I62: 787 | J62: -35 | K62: -4.4472681
B63: dar. Gesundheits- und Krankenpflege 2) | D63: 2.2857343 | E63: 651 | F63: 348 | G63: 487 | H63: 452 | I63: 683 | J63: -32 | K63: -4.6852123
A64: dar. 814 | B64: Human- und Zahnmedizin | D64: 0.87777817 | E64: 250 | F64: 193 | G64: 239 | H64: 177 | I64: 204 | J64: 46 | K64: 22.54902
A65: dar. 817 | B65: Nicht ärztliche Therapie und Heilkunde | D65: 0.67062252 | E65: 191 | F65: 127 | G65: 186 | H65: 183 | I65: 194 | J65: -3 | K65: -1.5463918
A66: 82 | B66: Nichtmed.Gesundheit,Körperpfl.,Medizint. | D66: 2.9317791 | E66: 835 | F66: 580 | G66: 790 | H66: 668 | I66: 875 | J66: -40 | K66: -4.5714286
A67: dar. 821 | B67: Altenpflege | D67: 1.8679119 | E67: 532 | F67: 392 | G67: 494 | H67: 392 | I67: 567 | J67: -35 | K67: -6.1728395
A68: dar. 823 | B68: Körperpflege | D68: 0.7759559 | E68: 221 | F68: 129 | G68: 209 | H68: 211 | I68: 217 | J68: 4 | K68: 1.843318
A69: 83 | B69: Erziehung,soz.,hauswirt.Berufe,Theologie | D69: 3.9780907 | E69: 1133 | F69: 590 | G69: 843 | H69: 644 | I69: 1128 | J69: 5 | K69: 0.44326241
A70: dar. 831 | B70: Erziehung,Sozialarb.,Heilerziehungspfl. | D70: 3.5286682 | E70: 1005 | F70: 514 | G70: 712 | H70: 543 | I70: 1014 | J70: -9 | K70: -0.88757396
B71: dar. Berufe i.d. Kinderbetr., -erziehung (8311) | D71: 2.0820898 | E71: 593 | F71: 261 | G71: 349 | H71: 260 | I71: 595 | J71: -2 | K71: -0.33613445
A72: 84 | B72: Lehrende und ausbildende Berufe | D72: 3.7252905 | E72: 1061 | F72: 652 | G72: 1254 | H72: 757 | I72: 1236 | J72: -175 | K72: -14.158576
A73: dar. 841 | B73: Lehrtätigkeit an allgemeinbild. Schulen | D73: 1.2815561 | E73: 365 | F73: 80 | G73: 326 | H73: 143 | I73: 477 | J73: -112 | K73: -23.480084
A74: dar. 842 | B74: Lehrt.berufsb.Fächer,betr.Ausb.,Betr.päd | D74: 0.28440013 | E74: 81 | F74: 19 | G74: 33 | H74: 50 | I74: 97 | J74: -16 | K74: -16.494845
A75: dar. 843 | B75: Lehr-, Forschungstätigkeit an Hochschulen | D75: 1.6958674 | E75: 483 | F75: 480 | G75: 761 | H75: 476 | I75: 514 | J75: -31 | K75: -6.0311284
A76: 91 | B76: Geistes-Gesellschafts-Wirtschaftswissen. | D76: 0.38973351 | E76: 111 | F76: 71 | G76: 125 | H76: 95 | I76: 136 | J76: -25 | K76: -18.382353
A77: 92 | B77: Werbung,Marketing,kaufm,red.Medienberufe | D77: 10.845827 | E77: 3089 | F77: 2820 | G77: 2964 | H77: 2983 | I77: 3056 | J77: 33 | K77: 1.0798429
A78: 93 | B78: Produktdesign, Kunsthandwerk | D78: 0.12640006 | E78: 36 | F78: 35 | G78: 25 | H78: 23 | I78: 26 | J78: 10 | K78: 38.461538
A79: 94 | B79: Darstellende, unterhaltende Berufe | D79: 6.2357361 | E79: 1776 | F79: 1494 | G79: 1665 | H79: 2088 | I79: 1817 | J79: -41 | K79: -2.2564667
A80: XX | B80: Sonstige / Keine Angabe | D80: 0.49155577 | E80: 140 | F80: 30 | G80: 37 | H80: 42 | I80: 128 | J80: 12 | K80: 9.375
A81: 1) Anteil an der jeweiligen Gesamtsumme (Spaltenprozent) | K81: © Statistik der Bundesagentur für Arbeit
A82: 2) Gesundheits- und Krankenpflege = Summe der Berufsuntergruppen 8130,8131,8132,8138
A83: 3) Als beendete Beschäftigungsverhältnisse im Sinne der Beschäftigungsstatistik zählen die Abmeldungen von einem sozialversicherungspflichtigen Beschäftigungsverhältnis innerhalb eines Zeitraums. Mehrfacherfassungen von Beschäftigten sind möglich.
A84: *) Aus Datenschutzgründen und Gründen der statistischen Geheimhaltung werden Zahlenwerte von 1 oder 2 und Daten, aus denen rechnerisch auf einen solchen Zahlenwert geschlossen werden kann, anonymisiert.
A85: .X Veränderungswert >250%. In begründeten Ausnahmefällen kann von der Regel abgewichen werden.

Sheet Tabelle 6
M1: Beschäftigungsstatistik
A3: 6. Sozialversicherungspflichtig und geringfügig entlohnte Beschäftigte sowie begonnene und beendete sv-pflichtige Beschäftigungsverhältnisse
A4: Leipzig, Stadt (14713); (Gebietsstand März 2021)
A5: Zeitreihe mit fiktivem Gebietsstand 1)
A7: Stichtag Ende ... / Quartal | B7: sozialversicherungspflichtig Beschäftigte (Stichtag) | I7: geringfügig entlohnte Beschäftigte (Stichtag) | L7: Beschäftigungs- verhältnisse (Quartal)
B8: Insgesamt | C8: Männer | D8: Frauen | E8: Vollzeit2) | F8: Teilzeit2) | G8: unter 25 Jahre | H8: 50 bis unter 65 Jahre | I8: Insgesamt | J8: aus- schließlich | K8: im Nebenjob | L8: begonnene | M8: beendete
B9: 1 | C9: 2 | D9: 3 | E9: 4 | F9: 5 | G9: 6 | H9: 7 | I9: 8 | J9: 9 | K9: 10 | L9: 11 | M9: 12
A10: 2010 Sep. / 3 . Quartal | B10: 216854 | C10: 105536 | D10: 111318 | E10: 167310 | F10: 46948 | G10: 26254 | H10: 57197 | I10: 40619 | J10: 32767 | K10: 7852 | L10: 30927 | M10: 27138
A11: Dez. / 4 . Quartal | B11: 216983 | C11: 105142 | D11: 111841 | E11: 166427 | F11: 48001 | G11: 25622 | H11: 57514 | I11: 40880 | J11: 33099 | K11: 7781 | L11: 26004 | M11: 26466
A12: 2011 Mrz. / 1 . Quartal | B12: 215097 | C12: 104298 | D12: 110799 | E12: 162125 | F12: 51011 | G12: 24063 | H12: 57645 | I12: 40171 | J12: 32648 | K12: 7523 | L12: 27976 | M12: 29801
A13: Jun. / 2 . Quartal | B13: 216522 | C13: 105748 | D13: 110774 | E13: 162724 | F13: 51881 | G13: 23237 | H13: 58566 | I13: 41605 | J13: 33704 | K13: 7901 | L13: 28448 | M13: 27092
A14: Sep. / 3 . Quartal | B14: 222458 | C14: 109082 | D14: 113376 | E14: 167851 | F14: 53448 | G14: 25201 | H14: 59919 | I14: 40933 | J14: 32736 | K14: 8197 | L14: 34752 | M14: 29895
A15: Dez. / 4 . Quartal | B15: 223259 | C15: 108784 | D15: 114475 | E15: 168707 | F15: 54327 | G15: 24585 | H15: 60799 | I15: 42898 | J15: 34065 | K15: 8833 | L15: 29230 | M15: 29173
A16: 2012 Mrz. / 1 . Quartal | B16: 221965 | C16: 107754 | D16: 114211 | E16: 166047 | F16: 55370 | G16: 23372 | H16: 60884 | I16: 42646 | J16: 33783 | K16: 8863 | L16: 30061 | M16: 31384
A17: Jun. / 2 . Quartal | B17: 224028 | C17: 109257 | D17: 114771 | E17: 166778 | F17: 56728 | G17: 22430 | H17: 62117 | I17: 44284 | J17: 35010 | K17: 9274 | L17: 27640 | M17: 25677
A18: Sep. / 3 . Quartal | B18: 228399 | C18: 111475 | D18: 116924 | E18: 170217 | F18: 57823 | G18: 23759 | H18: 63253 | I18: 43861 | J18: 33904 | K18: 9957 | L18: 34680 | M18: 30616
A19: Dez. / 4 . Quartal | B19: 230046 | C19: 111759 | D19: 118287 | E19: 171236 | F19: 58766 | G19: 23576 | H19: 63896 | I19: 45737 | J19: 35542 | K19: 10195 | L19: 28527 | M19: 27744
A20: 2013 Mrz. / 1 . Quartal | B20: 227371 | C20: 109959 | D20: 117412 | E20: 167922 | F20: 58706 | G20: 21567 | H20: 64178 | I20: 44663 | J20: 34823 | K20: 9840 | L20: 26955 | M20: 29799
A21: Jun. / 2 . Quartal | B21: 229859 | C21: 112018 | D21: 117841 | E21: 169258 | F21: 59856 | G21: 20658 | H21: 65552 | I21: 45888 | J21: 35692 | K21: 10196 | L21: 27568 | M21: 25172
... A50: Sep. / 3 . Quartal | B50: 278940 | C50: 142680 | D50: 136260 | E50: 187059 | F50: 91881 | G50: 24535 | H50: 84105 | I50: 34758 | J50: 22853 | K50: 11905 | L50: 33037 | M50: 28481
M51: © Statistik der Bundesagentur für Arbeit
A52: 1) Die Zeitreihe bildet abweichend von den anderen Tabellen dieses Produkts nicht den Gebietsstand zum jeweiligen Stichtag sondern zum o. g. festen Zeitpunkt ab und ermöglicht somit einen Vergleich unabhängig von in der Vergangenheit erfolgten Gebietsstandsänderungen.
A53: 2)Aufgrund von Änderungen im Meldeverfahren ist die Anzahl der Beschäftigten ohne Angabe zur Arbeitszeit (Vollzeit/Teilzeit) seit dem Stichtag September 2014 deutlich gesunken. Darüber hinaus kommt es von Dezember 2010 auf Januar 2011 im Zusammenhang mit Einführung des Tätigkeitsschlüssels 2010 zu einem einmaligen umstellungsbedingten Niveaueffekt bei der Teilzeitquote, welcher bei den sozialversicherungspflichtig Beschäftigten auf Bundesebene rund plus zwei Prozentpunkte beträgt (weitere Hintergründe hierzu siehe im Methodenbericht „Revision der Beschäftigungsstatistik 2017).
A54: *) Aus Datenschutzgründen und Gründen der statistischen Geheimhaltung werden Zahlenwerte von 1 oder 2 und Daten, aus denen rechnerisch auf einen solchen Zahlenwert geschlossen werden kann, anonymisiert.
A56: Entwicklung der sozialversicherungspflichtigen und der geringfügig entlohnten Beschäftigten (Sep 14: 100%)

Sheet Daten_Diagramme
A2: Diagramm
B4: Balken | D4: Beschriftung 1 | F4: Beschriftung 2 | H4: Werte 2 | J4: Werte Trennlinie
B5: SvB | C5: GeB | D5: SvB | E5: GeB | F5: SvB | G5: GeB | H5: SvB | I5: GeB | J5: SvB y-Wert | K5: SvB x-Wert | L5: GeB y-Wert | M5: GeB x-Wert | N5: Position y-Wert
A6: Kreis | B6: ='Tabelle 2.3'!J11 -> 0.6978163 | C6: ='Tabelle 3.3'!J11 -> -4.9808639 | D6: =IF(OR(AND(B6>=-50,B6<=50),ISNUMBER(B6)=FALSE),B6,"") -> 0.6978163 | E6: =IF(OR(AND(C6>=-50,C6<=50),ISNUMBER(C6)=FALSE),C6,"") -> -4.9808639 | F6: =IF(ISNUMBER(B6)=FALSE,"",IF(B6<-50,"< -50",IF(B6>50,"> 50",""))) | G6: =IF(ISNUMBER(C6)=FALSE,"",IF(C6<-50,"< -50",IF(C6>50,"> 50",""))) | H6: =IF(B6<-50,0.75,IF(B6>50,-0.75,"")) | I6: =IF(C6<-50,0.75,IF(C6>50,-0.75,"")) | J6: =IF(OR(B6<-50,B6>50),N6,#N/A) -> #N/A | K6: =IF(B6<-50,-45,IF(B6>50,45,#N/A)) -> #N/A | L6: =IF(OR(C6<-50,C6>50),N6,#N/A) -> #N/A | M6: =IF(C6<-50,-45,IF(C6>50,45,#N/A)) -> #N/A | N6: 5
A7: BL | B7: ='Tabelle 2.1'!J25 -> -0.45863336 | C7: ='Tabelle 3.1'!J23 -> -4.5742139 | D7: =IF(OR(AND(B7>=-50,B7<=50),ISNUMBER(B7)=FALSE),B7,"") -> -0.45863336 | E7: =IF(OR(AND(C7>=-50,C7<=50),ISNUMBER(C7)=FALSE),C7,"") -> -4.5742139 | F7: =IF(ISNUMBER(B7)=FALSE,"",IF(B7<-50,"< -50",IF(B7>50,"> 50",""))) | G7: =IF(ISNUMBER(C7)=FALSE,"",IF(C7<-50,"< -50",IF(C7>50,"> 50",""))) | H7: =IF(B7<-50,0.75,IF(B7>50,-0.75,"")) | I7: =IF(C7<-50,0.75,IF(C7>50,-0.75,"")) | J7: =IF(OR(B7<-50,B7>50),N7,#N/A) -> #N/A | K7: =IF(B7<-50,-45,IF(B7>50,45,#N/A)) -> #N/A | L7: =IF(OR(C7<-50,C7>50),N7,#N/A) -> #N/A | M7: =IF(C7<-50,-45,IF(C7>50,45,#N/A)) -> #N/A | N7: 15
A8: W/O | B8: ='Tabelle 2.1'!J38 -> -0.42018168 | C8: ='Tabelle 3.1'!J34 -> -5.1591862 | D8: =IF(OR(AND(B8>=-50,B8<=50),ISNUMBER(B8)=FALSE),B8,"") -> -0.42018168 | E8: =IF(OR(AND(C8>=-50,C8<=50),ISNUMBER(C8)=FALSE),C8,"") -> -5.1591862 | F8: =IF(ISNUMBER(B8)=FALSE,"",IF(B8<-50,"< -50",IF(B8>50,"> 50",""))) | G8: =IF(ISNUMBER(C8)=FALSE,"",IF(C8<-50,"< -50",IF(C8>50,"> 50",""))) | H8: =IF(B8<-50,0.75,IF(B8>50,-0.75,"")) | I8: =IF(C8<-50,0.75,IF(C8>50,-0.75,"")) | J8: =IF(OR(B8<-50,B8>50),N8,#N/A) -> #N/A | K8: =IF(B8<-50,-45,IF(B8>50,45,#N/A)) -> #N/A | L8: =IF(OR(C8<-50,C8>50),N8,#N/A) -> #N/A | M8: =IF(C8<-50,-45,IF(C8>50,45,#N/A)) -> #N/A | N8: 25
A9: D | B9: ='Tabelle 2.1'!J51 -> -0.43106051 | C9: ='Tabelle 3.1'!J45 -> -4.8035942 | D9: =IF(OR(AND(B9>=-50,B9<=50),ISNUMBER(B9)=FALSE),B9,"") -> -0.43106051 | E9: =IF(OR(AND(C9>=-50,C9<=50),ISNUMBER(C9)=FALSE),C9,"") -> -4.8035942 | F9: =IF(ISNUMBER(B9)=FALSE,"",IF(B9<-50,"< -50",IF(B9>50,"> 50",""))) | G9: =IF(ISNUMBER(C9)=FALSE,"",IF(C9<-50,"< -50",IF(C9>50,"> 50",""))) | H9: =IF(B9<-50,0.75,IF(B9>50,-0.75,"")) | I9: =IF(C9<-50,0.75,IF(C9>50,-0.75,"")) | J9: =IF(OR(B9<-50,B9>50),N9,#N/A) -> #N/A | K9: =IF(B9<-50,-45,IF(B9>50,45,#N/A)) -> #N/A | L9: =IF(OR(C9<-50,C9>50),N9,#N/A) -> #N/A | M9: =IF(C9<-50,-45,IF(C9>50,45,#N/A)) -> #N/A | N9: 35
A12: WZ | B12: Balken | D12: Beschriftung 1 | F12: Beschriftung 2 | H12: Werte 2 | J12: Werte Trennlinie
B13: SvB | C13: GeB | D13: SvB | E13: GeB | F13: SvB | G13: GeB | H13: SvB | I13: GeB | J13: SvB y-Wert | K13: SvB x-Wert | L13: GeB y-Wert | M13: GeB x-Wert | N13: Position y-Wert
A14: 1 | B14: ='Tabelle 2.3'!J11 -> 0.6978163 | C14: ='Tabelle 3.3'!J11 -> -4.9808639 | D14: =IF(OR(AND(B14>=-50,B14<=50),ISNUMBER(B14)=FALSE),B14,"") -> 0.6978163 | E14: =IF(OR(AND(C14>=-50,C14<=50),ISNUMBER(C14)=FALSE),C14,"") -> -4.9808639 | F14: =IF(ISNUMBER(B14)=FALSE,"",IF(B14<-50,"< -50",IF(B14>50,"> 50",""))) | G14: =IF(ISNUMBER(C14)=FALSE,"",IF(C14<-50,"< -50",IF(C14>50,"> 50",""))) | H14: =IF(B14<-50,0.75,IF(B14>50,-0.75,"")) | I14: =IF(C14<-50,0.75,IF(C14>50,-0.75,"")) | J14: =IF(OR(B14<-50,B14>50),N14,#N/A) -> #N/A | K14: =IF(B14<-50,-45,IF(B14>50,45,#N/A)) -> #N/A | L14: =IF(OR(C14<-50,C14>50),N14,#N/A) -> #N/A | M14: =IF(C14<-50,-45,IF(C14>50,45,#N/A)) -> #N/A | N14: 5
A15: 2 | B15: ='Tabelle 2.3'!J12 -> -1.0869565 | C15: ='Tabelle 3.3'!J12 -> -1.7857143 | D15: =IF(OR(AND(B15>=-50,B15<=50),ISNUMBER(B15)=FALSE),B15,"") -> -1.0869565 | E15: =IF(OR(AND(C15>=-50,C15<=50),ISNUMBER(C15)=FALSE),C15,"") -> -1.7857143 | F15: =IF(ISNUMBER(B15)=FALSE,"",IF(B15<-50,"< -50",IF(B15>50,"> 50",""))) | G15: =IF(ISNUMBER(C15)=FALSE,"",IF(C15<-50,"< -50",IF(C15>50,"> 50",""))) | H15: =IF(B15<-50,0.75,IF(B15>50,-0.75,"")) | I15: =IF(C15<-50,0.75,IF(C15>50,-0.75,"")) | J15: =IF(OR(B15<-50,B15>50),N15,#N/A) -> #N/A | K15: =IF(B15<-50,-45,IF(B15>50,45,#N/A)) -> #N/A | L15: =IF(OR(C15<-50,C15>50),N15,#N/A) -> #N/A | M15: =IF(C15<-50,-45,IF(C15>50,45,#N/A)) -> #N/A | N15: 15
A16: 3 | B16: ='Tabelle 2.3'!J13 -> 2.352419 | C16: ='Tabelle 3.3'!J13 -> 30.188679 | D16: =IF(OR(AND(B16>=-50,B16<=50),ISNUMBER(B16)=FALSE),B16,"") -> 2.352419 | E16: =IF(OR(AND(C16>=-50,C16<=50),ISNUMBER(C16)=FALSE),C16,"") -> 30.188679 | F16: =IF(ISNUMBER(B16)=FALSE,"",IF(B16<-50,"< -50",IF(B16>50,"> 50",""))) | G16: =IF(ISNUMBER(C16)=FALSE,"",IF(C16<-50,"< -50",IF(C16>50,"> 50",""))) | H16: =IF(B16<-50,0.75,IF(B16>50,-0.75,"")) | I16: =IF(C16<-50,0.75,IF(C16>50,-0.75,"")) | J16: =IF(OR(B16<-50,B16>50),N16,#N/A) -> #N/A | K16: =IF(B16<-50,-45,IF(B16>50,45,#N/A)) -> #N/A | L16: =IF(OR(C16<-50,C16>50),N16,#N/A) -> #N/A | M16: =IF(C16<-50,-45,IF(C16>50,45,#N/A)) -> #N/A | N16: 25
A17: 4 | B17: ='Tabelle 2.3'!J14 -> -0.96291982 | C17: ='Tabelle 3.3'!J14 -> 1.3477089 | D17: =IF(OR(AND(B17>=-50,B17<=50),ISNUMBER(B17)=FALSE),B17,"") -> -0.96291982 | E17: =IF(OR(AND(C17>=-50,C17<=50),ISNUMBER(C17)=FALSE),C17,"") -> 1.3477089 | F17: =IF(ISNUMBER(B17)=FALSE,"",IF(B17<-50,"< -50",IF(B17>50,"> 50",""))) | G17: =IF(ISNUMBER(C17)=FALSE,"",IF(C17<-50,"< -50",IF(C17>50,"> 50",""))) | H17: =IF(B17<-50,0.75,IF(B17>50,-0.75,"")) | I17: =IF(C17<-50,0.75,IF(C17>50,-0.75,"")) | J17: =IF(OR(B17<-50,B17>50),N17,#N/A) -> #N/A | K17: =IF(B17<-50,-45,IF(B17>50,45,#N/A)) -> #N/A | L17: =IF(OR(C17<-50,C17>50),N17,#N/A) -> #N/A | M17: =IF(C17<-50,-45,IF(C17>50,45,#N/A)) -> #N/A | N17: 36
A18: 5 | B18: ='Tabelle 2.3'!J15 -> 0.10559662 | C18: ='Tabelle 3.3'!J15 -> -1.0033445 | D18: =IF(OR(AND(B18>=-50,B18<=50),ISNUMBER(B18)=FALSE),B18,"") -> 0.10559662 | E18: =IF(OR(AND(C18>=-50,C18<=50),ISNUMBER(C18)=FALSE),C18,"") -> -1.0033445 | F18: =IF(ISNUMBER(B18)=FALSE,"",IF(B18<-50,"< -50",IF(B18>50,"> 50",""))) | G18: =IF(ISNUMBER(C18)=FALSE,"",IF(C18<-50,"< -50",IF(C18>50,"> 50",""))) | H18: =IF(B18<-50,0.75,IF(B18>50,-0.75,"")) | I18: =IF(C18<-50,0.75,IF(C18>50,-0.75,"")) | J18: =IF(OR(B18<-50,B18>50),N18,#N/A) -> #N/A | K18: =IF(B18<-50,-45,IF(B18>50,45,#N/A)) -> #N/A | L18: =IF(OR(C18<-50,C18>50),N18,#N/A) -> #N/A | M18: =IF(C18<-50,-45,IF(C18>50,45,#N/A)) -> #N/A | N18: 46
A19: 6 | B19: ='Tabelle 2.3'!J16 -> -1.1670076 | C19: ='Tabelle 3.3'!J16 -> 3.6061026 | D19: =IF(OR(AND(B19>=-50,B19<=50),ISNUMBER(B19)=FALSE),B19,"") -> -1.1670076 | E19: =IF(OR(AND(C19>=-50,C19<=50),ISNUMBER(C19)=FALSE),C19,"") -> 3.6061026 | F19: =IF(ISNUMBER(B19)=FALSE,"",IF(B19<-50,"< -50",IF(B19>50,"> 50",""))) | G19: =IF(ISNUMBER(C19)=FALSE,"",IF(C19<-50,"< -50",IF(C19>50,"> 50",""))) | H19: =IF(B19<-50,0.75,IF(B19>50,-0.75,"")) | I19: =IF(C19<-50,0.75,IF(C19>50,-0.75,"")) | J19: =IF(OR(B19<-50,B19>50),N19,#N/A) -> #N/A | K19: =IF(B19<-50,-45,IF(B19>50,45,#N/A)) -> #N/A | L19: =IF(OR(C19<-50,C19>50),N19,#N/A) -> #N/A | M19: =IF(C19<-50,-45,IF(C19>50,45,#N/A)) -> #N/A | N19: 56
A20: 7 | B20: ='Tabelle 2.3'!J17 -> 0 | C20: ='Tabelle 3.3'!J17 -> -8.6021505 | D20: =IF(OR(AND(B20>=-50,B20<=50),ISNUMBER(B20)=FALSE),B20,"") -> 0 | E20: =IF(OR(AND(C20>=-50,C20<=50),ISNUMBER(C20)=FALSE),C20,"") -> -8.6021505 | F20: =IF(ISNUMBER(B20)=FALSE,"",IF(B20<-50,"< -50",IF(B20>50,"> 50",""))) | G20: =IF(ISNUMBER(C20)=FALSE,"",IF(C20<-50,"< -50",IF(C20>50,"> 50",""))) | H20: =IF(B20<-50,0.75,IF(B20>50,-0.75,"")) | I20: =IF(C20<-50,0.75,IF(C20>50,-0.75,"")) | J20: =IF(OR(B20<-50,B20>50),N20,#N/A) -> #N/A | K20: =IF(B20<-50,-45,IF(B20>50,45,#N/A)) -> #N/A | L20: =IF(OR(C20<-50,C20>50),N20,#N/A) -> #N/A | M20: =IF(C20<-50,-45,IF(C20>50,45,#N/A)) -> #N/A | N20: 67
A21: 8 | B21: ='Tabelle 2.3'!J18 -> -0.45113993 | C21: ='Tabelle 3.3'!J18 -> -3.5812672 | D21: =IF(OR(AND(B21>=-50,B21<=50),ISNUMBER(B21)=FALSE),B21,"") -> -0.45113993 | E21: =IF(OR(AND(C21>=-50,C21<=50),ISNUMBER(C21)=FALSE),C21,"") -> -3.5812672 | F21: =IF(ISNUMBER(B21)=FALSE,"",IF(B21<-50,"< -50",IF(B21>50,"> 50",""))) | G21: =IF(ISNUMBER(C21)=FALSE,"",IF(C21<-50,"< -50",IF(C21>50,"> 50",""))) | H21: =IF(B21<-50,0.75,IF(B21>50,-0.75,"")) | I21: =IF(C21<-50,0.75,IF(C21>50,-0.75,"")) | J21: =IF(OR(B21<-50,B21>50),N21,#N/A) -> #N/A | K21: =IF(B21<-50,-45,IF(B21>50,45,#N/A)) -> #N/A | L21: =IF(OR(C21<-50,C21>50),N21,#N/A) -> #N/A | M21: =IF(C21<-50,-45,IF(C21>50,45,#N/A)) -> #N/A | N21: 77
A22: 9 | B22: ='Tabelle 2.3'!J19 -> -3.7648697 | C22: ='Tabelle 3.3'!J19 -> 1.1592301 | D22: =IF(OR(AND(B22>=-50,B22<=50),ISNUMBER(B22)=FALSE),B22,"") -> -3.7648697 | E22: =IF(OR(AND(C22>=-50,C22<=50),ISNUMBER(C22)=FALSE),C22,"") -> 1.1592301 | F22: =IF(ISNUMBER(B22)=FALSE,"",IF(B22<-50,"< -50",IF(B22>50,"> 50",""))) | G22: =IF(ISNUMBER(C22)=FALSE,"",IF(C22<-50,"< -50",IF(C22>50,"> 50",""))) | H22: =IF(B22<-50,0.75,IF(B22>50,-0.75,"")) | I22: =IF(C22<-50,0.75,IF(C22>50,-0.75,"")) | J22: =IF(OR(B22<-50,B22>50),N22,#N/A) -> #N/A | K22: =IF(B22<-50,-45,IF(B22>50,45,#N/A)) -> #N/A | L22: =IF(OR(C22<-50,C22>50),N22,#N/A) -> #N/A | M22: =IF(C22<-50,-45,IF(C22>50,45,#N/A)) -> #N/A | N22: 87
A23: 10 | B23: ='Tabelle 2.3'!J20 -> 8.0922825 | C23: ='Tabelle 3.3'!J20 -> 3.0534351 | D23: =IF(OR(AND(B23>=-50,B23<=50),ISNUMBER(B23)=FALSE),B23,"") -> 8.0922825 | E23: =IF(OR(AND(C23>=-50,C23<=50),ISNUMBER(C23)=FALSE),C23,"") -> 3.0534351 | F23: =IF(ISNUMBER(B23)=FALSE,"",IF(B23<-50,"< -50",IF(B23>50,"> 50",""))) | G23: =IF(ISNUMBER(C23)=FALSE,"",IF(C23<-50,"< -50",IF(C23>50,"> 50",""))) | H23: =IF(B23<-50,0.75,IF(B23>50,-0.75,"")) | I23: =IF(C23<-50,0.75,IF(C23>50,-0.75,"")) | J23: =IF(OR(B23<-50,B23>50),N23,#N/A) -> #N/A | K23: =IF(B23<-50,-45,IF(B23>50,45,#N/A)) -> #N/A | L23: =IF(OR(C23<-50,C23>50),N23,#N/A) -> #N/A | M23: =IF(C23<-50,-45,IF(C23>50,45,#N/A)) -> #N/A | N23: 98
A24: 11 | B24: ='Tabelle 2.3'!J21 -> -6.7114094 | C24: ='Tabelle 3.3'!J21 -> -8.7390988 | D24: =IF(OR(AND(B24>=-50,B24<=50),ISNUMBER(B24)=FALSE),B24,"") -> -6.7114094 | E24: =IF(OR(AND(C24>=-50,C24<=50),ISNUMBER(C24)=FALSE),C24,"") -> -8.7390988 | F24: =IF(ISNUMBER(B24)=FALSE,"",IF(B24<-50,"< -50",IF(B24>50,"> 50",""))) | G24: =IF(ISNUMBER(C24)=FALSE,"",IF(C24<-50,"< -50",IF(C24>50,"> 50",""))) | H24: =IF(B24<-50,0.75,IF(B24>50,-0.75,"")) | I24: =IF(C24<-50,0.75,IF(C24>50,-0.75,"")) | J24: =IF(OR(B24<-50,B24>50),N24,#N/A) -> #N/A | K24: =IF(B24<-50,-45,IF(B24>50,45,#N/A)) -> #N/A | L24: =IF(OR(C24<-50,C24>50),N24,#N/A) -> #N/A | M24: =IF(C24<-50,-45,IF(C24>50,45,#N/A)) -> #N/A | N24: 108
A25: 12 | B25: ='Tabelle 2.3'!J22 -> 4.1607619 | C25: ='Tabelle 3.3'!J22 -> -15.36965 | D25: =IF(OR(AND(B25>=-50,B25<=50),ISNUMBER(B25)=FALSE),B25,"") -> 4.1607619 | E25: =IF(OR(AND(C25>=-50,C25<=50),ISNUMBER(C25)=FALSE),C25,"") -> -15.36965 | F25: =IF(ISNUMBER(B25)=FALSE,"",IF(B25<-50,"< -50",IF(B25>50,"> 50",""))) | G25: =IF(ISNUMBER(C25)=FALSE,"",IF(C25<-50,"< -50",IF(C25>50,"> 50",""))) | H25: =IF(B25<-50,0.75,IF(B25>50,-0.75,"")) | I25: =IF(C25<-50,0.75,IF(C25>50,-0.75,"")) | J25: =IF(OR(B25<-50,B25>50),N25,#N/A) -> #N/A | K25: =IF(B25<-50,-45,IF(B25>50,45,#N/A)) -> #N/A | L25: =IF(OR(C25<-50,C25>50),N25,#N/A) -> #N/A | M25: =IF(C25<-50,-45,IF(C25>50,45,#N/A)) -> #N/A | N25: 118
... A36: 23 | B36: ='Tabelle 2.3'!J33 -> 0 | C36: ='Tabelle 3.3'!J33 -> 0 | D36: =IF(OR(AND(B36>=-50,B36<=50),ISNUMBER(B36)=FALSE),B36,"") -> 0 | E36: =IF(OR(AND(C36>=-50,C36<=50),ISNUMBER(C36)=FALSE),C36,"") -> 0 | F36: =IF(ISNUMBER(B36)=FALSE,"",IF(B36<-50,"< -50",IF(B36>50,"> 50",""))) | G36: =IF(ISNUMBER(C36)=FALSE,"",IF(C36<-50,"< -50",IF(C36>50,"> 50",""))) | H36: =IF(B36<-50,0.75,IF(B36>50,-0.75,"")) | I36: =IF(C36<-50,0.75,IF(C36>50,-0.75,"")) | J36: =IF(OR(B36<-50,B36>50),N36,#N/A) -> #N/A | K36: =IF(B36<-50,-45,IF(B36>50,45,#N/A)) -> #N/A | L36: =IF(OR(C36<-50,C36>50),N36,#N/A) -> #N/A | M36: =IF(C36<-50,-45,IF(C36>50,45,#N/A)) -> #N/A | N36: 232
A37: 24 | D37: =IF(OR(AND(B37>=-50,B37<=50),ISNUMBER(B37)=FALSE),B37,"") -> 0 | E37: =IF(OR(AND(C37>=-50,C37<=50),ISNUMBER(C37)=FALSE),C37,"") -> 0
A38: 25 | B38: ='Tabelle 2.3'!J35 -> -1.0869565 | C38: ='Tabelle 3.3'!J35 -> -1.7857143 | D38: =IF(OR(AND(B38>=-50,B38<=50),ISNUMBER(B38)=FALSE),B38,"") -> -1.0869565 | E38: =IF(OR(AND(C38>=-50,C38<=50),ISNUMBER(C38)=FALSE),C38,"") -> -1.7857143 | F38: =IF(ISNUMBER(B38)=FALSE,"",IF(B38<-50,"< -50",IF(B38>50,"> 50",""))) | G38: =IF(ISNUMBER(C38)=FALSE,"",IF(C38<-50,"< -50",IF(C38>50,"> 50",""))) | H38: =IF(B38<-50,0.75,IF(B38>50,-0.75,"")) | I38: =IF(C38<-50,0.75,IF(C38>50,-0.75,"")) | J38: =IF(OR(B38<-50,B38>50),N38,#N/A) -> #N/A | K38: =IF(B38<-50,-45,IF(B38>50,45,#N/A)) -> #N/A | L38: =IF(OR(C38<-50,C38>50),N38,#N/A) -> #N/A | M38: =IF(C38<-50,-45,IF(C38>50,45,#N/A)) -> #N/A | N38: 242
A39: 26 | B39: ='Tabelle 2.3'!J36 -> -0.46398275 | C39: ='Tabelle 3.3'!J36 -> -0.35476718 | D39: =IF(OR(AND(B39>=-50,B39<=50),ISNUMBER(B39)=FALSE),B39,"") -> -0.46398275 | E39: =IF(OR(AND(C39>=-50,C39<=50),ISNUMBER(C39)=FALSE),C39,"") -> -0.35476718 | F39: =IF(ISNUMBER(B39)=FALSE,"",IF(B39<-50,"< -50",IF(B39>50,"> 50",""))) | G39: =IF(ISNUMBER(C39)=FALSE,"",IF(C39<-50,"< -50",IF(C39>50,"> 50",""))) | H39: =IF(B39<-50,0.75,IF(B39>50,-0.75,"")) | I39: =IF(C39<-50,0.75,IF(C39>50,-0.75,"")) | J39: =IF(OR(B39<-50,B39>50),N39,#N/A) -> #N/A | K39: =IF(B39<-50,-45,IF(B39>50,45,#N/A)) -> #N/A | L39: =IF(OR(C39<-50,C39>50),N39,#N/A) -> #N/A | M39: =IF(C39<-50,-45,IF(C39>50,45,#N/A)) -> #N/A | N39: 253
A40: 27 | B40: ='Tabelle 2.3'!J37 -> 0.91174372 | C40: ='Tabelle 3.3'!J37 -> -5.2904958 | D40: =IF(OR(AND(B40>=-50,B40<=50),ISNUMBER(B40)=FALSE),B40,"") -> 0.91174372 | E40: =IF(OR(AND(C40>=-50,C40<=50),ISNUMBER(C40)=FALSE),C40,"") -> -5.2904958 | F40: =IF(ISNUMBER(B40)=FALSE,"",IF(B40<-50,"< -50",IF(B40>50,"> 50",""))) | G40: =IF(ISNUMBER(C40)=FALSE,"",IF(C40<-50,"< -50",IF(C40>50,"> 50",""))) | H40: =IF(B40<-50,0.75,IF(B40>50,-0.75,"")) | I40: =IF(C40<-50,0.75,IF(C40>50,-0.75,"")) | J40: =IF(OR(B40<-50,B40>50),N40,#N/A) -> #N/A | K40: =IF(B40<-50,-45,IF(B40>50,45,#N/A)) -> #N/A | L40: =IF(OR(C40<-50,C40>50),N40,#N/A) -> #N/A | M40: =IF(C40<-50,-45,IF(C40>50,45,#N/A)) -> #N/A | N40: 263
A41: 28 | B41: ='Tabelle 2.3'!#REF! -> #REF! | C41: ='Tabelle 3.3'!#REF! -> #REF! | D41: =IF(OR(AND(B41>=-50,B41<=50),ISNUMBER(B41)=FALSE),B41,"") -> #REF! | E41: =IF(OR(AND(C41>=-50,C41<=50),ISNUMBER(C41)=FALSE),C41,"") -> #REF! | F41: =IF(ISNUMBER(B41)=FALSE,"",IF(B41<-50,"< -50",IF(B41>50,"> 50",""))) | G41: =IF(ISNUMBER(C41)=FALSE,"",IF(C41<-50,"< -50",IF(C41>50,"> 50",""))) | H41: =IF(B41<-50,0.75,IF(B41>50,-0.75,"")) -> #REF! | I41: =IF(C41<-50,0.75,IF(C41>50,-0.75,"")) -> #REF! | J41: =IF(OR(B41<-50,B41>50),N41,#N/A) -> #REF! | K41: =IF(B41<-50,-45,IF(B41>50,45,#N/A)) -> #REF! | L41: =IF(OR(C41<-50,C41>50),N41,#N/A) -> #REF! | M41: =IF(C41<-50,-45,IF(C41>50,45,#N/A)) -> #REF! | N41: 273
A42: 29 | B42: ='Tabelle 2.3'!#REF! -> #REF! | C42: ='Tabelle 3.3'!#REF! -> #REF! | D42: =IF(OR(AND(B42>=-50,B42<=50),ISNUMBER(B42)=FALSE),B42,"") -> #REF! | E42: =IF(OR(AND(C42>=-50,C42<=50),ISNUMBER(C42)=FALSE),C42,"") -> #REF! | F42: =IF(ISNUMBER(B42)=FALSE,"",IF(B42<-50,"< -50",IF(B42>50,"> 50",""))) | G42: =IF(ISNUMBER(C42)=FALSE,"",IF(C42<-50,"< -50",IF(C42>50,"> 50",""))) | H42: =IF(B42<-50,0.75,IF(B42>50,-0.75,"")) -> #REF! | I42: =IF(C42<-50,0.75,IF(C42>50,-0.75,"")) -> #REF! | J42: =IF(OR(B42<-50,B42>50),N42,#N/A) -> #REF! | K42: =IF(B42<-50,-45,IF(B42>50,45,#N/A)) -> #REF! | L42: =IF(OR(C42<-50,C42>50),N42,#N/A) -> #REF! | M42: =IF(C42<-50,-45,IF(C42>50,45,#N/A)) -> #REF! | N42: 284
A43: 30 | B43: ='Tabelle 2.3'!#REF! -> #REF! | C43: ='Tabelle 3.3'!#REF! -> #REF! | D43: =IF(OR(AND(B43>=-50,B43<=50),ISNUMBER(B43)=FALSE),B43,"") -> #REF! | E43: =IF(OR(AND(C43>=-50,C43<=50),ISNUMBER(C43)=FALSE),C43,"") -> #REF! | F43: =IF(ISNUMBER(B43)=FALSE,"",IF(B43<-50,"< -50",IF(B43>50,"> 50",""))) | G43: =IF(ISNUMBER(C43)=FALSE,"",IF(C43<-50,"< -50",IF(C43>50,"> 50",""))) | H43: =IF(B43<-50,0.75,IF(B43>50,-0.75,"")) -> #REF! | I43: =IF(C43<-50,0.75,IF(C43>50,-0.75,"")) -> #REF! | J43: =IF(OR(B43<-50,B43>50),N43,#N/A) -> #REF! | K43: =IF(B43<-50,-45,IF(B43>50,45,#N/A)) -> #REF! | L43: =IF(OR(C43<-50,C43>50),N43,#N/A) -> #REF! | M43: =IF(C43<-50,-45,IF(C43>50,45,#N/A)) -> #REF! | N43: 294
A44: 31 | B44: ='Tabelle 2.3'!#REF! -> #REF! | C44: ='Tabelle 3.3'!#REF! -> #REF! | D44: =IF(OR(AND(B44>=-50,B44<=50),ISNUMBER(B44)=FALSE),B44,"") -> #REF! | E44: =IF(OR(AND(C44>=-50,C44<=50),ISNUMBER(C44)=FALSE),C44,"") -> #REF! | F44: =IF(ISNUMBER(B44)=FALSE,"",IF(B44<-50,"< -50",IF(B44>50,"> 50",""))) | G44: =IF(ISNUMBER(C44)=FALSE,"",IF(C44<-50,"< -50",IF(C44>50,"> 50",""))) | H44: =IF(B44<-50,0.75,IF(B44>50,-0.75,"")) -> #REF! | I44: =IF(C44<-50,0.75,IF(C44>50,-0.75,"")) -> #REF! | J44: =IF(OR(B44<-50,B44>50),N44,#N/A) -> #REF! | K44: =IF(B44<-50,-45,IF(B44>50,45,#N/A)) -> #REF! | L44: =IF(OR(C44<-50,C44>50),N44,#N/A) -> #REF! | M44: =IF(C44<-50,-45,IF(C44>50,45,#N/A)) -> #REF! | N44: 304
A45: 32 | B45: ='Tabelle 2.3'!#REF! -> #REF! | C45: ='Tabelle 3.3'!#REF! -> #REF! | D45: =IF(OR(AND(B45>=-50,B45<=50),ISNUMBER(B45)=FALSE),B45,"") -> #REF! | E45: =IF(OR(AND(C45>=-50,C45<=50),ISNUMBER(C45)=FALSE),C45,"") -> #REF! | F45: =IF(ISNUMBER(B45)=FALSE,"",IF(B45<-50,"< -50",IF(B45>50,"> 50",""))) | G45: =IF(ISNUMBER(C45)=FALSE,"",IF(C45<-50,"< -50",IF(C45>50,"> 50",""))) | H45: =IF(B45<-50,0.75,IF(B45>50,-0.75,"")) -> #REF! | I45: =IF(C45<-50,0.75,IF(C45>50,-0.75,"")) -> #REF! | J45: =IF(OR(B45<-50,B45>50),N45,#N/A) -> #REF! | K45: =IF(B45<-50,-45,IF(B45>50,45,#N/A)) -> #REF! | L45: =IF(OR(C45<-50,C45>50),N45,#N/A) -> #REF! | M45: =IF(C45<-50,-45,IF(C45>50,45,#N/A)) -> #REF! | N45: 315
A46: 33 | B46: ='Tabelle 2.3'!J37 -> 0.91174372 | C46: ='Tabelle 3.3'!J37 -> -5.2904958 | D46: =IF(OR(AND(B46>=-50,B46<=50),ISNUMBER(B46)=FALSE),B46,"") -> 0.91174372 | E46: =IF(OR(AND(C46>=-50,C46<=50),ISNUMBER(C46)=FALSE),C46,"") -> -5.2904958 | F46: =IF(ISNUMBER(B46)=FALSE,"",IF(B46<-50,"< -50",IF(B46>50,"> 50",""))) | G46: =IF(ISNUMBER(C46)=FALSE,"",IF(C46<-50,"< -50",IF(C46>50,"> 50",""))) | H46: =IF(B46<-50,0.75,IF(B46>50,-0.75,"")) | I46: =IF(C46<-50,0.75,IF(C46>50,-0.75,"")) | J46: =IF(OR(B46<-50,B46>50),N46,#N/A) -> #N/A | K46: =IF(B46<-50,-45,IF(B46>50,45,#N/A)) -> #N/A | L46: =IF(OR(C46<-50,C46>50),N46,#N/A) -> #N/A | M46: =IF(C46<-50,-45,IF(C46>50,45,#N/A)) -> #N/A | N46: 325
A49: Tabelle 4
A50: Stichtag | B50: absolut | E50: Index 2003 = 100 % | H50: Beschriftung x-Achse | I50: Beschriftung Reihen | L50: keine Daten
B51: 76479 | C51: 75566 | D51: 35950 | E51: SvB | F51: GeB - ausschließlich | G51: GeB - im Nebenjob | I51: SvB | J51: GeB - ausschließlich | K51: GeB - im Nebenjob | L51: Diagrammdarstellung wegen fehlender Daten nicht möglich.
A52: 41883 | B52: 245701 | C52: 33760 | D52: 11143 | E52: =IF($A$52=37802,IF(COUNTBLANK(B$52:B$71)>0,#N/A,B52/B$52*100),IF(COUNTBLANK(B$52:B$76)>0,#N/A,B52/B$52*100)) -> 100 | F52: =IF($A$52=37802,IF(COUNTBLANK(C$52:C$71)>0,#N/A,C52/C$52*100),IF(COUNTBLANK(C$52:C$76)>0,#N/A,C52/C$52*100)) -> 100 | G52: =IF($A$52=37802,IF(COUNTBLANK(D$52:D$71)>0,#N/A,D52/D$52*100),IF(COUNTBLANK(D$52:D$76)>0,#N/A,D52/D$52*100)) -> 100 | H52: =IF(ISERROR(L52)=TRUE,IF(MONTH(A52)=MONTH(MAX(A$52:A$76)),A52,""),"") -> 41883 | I52: =IF($H52<>"",E52,"") -> 100 | J52: =IF($H52<>"",F52,"") -> 100 | K52: =IF($H52<>"",G52,"") -> 100 | L52: =IF(A$52=37802,IF(AND(COUNTBLANK(B$52:B$71)<>0,COUNTBLANK(C$52:C$71)<>0,COUNTBLANK(D$52:D$71)<>0),135,#N/A),IF(AND(COUNTBLANK(B$52:B$76)<>0,COUNTBLANK(C$52:C$76)<>0,COUNTBLANK(D$52:D$76)<>0),135,#N/A)) -> #N/A
A53: Dezember 2014 | B53: 246663 | C53: 28685 | D53: 9317 | E53: =IF($A$52=37802,IF(COUNTBLANK(B$52:B$71)>0,#N/A,B53/B$52*100),IF(COUNTBLANK(B$52:B$76)>0,#N/A,B53/B$52*100)) -> 100.39153 | F53: =IF($A$52=37802,IF(COUNTBLANK(C$52:C$71)>0,#N/A,C53/C$52*100),IF(COUNTBLANK(C$52:C$76)>0,#N/A,C53/C$52*100)) -> 84.967417 | G53: =IF($A$52=37802,IF(COUNTBLANK(D$52:D$71)>0,#N/A,D53/D$52*100),IF(COUNTBLANK(D$52:D$76)>0,#N/A,D53/D$52*100)) -> 83.613031 | H53: =IF(ISERROR(L53)=TRUE,IF(MONTH(A53)=MONTH(MAX(A$52:A$76)),A53,""),"") | I53: =IF($H53<>"",E53,"") | J53: =IF($H53<>"",F53,"") | K53: =IF($H53<>"",G53,"") | L53: =IF(A$52=37802,IF(AND(COUNTBLANK(B$52:B$71)<>0,COUNTBLANK(C$52:C$71)<>0,COUNTBLANK(D$52:D$71)<>0),135,#N/A),IF(AND(COUNTBLANK(B$52:B$76)<>0,COUNTBLANK(C$52:C$76)<>0,COUNTBLANK(D$52:D$76)<>0),135,#N/A)) -> #N/A
A54: März 2015 | B54: 246588 | C54: 26910 | D54: 9245 | E54: =IF($A$52=37802,IF(COUNTBLANK(B$52:B$71)>0,#N/A,B54/B$52*100),IF(COUNTBLANK(B$52:B$76)>0,#N/A,B54/B$52*100)) -> 100.36101 | F54: =IF($A$52=37802,IF(COUNTBLANK(C$52:C$71)>0,#N/A,C54/C$52*100),IF(COUNTBLANK(C$52:C$76)>0,#N/A,C54/C$52*100)) -> 79.709716 | G54: =IF($A$52=37802,IF(COUNTBLANK(D$52:D$71)>0,#N/A,D54/D$52*100),IF(COUNTBLANK(D$52:D$76)>0,#N/A,D54/D$52*100)) -> 82.966885 | H54: =IF(ISERROR(L54)=TRUE,IF(MONTH(A54)=MONTH(MAX(A$52:A$76)),A54,""),"") | I54: =IF($H54<>"",E54,"") | J54: =IF($H54<>"",F54,"") | K54: =IF($H54<>"",G54,"") | L54: =IF(A$52=37802,IF(AND(COUNTBLANK(B$52:B$71)<>0,COUNTBLANK(C$52:C$71)<>0,COUNTBLANK(D$52:D$71)<>0),135,#N/A),IF(AND(COUNTBLANK(B$52:B$76)<>0,COUNTBLANK(C$52:C$76)<>0,COUNTBLANK(D$52:D$76)<>0),135,#N/A)) -> #N/A
A55: Juni 2015 | B55: 248975 | C55: 27485 | D55: 9564 | E55: =IF($A$52=37802,IF(COUNTBLANK(B$52:B$71)>0,#N/A,B55/B$52*100),IF(COUNTBLANK(B$52:B$76)>0,#N/A,B55/B$52*100)) -> 101.33251 | F55: =IF($A$52=37802,IF(COUNTBLANK(C$52:C$71)>0,#N/A,C55/C$52*100),IF(COUNTBLANK(C$52:C$76)>0,#N/A,C55/C$52*100)) -> 81.412915 | G55: =IF($A$52=37802,IF(COUNTBLANK(D$52:D$71)>0,#N/A,D55/D$52*100),IF(COUNTBLANK(D$52:D$76)>0,#N/A,D55/D$52*100)) -> 85.829669 | H55: =IF(ISERROR(L55)=TRUE,IF(MONTH(A55)=MONTH(MAX(A$52:A$76)),A55,""),"") | I55: =IF($H55<>"",E55,"") | J55: =IF($H55<>"",F55,"") | K55: =IF($H55<>"",G55,"") | L55: =IF(A$52=37802,IF(AND(COUNTBLANK(B$52:B$71)<>0,COUNTBLANK(C$52:C$71)<>0,COUNTBLANK(D$52:D$71)<>0),135,#N/A),IF(AND(COUNTBLANK(B$52:B$76)<>0,COUNTBLANK(C$52:C$76)<>0,COUNTBLANK(D$52:D$76)<>0),135,#N/A)) -> #N/A
A56: 42248 | B56: 253047 | C56: 25669 | D56: 9413 | E56: =IF($A$52=37802,IF(COUNTBLANK(B$52:B$71)>0,#N/A,B56/B$52*100),IF(COUNTBLANK(B$52:B$76)>0,#N/A,B56/B$52*100)) -> 102.98981 | F56: =IF($A$52=37802,IF(COUNTBLANK(C$52:C$71)>0,#N/A,C56/C$52*100),IF(COUNTBLANK(C$52:C$76)>0,#N/A,C56/C$52*100)) -> 76.033768 | G56: =IF($A$52=37802,IF(COUNTBLANK(D$52:D$71)>0,#N/A,D56/D$52*100),IF(COUNTBLANK(D$52:D$76)>0,#N/A,D56/D$52*100)) -> 84.474558 | H56: =IF(ISERROR(L56)=TRUE,IF(MONTH(A56)=MONTH(MAX(A$52:A$76)),A56,""),"") -> 42248 | I56: =IF($H56<>"",E56,"") -> 102.98981 | J56: =IF($H56<>"",F56,"") -> 76.033768 | K56: =IF($H56<>"",G56,"") -> 84.474558 | L56: =IF(A$52=37802,IF(AND(COUNTBLANK(B$52:B$71)<>0,COUNTBLANK(C$52:C$71)<>0,COUNTBLANK(D$52:D$71)<>0),135,#N/A),IF(AND(COUNTBLANK(B$52:B$76)<>0,COUNTBLANK(C$52:C$76)<>0,COUNTBLANK(D$52:D$76)<>0),135,#N/A)) -> #N/A
A57: Dezember 2015 | B57: 253553 | C57: 25898 | D57: 9410 | E57: =IF($A$52=37802,IF(COUNTBLANK(B$52:B$71)>0,#N/A,B57/B$52*100),IF(COUNTBLANK(B$52:B$76)>0,#N/A,B57/B$52*100)) -> 103.19575 | F57: =IF($A$52=37802,IF(COUNTBLANK(C$52:C$71)>0,#N/A,C57/C$52*100),IF(COUNTBLANK(C$52:C$76)>0,#N/A,C57/C$52*100)) -> 76.712085 | G57: =IF($A$52=37802,IF(COUNTBLANK(D$52:D$71)>0,#N/A,D57/D$52*100),IF(COUNTBLANK(D$52:D$76)>0,#N/A,D57/D$52*100)) -> 84.447635 | H57: =IF(ISERROR(L57)=TRUE,IF(MONTH(A57)=MONTH(MAX(A$52:A$76)),A57,""),"") | I57: =IF($H57<>"",E57,"") | J57: =IF($H57<>"",F57,"") | K57: =IF($H57<>"",G57,"") | L57: =IF(A$52=37802,IF(AND(COUNTBLANK(B$52:B$71)<>0,COUNTBLANK(C$52:C$71)<>0,COUNTBLANK(D$52:D$71)<>0),135,#N/A),IF(AND(COUNTBLANK(B$52:B$76)<>0,COUNTBLANK(C$52:C$76)<>0,COUNTBLANK(D$52:D$76)<>0),135,#N/A)) -> #N/A
A58: März 2016 | B58: 253273 | C58: 25320 | D58: 9499 | E58: =IF($A$52=37802,IF(COUNTBLANK(B$52:B$71)>0,#N/A,B58/B$52*100),IF(COUNTBLANK(B$52:B$76)>0,#N/A,B58/B$52*100)) -> 103.08179 | F58: =IF($A$52=37802,IF(COUNTBLANK(C$52:C$71)>0,#N/A,C58/C$52*100),IF(COUNTBLANK(C$52:C$76)>0,#N/A,C58/C$52*100)) -> 75 | G58: =IF($A$52=37802,IF(COUNTBLANK(D$52:D$71)>0,#N/A,D58/D$52*100),IF(COUNTBLANK(D$52:D$76)>0,#N/A,D58/D$52*100)) -> 85.246343 | H58: =IF(ISERROR(L58)=TRUE,IF(MONTH(A58)=MONTH(MAX(A$52:A$76)),A58,""),"") | I58: =IF($H58<>"",E58,"") | J58: =IF($H58<>"",F58,"") | K58: =IF($H58<>"",G58,"") | L58: =IF(A$52=37802,IF(AND(COUNTBLANK(B$52:B$71)<>0,COUNTBLANK(C$52:C$71)<>0,COUNTBLANK(D$52:D$71)<>0),135,#N/A),IF(AND(COUNTBLANK(B$52:B$76)<>0,COUNTBLANK(C$52:C$76)<>0,COUNTBLANK(D$52:D$76)<>0),135,#N/A)) -> #N/A
A59: Juni 2016 | B59: 255832 | C59: 26127 | D59: 9785 | E59: =IF($A$52=37802,IF(COUNTBLANK(B$52:B$71)>0,#N/A,B59/B$52*100),IF(COUNTBLANK(B$52:B$76)>0,#N/A,B59/B$52*100)) -> 104.1233 | F59: =IF($A$52=37802,IF(COUNTBLANK(C$52:C$71)>0,#N/A,C59/C$52*100),IF(COUNTBLANK(C$52:C$76)>0,#N/A,C59/C$52*100)) -> 77.390403 | G59: =IF($A$52=37802,IF(COUNTBLANK(D$52:D$71)>0,#N/A,D59/D$52*100),IF(COUNTBLANK(D$52:D$76)>0,#N/A,D59/D$52*100)) -> 87.812977 | H59: =IF(ISERROR(L59)=TRUE,IF(MONTH(A59)=MONTH(MAX(A$52:A$76)),A59,""),"") | I59: =IF($H59<>"",E59,"") | J59: =IF($H59<>"",F59,"") | K59: =IF($H59<>"",G59,"") | L59: =IF(A$52=37802,IF(AND(COUNTBLANK(B$52:B$71)<>0,COUNTBLANK(C$52:C$71)<>0,COUNTBLANK(D$52:D$71)<>0),135,#N/A),IF(AND(COUNTBLANK(B$52:B$76)<>0,COUNTBLANK(C$52:C$76)<>0,COUNTBLANK(D$52:D$76)<>0),135,#N/A)) -> #N/A
A60: 42614 | B60: 260177 | C60: 25346 | D60: 10002 | E60: =IF($A$52=37802,IF(COUNTBLANK(B$52:B$71)>0,#N/A,B60/B$52*100),IF(COUNTBLANK(B$52:B$76)>0,#N/A,B60/B$52*100)) -> 105.89171 | F60: =IF($A$52=37802,IF(COUNTBLANK(C$52:C$71)>0,#N/A,C60/C$52*100),IF(COUNTBLANK(C$52:C$76)>0,#N/A,C60/C$52*100)) -> 75.077014 | G60: =IF($A$52=37802,IF(COUNTBLANK(D$52:D$71)>0,#N/A,D60/D$52*100),IF(COUNTBLANK(D$52:D$76)>0,#N/A,D60/D$52*100)) -> 89.760388 | H60: =IF(ISERROR(L60)=TRUE,IF(MONTH(A60)=MONTH(MAX(A$52:A$76)),A60,""),"") -> 42614 | I60: =IF($H60<>"",E60,"") -> 105.89171 | J60: =IF($H60<>"",F60,"") -> 75.077014 | K60: =IF($H60<>"",G60,"") -> 89.760388 | L60: =IF(A$52=37802,IF(AND(COUNTBLANK(B$52:B$71)<>0,COUNTBLANK(C$52:C$71)<>0,COUNTBLANK(D$52:D$71)<>0),135,#N/A),IF(AND(COUNTBLANK(B$52:B$76)<>0,COUNTBLANK(C$52:C$76)<>0,COUNTBLANK(D$52:D$76)<>0),135,#N/A)) -> #N/A
A61: Dezember 2016 | B61: 261137 | C61: 25639 | D61: 9965 | E61: =IF($A$52=37802,IF(COUNTBLANK(B$52:B$71)>0,#N/A,B61/B$52*100),IF(COUNTBLANK(B$52:B$76)>0,#N/A,B61/B$52*100)) -> 106.28243 | F61: =IF($A$52=37802,IF(COUNTBLANK(C$52:C$71)>0,#N/A,C61/C$52*100),IF(COUNTBLANK(C$52:C$76)>0,#N/A,C61/C$52*100)) -> 75.944905 | G61: =IF($A$52=37802,IF(COUNTBLANK(D$52:D$71)>0,#N/A,D61/D$52*100),IF(COUNTBLANK(D$52:D$76)>0,#N/A,D61/D$52*100)) -> 89.428341 | H61: =IF(ISERROR(L61)=TRUE,IF(MONTH(A61)=MONTH(MAX(A$52:A$76)),A61,""),"") | I61: =IF($H61<>"",E61,"") | J61: =IF($H61<>"",F61,"") | K61: =IF($H61<>"",G61,"") | L61: =IF(A$52=37802,IF(AND(COUNTBLANK(B$52:B$71)<>0,COUNTBLANK(C$52:C$71)<>0,COUNTBLANK(D$52:D$71)<>0),135,#N/A),IF(AND(COUNTBLANK(B$52:B$76)<>0,COUNTBLANK(C$52:C$76)<>0,COUNTBLANK(D$52:D$76)<>0),135,#N/A)) -> #N/A
A62: März 2017 | B62: 259988 | C62: 24872 | D62: 9828 | E62: =IF($A$52=37802,IF(COUNTBLANK(B$52:B$71)>0,#N/A,B62/B$52*100),IF(COUNTBLANK(B$52:B$76)>0,#N/A,B62/B$52*100)) -> 105.81479 | F62: =IF($A$52=37802,IF(COUNTBLANK(C$52:C$71)>0,#N/A,C62/C$52*100),IF(COUNTBLANK(C$52:C$76)>0,#N/A,C62/C$52*100)) -> 73.672986 | G62: =IF($A$52=37802,IF(COUNTBLANK(D$52:D$71)>0,#N/A,D62/D$52*100),IF(COUNTBLANK(D$52:D$76)>0,#N/A,D62/D$52*100)) -> 88.198869 | H62: =IF(ISERROR(L62)=TRUE,IF(MONTH(A62)=MONTH(MAX(A$52:A$76)),A62,""),"") | I62: =IF($H62<>"",E62,"") | J62: =IF($H62<>"",F62,"") | K62: =IF($H62<>"",G62,"") | L62: =IF(A$52=37802,IF(AND(COUNTBLANK(B$52:B$71)<>0,COUNTBLANK(C$52:C$71)<>0,COUNTBLANK(D$52:D$71)<>0),135,#N/A),IF(AND(COUNTBLANK(B$52:B$76)<>0,COUNTBLANK(C$52:C$76)<>0,COUNTBLANK(D$52:D$76)<>0),135,#N/A)) -> #N/A
A63: Juni 2017 | B63: 262537 | C63: 25533 | D63: 10224 | E63: =IF($A$52=37802,IF(COUNTBLANK(B$52:B$71)>0,#N/A,B63/B$52*100),IF(COUNTBLANK(B$52:B$76)>0,#N/A,B63/B$52*100)) -> 106.85223 | F63: =IF($A$52=37802,IF(COUNTBLANK(C$52:C$71)>0,#N/A,C63/C$52*100),IF(COUNTBLANK(C$52:C$76)>0,#N/A,C63/C$52*100)) -> 75.630924 | G63: =IF($A$52=37802,IF(COUNTBLANK(D$52:D$71)>0,#N/A,D63/D$52*100),IF(COUNTBLANK(D$52:D$76)>0,#N/A,D63/D$52*100)) -> 91.75267 | H63: =IF(ISERROR(L63)=TRUE,IF(MONTH(A63)=MONTH(MAX(A$52:A$76)),A63,""),"") | I63: =IF($H63<>"",E63,"") | J63: =IF($H63<>"",F63,"") | K63: =IF($H63<>"",G63,"") | L63: =IF(A$52=37802,IF(AND(COUNTBLANK(B$52:B$71)<>0,COUNTBLANK(C$52:C$71)<>0,COUNTBLANK(D$52:D$71)<>0),135,#N/A),IF(AND(COUNTBLANK(B$52:B$76)<>0,COUNTBLANK(C$52:C$76)<>0,COUNTBLANK(D$52:D$76)<>0),135,#N/A)) -> #N/A
A64: 42979 | B64: 266823 | C64: 24835 | D64: 10522 | E64: =IF($A$52=37802,IF(COUNTBLANK(B$52:B$71)>0,#N/A,B64/B$52*100),IF(COUNTBLANK(B$52:B$76)>0,#N/A,B64/B$52*100)) -> 108.59663 | F64: =IF($A$52=37802,IF(COUNTBLANK(C$52:C$71)>0,#N/A,C64/C$52*100),IF(COUNTBLANK(C$52:C$76)>0,#N/A,C64/C$52*100)) -> 73.563389 | G64: =IF($A$52=37802,IF(COUNTBLANK(D$52:D$71)>0,#N/A,D64/D$52*100),IF(COUNTBLANK(D$52:D$76)>0,#N/A,D64/D$52*100)) -> 94.426995 | H64: =IF(ISERROR(L64)=TRUE,IF(MONTH(A64)=MONTH(MAX(A$52:A$76)),A64,""),"") -> 42979 | I64: =IF($H64<>"",E64,"") -> 108.59663 | J64: =IF($H64<>"",F64,"") -> 73.563389 | K64: =IF($H64<>"",G64,"") -> 94.426995 | L64: =IF(A$52=37802,IF(AND(COUNTBLANK(B$52:B$71)<>0,COUNTBLANK(C$52:C$71)<>0,COUNTBLANK(D$52:D$71)<>0),135,#N/A),IF(AND(COUNTBLANK(B$52:B$76)<>0,COUNTBLANK(C$52:C$76)<>0,COUNTBLANK(D$52:D$76)<>0),135,#N/A)) -> #N/A
A65: Dezember 2017 | B65: 267823 | C65: 25271 | D65: 10591 | E65: =IF($A$52=37802,IF(COUNTBLANK(B$52:B$71)>0,#N/A,B65/B$52*100),IF(COUNTBLANK(B$52:B$76)>0,#N/A,B65/B$52*100)) -> 109.00363 | F65: =IF($A$52=37802,IF(COUNTBLANK(C$52:C$71)>0,#N/A,C65/C$52*100),IF(COUNTBLANK(C$52:C$76)>0,#N/A,C65/C$52*100)) -> 74.854858 | G65: =IF($A$52=37802,IF(COUNTBLANK(D$52:D$71)>0,#N/A,D65/D$52*100),IF(COUNTBLANK(D$52:D$76)>0,#N/A,D65/D$52*100)) -> 95.046217 | H65: =IF(ISERROR(L65)=TRUE,IF(MONTH(A65)=MONTH(MAX(A$52:A$76)),A65,""),"") | I65: =IF($H65<>"",E65,"") | J65: =IF($H65<>"",F65,"") | K65: =IF($H65<>"",G65,"") | L65: =IF(A$52=37802,IF(AND(COUNTBLANK(B$52:B$71)<>0,COUNTBLANK(C$52:C$71)<>0,COUNTBLANK(D$52:D$71)<>0),135,#N/A),IF(AND(COUNTBLANK(B$52:B$76)<>0,COUNTBLANK(C$52:C$76)<>0,COUNTBLANK(D$52:D$76)<>0),135,#N/A)) -> #N/A
A66: März 2018 | B66: 266819 | C66: 24602 | D66: 10601 | E66: =IF($A$52=37802,IF(COUNTBLANK(B$52:B$71)>0,#N/A,B66/B$52*100),IF(COUNTBLANK(B$52:B$76)>0,#N/A,B66/B$52*100)) -> 108.595 | F66: =IF($A$52=37802,IF(COUNTBLANK(C$52:C$71)>0,#N/A,C66/C$52*100),IF(COUNTBLANK(C$52:C$76)>0,#N/A,C66/C$52*100)) -> 72.873223 | G66: =IF($A$52=37802,IF(COUNTBLANK(D$52:D$71)>0,#N/A,D66/D$52*100),IF(COUNTBLANK(D$52:D$76)>0,#N/A,D66/D$52*100)) -> 95.13596 | H66: =IF(ISERROR(L66)=TRUE,IF(MONTH(A66)=MONTH(MAX(A$52:A$76)),A66,""),"") | I66: =IF($H66<>"",E66,"") | J66: =IF($H66<>"",F66,"") | K66: =IF($H66<>"",G66,"") | L66: =IF(A$52=37802,IF(AND(COUNTBLANK(B$52:B$71)<>0,COUNTBLANK(C$52:C$71)<>0,COUNTBLANK(D$52:D$71)<>0),135,#N/A),IF(AND(COUNTBLANK(B$52:B$76)<>0,COUNTBLANK(C$52:C$76)<>0,COUNTBLANK(D$52:D$76)<>0),135,#N/A)) -> #N/A
A67: Juni 2018 | B67: 269009 | C67: 25360 | D67: 11082 | E67: =IF($A$52=37802,IF(COUNTBLANK(B$52:B$71)>0,#N/A,B67/B$52*100),IF(COUNTBLANK(B$52:B$76)>0,#N/A,B67/B$52*100)) -> 109.48633 | F67: =IF($A$52=37802,IF(COUNTBLANK(C$52:C$71)>0,#N/A,C67/C$52*100),IF(COUNTBLANK(C$52:C$76)>0,#N/A,C67/C$52*100)) -> 75.118483 | G67: =IF($A$52=37802,IF(COUNTBLANK(D$52:D$71)>0,#N/A,D67/D$52*100),IF(COUNTBLANK(D$52:D$76)>0,#N/A,D67/D$52*100)) -> 99.452571 | H67: =IF(ISERROR(L67)=TRUE,IF(MONTH(A67)=MONTH(MAX(A$52:A$76)),A67,""),"") | I67: =IF($H67<>"",E67,"") | J67: =IF($H67<>"",F67,"") | K67: =IF($H67<>"",G67,"") | L67: =IF(A$52=37802,IF(AND(COUNTBLANK(B$52:B$71)<>0,COUNTBLANK(C$52:C$71)<>0,COUNTBLANK(D$52:D$71)<>0),135,#N/A),IF(AND(COUNTBLANK(B$52:B$76)<>0,COUNTBLANK(C$52:C$76)<>0,COUNTBLANK(D$52:D$76)<>0),135,#N/A)) -> #N/A
A68: 43344 | B68: 273213 | C68: 24618 | D68: 11436 | E68: =IF($A$52=37802,IF(COUNTBLANK(B$52:B$71)>0,#N/A,B68/B$52*100),IF(COUNTBLANK(B$52:B$76)>0,#N/A,B68/B$52*100)) -> 111.19735 | F68: =IF($A$52=37802,IF(COUNTBLANK(C$52:C$71)>0,#N/A,C68/C$52*100),IF(COUNTBLANK(C$52:C$76)>0,#N/A,C68/C$52*100)) -> 72.920616 | G68: =IF($A$52=37802,IF(COUNTBLANK(D$52:D$71)>0,#N/A,D68/D$52*100),IF(COUNTBLANK(D$52:D$76)>0,#N/A,D68/D$52*100)) -> 102.62945 | H68: =IF(ISERROR(L68)=TRUE,IF(MONTH(A68)=MONTH(MAX(A$52:A$76)),A68,""),"") -> 43344 | I68: =IF($H68<>"",E68,"") -> 111.19735 | J68: =IF($H68<>"",F68,"") -> 72.920616 | K68: =IF($H68<>"",G68,"") -> 102.62945 | L68: =IF(A$52=37802,IF(AND(COUNTBLANK(B$52:B$71)<>0,COUNTBLANK(C$52:C$71)<>0,COUNTBLANK(D$52:D$71)<>0),135,#N/A),IF(AND(COUNTBLANK(B$52:B$76)<>0,COUNTBLANK(C$52:C$76)<>0,COUNTBLANK(D$52:D$76)<>0),135,#N/A)) -> #N/A
A69: Dezember 2018 | B69: 273527 | C69: 25213 | D69: 11623 | E69: =IF($A$52=37802,IF(COUNTBLANK(B$52:B$71)>0,#N/A,B69/B$52*100),IF(COUNTBLANK(B$52:B$76)>0,#N/A,B69/B$52*100)) -> 111.32515 | F69: =IF($A$52=37802,IF(COUNTBLANK(C$52:C$71)>0,#N/A,C69/C$52*100),IF(COUNTBLANK(C$52:C$76)>0,#N/A,C69/C$52*100)) -> 74.683057 | G69: =IF($A$52=37802,IF(COUNTBLANK(D$52:D$71)>0,#N/A,D69/D$52*100),IF(COUNTBLANK(D$52:D$76)>0,#N/A,D69/D$52*100)) -> 104.30764 | H69: =IF(ISERROR(L69)=TRUE,IF(MONTH(A69)=MONTH(MAX(A$52:A$76)),A69,""),"") | I69: =IF($H69<>"",E69,"") | J69: =IF($H69<>"",F69,"") | K69: =IF($H69<>"",G69,"") | L69: =IF(A$52=37802,IF(AND(COUNTBLANK(B$52:B$71)<>0,COUNTBLANK(C$52:C$71)<>0,COUNTBLANK(D$52:D$71)<>0),135,#N/A),IF(AND(COUNTBLANK(B$52:B$76)<>0,COUNTBLANK(C$52:C$76)<>0,COUNTBLANK(D$52:D$76)<>0),135,#N/A)) -> #N/A
A70: März 2019 | B70: 272027 | C70: 24667 | D70: 11635 | E70: =IF($A$52=37802,IF(COUNTBLANK(B$52:B$71)>0,#N/A,B70/B$52*100),IF(COUNTBLANK(B$52:B$76)>0,#N/A,B70/B$52*100)) -> 110.71465 | F70: =IF($A$52=37802,IF(COUNTBLANK(C$52:C$71)>0,#N/A,C70/C$52*100),IF(COUNTBLANK(C$52:C$76)>0,#N/A,C70/C$52*100)) -> 73.065758 | G70: =IF($A$52=37802,IF(COUNTBLANK(D$52:D$71)>0,#N/A,D70/D$52*100),IF(COUNTBLANK(D$52:D$76)>0,#N/A,D70/D$52*100)) -> 104.41533 | H70: =IF(ISERROR(L70)=TRUE,IF(MONTH(A70)=MONTH(MAX(A$52:A$76)),A70,""),"") | I70: =IF($H70<>"",E70,"") | J70: =IF($H70<>"",F70,"") | K70: =IF($H70<>"",G70,"") | L70: =IF(A$52=37802,IF(AND(COUNTBLANK(B$52:B$71)<>0,COUNTBLANK(C$52:C$71)<>0,COUNTBLANK(D$52:D$71)<>0),135,#N/A),IF(AND(COUNTBLANK(B$52:B$76)<>0,COUNTBLANK(C$52:C$76)<>0,COUNTBLANK(D$52:D$76)<>0),135,#N/A)) -> #N/A
A71: Juni 2019 | B71: 272873 | C71: 25375 | D71: 11862 | E71: =IF($A$52=37802,IF(COUNTBLANK(B$52:B$71)>0,#N/A,B71/B$52*100),IF(COUNTBLANK(B$52:B$76)>0,#N/A,B71/B$52*100)) -> 111.05897 | F71: =IF($A$52=37802,IF(COUNTBLANK(C$52:C$71)>0,#N/A,C71/C$52*100),IF(COUNTBLANK(C$52:C$76)>0,#N/A,C71/C$52*100)) -> 75.162915 | G71: =IF($A$52=37802,IF(COUNTBLANK(D$52:D$71)>0,#N/A,D71/D$52*100),IF(COUNTBLANK(D$52:D$76)>0,#N/A,D71/D$52*100)) -> 106.45248 | H71: =IF(ISERROR(L71)=TRUE,IF(MONTH(A71)=MONTH(MAX(A$52:A$76)),A71,""),"") | I71: =IF($H71<>"",E71,"") | J71: =IF($H71<>"",F71,"") | K71: =IF($H71<>"",G71,"") | L71: =IF(A$52=37802,IF(AND(COUNTBLANK(B$52:B$71)<>0,COUNTBLANK(C$52:C$71)<>0,COUNTBLANK(D$52:D$71)<>0),135,#N/A),IF(AND(COUNTBLANK(B$52:B$76)<>0,COUNTBLANK(C$52:C$76)<>0,COUNTBLANK(D$52:D$76)<>0),135,#N/A)) -> #N/A
A72: 43709 | B72: 277007 | C72: 24317 | D72: 12263 | E72: =IF($A$52=37802,IF(COUNTBLANK(B$52:B$71)>0,#N/A,IF(ISBLANK(B72)=FALSE,B72/B$52*100,#N/A)),IF(COUNTBLANK(B$52:B$76)>0,#N/A,B72/B$52*100)) -> 112.7415 | F72: =IF($A$52=37802,IF(COUNTBLANK(C$52:C$71)>0,#N/A,IF(ISBLANK(C72)=FALSE,C72/C$52*100,#N/A)),IF(COUNTBLANK(C$52:C$76)>0,#N/A,C72/C$52*100)) -> 72.029028 | G72: =IF($A$52=37802,IF(COUNTBLANK(D$52:D$71)>0,#N/A,IF(ISBLANK(D72)=FALSE,D72/D$52*100,#N/A)),IF(COUNTBLANK(D$52:D$76)>0,#N/A,D72/D$52*100)) -> 110.05115 | H72: =IF(A$52=37802,IF(ISERROR(L72)=TRUE,IF(ISBLANK(A72)=FALSE,IF(MONTH(A72)=MONTH(MAX(A$52:A$76)),A72,""),""),""),IF(ISERROR(L72)=TRUE,IF(MONTH(A72)=MONTH(MAX(A$52:A$76)),A72,""),"")) -> 43709 | I72: =IF($H72<>"",E72,"") -> 112.7415 | J72: =IF($H72<>"",F72,"") -> 72.029028 | K72: =IF($H72<>"",G72,"") -> 110.05115 | L72: =IF(A$52=37802,IF(AND(COUNTBLANK(B$52:B$71)<>0,COUNTBLANK(C$52:C$71)<>0,COUNTBLANK(D$52:D$71)<>0),135,#N/A),IF(AND(COUNTBLANK(B$52:B$76)<>0,COUNTBLANK(C$52:C$76)<>0,COUNTBLANK(D$52:D$76)<>0),135,#N/A)) -> #N/A
A73: Dezember 2019 | B73: 277145 | C73: 24725 | D73: 12269 | E73: =IF($A$52=37802,IF(COUNTBLANK(B$52:B$71)>0,#N/A,IF(ISBLANK(B73)=FALSE,B73/B$52*100,#N/A)),IF(COUNTBLANK(B$52:B$76)>0,#N/A,B73/B$52*100)) -> 112.79767 | F73: =IF($A$52=37802,IF(COUNTBLANK(C$52:C$71)>0,#N/A,IF(ISBLANK(C73)=FALSE,C73/C$52*100,#N/A)),IF(COUNTBLANK(C$52:C$76)>0,#N/A,C73/C$52*100)) -> 73.237559 | G73: =IF($A$52=37802,IF(COUNTBLANK(D$52:D$71)>0,#N/A,IF(ISBLANK(D73)=FALSE,D73/D$52*100,#N/A)),IF(COUNTBLANK(D$52:D$76)>0,#N/A,D73/D$52*100)) -> 110.105 | H73: =IF(A$52=37802,IF(ISERROR(L73)=TRUE,IF(ISBLANK(A73)=FALSE,IF(MONTH(A73)=MONTH(MAX(A$52:A$76)),A73,""),""),""),IF(ISERROR(L73)=TRUE,IF(MONTH(A73)=MONTH(MAX(A$52:A$76)),A73,""),"")) | I73: =IF($H73<>"",E73,"") | J73: =IF($H73<>"",F73,"") | K73: =IF($H73<>"",G73,"") | L73: =IF(A$52=37802,IF(AND(COUNTBLANK(B$52:B$71)<>0,COUNTBLANK(C$52:C$71)<>0,COUNTBLANK(D$52:D$71)<>0),135,#N/A),IF(AND(COUNTBLANK(B$52:B$76)<>0,COUNTBLANK(C$52:C$76)<>0,COUNTBLANK(D$52:D$76)<>0),135,#N/A)) -> #N/A
A74: März 2020 | B74: 275915 | C74: 23228 | D74: 11582 | E74: =IF($A$52=37802,IF(COUNTBLANK(B$52:B$71)>0,#N/A,IF(ISBLANK(B74)=FALSE,B74/B$52*100,#N/A)),IF(COUNTBLANK(B$52:B$76)>0,#N/A,B74/B$52*100)) -> 112.29706 | F74: =IF($A$52=37802,IF(COUNTBLANK(C$52:C$71)>0,#N/A,IF(ISBLANK(C74)=FALSE,C74/C$52*100,#N/A)),IF(COUNTBLANK(C$52:C$76)>0,#N/A,C74/C$52*100)) -> 68.803318 | G74: =IF($A$52=37802,IF(COUNTBLANK(D$52:D$71)>0,#N/A,IF(ISBLANK(D74)=FALSE,D74/D$52*100,#N/A)),IF(COUNTBLANK(D$52:D$76)>0,#N/A,D74/D$52*100)) -> 103.93969 | H74: =IF(A$52=37802,IF(ISERROR(L74)=TRUE,IF(ISBLANK(A74)=FALSE,IF(MONTH(A74)=MONTH(MAX(A$52:A$76)),A74,""),""),""),IF(ISERROR(L74)=TRUE,IF(MONTH(A74)=MONTH(MAX(A$52:A$76)),A74,""),"")) | I74: =IF($H74<>"",E74,"") | J74: =IF($H74<>"",F74,"") | K74: =IF($H74<>"",G74,"") | L74: =IF(A$52=37802,IF(AND(COUNTBLANK(B$52:B$71)<>0,COUNTBLANK(C$52:C$71)<>0,COUNTBLANK(D$52:D$71)<>0),135,#N/A),IF(AND(COUNTBLANK(B$52:B$76)<>0,COUNTBLANK(C$52:C$76)<>0,COUNTBLANK(D$52:D$76)<>0),135,#N/A)) -> #N/A
A75: Juni 2020 | B75: 274019 | C75: 22338 | D75: 11117 | E75: =IF($A$52=37802,IF(COUNTBLANK(B$52:B$71)>0,#N/A,IF(ISBLANK(B75)=FALSE,B75/B$52*100,#N/A)),IF(COUNTBLANK(B$52:B$76)>0,#N/A,B75/B$52*100)) -> 111.52539 | F75: =IF($A$52=37802,IF(COUNTBLANK(C$52:C$71)>0,#N/A,IF(ISBLANK(C75)=FALSE,C75/C$52*100,#N/A)),IF(COUNTBLANK(C$52:C$76)>0,#N/A,C75/C$52*100)) -> 66.167062 | G75: =IF($A$52=37802,IF(COUNTBLANK(D$52:D$71)>0,#N/A,IF(ISBLANK(D75)=FALSE,D75/D$52*100,#N/A)),IF(COUNTBLANK(D$52:D$76)>0,#N/A,D75/D$52*100)) -> 99.76667 | H75: =IF(A$52=37802,IF(ISERROR(L75)=TRUE,IF(ISBLANK(A75)=FALSE,IF(MONTH(A75)=MONTH(MAX(A$52:A$76)),A75,""),""),""),IF(ISERROR(L75)=TRUE,IF(MONTH(A75)=MONTH(MAX(A$52:A$76)),A75,""),"")) | I75: =IF($H75<>"",E75,"") | J75: =IF($H75<>"",F75,"") | K75: =IF($H75<>"",G75,"") | L75: =IF(A$52=37802,IF(AND(COUNTBLANK(B$52:B$71)<>0,COUNTBLANK(C$52:C$71)<>0,COUNTBLANK(D$52:D$71)<>0),135,#N/A),IF(AND(COUNTBLANK(B$52:B$76)<>0,COUNTBLANK(C$52:C$76)<>0,COUNTBLANK(D$52:D$76)<>0),135,#N/A)) -> #N/A
A76: 44075 | B76: 278940 | C76: 22853 | D76: 11905 | E76: =IF($A$52=37802,IF(COUNTBLANK(B$52:B$71)>0,#N/A,IF(ISBLANK(B76)=FALSE,B76/B$52*100,#N/A)),IF(COUNTBLANK(B$52:B$76)>0,#N/A,B76/B$52*100)) -> 113.52823 | F76: =IF($A$52=37802,IF(COUNTBLANK(C$52:C$71)>0,#N/A,IF(ISBLANK(C76)=FALSE,C76/C$52*100,#N/A)),IF(COUNTBLANK(C$52:C$76)>0,#N/A,C76/C$52*100)) -> 67.692536 | G76: =IF($A$52=37802,IF(COUNTBLANK(D$52:D$71)>0,#N/A,IF(ISBLANK(D76)=FALSE,D76/D$52*100,#N/A)),IF(COUNTBLANK(D$52:D$76)>0,#N/A,D76/D$52*100)) -> 106.83837 | H76: =IF(A$52=37802,IF(ISERROR(L76)=TRUE,IF(ISBLANK(A76)=FALSE,IF(MONTH(A76)=MONTH(MAX(A$52:A$76)),A76,""),""),""),IF(ISERROR(L76)=TRUE,IF(MONTH(A76)=MONTH(MAX(A$52:A$76)),A76,""),"")) -> 44075 | I76: =IF($H76<>"",E76,"") -> 113.52823 | J76: =IF($H76<>"",F76,"") -> 67.692536 | K76: =IF($H76<>"",G76,"") -> 106.83837 | L76: =IF(A$52=37802,IF(AND(COUNTBLANK(B$52:B$71)<>0,COUNTBLANK(C$52:C$71)<>0,COUNTBLANK(D$52:D$71)<>0),135,#N/A),IF(AND(COUNTBLANK(B$52:B$76)<>0,COUNTBLANK(C$52:C$76)<>0,COUNTBLANK(D$52:D$76)<>0),135,#N/A)) -> #N/A
I78: =IF(I76<>"",I76,IF(I75<>"",I75,IF(I74<>"",I74,IF(I73<>"",I73,IF(I72<>"",I72,IF(I71<>"",I71,"")))))) -> 113.52823 | J78: =IF(J76<>"",J76,IF(J75<>"",J75,IF(J74<>"",J74,IF(J73<>"",J73,IF(J72<>"",J72,IF(J71<>"",J71,"")))))) -> 67.692536 | K78: =IF(K76<>"",K76,IF(K75<>"",K75,IF(K74<>"",K74,IF(K73<>"",K73,IF(K72<>"",K72,IF(K71<>"",K71,"")))))) -> 106.83837
I79: =RANK(I78,$I78:$K78) -> 1 | J79: =RANK(J78,$I78:$K78) -> 3 | K79: =RANK(K78,$I78:$K78) -> 2
I80: ="SvB: "&IF(I78>100,"+","")&TEXT(I78-100,"0,0")&"%" -> SvB: +13,5% | J80: ="GeB - ausschließlich: "&IF(J78>100,"+","")&TEXT(J78-100,"0,0")&"%" -> GeB - ausschließlich: -32,3% | K80: ="GeB - im Nebenjob: "&IF(K78>100,"+","")&TEXT(K78-100,"0,0")&"%" -> GeB - im Nebenjob: +6,8%
I82: =IF(ISERROR(HLOOKUP(1,I$79:K$80,2,FALSE)),"",HLOOKUP(1,I$79:K$80,2,FALSE)) -> SvB: +13,5%
I83: =IF(ISERROR(HLOOKUP(2,I$79:K$80,2,FALSE)),"",HLOOKUP(2,I$79:K$80,2,FALSE)) -> GeB - im Nebenjob: +6,8%
I84: =IF(ISERROR(HLOOKUP(3,I$79:K$80,2,FALSE)),"",HLOOKUP(3,I$79:K$80,2,FALSE)) -> GeB - ausschließlich: -32,3%

Sheet Hinweis_Befristung
B1: Beschäftigungsstatistik
B2: Stand: Januar 2019
B3: Methodische Hinweise Befristung
B5: Die Information über die Befristung wurde erstmals im Zuge der Umstellung des Tätigkeitsschlüssels (TS 2010) aufgenommen. Auswertungen sind rückwirkend ab Oktober 2012 möglich.
B7: Eine Beschäftigung kann befristet oder unbefristet sein. Die genauen Definitionen lauten: • Unbefristete Beschäftigung Der Arbeitsvertrag wurde auf unbestimmte Zeit abgeschlossen. • Befristete Beschäftigung Der Arbeitsvertrag wurde auf bestimmte Zeit abgeschlossen (kalendermäßig befristete Arbeitsverträge oder zweckbefristete Arbeitsverträge).
B9: Befristung der begonnenen Beschäftigungsverhältnisse Die Befristung ist für begonnene Beschäftigungsverhältnisse auswertbar. Für Auswertungen empfiehlt sich ein eingeschränkter Personenkreis der sozialversicherungspflichtig Beschäftigten mit dem Ausschluss von Personengruppen, die eine an sich befristete Beschäftigung haben. Diese wären:
B11: • sozialversicherungspflichtig Beschäftigte in Ausbildung • Praktikanten • Personen, die ein freiwilliges soziales, ein freiwilliges ökologisches Jahr oder einen Bundesfreiwilligendienst leisten • Teilnehmende an zeitlich befristeten arbeitsmarktpolitischen Maßnahmen bei einem Rehabilitationsträger (Personengruppenschlüssel 204)
B13: Befristung der Beschäftigungsverhältnisse und Beschäftigten im Bestand Für den Bestand in Beschäftigung ergeben sich überhöhte Werte bei der Befristung. Dies hängt mit den Meldungen der Arbeitgeber zur Sozialversicherung zusammen. Zeitpunkt der Gültigkeit für die Angabe zur Befristung:
B15: • Beginnzeitpunkt der Meldung bei Anmeldungen zur Sozialversicherung • Endezeitpunkt der Meldung bei allen übrigen Meldungen
B17: Bei Anmeldungen einer sozialversicherungspflichtigen Beschäftigung ist die Angabe zur Befristung zum Beginnzeitpunkt der Meldung zu melden. Damit ist für begonnene Beschäftigungen eine gesicherte Aussage möglich. Im Jahresverlauf nimmt die Qualität der Angabe allerdings für laufende Beschäftigungen ab. Zudem ist es notwendig, dass die Arbeitgeber die Angabe zur Befristung bei jeder Meldung überprüfen und entsprechend aktualisieren, ansonsten werden die Befristungen bei länger bestehenden Beschäftigungen überzeichnet. In den Daten ist eine solche Überzeichnung festzustellen. Es gibt einen Teil an Arbeitgebern, die die Angabe nicht regelmäßig aktualisieren und damit steigt der Anteil der befristeten Beschäftigungen beim Bestand der Beschäftigten und der Beschäftigungsverhältnisse in der Statistik über die Zeit hinweg stetig leicht an.
B19: Weitere Informationen finden im Methodenbericht "Befristete Beschäftigung":
B20: https://statistik.arbeitsagentur.de/Statischer-Content/Grundlagen/Methodik-Qualitaet/Methodenberichte/Beschaeftigungsstatistik/Generische-Publikationen/Methodenbericht-Befristete-Beschaeftigung.pdf

Sheet Hinweis_beg_been_BV
B1: Beschäftigungsstatistik
B2: Stand: Januar 2019
B3: Methodische Hinweise zu begonnenen und beendeten Beschäftigungsverhältnissen
B5: Im Gegensatz zu den Bestandsdaten der Beschäftigungsstatistik werden begonnene und beendete Beschäftigungsverhältnisse zeitraumbezogen ausgewertet (Monat, Quartal oder Jahr). Während beim Bestand an Beschäftigten eine Person – unabhängig von der Anzahl der Beschäftigungsverhältnisse – zum Stichtag nur einmal gezählt wird (Personenkonzept), ist es bei den Bewegungsdaten durchaus möglich, dass eine Person mehrfach gezählt wird (Fallkonzept). Dies ist der Fall, wenn die Person im Betrachtungszeitraum mehr als ein Beschäftigungsverhältnis beginnt bzw. beendet. Ergebnisse zu den begonnenen und beendeten Beschäftigungsverhältnissen liegen mit einer Wartezeit von sechs Monaten vor. Eine Betrachtung ist in der Regel nur nach dem Arbeitsort sinnvoll, weil die Beschäftigungsverhältnisse sich primär auf den Sitz des Betriebes beziehen. Für bestimmte Fragestellungen, beispielsweise wenn die begonnenen Beschäftigungen den Arbeitslosen gegenüber gestellt werden, kann dennoch der Wohnort der Beschäftigten betrachtet werden.
B7: Ein begonnenes Beschäftigungsverhältnis wird gezählt, wenn eine Anmeldung mit Abgabegrund „Anmeldung wegen Beginn einer Beschäftigung“ im Rahmen des Meldeverfahrens zur Sozialversicherung durch den Arbeitgeber abgegeben wurde, deren Beginn-Datum der Beschäftigung innerhalb des Betrachtungszeitraums liegt. Entsprechend wird ein beendetes Beschäftigungsverhältnis gezählt, wenn eine Abmeldung mit Abgabegrund „Abmeldung wegen Ende einer Beschäftigung“ abgegeben wurde, deren Ende der Beschäftigung innerhalb des Betrachtungszeitraums liegt. Ein beendetes und ein begonnenes Beschäftigungsverhältnis werden aber auch dann gezählt, wenn ein Wechsel zwischen folgenden Beschäftigungsarten stattfindet: - sozialversicherungspflichtiges Ausbildungsverhältnis - sozialversicherungspflichtiges Beschäftigungsverhältnis (keine Ausbildung) - geringfügig entlohntes Beschäftigungsverhältnis - kurzfristiges Beschäftigungsverhältnis So werden zum Beispiel immer dann ein beendetes und ein begonnenes Beschäftigungsverhältnis gezählt, wenn ein Beschäftigter seine Ausbildung beendet und anschließend weiterbeschäftigt wird. Dabei ist gleichgültig, ob dies beim selben oder bei einem anderen Arbeitgeber geschieht. Gleichzeitige An- und Abmeldungen, welche das Meldeverfahren für bestimmte, im Voraus befristete Beschäftigungsverhältnisse vorsieht, werden generell als Beginn und Ende eines Beschäftigungsverhältnisses gezählt.
B9: Damit ist das neue Messkonzept wesentlich genauer und bildet sämtliche Übergänge konsequent und vollständig ab. Zu beachten ist in diesem Zusammenhang auch, dass ein beendetes Beschäftigungsverhältnis nicht (wie vor der Revision 2014) am letzten Arbeitstag in der Statistik gezählt wird, sondern erst am Tag danach. So werden z. B. alle Beschäftigungsverhältnisse, welche mit Ablauf des 31.12. enden, erst im Januar als Abgang gezählt.
B11: Bei der Bewertung der Zahl der begonnenen und beendeten Beschäftigungsverhältnisse ist zu berücksichtigen, dass aufgrund des Verfahrens zur Betriebsnummernvergabe z. B. - bei der Aufsplittung von Betrieben bzw. Betriebsstätten oder - bei der Fusion von Betrieben bzw. Betriebsstätten unter Umständen eine Abmeldung und nachfolgende (Neu-)Anmeldung von Beschäftigten unter einer neuen Betriebsnummer durch den Arbeitgeber erfolgt. Die Beschäftigten haben ihren Arbeitsplatz jedoch nicht gewechselt, und auch das Beschäftigungsverhältnis wurde nicht unterbrochen. Faktisch ist also weder ein Beschäftigungsverhältnis beendet noch eines begonnen worden, die Bewegungen werden aber statistisch gezählt. Auch An- und Abmeldungen in Verbindung mit der Eröffnung eines Insolvenzverfahrens führen zu einer Überzeichnung der begonnenen und beendeten Beschäftigungsverhältnisse, soweit eine neue Betriebsnummer vergeben wird.
B13: Neben den begonnenen und beendeten Beschäftigungsverhältnissen kann auch der Bestand an Beschäftigungsverhältnissen (nicht zu verwechseln mit dem Bestand an Beschäftigten) zum Stichtag ausgewertet werden. Es sei an dieser Stelle darauf hingewiesen, dass die Formel „Bestand (t)“ = „Bestand (t-1)“ - „Abgang (t) “ + „Zugang (t)“ (Stock-Flow-Modell) nur dann aufgeht, wenn alle Komponenten aus einem Datenstand ermittelt werden. Da in der Beschäftigungsstatistik grundsätzlich mit 6 Monaten Wartezeit ausgewertet wird, ist dies nicht der Fall und obige Formel geht nicht auf. Die rechnerischen Abweichungen sind dabei gering, variieren aber von Stichtag zu Stichtag.
B15: Datenschutz Die Bestandsdaten der Beschäftigungsstatistik unterliegen grundsätzlich der Geheimhaltung nach § 16 BStatG. Eine Übermittlung von Einzelangaben ist daher ausgeschlossen. Aus diesem Grund werden Zahlenwerte unter 3 und Daten, aus denen sich rechnerisch eine Differenz ermitteln lässt, mit * anonymisiert. Gleiches gilt, wenn in einer Region oder in einem Wirtschaftszweig weniger als 3 Betriebe ansässig sind oder einer der Betriebe einen so hohen Beschäftigtenanteil auf sich vereint, dass die Beschäftigtenzahl praktisch eine Einzelangabe über diesen Betrieb darstellt (Dominanzfall). Grundsätzlich gelten auch bei den Bewegungsdaten die gleichen Regeln der statistischen Geheimhaltung wie bei den Bestandsdaten. Es ist daher eine Dominanzprüfung anzuwenden. Wenn im Bestand eine Geheimhaltung notwendig wird, so ist das in der Regel auch für die jeweiligen Bewegungsdaten anzunehmen. Für die Prüfung bei den begonnenen und beendeten Beschäftigungsverhältnissen wird der jeweilige Stichtag zum Quartalsende herangezogen. Bei Zeiträumen über mehrere Quartale hinweg wären alle Stichtage der Quartalsenden zu prüfen. Näherungsweise könnte auch die Prüfung eines repräsentativen Stichtages im Zeitraum herangezogen werden.
B17: Weiterführende Informationen zur Statistik der sozialversicherungspflichtigen und geringfügigen Beschäftigung finden Sie unter:
B18: https://statistik.arbeitsagentur.de/Statischer-Content/Grundlagen/Methodik-Qualitaet/Qualitaetsberichte/Generische-Publikationen/Qualitaetsbericht-Statistik-Beschaeftigung.pdf

Sheet Hinweise SVB GB
B1: Beschäftigungsstatistik
B2: Stand: 06.03.2020
B3: Methodische Hinweise zu sozialversicherungspflichtig und geringfügig Beschäftigten
B5: Grundlage der Statistik bildet das Meldeverfahren zur Sozialversicherung, in das alle Arbeitnehmer (einschließlich der zu ihrer Berufsausbildung Beschäftigten) einbezogen sind, die der Kranken- oder Rentenversicherungspflicht oder der Versicherungspflicht nach dem SGB III unterliegen. Auf Basis der Meldungen zur Sozialversicherung durch die Betriebe wird vierteljährlich (stichtagsbezogen) mit 6 Monaten Wartezeit der Bestand an sozialversicherungspflichtig und geringfügig Beschäftigten ermittelt.
B7: Sozialversicherungspflichtig Beschäftigte umfassen alle Arbeitnehmer, die kranken-, renten-, pflegeversicherungspflichtig und/oder beitragspflichtig nach dem Recht der Arbeitsförderung sind oder für die Beitragsanteile zur gesetzlichen Rentenversicherung oder nach dem Recht der Arbeitsförderung zu zahlen sind. Dazu gehören insbesondere auch Auszubildende, Altersteilzeitbeschäftigte, Praktikanten, Werkstudenten und Personen, die aus einem sozialversicherungspflichtigen Beschäftigungsverhältnis zur Ableistung von gesetzlichen Dienstpflichten (z. B. Wehrübung) einberufen werden. Nicht zu den sozialversicherungspflichtig Beschäftigten zählen dagegen Beamte, Selbstständige, mithelfende Familienangehörige, Berufs- und Zeitsoldaten sowie Wehr- und Zivildienstleistende (siehe o. g. Ausnahme).
B9: Als Midijobs bezeichnet man Beschäftigungsverhältnisse mit einem Arbeitsentgelt im Bereich von 450,01 bis 1300 Euro im Monat (bis 31.12.2012: von 400,01 bis 800 Euro; bis 30.06.2019: von 450,01 bis 850 Euro). Seit dem 1. Juli 2019 nennt man jenen Bereich nicht mehr Gleitzone, sondern „Übergangsbereich“. Um Midijobber im Übergangsbereich als Geringverdiener zu entlasten, resultieren die Arbeitnehmeranteile aus einer reduzierten Bemessungsgrundlage. Bis zum 30.06.2019 führte die Reduzierung der Arbeitnehmerbeiträge zur Rentenversicherung bei Midijobs auch zu geminderten Rentenansprüchen, es sei denn, der Beschäftigte hat auf die Anwendung der Gleitzonenregelung in der Rentenversicherung ausdrücklich verzichtet. Dies ist im Übergangsbereich seit dem 01.07.2019 nicht mehr der Fall. Die verminderte Beitragsbemessungsgrundlage spielt für die Entgeltpunkte in der Rentenversicherung keine Rolle mehr. Damit entfällt auch die Notwendigkeit für Arbeitnehmer, auf die Anwendung der Gleitzone in der Rentenversicherung zu verzichten, um Rentennachteile zu vermeiden. In der Statistik über Midijobs wird unterschieden nach: • Monatliches Arbeitsentgelt liegt durchgehend innerhalb des Übergangsbereichs • Monatliches Arbeitsentgelt liegt sowohl innerhalb als auch außerhalb des Übergangsbereichs („Mischfälle“) Auswertungen zu den Midijobs können nicht quartalsweise, sondern nur zum Stichtag 31.12. vorgenommen werden. Nur für diesen Stichtag liegen weitgehend vollzählige Angaben über Beschäftigungen im Übergangsbereich vor. Auswertungen zu den Midijobs liegen ab dem Stichtag 31.12.2003 vor.
B11: Zu den geringfügigen Beschäftigungsverhältnissen zählen Arbeitsverhältnisse mit einem niedrigen Lohn (geringfügig entlohnte Beschäftigung) oder mit einer kurzen Dauer (kurzfristige Beschäftigung). Beide werden auch als „Minijob“ bezeichnet.
B13: Eine geringfügig entlohnte Beschäftigung nach § 8 Abs. 1 Nr. 1 SGB IV liegt vor, wenn das Arbeitsentgelt aus dieser Beschäftigung (§ 14 SGB IV) regelmäßig im Monat die Geringfügigkeitsgrenze nicht überschreitet. Die Geringfügigkeitsgrenze beträgt bis einschließlich zum 31.12.2012 400 Euro und ab dem 01.01.2013 450 Euro. Regelmäßig bedeutet, dass, wenn die Grenze von 450 Euro nur gelegentlich und nicht vorhersehbar überschritten wird, trotzdem eine geringfügig entlohnte Beschäftigung vorliegt. Eine Berichterstattung der ausschließlich geringfügig entlohnten Beschäftigten erfolgt seit dem Stichtag 30.6.1999, geringfügig entlohnte Beschäftigte im Nebenjob können ab dem Stichtag 30.6.2003 ausgewertet werden.
B15: Auch die Minijob-Zentrale der Deutschen Rentenversicherung Knappschaft-Bahn-See veröffentlicht Daten über geringfügig entlohnte Beschäftigte im Rahmen eines vierteljährlichen Geschäftsberichts. Diese Daten stellen keine amtliche Statistik dar und sind nicht geeignet, statistische Aussagen über die Entwicklung der Arbeitsmarkt- und Beschäftigungssituation in Deutschland zu treffen. Ebenso wenig sind sie eine verlässliche Grundlage für Erwerbstätigenrechnungen oder Volkswirtschaftliche Gesamtrechnungen (VGR). Sie liefern vielmehr Informationen über die Geschäftsprozesse der Minijob-Zentrale; es handelt sich somit um Geschäftsdaten. Daher sind die Daten auch nicht mit den statistischen Daten der BA, welche die amtliche Statistik über geringfügig entlohnte Beschäftigte führt, vergleichbar.
B17: Eine kurzfristige Beschäftigung liegt nach § 8 Abs. 1 Nr. 2 SGB IV vor, wenn die Beschäftigung für eine Zeitdauer ausgeübt wird, die im Laufe eines Kalenderjahres, oder auch kalenderjahrüberschreitend, auf nicht mehr als drei Monate oder insgesamt 70 Arbeitstage nach ihrer Eigenart begrenzt zu sein pflegt oder im Voraus vertraglich (z. B. durch einen auf längstens ein Jahr befristeten Rahmenarbeitsvertrag) begrenzt ist (im Zeitraum vor dem 01.01.2015 lagen die Fristen bei zwei Monaten oder insgesamt 50 Arbeitstagen). Auswertungen zu ausschließlich kurzfristig Beschäftigten sind ab Januar 2000 möglich. Kurzfristig Beschäftigte insgesamt sowie kurzfristig Beschäftigte im Nebenjob sind ab April 2003 auswertbar. Diese weitere Unterteilung der Daten über kurzfristig Beschäftigte in ausschließlich und im Nebenjob kurzfristig Beschäftigte ist allerdings aus Geheimhaltungsgründen nicht zu empfehlen, da die Fallzahlen relativ gering sind.
B19: Werden von einer Person mehrere geringfügige Beschäftigungen ausgeübt, gelten folgende Regeln: 1. Eine geringfügig entlohnte Beschäftigung ist neben einer kurzfristigen Beschäftigung erlaubt. 2. Bei der gleichzeitigen Ausübung von mehreren geringfügig entlohnten Beschäftigungen darf die Geringfügigkeitsgrenze von 450 EUR nicht überschritten werden. 3. Bei der Ausübung von mehreren kurzfristigen Beschäftigungen darf die Grenze von drei Monaten oder 70 Arbeitstagen, innerhalb des vorgegebenen Zeitraumes, nicht überschritten werden. Neben einer nicht geringfügigen versicherungspflichtigen (Haupt-)Beschäftigung ist die Ausübung einer geringfügigen (Neben-)Beschäftigung zulässig. Für den Fall, dass ein Arbeitnehmer neben einer nicht geringfügigen versicherungspflichtigen Beschäftigung bei anderen Arbeitgebern geringfügig entlohnte Beschäftigungen ausübt, gilt für die Bereiche der Kranken-, Pflege- und Rentenversicherung, dass geringfügig entlohnte Beschäftigungen - mit Ausnahme einer geringfügig entlohnten Beschäftigung - mit einer nicht geringfügigen versicherungspflichtigen Beschäftigung zusammenzurechnen sind. Vgl. Richtlinien für die versicherungsrechtliche Beurteilung von geringfügigen Beschäftigungen (Geringfügigkeits-Richtlinien) vom 20. Dezember 2012.
B21: Mehrfachbeschäftigte, die gleichzeitig zwei oder mehr geringfügigen Beschäftigungen nachgehen, werden nur nach den Merkmalen der zuletzt aufgenommenen Beschäftigung ausgewiesen.
... B26: https://statistik.arbeitsagentur.de/DE/Statischer-Content/Grundlagen/Methodik-Qualitaet/Qualitaetsberichte/Generische-Publikationen/Qualitaetsbericht-Statistik-Beschaeftigung.pdf

Sheet Statistik-Infoseite
G2: Stand: 06.08.2020
A3: Statistik-Infoseite
A6: Im Internet stehen statistische Informationen unterteilt nach folgenden Themenbereichen zur Verfügung:
B8: Fachstatistiken:
B9: Arbeitsuche, Arbeitslosigkeit und Unterbeschäftigung
B10: Ausbildungsmarkt
B11: Beschäftigung
B12: Einnahmen/Ausgaben
B13: Förderung und berufliche Rehabilitation
B14: Gemeldete Arbeitsstellen
B15: Grundsicherung für Arbeitsuchende (SGB II)
B16: Leistungen SGB III
B18: Themen im Fokus:
B19: Berufe
B20: Bildung
... B33: Zeitarbeit
A35: Die Methodischen Hinweise der Statistik bieten ergänzende Informationen.
A37: Die Qualitätsberichte der Statistik erläutern die Entstehung und Aussagekraft der jeweiligen Fachstatistik.
A39: Das Glossar enthält Erläuterungen zu allen statistisch relevanten Begriffen, die in den verschiedenen Produkten der Statistik der BA Verwendung finden.
A42: Abkürzungen und Zeichen, die in den Produkten der Statistik der BA vorkommen, werden im
A43: Abkürzungsverzeichnis | C43: bzw. der Zeichenerklärung der Statistik der BA erläutert.
