Workbook

Sheet Hinweisblatt
B6: Aufgrund von Kreisgebietsreformen
B7: sind Kreisschlüssel
B8: entfallen und
B9: Vorquartalswerte deshalb
B10: teilweise nicht ausweisbar.

Sheet Deckblatt
N64: _

Sheet Impressum
F1: Beschäftigungsstatistik
A4: Impressum
A6: Produktlinie/Reihe: | C6: Tabellen
A8: Titel: | C8: Regionalreport über Beschäftigte (Quartalszahlen)
A10: Region: | C10: Leipzig, Stadt (14713)
A12: Stichtag: | C12: 30. September 2020
A14: Erstellungsdatum: | C14: 10. April 2021
A16: Periodizität: | C16: vierteljährlich
A18: Nächster Veröffentlichungstermin: | C18: 10. Juli 2021
A20: Hinweise: | C20: In dieser Publikation wird über die sozialversicherungspflichtig und geringfügig entlohnten Beschäftigten berichtet. Eine weitere Unterteilung der geringfügig entlohnten Beschäftigten in ausschließlich geringfügig entlohnte und im Nebenjob tätige Beschäftigte ist bei ausgewählten Merkmalen, wie dem Beruf, aus Geheimhaltungsgründen nicht möglich. Weitergehende Informationen erhalten Sie über Ihren regionalen Statistik-Service. Soweit nicht anders angegeben, beziehen sich alle Zahlen auf den Arbeitsort.
A22: Herausgeberin: | C22: Bundesagentur für Arbeit
C23: Statistik
A25: Rückfragen an: | C25: Statistik-Service Südost
C26: Nordostpark 14
C27: 90411 Nürnberg
A28: E-Mail: | C28: Statistik-Service-Suedost@arbeitsagentur.de
A29: Hotline: | C29: 0911/179-8001
A30: Fax: | C30: 0911/179-908001
A33: Internet: | C33: http://statistik.arbeitsagentur.de
C34: Register: "Statistik nach Themen"
C35: http://statistik.arbeitsagentur.de/Navigation/Statistik/Statistik-nach-Themen/Statistik-nach-Themen-Nav.html
A37: Zitierhinweis: | C37: Statistik der Bundesagentur für Arbeit
C38: Tabellen, Regionalreport über Beschäftigte, Nürnberg, März 2021
A40: Nutzungsbedingungen: | C40: © Statistik der Bundesagentur für Arbeit
C41: Sie können Informationen speichern, (auch auszugsweise) mit Quellen-
C42: angabe weitergeben, vervielfältigen und verbreiten. Die Inhalte dürfen
C43: nicht verändert oder verfälscht werden. Eigene Berechnungen sind
C44: erlaubt, jedoch als solche kenntlich zu machen.
C45: Im Falle einer Zugänglichmachung im Internet soll dies in Form einer
C46: Verlinkung auf die Homepage der Statistik der Bundesagentur für Arbeit
C47: erfolgen.
C48: Die Nutzung der Inhalte für gewerbliche Zwecke, ausgenommen Presse,
C49: Rundfunk und Fernsehen und wissenschaftliche Publikationen, bedarf
C50: der Genehmigung durch die Statistik der Bundesagentur für Arbeit.

Sheet Inhaltsverzeichnis
G1: Beschäftigungsstatistik
A4: Inhaltsverzeichnis
A7: Regionalreport über Beschäftigte (Quartalszahlen)
A8: Leipzig, Stadt (14713)
A9: Stichtag: 30. September 2020
A12: Quartalszahlen im Überblick
A13: Sozialversicherungspflichtig und geringfügig entlohnte Beschäftigte
B14: nach ausgewählten Merkmalen | G14: Tabelle 1
A15: Diagramm: Entwicklung sozialversicherungspflichtig Beschäftigter
B16: und geringfügig entlohnter Beschäftigter nach Regionen und nach
B17: der Klassifikation der Wirtschaftszweige (WZ 2008) | G17: Diagramm
A19: Sozialversicherungspflichtig Beschäftigte
B20: nach Regionen und ausgewählten Merkmalen | G20: Tabelle 2.1
B21: nach ausgewählten Merkmalen | G21: Tabelle 2.2
B22: nach der Klassifikation der Wirtschaftszweige 2008 (WZ 2008) | G22: Tabelle 2.3
B23: nach der Klassifikation der Berufe (KldB 2010) | G23: Tabelle 2.4
A25: Geringfügig entlohnte Beschäftigte
B26: nach Regionen und ausgewählten Merkmalen | G26: Tabelle 3.1
B27: nach ausgewählten Merkmalen | G27: Tabelle 3.2
B28: nach der Klassifikation der Wirtschaftszweige 2008 (WZ 2008) | G28: Tabelle 3.3
B29: nach der Klassifikation der Berufe (KldB 2010) | G29: Tabelle 3.4
A31: Begonnene sozialversicherungspflichtige Beschäftigungsverhältnisse
B32: Insgesamt / darunter befristet nach ausgewählten Merkmalen | G32: Tabelle 4.1
B33: nach der Klassifikation der Wirtschaftszweige 2008 (WZ 2008) | G33: Tabelle 4.2
B34: nach der Klassifikation der Berufe (KldB 2010) | G34: Tabelle 4.3
A36: Beendete sozialversicherungspflichtige Beschäftigungsverhältnisse
B37: nach der Klassifikation der Wirtschaftszweige 2008 (WZ 2008) | G37: Tabelle 5.1
B38: nach der Klassifikation der Berufe (KldB 2010) | G38: Tabelle 5.2
A40: Zeitreihe
B41: Sozialversicherungspflichtig und geringfügig entlohnte Beschäftigte sowie begonnene und beendete Beschäftigungsverhältnisse | G41: Tabelle 6

Sheet Tabelle 1
J1: Beschäftigungsstatistik
A3: 1. Sozialversicherungspflichtig und geringfügig entlohnte Beschäftigte nach ausgewählten Merkmalen
A4: Leipzig, Stadt (14713); Gebietsstand des jeweiligen Stichtags
A5: Stichtag: 30. September 2020
A7: Merkmale | C7: Anteile in % 1) | D7: Beschäftigte am Stichtag Ende ... | I7: Veränderung gegenüber dem Vorjahresstichtag (Sp. 1 zu Sp. 5)
D8: Sep. 20 | E8: Jun. 20 | F8: Mrz. 20 | G8: Dez. 19 | H8: Sep. 19
I9: absolut | J9: in %
D10: 1 | E10: 2 | F10: 3 | G10: 4 | H10: 5 | I10: 6 | J10: 7
A11: Sozialversicherungspflichtig Beschäftigte
A12: Insgesamt | C12: 100 | D12: 278940 | E12: 274019 | F12: 275915 | G12: 277145 | H12: 277007 | I12: 1933 | J12: 0.6978163
A13: dav. | B13: Männer | C13: 51.150785 | D13: 142680 | E13: 139878 | F13: 140722 | G13: 141066 | H13: 140971 | I13: 1709 | J13: 1.2123061
B14: Frauen | C14: 48.849215 | D14: 136260 | E14: 134141 | F14: 135193 | G14: 136079 | H14: 136036 | I14: 224 | J14: 0.1646623
A15: dav. | B15: unter 25 Jahre | C15: 8.7957984 | D15: 24535 | E15: 22080 | F15: 22779 | G15: 23521 | H15: 23584 | I15: 951 | J15: 4.0323948
B16: 25 bis unter 55 Jahre | C16: 71.559834 | D16: 199609 | E16: 197920 | F16: 199571 | G16: 200294 | H16: 200445 | I16: -836 | J16: -0.41707201
B17: 55 bis unter 65 Jahre | C17: 18.718362 | D17: 52213 | E17: 51503 | F17: 51055 | G17: 50789 | H17: 50479 | I17: 1734 | J17: 3.4350918
B18: 65 Jahre und älter | C18: 0.92600559 | D18: 2583 | E18: 2516 | F18: 2510 | G18: 2541 | H18: 2499 | I18: 84 | J18: 3.3613445
B19: dar.: bis zur Altersgrenze | C19: 0.30544203 | D19: 852 | E19: 839 | F19: 807 | G19: 784 | H19: 790 | I19: 62 | J19: 7.8481013
A20: dar. | B20: Vollzeitbeschäftigte | C20: 67.060658 | D20: 187059 | E20: 184625 | F20: 185968 | G20: 186807 | H20: 187487 | I20: -428 | J20: -0.22828249
B21: Teilzeitbeschäftigte | C21: 32.939342 | D21: 91881 | E21: 89394 | F21: 89947 | G21: 90338 | H21: 89520 | I21: 2361 | J21: 2.6373995
A22: dar. | B22: Deutsche | C22: 92.990966 | D22: 259389 | E22: 255689 | F22: 257650 | G22: 258865 | H22: 259057 | I22: 332 | J22: 0.12815712
B23: Ausländer | C23: 6.9470137 | D23: 19378 | E23: 18161 | F23: 18091 | G23: 18112 | H23: 17779 | I23: 1599 | J23: 8.9937567
A24: Geringfügig entlohnte Beschäftigte (GeB)
A25: GeB - Insgesamt
A26: Insgesamt | C26: 100 | D26: 34758 | E26: 33455 | F26: 34810 | G26: 36994 | H26: 36580 | I26: -1822 | J26: -4.9808639
A27: dav. | B27: Männer | C27: 45.224121 | D27: 15719 | E27: 15236 | F27: 15941 | G27: 16753 | H27: 16485 | I27: -766 | J27: -4.6466485
B28: Frauen | C28: 54.775879 | D28: 19039 | E28: 18219 | F28: 18869 | G28: 20241 | H28: 20095 | I28: -1056 | J28: -5.2550386
A29: dav. | B29: unter 25 Jahre | C29: 21.730249 | D29: 7553 | E29: 7287 | F29: 7678 | G29: 8575 | H29: 8208 | I29: -655 | J29: -7.9800195
B30: 25 bis unter 55 Jahre | C30: 45.995167 | D30: 15987 | E30: 15376 | F30: 15970 | G30: 17003 | H30: 16991 | I30: -1004 | J30: -5.9090107
B31: 55 bis unter 65 Jahre | C31: 14.629726 | D31: 5085 | E31: 4834 | F31: 4998 | G31: 5116 | H31: 5188 | I31: -103 | J31: -1.9853508
B32: 65 Jahre und älter | C32: 17.644859 | D32: 6133 | E32: 5958 | F32: 6164 | G32: 6300 | H32: 6193 | I32: -60 | J32: -0.96883578
B33: dar.: bis zur Altersgrenze | C33: 1.7204672 | D33: 598 | E33: 571 | F33: 636 | G33: 682 | H33: 695 | I33: -97 | J33: -13.956835
A34: dar. | B34: Deutsche | C34: 90.992002 | D34: 31627 | E34: 30689 | F34: 31843 | G34: 33802 | H34: 33463 | I34: -1836 | J34: -5.4866569
B35: Ausländer | C35: 8.8756545 | D35: 3085 | E35: 2729 | F35: 2928 | G35: 3152 | H35: 3079 | I35: 6 | J35: 0.19486846
A36: GeB - ausschließlich
A37: Insgesamt | C37: 100 | D37: 22853 | E37: 22338 | F37: 23228 | G37: 24725 | H37: 24317 | I37: -1464 | J37: -6.0204795
A38: dav. | B38: Männer | C38: 44.948147 | D38: 10272 | E38: 10190 | F38: 10626 | G38: 11159 | H38: 10951 | I38: -679 | J38: -6.200347
B39: Frauen | C39: 55.051853 | D39: 12581 | E39: 12148 | F39: 12602 | G39: 13566 | H39: 13366 | I39: -785 | J39: -5.8731109
A40: dav. | B40: unter 25 Jahre | C40: 27.073032 | D40: 6187 | E40: 6131 | F40: 6370 | G40: 7141 | H40: 6769 | I40: -582 | J40: -8.5980204
B41: 25 bis unter 55 Jahre | C41: 32.218965 | D41: 7363 | E41: 7219 | F41: 7521 | G41: 8051 | H41: 8033 | I41: -670 | J41: -8.340595
B42: 55 bis unter 65 Jahre | C42: 14.514506 | D42: 3317 | E42: 3165 | F42: 3317 | G42: 3370 | H42: 3452 | I42: -135 | J42: -3.9107764
...

Sheet Diagramm
I1: Beschäftigungsstatistik
A3: Entwicklung sozialversicherungspflichtig Beschäftigter und geringfügig entlohnter Beschäftigter nach Regionen
A4: und nach der Klassifikation der Wirtschaftszweige (WZ 2008)
A5: ausgewählte Regionen; Gebietsstand des jeweiligen Stichtags
A6: Stichtag: 30. September 2020 | D6: Veränderung gegenüber dem Vorjahresstichtag in %
D7: Sozialversicherungspflichtig Beschäftigte | G7: Geringfügig entlohnte Beschäftigte (insgesamt)
A9: Leipzig, Stadt (14713)
A10: Bundesland Sachsen
A11: Ostdeutschland
A12: Deutschland
A15: Leipzig, Stadt (14713)
A16: Insgesamt
A17: A | B17: Land-, Forstwirtschaft und Fischerei
A18: B,D,E | B18: Bergbau, Energie- und Wasserversorgung, Energiewirtschaft
A19: C dav. | B19: Verarbeitendes Gewerbe
A20: 10-15, 18, 21, 31 | B20: Herstellung von überwiegend häuslich konsumierten Gütern (ohne Güter der Metall-, Elektro- und Chemieindustrie)
A21: 24-30,32,33 | B21: Metall- und Elektroindustrie sowie Stahlindustrie
A22: 16, 17, 19, 20, ,22, 23 | B22: Hrst. v. Vorleistungsgütern, insb. v. chem. Erzeugnissen u. Kunsstoffwaren (ohne Güter der Metall- u. Elektroindustrie)
A23: F | B23: Baugewerbe
A24: G | B24: Handel, Instandhaltung, Reparatur von Kfz
A25: H | B25: Verkehr und Lagerei
A26: I | B26: Gastgewerbe
A27: J | B27: Information und Kommunikation
A28: K | B28: Erbringung von Finanz- und Versicherungsdienstleistungen
... A31: dav. N (ohne ANÜ | B31: sonstige wirtschaftliche Dienstleistungen (ohne Arbeitnehmerüberlassung)
A32: 782.783 | B32: Arbeitnehmerüberlassung
A33: O, U | B33: Öffentliche Verwaltung, Verteidigung, Sozialversicherung, Ext. Organisationen
A34: P | B34: Erziehung und Unterricht
A35: 86 | B35: Gesundheitswesen
A36: 87.88 | B36: Heime und Sozialwesen
A37: R,S,T | B37: sonstige Dienstleistungen, Private Haushalte
B38: keine Zuordnung möglich
A39: davon nach Sektoren:
A40: A | B40: Land-, Forstwirtschaft und Fischerei
A41: B - F | B41: Produzierendes Gewerbe
A42: G - U | B42: Dienstleistungsbereich
I44: © Statistik der Bundesagentur für Arbeit
A45: *) Aus Datenschutzgründen und Gründen der statistischen Geheimhaltung werden Zahlenwerte von 1 oder 2 und Daten, aus denen rechnerisch auf einen solchen Zahlenwert geschlossen werden kann, anonymisiert. Gleiches gilt, wenn in einer Region weniger als 3 Betriebe ansässig sind oder einer der Betriebe einen so hohen Beschäftigtenanteil auf sich vereint, dass die Beschäftigtenzahl praktisch eine Einzelangabe über den Branchenführer darstellt (Dominanzfall).

Sheet Tabelle 2.1
J1: Beschäftigungsstatistik
A3: 2.1 Sozialversicherungspflichtig Beschäftigte nach Regionen und ausgewählten Merkmalen
A4: ausgewählte Regionen; Gebietsstand des jeweiligen Stichtags
A5: Stichtag: 30. September 2020
A7: Regionen / Merkmale | C7: Anteile in % 1) | D7: sozialversicherungspflichtig Beschäftigte am Stichtag Ende ... | I7: Veränderung gegenüber dem Vorjahresstichtag (Spalte 1 zu Spalte 5)
D8: Sep. 20 | E8: Jun. 20 | F8: Mrz. 20 | G8: Dez. 19 | H8: Sep. 19
I9: absolut | J9: in %
D10: 1 | E10: 2 | F10: 3 | G10: 4 | H10: 5 | I10: 6 | J10: 7
A11: Leipzig, Stadt (14713)
A12: Insgesamt | C12: 100 | D12: 278940 | E12: 274019 | F12: 275915 | G12: 277145 | H12: 277007 | I12: 1933 | J12: 0.6978163
A13: dav. | B13: Männer | C13: 51.150785 | D13: 142680 | E13: 139878 | F13: 140722 | G13: 141066 | H13: 140971 | I13: 1709 | J13: 1.2123061
B14: Frauen | C14: 48.849215 | D14: 136260 | E14: 134141 | F14: 135193 | G14: 136079 | H14: 136036 | I14: 224 | J14: 0.1646623
A15: dav. | B15: unter 25 Jahre | C15: 8.7957984 | D15: 24535 | E15: 22080 | F15: 22779 | G15: 23521 | H15: 23584 | I15: 951 | J15: 4.0323948
B16: 25 bis unter 55 Jahre | C16: 71.559834 | D16: 199609 | E16: 197920 | F16: 199571 | G16: 200294 | H16: 200445 | I16: -836 | J16: -0.41707201
B17: 55 bis unter 65 Jahre | C17: 18.718362 | D17: 52213 | E17: 51503 | F17: 51055 | G17: 50789 | H17: 50479 | I17: 1734 | J17: 3.4350918
B18: 65 Jahre und älter | C18: 0.92600559 | D18: 2583 | E18: 2516 | F18: 2510 | G18: 2541 | H18: 2499 | I18: 84 | J18: 3.3613445
B19: dar.: bis zur Altersgrenze | C19: 0.30544203 | D19: 852 | E19: 839 | F19: 807 | G19: 784 | H19: 790 | I19: 62 | J19: 7.8481013
A20: dar. | B20: in Vollzeit | C20: 67.060658 | D20: 187059 | E20: 184625 | F20: 185968 | G20: 186807 | H20: 187487 | I20: -428 | J20: -0.22828249
B21: in Teilzeit | C21: 32.939342 | D21: 91881 | E21: 89394 | F21: 89947 | G21: 90338 | H21: 89520 | I21: 2361 | J21: 2.6373995
A22: dar. | B22: Deutsche | C22: 92.990966 | D22: 259389 | E22: 255689 | F22: 257650 | G22: 258865 | H22: 259057 | I22: 332 | J22: 0.12815712
B23: Ausländer | C23: 6.9470137 | D23: 19378 | E23: 18161 | F23: 18091 | G23: 18112 | H23: 17779 | I23: 1599 | J23: 8.9937567
A24: Bundesland Sachsen
A25: Insgesamt | C25: 100 | D25: 1632351 | E25: 1608511 | F25: 1620306 | G25: 1629804 | H25: 1639872 | I25: -7521 | J25: -0.45863336
A26: dav. | B26: Männer | C26: 51.718472 | D26: 844227 | E26: 830811 | F26: 835618 | G26: 839643 | H26: 847225 | I26: -2998 | J26: -0.35386113
B27: Frauen | C27: 48.281528 | D27: 788124 | E27: 777700 | F27: 784688 | G27: 790161 | H27: 792647 | I27: -4523 | J27: -0.57061971
A28: dav. | B28: unter 25 Jahre | C28: 8.7706014 | D28: 143167 | E28: 127879 | F28: 132123 | G28: 135925 | H28: 138141 | I28: 5026 | J28: 3.6383116
B29: 25 bis unter 55 Jahre | C29: 67.784625 | D29: 1106483 | E29: 1101323 | F29: 1111781 | G29: 1117612 | H29: 1126503 | I29: -20020 | J29: -1.7771812
B30: 55 bis unter 65 Jahre | C30: 22.491057 | D30: 367133 | E30: 364120 | F30: 361490 | G30: 360974 | H30: 360281 | I30: 6852 | J30: 1.9018488
B31: 65 Jahre und älter | C31: 0.95371645 | D31: 15568 | E31: 15189 | F31: 14912 | G31: 15293 | H31: 14947 | I31: 621 | J31: 4.1546799
B32: dar.: bis zur Altersgrenze | C32: 0.3032436 | D32: 4950 | E32: 4811 | F32: 4636 | G32: 4636 | H32: 4671 | I32: 279 | J32: 5.973025
A33: dar. | B33: in Vollzeit | C33: 68.099447 | D33: 1111622 | E33: 1099325 | F33: 1108085 | G33: 1117208 | H33: 1128824 | I33: -17202 | J33: -1.5238868
B34: in Teilzeit | C34: 31.900553 | D34: 520729 | E34: 509186 | F34: 512221 | G34: 512596 | H34: 511048 | I34: 9681 | J34: 1.8943426
A35: dar. | B35: Deutsche | C35: 94.163449 | D35: 1537078 | E35: 1519250 | F35: 1530487 | G35: 1540840 | H35: 1550775 | I35: -13697 | J35: -0.8832358
B36: Ausländer | C36: 5.8179889 | D36: 94970 | E36: 88955 | F36: 89503 | G36: 88669 | H36: 88801 | I36: 6169 | J36: 6.9469938
A37: Ostdeutschland
A38: Insgesamt | C38: 100 | D38: 6239770 | E38: 6151086 | F38: 6205288 | G38: 6228885 | H38: 6266099 | I38: -26329 | J38: -0.42018168
A39: dav. | B39: Männer | C39: 51.213106 | D39: 3195580 | E39: 3144389 | F39: 3170080 | G39: 3179150 | H39: 3209502 | I39: -13922 | J39: -0.43377446
B40: Frauen | C40: 48.786894 | D40: 3044190 | E40: 3006697 | F40: 3035208 | G40: 3049735 | H40: 3056597 | I40: -12407 | J40: -0.40590892
A41: dav. | B41: unter 25 Jahre | C41: 8.5885377 | D41: 535905 | E41: 484177 | F41: 503380 | G41: 517562 | H41: 523920 | I41: 11985 | J41: 2.287563
B42: 25 bis unter 55 Jahre | C42: 67.858415 | D42: 4234209 | E42: 4211123 | F42: 4256336 | G42: 4269069 | H42: 4304095 | I42: -69886 | J42: -1.6237095
...

Sheet Tabelle 2.2
L1: Beschäftigungsstatistik
A3: 2.2 Sozialversicherungspflichtig Beschäftigte nach ausgewählten Merkmalen
A4: Leipzig, Stadt (14713); Gebietsstand des jeweiligen Stichtags
A5: Stichtag: 30. September 2020
A7: Merkmale | E7: Anteile in % 1) | F7: sozialversicherungspflichtig Beschäftigte am Stichtag Ende ... | K7: Veränderung gegenüber dem Vorjahresstichtag (Spalte 1 zu Spalte 5)
F8: Sep. 20 | G8: Jun. 20 | H8: Mrz. 20 | I8: Dez. 19 | J8: Sep. 19
K9: absolut | L9: in %
F10: 1 | G10: 2 | H10: 3 | I10: 4 | J10: 5 | K10: 6 | L10: 7
A11: Insgesamt | E11: 100 | F11: 278940 | G11: 274019 | H11: 275915 | I11: 277145 | J11: 277007 | K11: 1933 | L11: 0.6978163
A12: nach dem Geschlecht dav. Männer | E12: 51.150785 | F12: 142680 | G12: 139878 | H12: 140722 | I12: 141066 | J12: 140971 | K12: 1709 | L12: 1.2123061
B13: Frauen | E13: 48.849215 | F13: 136260 | G13: 134141 | H13: 135193 | I13: 136079 | J13: 136036 | K13: 224 | L13: 0.1646623
A14: nach Altersgruppen und Geschlecht dav. unter 25 Jahre | E14: 8.7957984 | F14: 24535 | G14: 22080 | H14: 22779 | I14: 23521 | J14: 23584 | K14: 951 | L14: 4.0323948
C15: Männer | E15: 52.895863 | F15: 12978 | G15: 11690 | H15: 11990 | I15: 12339 | J15: 12382 | K15: 596 | L15: 4.8134389
C16: Frauen | E16: 47.104137 | F16: 11557 | G16: 10390 | H16: 10789 | I16: 11182 | J16: 11202 | K16: 355 | L16: 3.169077
B17: 25 bis unter 55 Jahre | E17: 71.559834 | F17: 199609 | G17: 197920 | H17: 199571 | I17: 200294 | J17: 200445 | K17: -836 | L17: -0.41707201
C18: Männer | E18: 51.65198 | F18: 103102 | G18: 102107 | H18: 102805 | I18: 102966 | J18: 102964 | K18: 138 | L18: 0.13402743
C19: Frauen | E19: 48.34802 | F19: 96507 | G19: 95813 | H19: 96766 | I19: 97328 | J19: 97481 | K19: -974 | L19: -0.99916907
B20: 55 bis unter 65 Jahre | E20: 18.718362 | F20: 52213 | G20: 51503 | H20: 51055 | I20: 50789 | J20: 50479 | K20: 1734 | L20: 3.4350918
C21: Männer | E21: 47.966981 | F21: 25045 | G21: 24598 | H21: 24458 | I21: 24298 | J21: 24157 | K21: 888 | L21: 3.6759531
C22: Frauen | E22: 52.033019 | F22: 27168 | G22: 26905 | H22: 26597 | I22: 26491 | J22: 26322 | K22: 846 | L22: 3.2140415
B23: 65 Jahre und älter | E23: 0.92600559 | F23: 2583 | G23: 2516 | H23: 2510 | I23: 2541 | J23: 2499 | K23: 84 | L23: 3.3613445
C24: Männer | E24: 60.201316 | F24: 1555 | G24: 1483 | H24: 1469 | I24: 1463 | J24: 1468 | K24: 87 | L24: 5.9264305
C25: Frauen | E25: 39.798684 | F25: 1028 | G25: 1033 | H25: 1041 | I25: 1078 | J25: 1031 | K25: -3 | L25: -0.29097963
C26: dar. | D26: bis zur Altersgrenze | E26: 0.30544203 | F26: 852 | G26: 839 | H26: 807 | I26: 784 | J26: 790 | K26: 62 | L26: 7.8481013
D27: Männer | E27: 57.276995 | F27: 488 | G27: 459 | H27: 416 | I27: 402 | J27: 413 | K27: 75 | L27: 18.159806
D28: Frauen | E28: 42.723005 | F28: 364 | G28: 380 | H28: 391 | I28: 382 | J28: 377 | K28: -13 | L28: -3.4482759
A29: nach Nationalität und Geschlecht dar. Deutsche | E29: 92.990966 | F29: 259389 | G29: 255689 | H29: 257650 | I29: 258865 | J29: 259057 | K29: 332 | L29: 0.12815712
C30: Männer | E30: 50.002506 | F30: 129701 | G30: 127709 | H30: 128634 | I30: 128973 | J30: 129014 | K30: 687 | L30: 0.53250035
C31: Frauen | E31: 49.997494 | F31: 129688 | G31: 127980 | H31: 129016 | I31: 129892 | J31: 130043 | K31: -355 | L31: -0.27298663
B32: Ausländer | E32: 6.9470137 | F32: 19378 | G32: 18161 | H32: 18091 | I32: 18112 | J32: 17779 | K32: 1599 | L32: 8.9937567
C33: Männer | E33: 66.436165 | F33: 12874 | G33: 12069 | H33: 11986 | I33: 11998 | J33: 11860 | K33: 1014 | L33: 8.549747
C34: Frauen | E34: 33.563835 | F34: 6504 | G34: 6092 | H34: 6105 | I34: 6114 | J34: 5919 | K34: 585 | L34: 9.8834263
A35: nach der Arbeitszeit und Geschlecht dar. in Vollzeit | E35: 67.060658 | F35: 187059 | G35: 184625 | H35: 185968 | I35: 186807 | J35: 187487 | K35: -428 | L35: -0.22828249
C36: Männer | E36: 61.831828 | F36: 115662 | G36: 114053 | H36: 114661 | I36: 115077 | J36: 115327 | K36: 335 | L36: 0.29047838
C37: Frauen | E37: 38.168172 | F37: 71397 | G37: 70572 | H37: 71307 | I37: 71730 | J37: 72160 | K37: -763 | L37: -1.0573725
B38: in Teilzeit | E38: 32.939342 | F38: 91881 | G38: 89394 | H38: 89947 | I38: 90338 | J38: 89520 | K38: 2361 | L38: 2.6373995
C39: Männer | E39: 29.405427 | F39: 27018 | G39: 25825 | H39: 26061 | I39: 25989 | J39: 25644 | K39: 1374 | L39: 5.3579785
C40: Frauen | E40: 70.594573 | F40: 64863 | G40: 63569 | H40: 63886 | I40: 64349 | J40: 63876 | K40: 987 | L40: 1.5451813
A41: Auszubildende nach Geschlecht Auszubildende | E41: 3.8904424 | F41: 10852 | G41: 9519 | H41: 9776 | I41: 10535 | J41: 10686 | K41: 166 | L41: 1.5534344
C42: Männer | E42: 53.363435 | F42: 5791 | G42: 4987 | H42: 5100 | I42: 5601 | J42: 5680 | K42: 111 | L42: 1.9542254
...

Sheet Tabelle 2.3
J1: Beschäftigungsstatistik
A3: 2.3 Sozialversicherungspflichtig Beschäftigte nach der Klassifikation der Wirtschaftszweige 2008 (WZ 2008)
A4: Leipzig, Stadt (14713); Gebietsstand des jeweiligen Stichtags
A5: Stichtag: 30. September 2020
A7: Wirtschaftsabschnitte / Wirtschaftsabteilungen / Wirtschaftsgruppen WZ 2008 | C7: Anteile in % 1) | D7: sozialversicherungspflichtig Beschäftigte am Stichtag Ende ... | I7: Veränderung gegenüber dem Vorjahresstichtag (Spalte 1 zu Spalte 5)
D8: Sep. 20 | E8: Jun. 20 | F8: Mrz. 20 | G8: Dez. 19 | H8: Sep. 19
I9: absolut | J9: in %
D10: 1 | E10: 2 | F10: 3 | G10: 4 | H10: 5 | I10: 6 | J10: 7
A11: Insgesamt | C11: 100 | D11: 278940 | E11: 274019 | F11: 275915 | G11: 277145 | H11: 277007 | I11: 1933 | J11: 0.6978163
A12: A | B12: Land-, Forstwirtschaft und Fischerei | C12: 0.09787051 | D12: 273 | E12: 277 | F12: 265 | G12: 245 | H12: 276 | I12: -3 | J12: -1.0869565
A13: B,D,E | B13: Bergbau, Energie- und Wasserversorgung, Entsorgungswirtschaft | C13: 1.6534022 | D13: 4612 | E13: 4597 | F13: 4589 | G13: 4518 | H13: 4506 | I13: 106 | J13: 2.352419
A14: C | B14: Verarbeitendes Gewerbe | C14: 9.1442604 | D14: 25507 | E14: 25404 | F14: 25657 | G14: 25774 | H14: 25755 | I14: -248 | J14: -0.96291982
A15: dav. 10-15, 18, 21, 31 | B15: Herstellung von überwiegend häuslich konsumierten Gütern (ohne Güter der Metall-, Elektro- und Chemieindustrie) | C15: 1.0195741 | D15: 2844 | E15: 2800 | F15: 2847 | G15: 2862 | H15: 2841 | I15: 3 | J15: 0.10559662
A16: 24-30, 32, 33 | B16: Metall- und Elektroindustrie sowie Stahlindustrie | C16: 7.6206353 | D16: 21257 | E16: 21207 | F16: 21422 | G16: 21538 | H16: 21508 | I16: -251 | J16: -1.1670076
A17: 16, 17, 19, 20, 22, 23 | B17: Hrst. v. Vorleistungsgütern, insb. v. chem. Erzeugnissen u. Kunststoffwaren (ohne Güter der Metall- u. Elektroindustrie) | C17: 0.50405105 | D17: 1406 | E17: 1397 | F17: 1388 | G17: 1374 | H17: 1406 | I17: 0 | J17: 0
A18: F | B18: Baugewerbe | C18: 4.4299849 | D18: 12357 | E18: 12413 | F18: 12304 | G18: 12205 | H18: 12413 | I18: -56 | J18: -0.45113993
A19: G | B19: Handel, Instandhaltung, Reparatur von Kfz | C19: 10.904854 | D19: 30418 | E19: 31185 | F19: 31210 | G19: 31967 | H19: 31608 | I19: -1190 | J19: -3.7648697
A20: H | B20: Verkehr und Lagerei | C20: 6.6179107 | D20: 18460 | E20: 16932 | F20: 17136 | G20: 17052 | H20: 17078 | I20: 1382 | J20: 8.0922825
A21: I | B21: Gastgewerbe | C21: 3.8868574 | D21: 10842 | E21: 10878 | F21: 11208 | G21: 11497 | H21: 11622 | I21: -780 | J21: -6.7114094
A22: J | B22: Information und Kommunikation | C22: 6.5874382 | D22: 18375 | E22: 18083 | F22: 17872 | G22: 17645 | H22: 17641 | I22: 734 | J22: 4.1607619
A23: K | B23: Erbringung von Finanz- und Versicherungsdienstleistungen | C23: 2.7382233 | D23: 7638 | E23: 7470 | F23: 7468 | G23: 7519 | H23: 7502 | I23: 136 | J23: 1.8128499
... A26: dav. N (ohne ANÜ) | B26: sonstige wirtschaftliche Dienstleistungen (ohne Arbeitnehmerüberlassung) | C26: 8.9997849 | D26: 25104 | E26: 24071 | F26: 24543 | G26: 24428 | H26: 24807 | I26: 297 | J26: 1.1972427
A27: 782.783 | B27: Arbeitnehmerüberlassung | C27: 4.3486054 | D27: 12130 | E27: 11671 | F27: 12232 | G27: 12372 | H27: 12824 | I27: -694 | J27: -5.411728
A28: O, U | B28: Öffentliche Verwaltung, Verteidigung, Sozialversicherung, Ext. Organisationen | C28: 4.517459 | D28: 12601 | E28: 12401 | F28: 12436 | G28: 12635 | H28: 12629 | I28: -28 | J28: -0.22171193
A29: P | B29: Erziehung und Unterricht | C29: 6.8656342 | D29: 19151 | E29: 18939 | F29: 18823 | G29: 18970 | H29: 18573 | I29: 578 | J29: 3.1120444
A30: 86 | B30: Gesundheitswesen | C30: 8.1035348 | D30: 22604 | E30: 22002 | F30: 22074 | G30: 22083 | H30: 21909 | I30: 695 | J30: 3.1722123
A31: 87.88 | B31: Heime und Sozialwesen | C31: 6.6272317 | D31: 18486 | E31: 18130 | F31: 18189 | G31: 18271 | H31: 18159 | I31: 327 | J31: 1.80076
A32: R,S,T | B32: sonstige Dienstleistungen, Private Haushalte | C32: 4.0005019 | D32: 11159 | E32: 11094 | F32: 11198 | G32: 11232 | H32: 11244 | I32: -85 | J32: -0.75595873
B33: keine Zuordnung möglich | C33: 0 | D33: 0 | E33: 0 | F33: 0 | G33: 0 | H33: 0 | I33: 0 | J33: 0
A34: davon nach Sektoren:
A35: A | B35: Land-, Forstwirtschaft und Fischerei | C35: 0.09787051 | D35: 273 | E35: 277 | F35: 265 | G35: 245 | H35: 276 | I35: -3 | J35: -1.0869565
A36: B - F | B36: Produzierendes Gewerbe | C36: 15.227648 | D36: 42476 | E36: 42414 | F36: 42550 | G36: 42497 | H36: 42674 | I36: -198 | J36: -0.46398275
A37: G - U | B37: Dienstleistungsbereich | C37: 84.674482 | D37: 236191 | E37: 231328 | F37: 233100 | G37: 234403 | H37: 234057 | I37: 2134 | J37: 0.91174372
J38: © Statistik der Bundesagentur für Arbeit
A39: 1) Anteil an der jeweiligen Gesamtsumme (Spaltenprozent)
A40: *) Aus Datenschutzgründen und Gründen der statistischen Geheimhaltung werden Zahlenwerte von 1 oder 2 und Daten, aus denen rechnerisch auf einen solchen Zahlenwert geschlossen werden kann, anonymisiert. Gleiches gilt, wenn in einer Region weniger als 3 Betriebe ansässig sind oder einer der Betriebe einen so hohen Beschäftigtenanteil auf sich vereint, dass die Beschäftigtenzahl praktisch eine Einzelangabe über den Branchenführer darstellt (Dominanzfall).

Sheet Tabelle 2.4
K1: Beschäftigungsstatistik
A3: 2.4 Sozialversicherungspflichtig Beschäftigte nach der Klassifikation der Berufe (KldB 2010)
A4: Leipzig, Stadt (14713); Gebietsstand des jeweiligen Stichtags
A5: Stichtag: 30. September 2020
A7: Anforderungsniveau/ Berufshauptgruppen/-gruppen (KldB2010) | D7: Anteile in % 1) | E7: sozialversicherungspflichtig Beschäftigte am Stichtag Ende ... | J7: Veränderung gegenüber dem Vorjahresstichtag (Spalte 1 zu Spalte 5)
E8: Sep. 20 | F8: Jun. 20 | G8: Mrz. 20 | H8: Dez. 19 | I8: Sep. 19
J9: absolut | K9: in %
E10: 1 | F10: 2 | G10: 3 | H10: 4 | I10: 5 | J10: 6 | K10: 7
A11: Insgesamt | D11: 100 | E11: 278940 | F11: 274019 | G11: 275915 | H11: 277145 | I11: 277007 | J11: 1933 | K11: 0.6978163
A12: darunter nach Anforderungsniveau der ausgeübten Tätigkeit (KldB 2010)
A13: Helfer | D13: 13.698286 | E13: 38210 | F13: 36929 | G13: 37006 | H13: 37535 | I13: 37633 | J13: 577 | K13: 1.5332288
A14: Fachkraft | D14: 53.110705 | E14: 148147 | F14: 145904 | G14: 147710 | H14: 148467 | I14: 149034 | J14: -887 | K14: -0.5951662
A15: Spezialist | D15: 14.960206 | E15: 41730 | F15: 40955 | G15: 41113 | H15: 40934 | I15: 40643 | J15: 1087 | K15: 2.6745073
A16: Experte | D16: 17.936474 | E16: 50032 | F16: 49441 | G16: 49281 | H16: 49407 | I16: 48861 | J16: 1171 | K16: 2.3965944
A17: davon nach Berufsfachlichkeit der ausgeübten Tätigkeit (KldB 2010)
A18: 11 | B18: Land-, Tier-, Forstwirtschaftsberufe | D18: 0.20434502 | E18: 570 | F18: 573 | G18: 577 | H18: 561 | I18: 573 | J18: -3 | K18: -0.52356021
A19: dar. 111 | B19: Landwirtschaft | D19: 0.056284506 | E19: 157 | F19: 162 | G19: 157 | H19: 149 | I19: 158 | J19: -1 | K19: -0.63291139
A20: 12 | B20: Gartenbauberufe, Floristik | D20: 0.56356206 | E20: 1572 | F20: 1528 | G20: 1515 | H20: 1521 | I20: 1597 | J20: -25 | K20: -1.5654352
A21: 21 | B21: Rohstoffgewinn,Glas-,Keramikverarbeitung | D21: 0.089266509 | E21: 249 | F21: 260 | G21: 260 | H21: 241 | I21: 281 | J21: -32 | K21: -11.3879
A22: 22 | B22: Kunststoff- u. Holzherst.,-verarbeitung | D22: 0.68115007 | E22: 1900 | F22: 1895 | G22: 1893 | H22: 1930 | I22: 1933 | J22: -33 | K22: -1.7071909
A23: 23 | B23: Papier-,Druckberufe, tech.Mediengestalt. | D23: 0.90915609 | E23: 2536 | F23: 2512 | G23: 2560 | H23: 2633 | I23: 2633 | J23: -97 | K23: -3.6840106
A24: 24 | B24: Metallerzeugung,-bearbeitung, Metallbau | D24: 1.8563132 | E24: 5178 | F24: 5186 | G24: 5277 | H24: 5374 | I24: 5350 | J24: -172 | K24: -3.2149533
A25: 25 | B25: Maschinen- und Fahrzeugtechnikberufe | D25: 5.7474726 | E25: 16032 | F25: 15655 | G25: 15858 | H25: 15794 | I25: 15729 | J25: 303 | K25: 1.926378
A26: 26 | B26: Mechatronik-, Energie- u. Elektroberufe | D26: 2.6966373 | E26: 7522 | F26: 7343 | G26: 7388 | H26: 7604 | I26: 7724 | J26: -202 | K26: -2.6152253
A27: 27 | B27: Techn.Entwickl.Konstr.Produktionssteuer. | D27: 2.6084463 | E27: 7276 | F27: 7133 | G27: 7202 | H27: 7255 | I27: 7282 | J27: -6 | K27: -0.082394946
A28: 28 | B28: Textil- und Lederberufe | D28: 0.091417509 | E28: 255 | F28: 249 | G28: 260 | H28: 252 | I28: 250 | J28: 5 | K28: 2
A29: 29 | B29: Lebensmittelherstellung u. -verarbeitung | D29: 1.8882197 | E29: 5267 | F29: 5289 | G29: 5414 | H29: 5585 | I29: 5643 | J29: -376 | K29: -6.6631225
A30: dar. 292 | B30: Lebensmittel- u. Genussmittelherstellung | D30: 0.26529003 | E30: 740 | F30: 713 | G30: 725 | H30: 735 | I30: 728 | J30: 12 | K30: 1.6483516
A31: dar. 293 | B31: Speisenzubereitung | D31: 1.6007027 | E31: 4465 | F31: 4514 | G31: 4626 | H31: 4786 | I31: 4850 | J31: -385 | K31: -7.9381443
A32: 31 | B32: Bauplanung,Architektur,Vermessungsberufe | D32: 1.1816161 | E32: 3296 | F32: 3223 | G32: 3206 | H32: 3213 | I32: 3196 | J32: 100 | K32: 3.1289111
A33: 32 | B33: Hoch- und Tiefbauberufe | D33: 1.3465261 | E33: 3756 | F33: 3866 | G33: 3867 | H33: 3840 | I33: 3965 | J33: -209 | K33: -5.2711223
A34: 33 | B34: (Innen-)Ausbauberufe | D34: 0.87402309 | E34: 2438 | F34: 2360 | G34: 2367 | H34: 2356 | I34: 2438 | J34: 0 | K34: 0
A35: 34 | B35: Gebäude- u. versorgungstechnische Berufe | D35: 2.6468058 | E35: 7383 | F35: 7189 | G35: 7175 | H35: 7079 | I35: 7158 | J35: 225 | K35: 3.1433361
A36: 41 | B36: Mathematik-Biologie-Chemie-,Physikberufe | D36: 0.65713057 | E36: 1833 | F36: 1830 | G36: 1824 | H36: 1821 | I36: 1845 | J36: -12 | K36: -0.6504065
A37: 42 | B37: Geologie-,Geografie-,Umweltschutzberufe | D37: 0.14662651 | E37: 409 | F37: 404 | G37: 386 | H37: 372 | I37: 368 | J37: 41 | K37: 11.141304
A38: 43 | B38: Informatik- und andere IKT-Berufe | D38: 2.8823403 | E38: 8040 | F38: 7803 | G38: 7806 | H38: 7588 | I38: 7424 | J38: 616 | K38: 8.2974138
A39: 51 | B39: Verkehr, Logistik (außer Fahrzeugführ.) | D39: 6.3784326 | E39: 17792 | F39: 17301 | G39: 17346 | H39: 17813 | I39: 17557 | J39: 235 | K39: 1.3384975
A40: dar. 513 | B40: Lagerwirt.,Post,Zustellung,Güterumschlag | D40: 5.097512 | E40: 14219 | F40: 13880 | G40: 13870 | H40: 14316 | I40: 14035 | J40: 184 | K40: 1.3110082
B41: dar. Berufe in der Lagerwirtschaft (5131) | D41: 4.1962429 | E41: 11705 | F41: 11507 | G41: 11390 | H41: 11855 | I41: 11649 | J41: 56 | K41: 0.48072796
A42: 52 | B42: Führer von Fahrzeug- u. Transportgeräten | D42: 2.8522263 | E42: 7956 | F42: 7949 | G42: 8039 | H42: 7898 | I42: 8037 | J42: -81 | K42: -1.0078387
...

Sheet Tabelle 3.1
J1: Beschäftigungsstatistik
A3: 3.1 Geringfügig entlohnte Beschäftigte nach Regionen und ausgewählten Merkmalen
A4: ausgewählte Regionen; Gebietsstand des jeweiligen Stichtags
A5: Stichtag: 30. September 2020
A7: Regionen / Merkmale | C7: Anteile in % 1) | D7: geringfügig entlohnte Beschäftigte am Stichtag Ende ... | I7: Veränderung gegenüber dem Vorjahresstichtag (Spalte 1 zu Spalte 5)
D8: Sep. 20 | E8: Jun. 20 | F8: Mrz. 20 | G8: Dez. 19 | H8: Sep. 19
I9: absolut | J9: in %
D10: 1 | E10: 2 | F10: 3 | G10: 4 | H10: 5 | I10: 6 | J10: 7
A11: Leipzig, Stadt (14713)
A12: Insgesamt | C12: 100 | D12: 34758 | E12: 33455 | F12: 34810 | G12: 36994 | H12: 36580 | I12: -1822 | J12: -4.9808639
A13: dav. | B13: Männer | C13: 45.224121 | D13: 15719 | E13: 15236 | F13: 15941 | G13: 16753 | H13: 16485 | I13: -766 | J13: -4.6466485
B14: Frauen | C14: 54.775879 | D14: 19039 | E14: 18219 | F14: 18869 | G14: 20241 | H14: 20095 | I14: -1056 | J14: -5.2550386
A15: dav. | B15: unter 25 Jahre | C15: 21.730249 | D15: 7553 | E15: 7287 | F15: 7678 | G15: 8575 | H15: 8208 | I15: -655 | J15: -7.9800195
B16: 25 bis unter 55 Jahre | C16: 45.995167 | D16: 15987 | E16: 15376 | F16: 15970 | G16: 17003 | H16: 16991 | I16: -1004 | J16: -5.9090107
B17: 55 bis unter 65 Jahre | C17: 14.629726 | D17: 5085 | E17: 4834 | F17: 4998 | G17: 5116 | H17: 5188 | I17: -103 | J17: -1.9853508
B18: 65 Jahre und älter | C18: 17.644859 | D18: 6133 | E18: 5958 | F18: 6164 | G18: 6300 | H18: 6193 | I18: -60 | J18: -0.96883578
B19: dar.: bis zur Altersgrenze | C19: 1.7204672 | D19: 598 | E19: 571 | F19: 636 | G19: 682 | H19: 695 | I19: -97 | J19: -13.956835
A20: dar. | B20: Deutsche | C20: 90.992002 | D20: 31627 | E20: 30689 | F20: 31843 | G20: 33802 | H20: 33463 | I20: -1836 | J20: -5.4866569
B21: Ausländer | C21: 8.8756545 | D21: 3085 | E21: 2729 | F21: 2928 | G21: 3152 | H21: 3079 | I21: 6 | J21: 0.19486846
A22: Bundesland Sachsen
A23: Insgesamt | C23: 100 | D23: 210849 | E23: 206344 | F23: 211191 | G23: 221416 | H23: 220956 | I23: -10107 | J23: -4.5742139
A24: dav. | B24: Männer | C24: 45.169766 | D24: 95240 | E24: 93254 | F24: 95552 | G24: 98939 | H24: 98664 | I24: -3424 | J24: -3.4703641
B25: Frauen | C25: 54.830234 | D25: 115609 | E25: 113090 | F25: 115639 | G25: 122477 | H25: 122292 | I25: -6683 | J25: -5.4647892
A26: dav. | B26: unter 25 Jahre | C26: 16.379969 | D26: 34537 | E26: 33470 | F26: 33916 | G26: 36199 | H26: 35407 | I26: -870 | J26: -2.4571412
B27: 25 bis unter 55 Jahre | C27: 39.836566 | D27: 83995 | E27: 82053 | F27: 84195 | G27: 88824 | H27: 88671 | I27: -4676 | J27: -5.2734265
B28: 55 bis unter 65 Jahre | C28: 19.084274 | D28: 40239 | E28: 40072 | F28: 41507 | G28: 42873 | H28: 43663 | I28: -3424 | J28: -7.8418799
B29: 65 Jahre und älter | C29: 24.699192 | D29: 52078 | E29: 50749 | F29: 51572 | G29: 53519 | H29: 53214 | I29: -1136 | J29: -2.1347766
B30: dar.: bis zur Altersgrenze | C30: 2.7071506 | D30: 5708 | E30: 5573 | F30: 5776 | G30: 6057 | H30: 6154 | I30: -446 | J30: -7.2473188
A31: dar. | B31: Deutsche | C31: 94.071113 | D31: 198348 | E31: 195043 | F31: 199345 | G31: 208839 | H31: 208590 | I31: -10242 | J31: -4.9101107
B32: Ausländer | C32: 5.8496839 | D32: 12334 | E32: 11135 | F32: 11673 | G32: 12378 | H32: 12175 | I32: 159 | J32: 1.3059548
A33: Ostdeutschland
A34: Insgesamt | C34: 100 | D34: 824418 | E34: 807727 | F34: 827771 | G34: 869191 | H34: 869265 | I34: -44847 | J34: -5.1591862
A35: dav. | B35: Männer | C35: 45.631342 | D35: 376193 | E35: 368039 | F35: 376600 | G35: 392372 | H35: 392701 | I35: -16508 | J35: -4.2037071
B36: Frauen | C36: 54.368658 | D36: 448225 | E36: 439688 | F36: 451171 | G36: 476819 | H36: 476564 | I36: -28339 | J36: -5.9465255
A37: dav. | B37: unter 25 Jahre | C37: 16.786873 | D37: 138394 | E37: 135028 | F37: 136534 | G37: 146803 | H37: 145061 | I37: -6667 | J37: -4.5959975
B38: 25 bis unter 55 Jahre | C38: 42.506714 | D38: 350433 | E38: 342924 | F38: 352977 | G38: 373475 | H38: 373209 | I38: -22776 | J38: -6.1027467
B39: 55 bis unter 65 Jahre | C39: 19.209794 | D39: 158369 | E39: 157150 | F39: 162393 | G39: 167462 | H39: 169905 | I39: -11536 | J39: -6.7896766
B40: 65 Jahre und älter | C40: 21.496134 | D40: 177218 | E40: 172621 | F40: 175862 | G40: 181447 | H40: 181087 | I40: -3869 | J40: -2.1365421
B41: dar.: bis zur Altersgrenze | C41: 2.3691865 | D41: 19532 | E41: 18948 | F41: 19876 | G41: 20815 | H41: 21300 | I41: -1768 | J41: -8.3004695
A42: dar. | B42: Deutsche | C42: 91.233937 | D42: 752149 | E42: 739883 | F42: 757384 | G42: 792993 | H42: 794963 | I42: -42814 | J42: -5.3856595
...

Sheet Tabelle 3.2
L1: Beschäftigungsstatistik
A3: 3.2 Geringfügig entlohnte Beschäftigte nach ausgewählten Merkmalen
A4: Leipzig, Stadt (14713); Gebietsstand des jeweiligen Stichtags
A5: Stichtag: 30. September 2020
A7: Merkmale | E7: Anteile in % 1) | F7: geringfügig entlohnte Beschäftigte am Stichtag Ende ... | K7: Veränderung gegenüber dem Vorjahresstichtag (Spalte 1 zu Spalte 5)
F8: Sep. 20 | G8: Jun. 20 | H8: Mrz. 20 | I8: Dez. 19 | J8: Sep. 19
K9: absolut | L9: in %
F10: 1 | G10: 2 | H10: 3 | I10: 4 | J10: 5 | K10: 6 | L10: 7
A11: Insgesamt | E11: 100 | F11: 34758 | G11: 33455 | H11: 34810 | I11: 36994 | J11: 36580 | K11: -1822 | L11: -4.9808639
A12: nach dem Geschlecht dav. Männer | E12: 45.224121 | F12: 15719 | G12: 15236 | H12: 15941 | I12: 16753 | J12: 16485 | K12: -766 | L12: -4.6466485
B13: Frauen | E13: 54.775879 | F13: 19039 | G13: 18219 | H13: 18869 | I13: 20241 | J13: 20095 | K13: -1056 | L13: -5.2550386
A14: nach Altersgruppen und Geschlecht dav. unter 25 Jahre | E14: 21.730249 | F14: 7553 | G14: 7287 | H14: 7678 | I14: 8575 | J14: 8208 | K14: -655 | L14: -7.9800195
C15: Männer | E15: 42.896862 | F15: 3240 | G15: 3148 | H15: 3348 | I15: 3683 | J15: 3550 | K15: -310 | L15: -8.7323944
C16: Frauen | E16: 57.103138 | F16: 4313 | G16: 4139 | H16: 4330 | I16: 4892 | J16: 4658 | K16: -345 | L16: -7.4066123
B17: 25 bis unter 55 Jahre | E17: 45.995167 | F17: 15987 | G17: 15376 | H17: 15970 | I17: 17003 | J17: 16991 | K17: -1004 | L17: -5.9090107
C18: Männer | E18: 45.530744 | F18: 7279 | G18: 6998 | H18: 7349 | I18: 7760 | J18: 7680 | K18: -401 | L18: -5.2213542
C19: Frauen | E19: 54.469256 | F19: 8708 | G19: 8378 | H19: 8621 | I19: 9243 | J19: 9311 | K19: -603 | L19: -6.4762109
B20: 55 bis unter 65 Jahre | E20: 14.629726 | F20: 5085 | G20: 4834 | H20: 4998 | I20: 5116 | J20: 5188 | K20: -103 | L20: -1.9853508
C21: Männer | E21: 39.665683 | F21: 2017 | G21: 1941 | H21: 1984 | I21: 2012 | J21: 2042 | K21: -25 | L21: -1.2242899
C22: Frauen | E22: 60.334317 | F22: 3068 | G22: 2893 | H22: 3014 | I22: 3104 | J22: 3146 | K22: -78 | L22: -2.4793388
B23: 65 Jahre und älter | E23: 17.644859 | F23: 6133 | G23: 5958 | H23: 6164 | I23: 6300 | J23: 6193 | K23: -60 | L23: -0.96883578
C24: Männer | E24: 51.89956 | F24: 3183 | G24: 3149 | H24: 3260 | I24: 3298 | J24: 3213 | K24: -30 | L24: -0.93370682
C25: Frauen | E25: 48.10044 | F25: 2950 | G25: 2809 | H25: 2904 | I25: 3002 | J25: 2980 | K25: -30 | L25: -1.0067114
C26: dar. | D26: bis zur Altersgrenze | E26: 1.7204672 | F26: 598 | G26: 571 | H26: 636 | I26: 682 | J26: 695 | K26: -97 | L26: -13.956835
D27: Männer | E27: 47.157191 | F27: 282 | G27: 297 | H27: 313 | I27: 331 | J27: 346 | K27: -64 | L27: -18.49711
D28: Frauen | E28: 52.842809 | F28: 316 | G28: 274 | H28: 323 | I28: 351 | J28: 349 | K28: -33 | L28: -9.4555874
A29: nach Nationalität und Geschlecht dar. Deutsche | E29: 90.992002 | F29: 31627 | G29: 30689 | H29: 31843 | I29: 33802 | J29: 33463 | K29: -1836 | L29: -5.4866569
C30: Männer | E30: 44.167958 | F30: 13969 | G30: 13711 | H30: 14275 | I30: 14986 | J30: 14780 | K30: -811 | L30: -5.4871448
C31: Frauen | E31: 55.832042 | F31: 17658 | G31: 16978 | H31: 17568 | I31: 18816 | J31: 18683 | K31: -1025 | L31: -5.4862709
B32: Ausländer | E32: 8.8756545 | F32: 3085 | G32: 2729 | H32: 2928 | I32: 3152 | J32: 3079 | K32: 6 | L32: 0.19486846
C33: Männer | E33: 56.207455 | F33: 1734 | G33: 1513 | H33: 1654 | I33: 1755 | J33: 1689 | K33: 45 | L33: 2.6642984
C34: Frauen | E34: 43.792545 | F34: 1351 | G34: 1216 | H34: 1274 | I34: 1397 | J34: 1390 | K34: -39 | L34: -2.8057554
A35: nach dem Berufsabschluss und Geschlecht dav. ohne beruflichen Ausbildungsabschluss | E35: 20.274469 | F35: 7047 | G35: 6848 | H35: 7136 | I35: 7852 | J35: 7602 | K35: -555 | L35: -7.3007103
C36: Männer | E36: 44.586349 | F36: 3142 | G36: 3075 | H36: 3232 | I36: 3486 | J36: 3399 | K36: -257 | L36: -7.5610474
C37: Frauen | E37: 55.413651 | F37: 3905 | G37: 3773 | H37: 3904 | I37: 4366 | J37: 4203 | K37: -298 | L37: -7.0901737
B38: mit anerkanntem Berufsabschluss 2) | E38: 47.525749 | F38: 16519 | G38: 15950 | H38: 16520 | I38: 17272 | J38: 17227 | K38: -708 | L38: -4.1098276
C39: Männer | E39: 45.79575 | F39: 7565 | G39: 7304 | H39: 7599 | I39: 7898 | J39: 7832 | K39: -267 | L39: -3.4090909
C40: Frauen | E40: 54.20425 | F40: 8954 | G40: 8646 | H40: 8921 | I40: 9374 | J40: 9395 | K40: -441 | L40: -4.6939862
B41: mit akademischem Abschluss 3) | E41: 16.554462 | F41: 5754 | G41: 5634 | H41: 5775 | I41: 6050 | J41: 5958 | K41: -204 | L41: -3.4239678
C42: Männer | E42: 44.264859 | F42: 2547 | G42: 2523 | H42: 2633 | I42: 2708 | J42: 2666 | K42: -119 | L42: -4.4636159
...

Sheet Tabelle 3.3
J1: Beschäftigungsstatistik
A3: 3.3 Geringfügig entlohnte Beschäftigte nach der Klassifikation der Wirtschaftszweige 2008 (WZ 2008)
A4: Leipzig, Stadt (14713); Gebietsstand des jeweiligen Stichtags
A5: Stichtag: 30. September 2020
A7: Wirtschaftsabschnitte / Wirtschaftsabteilungen / Wirtschaftsgruppen WZ 2008 | C7: Anteile in % 1) | D7: geringfügig entlohnte Beschäftigte am Stichtag Ende ... | I7: Veränderung gegenüber dem Vorjahresstichtag (Spalte 1 zu Spalte 5)
D8: Sep. 20 | E8: Jun. 20 | F8: Mrz. 20 | G8: Dez. 19 | H8: Sep. 19
I9: absolut | J9: in %
D10: 1 | E10: 2 | F10: 3 | G10: 4 | H10: 5 | I10: 6 | J10: 7
A11: Insgesamt | C11: 100 | D11: 34758 | E11: 33455 | F11: 34810 | G11: 36994 | H11: 36580 | I11: -1822 | J11: -4.9808639
A12: A | B12: Land-, Forstwirtschaft und Fischerei | C12: 0.15823695 | D12: 55 | E12: 63 | F12: 50 | G12: 53 | H12: 56 | I12: -1 | J12: -1.7857143
A13: B,D,E | B13: Bergbau, Energie- und Wasserversorgung, Entsorgungswirtschaft | C13: 0.19851545 | D13: 69 | E13: 60 | F13: 56 | G13: 57 | H13: 53 | I13: 16 | J13: 30.188679
A14: C | B14: Verarbeitendes Gewerbe | C14: 3.245296 | D14: 1128 | E14: 1130 | F14: 1165 | G14: 1132 | H14: 1113 | I14: 15 | J14: 1.3477089
A15: dav. 10-15, 18, 21, 31 | B15: Herstellung von überwiegend häuslich konsumierten Gütern (ohne Güter der Metall-, Elektro- und Chemieindustrie) | C15: 0.85160251 | D15: 296 | E15: 291 | F15: 300 | G15: 302 | H15: 299 | I15: -3 | J15: -1.0033445
A16: 24-30, 32, 33 | B16: Metall- und Elektroindustrie sowie Stahlindustrie | C16: 2.1491455 | D16: 747 | E16: 752 | F16: 772 | G16: 734 | H16: 721 | I16: 26 | J16: 3.6061026
A17: 16, 17, 19, 20, ,22, 23 | B17: Hrst. v. Vorleistungsgütern, insb. v. chem. Erzeugnissen u. Kunststoffwaren (ohne Güter der Metall- u. Elektroindustrie) | C17: 0.24454802 | D17: 85 | E17: 87 | F17: 93 | G17: 96 | H17: 93 | I17: -8 | J17: -8.6021505
A18: F | B18: Baugewerbe | C18: 3.0208873 | D18: 1050 | E18: 1076 | F18: 1070 | G18: 1101 | H18: 1089 | I18: -39 | J18: -3.5812672
A19: G | B19: Handel, Instandhaltung, Reparatur von Kfz | C19: 13.306289 | D19: 4625 | E19: 4552 | F19: 4580 | G19: 4811 | H19: 4572 | I19: 53 | J19: 1.1592301
A20: H | B20: Verkehr und Lagerei | C20: 4.2723977 | D20: 1485 | E20: 1426 | F20: 1438 | G20: 1440 | H20: 1441 | I20: 44 | J20: 3.0534351
A21: I | B21: Gastgewerbe | C21: 14.451349 | D21: 5023 | E21: 4522 | F21: 4760 | G21: 5424 | H21: 5504 | I21: -481 | J21: -8.7390988
A22: J | B22: Information und Kommunikation | C22: 2.5030209 | D22: 870 | E22: 886 | F22: 955 | G22: 1017 | H22: 1028 | I22: -158 | J22: -15.36965
A23: K | B23: Erbringung von Finanz- und Versicherungsdienstleistungen | C23: 1.0645031 | D23: 370 | E23: 351 | F23: 355 | G23: 357 | H23: 352 | I23: 18 | J23: 5.1136364
... A26: dav. N (ohne ANÜ) | B26: sonstige wirtschaftliche Dienstleistungen (ohne Arbeitnehmerüberlassung) | C26: 18.873353 | D26: 6560 | E26: 5866 | F26: 6383 | G26: 6664 | H26: 6696 | I26: -136 | J26: -2.0310633
A27: 782.783 | B27: Arbeitnehmerüberlassung | C27: 1.786639 | D27: 621 | E27: 609 | F27: 788 | G27: 963 | H27: 937 | I27: -316 | J27: -33.724653
A28: O, U | B28: Öffentliche Verwaltung, Verteidigung, Sozialversicherung, Ext. Organisationen | C28: 0.46032568 | D28: 160 | E28: 161 | F28: 166 | G28: 180 | H28: 184 | I28: -24 | J28: -13.043478
A29: P | B29: Erziehung und Unterricht | C29: 4.6377812 | D29: 1612 | E29: 1733 | F29: 1727 | G29: 1984 | H29: 1768 | I29: -156 | J29: -8.8235294
A30: 86 | B30: Gesundheitswesen | C30: 6.4704528 | D30: 2249 | E30: 2233 | F30: 2305 | G30: 2297 | H30: 2247 | I30: 2 | J30: 0.089007566
A31: 87.88 | B31: Heime und Sozialwesen | C31: 2.4800046 | D31: 862 | E31: 876 | F31: 874 | G31: 911 | H31: 912 | I31: -50 | J31: -5.4824561
A32: R,S,T | B32: sonstige Dienstleistungen, Private Haushalte | C32: 8.7289257 | D32: 3034 | E32: 3028 | F32: 3040 | G32: 3283 | H32: 3313 | I32: -279 | J32: -8.4213704
B33: keine Zuordnung möglich | C33: 0 | D33: 0 | E33: 0 | F33: 0 | G33: 0 | H33: 0 | I33: 0 | J33: 0
A34: davon nach Sektoren:
A35: A | B35: Land-, Forstwirtschaft und Fischerei | C35: 0.15823695 | D35: 55 | E35: 63 | F35: 50 | G35: 53 | H35: 56 | I35: -1 | J35: -1.7857143
A36: B - F | B36: Produzierendes Gewerbe | C36: 6.4646988 | D36: 2247 | E36: 2266 | F36: 2291 | G36: 2290 | H36: 2255 | I36: -8 | J36: -0.35476718
A37: G - U | B37: Dienstleistungsbereich | C37: 93.377064 | D37: 32456 | E37: 31126 | F37: 32469 | G37: 34651 | H37: 34269 | I37: -1813 | J37: -5.2904958
J38: © Statistik der Bundesagentur für Arbeit
A39: 1) Anteil an der jeweiligen Gesamtsumme (Spaltenprozent)
A40: *) Aus Datenschutzgründen und Gründen der statistischen Geheimhaltung werden Zahlenwerte von 1 oder 2 und Daten, aus denen rechnerisch auf einen solchen Zahlenwert geschlossen werden kann, anonymisiert. Gleiches gilt, wenn in einer Region weniger als 3 Betriebe ansässig sind oder einer der Betriebe einen so hohen Beschäftigtenanteil auf sich vereint, dass die Beschäftigtenzahl praktisch eine Einzelangabe über den Branchenführer darstellt (Dominanzfall).

Sheet Tabelle 3.4
K1: Beschäftigungsstatistik
A3: 3.4 Geringfügig entlohnte Beschäftigte nach der Klassifikation der Berufe (KldB 2010)
A4: Leipzig, Stadt (14713); Gebietsstand des jeweiligen Stichtags
A5: Stichtag: 30. September 2020
A7: Anforderungsniveau/ Berufshauptgruppen/-gruppen (KldB2010) | D7: Anteile in % 1) | E7: geringfügig entlohnte Beschäftigte am Stichtag Ende ... | J7: Veränderung gegenüber dem Vorjahresstichtag (Spalte 1 zu Spalte 5)
E8: Sep. 20 | F8: Jun. 20 | G8: Mrz. 20 | H8: Dez. 19 | I8: Sep. 19
J9: absolut | K9: in %
E10: 1 | F10: 2 | G10: 3 | H10: 4 | I10: 5 | J10: 6 | K10: 7
A11: Insgesamt | D11: 100 | E11: 34758 | F11: 33455 | G11: 34810 | H11: 36994 | I11: 36580 | J11: -1822 | K11: -4.9808639
A12: darunter nach Anforderungsniveau der ausgeübten Tätigkeit (KldB 2010)
A13: Helfer | D13: 38.929167 | E13: 13531 | F13: 12589 | G13: 13302 | H13: 14061 | I13: 14141 | J13: -610 | K13: -4.3136978
A14: Fachkraft | D14: 46.038322 | E14: 16002 | F14: 15482 | G14: 16051 | H14: 17115 | I14: 16936 | J14: -934 | K14: -5.5148795
A15: Spezialist | D15: 6.2230278 | E15: 2163 | F15: 2142 | G15: 2241 | H15: 2317 | I15: 2278 | J15: -115 | K15: -5.048288
A16: Experte | D16: 6.8502215 | E16: 2381 | F16: 2533 | G16: 2527 | H16: 2776 | I16: 2511 | J16: -130 | K16: -5.1772202
A17: davon nach Berufsfachlichkeit der ausgeübten Tätigkeit (KldB 2010)
A18: 11 | B18: Land-, Tier-, Forstwirtschaftsberufe | D18: 0.2272858 | E18: 79 | F18: 81 | G18: 70 | H18: 71 | I18: 77 | J18: 2 | K18: 2.5974026
A19: dar. 111 | B19: Landwirtschaft | D19: 0.08343403 | E19: 29 | F19: 32 | G19: 26 | H19: 27 | I19: 26 | J19: 3 | K19: 11.538462
A20: 12 | B20: Gartenbauberufe, Floristik | D20: 0.51786639 | E20: 180 | F20: 184 | G20: 162 | H20: 178 | I20: 178 | J20: 2 | K20: 1.1235955
A21: 21 | B21: Rohstoffgewinn,Glas-,Keramikverarbeitung | D21: 0.051786639 | E21: 18 | F21: 21 | G21: 26 | H21: 22 | I21: 23 | J21: -5 | K21: -21.73913
A22: 22 | B22: Kunststoff- u. Holzherst.,-verarbeitung | D22: 0.20139249 | E22: 70 | F22: 74 | G22: 83 | H22: 83 | I22: 76 | J22: -6 | K22: -7.8947368
A23: 23 | B23: Papier-,Druckberufe, tech.Mediengestalt. | D23: 0.4459405 | E23: 155 | F23: 153 | G23: 180 | H23: 175 | I23: 180 | J23: -25 | K23: -13.888889
A24: 24 | B24: Metallerzeugung,-bearbeitung, Metallbau | D24: 0.25030209 | E24: 87 | F24: 85 | G24: 91 | H24: 87 | I24: 86 | J24: 1 | K24: 1.1627907
A25: 25 | B25: Maschinen- und Fahrzeugtechnikberufe | D25: 1.4931814 | E25: 519 | F25: 536 | G25: 536 | H25: 501 | I25: 473 | J25: 46 | K25: 9.7251586
A26: 26 | B26: Mechatronik-, Energie- u. Elektroberufe | D26: 0.58979228 | E26: 205 | F26: 199 | G26: 206 | H26: 220 | I26: 213 | J26: -8 | K26: -3.7558685
A27: 27 | B27: Techn.Entwickl.Konstr.Produktionssteuer. | D27: 0.5754071 | E27: 200 | F27: 205 | G27: 201 | H27: 192 | I27: 197 | J27: 3 | K27: 1.5228426
A28: 28 | B28: Textil- und Lederberufe | D28: 0.10069624 | E28: 35 | F28: 35 | G28: 34 | H28: 34 | I28: 38 | J28: -3 | K28: -7.8947368
A29: 29 | B29: Lebensmittelherstellung u. -verarbeitung | D29: 3.0669198 | E29: 1066 | F29: 1003 | G29: 1014 | H29: 1197 | I29: 1220 | J29: -154 | K29: -12.622951
A30: dar. 292 | B30: Lebensmittel- u. Genussmittelherstellung | D30: * | E30: * | F30: * | G30: * | H30: * | I30: * | J30: * | K30: *
A31: dar. 293 | B31: Speisenzubereitung | D31: 2.6957823 | E31: 937 | F31: 882 | G31: 908 | H31: 1083 | I31: 1107 | J31: -170 | K31: -15.35682
A32: 31 | B32: Bauplanung,Architektur,Vermessungsberufe | D32: 0.35387537 | E32: 123 | F32: 115 | G32: 124 | H32: 113 | I32: 114 | J32: 9 | K32: 7.8947368
A33: 32 | B33: Hoch- und Tiefbauberufe | D33: 0.51786639 | E33: 180 | F33: 184 | G33: 173 | H33: 186 | I33: 199 | J33: -19 | K33: -9.5477387
A34: 33 | B34: (Innen-)Ausbauberufe | D34: 0.27619541 | E34: 96 | F34: 99 | G34: 92 | H34: 103 | I34: 101 | J34: -5 | K34: -4.950495
A35: 34 | B35: Gebäude- u. versorgungstechnische Berufe | D35: 3.7056217 | E35: 1288 | F35: 1272 | G35: 1322 | H35: 1396 | I35: 1372 | J35: -84 | K35: -6.122449
A36: 41 | B36: Mathematik-Biologie-Chemie-,Physikberufe | D36: 0.25605616 | E36: 89 | F36: 88 | G36: 103 | H36: 103 | I36: 94 | J36: -5 | K36: -5.3191489
A37: 42 | B37: Geologie-,Geografie-,Umweltschutzberufe | D37: 0.08343403 | E37: 29 | F37: 31 | G37: 28 | H37: 27 | I37: 26 | J37: 3 | K37: 11.538462
A38: 43 | B38: Informatik- und andere IKT-Berufe | D38: 0.61280856 | E38: 213 | F38: 201 | G38: 214 | H38: 214 | I38: 204 | J38: 9 | K38: 4.4117647
A39: 51 | B39: Verkehr, Logistik (außer Fahrzeugführ.) | D39: 8.5505495 | E39: 2972 | F39: 2875 | G39: 2938 | H39: 2932 | I39: 2901 | J39: 71 | K39: 2.4474319
A40: dar. 513 | B40: Lagerwirt.,Post,Zustellung,Güterumschlag | D40: 8.3549111 | E40: 2904 | F40: 2807 | G40: 2872 | H40: 2873 | I40: 2839 | J40: 65 | K40: 2.2895386
B41: dar. Berufe in der Lagerwirtschaft (5131) | D41: 2.592209 | E41: 901 | F41: 858 | G41: 897 | H41: 893 | I41: 832 | J41: 69 | K41: 8.2932692
A42: 52 | B42: Führer von Fahrzeug- u. Transportgeräten | D42: 5.8144888 | E42: 2021 | F42: 1959 | G42: 1949 | H42: 1984 | I42: 1931 | J42: 90 | K42: 4.6607975
...

Sheet Tabelle 4.1
L1: Beschäftigungsstatistik
A3: 4.1 Begonnene sozialversicherungspflichtige Beschäftigungsverhältnisse und darunter befristete Beschäftigungsverhältnisse sowie Befristungsanteile nach ausgewählten Merkmalen
A4: Leipzig, Stadt (14713); Gebietsstand des jeweiligen Stichtags
A5: 3. Quartal 2020
A7: Merkmale | F7: Insgesamt
F8: 3. Quartal 2020 | G8: 2. Quartal 2020 | H8: 1. Quartal 2020 | I8: 4. Quartal 2019 | J8: 3. Quartal 2019 | K8: Veränderung gegenüber dem Vorjahresquartal (Spalte 1 zu Spalte 5)
K9: absolut | L9: in %(-Pkt.)
F10: 1 | G10: 2 | H10: 3 | I10: 4 | J10: 5 | K10: 6 | L10: 7
A11: begonnene sozialversicherungspflichtige Beschäftigungsverhältnisse (begBV)
A12: Insgesamt | F12: 33037 | G12: 18358 | H12: 27192 | I12: 25692 | J12: 32696 | K12: 341 | L12: 1.042941
A13: dav.: | B13: Männer | F13: 18218 | G13: 10343 | H13: 15696 | I13: 14439 | J13: 17687 | K13: 531 | L13: 3.002205
B14: Frauen | F14: 14819 | G14: 8015 | H14: 11496 | I14: 11253 | J14: 15009 | K14: -190 | L14: -1.2659071
A15: dar.: | B15: unter 25 Jahre | F15: 9665 | G15: 3013 | H15: 4505 | I15: 4886 | J15: 9235 | K15: 430 | L15: 4.6561992
B16: 25 bis unter 55 Jahre | F16: 20337 | G16: 13450 | H16: 19416 | I16: 17737 | J16: 19998 | K16: 339 | L16: 1.6951695
B17: 55 bis unter 65 Jahre | F17: 2484 | G17: 1659 | H17: 2625 | I17: 2224 | J17: 2572 | K17: -88 | L17: -3.4214619
B18: 65 Jahre und älter | F18: 551 | G18: 236 | H18: 646 | I18: 845 | J18: 891 | K18: -340 | L18: -38.159371
A19: dar. | B19: in Vollzeit | F19: 21746 | G19: 11696 | H19: 17285 | I19: 15491 | J19: 21275 | K19: 471 | L19: 2.213866
B20: in Teilzeit | F20: 11291 | G20: 6662 | H20: 9907 | I20: 10201 | J20: 11421 | K20: -130 | L20: -1.1382541
A21: dar. | B21: Deutsche | F21: 27335 | G21: 15379 | H21: 22892 | I21: 21539 | J21: 27654 | K21: -319 | L21: -1.1535402
B22: Ausländer | F22: 5624 | G22: 2901 | H22: 4227 | I22: 4063 | J22: 4928 | K22: 696 | L22: 14.123377
A23: dar.: | B23: Auszubildende | F23: 3742 | G23: 148 | H23: 354 | I23: 678 | J23: 3696 | K23: 46 | L23: 1.2445887
A24: Befristungsanteil 2)
A25: Insgesamt | F25: 43.6 | G25: 49.5 | H25: 42.5 | I25: 49.5 | J25: 45.7 | K25: x | L25: -2.1
A26: dav. | B26: Männer | F26: 42.4 | G26: 47 | H26: 39.7 | I26: 47.3 | J26: 43.1 | K26: x | L26: -0.7
B27: Frauen | F27: 45.2 | G27: 52.8 | H27: 46.4 | I27: 52.4 | J27: 48.7 | K27: x | L27: -3.5
A28: dar. | B28: unter 25 Jahre | F28: 49 | G28: 56.7 | H28: 47.4 | I28: 54.6 | J28: 51.4 | K28: x | L28: -2.4
B29: 25 bis unter 55 Jahre | F29: 42.2 | G29: 48.2 | H29: 41.3 | I29: 47.3 | J29: 43.6 | K29: x | L29: -1.4
B30: 55 bis unter 65 Jahre | F30: 39.2 | G30: 46.3 | H30: 37.8 | I30: 49.5 | J30: 43.2 | K30: x | L30: -4
B31: 65 Jahre und älter | F31: 61 | G31: 60.6 | H31: 65.4 | I31: 71.6 | J31: 62.6 | K31: x | L31: -1.6
A32: dar. | B32: in Vollzeit | F32: 42.2 | G32: 49.6 | H32: 40.8 | I32: 48.3 | J32: 43.7 | K32: x | L32: -1.5
B33: in Teilzeit | F33: 45.9 | G33: 49.2 | H33: 45.5 | I33: 51.3 | J33: 48.6 | K33: x | L33: -2.7
A34: dar. | B34: Deutsche | F34: 43.9 | G34: 51.5 | H34: 43.8 | I34: 50.6 | J34: 47.2 | K34: x | L34: -3.3
B35: Ausländer | F35: 41.9 | G35: 37.6 | H35: 35 | I35: 43 | J35: 36.6 | K35: x | L35: 5.3
A36: dar.: beg. svpfl. BV in der SvB-Kerngruppe 3) | F36: 28443 | G36: 18107 | H36: 26619 | I36: 24739 | J36: 28153 | K36: 290 | L36: 1.0300856
B37: dar. | C37: befristet | F37: 12406 | G37: 8963 | H37: 11317 | I37: 12254 | J37: 12852 | K37: -446 | L37: -3.470277
B38: dav. | C38: Männer | F38: 15823 | G38: 10216 | H38: 15415 | I38: 13956 | J38: 15356 | K38: 467 | L38: 3.0411566
C39: dar. befristet | F39: 6705 | G39: 4800 | H39: 6113 | I39: 6604 | J39: 6623 | K39: 82 | L39: 1.2381096
C40: Frauen | F40: 12620 | G40: 7891 | H40: 11204 | I40: 10783 | J40: 12797 | K40: -177 | L40: -1.3831367
C41: dar. befristet | F41: 5701 | G41: 4163 | H41: 5204 | I41: 5650 | J41: 6229 | K41: -528 | L41: -8.476481
B42: dar. | C42: unter 25 Jahren | F42: 5633 | G42: 2854 | H42: 4100 | I42: 4135 | J42: 5337 | K42: 296 | L42: 5.546187
...

Sheet Tabelle 4.2
J1: Beschäftigungsstatistik
A3: 4.2 Begonnene sozialversicherungspflichtige Beschäftigungsverhältnisse nach der Klassifikation der Wirtschaftszweige 2008 (WZ 2008)
A4: Leipzig, Stadt (14713); Gebietsstand des jeweiligen Stichtags
A5: 3. Quartal 2020
A7: Wirtschaftsabschnitte / Wirtschaftsabteilungen / Wirtschaftsgruppen WZ 2008 | C7: Anteile in % 1) | D7: begonnene sozialversicherungspflichtige Beschäftigungsverhältnisse2) im… | I7: Veränderung gegenüber dem Vorjahresquartal (Spalte 1 zu Spalte 5)
D8: 3. Quartal 2020 | E8: 2. Quartal 2020 | F8: 1. Quartal 2020 | G8: 4. Quartal 2019 | H8: 3. Quartal 2019
I9: absolut | J9: in %
D10: 1 | E10: 2 | F10: 3 | G10: 4 | H10: 5 | I10: 6 | J10: 7
A11: Insgesamt | C11: 100 | D11: 33037 | E11: 18358 | F11: 27192 | G11: 25692 | H11: 32696 | I11: 341 | J11: 1.042941
A12: A | B12: Land-, Forstwirtschaft und Fischerei | C12: 0.099888004 | D12: 33 | E12: 30 | F12: 47 | G12: 18 | H12: 67 | I12: -34 | J12: -50.746269
A13: B,D,E | B13: Bergbau, Energie- und Wasserversorgung, Entsorgungswirtschaft | C13: 0.6235433 | D13: 206 | E13: 151 | F13: 231 | G13: 139 | H13: 199 | I13: 7 | J13: 3.5175879
A14: C | B14: Verarbeitendes Gewerbe | C14: 3.8804976 | D14: 1282 | E14: 458 | F14: 1660 | G14: 1247 | H14: 989 | I14: 293 | J14: 29.625885
A15: dav. 10-15, 18, 21, 31 | B15: Herstellung von überwiegend häuslich konsumierten Gütern (ohne Güter der Metall-, Elektro- und Chemieindustrie) | C15: 0.5902473 | D15: 195 | E15: 79 | F15: 220 | G15: 161 | H15: 188 | I15: 7 | J15: 3.7234043
A16: 24-30, 32, 33 | B16: Metall- und Elektroindustrie sowie Stahlindustrie | C16: 2.167267 | D16: 716 | E16: 330 | F16: 1337 | G16: 1037 | H16: 729 | I16: -13 | J16: -1.7832647
A17: 16, 17, 19, 20, ,22, 23 | B17: Hrst. v. Vorleistungsgütern, insb. v. chem. Erzeugnissen u. Kunststoffwaren (ohne Güter der Metall- u. Elektroindustrie) | C17: 1.1229833 | D17: 371 | E17: 49 | F17: 103 | G17: 49 | H17: 72 | I17: 299 | J17: .X
A18: F | B18: Baugewerbe | C18: 3.9894664 | D18: 1318 | E18: 1080 | F18: 1473 | G18: 945 | H18: 1513 | I18: -195 | J18: -12.888301
A19: G | B19: Handel, Instandhaltung, Reparatur von Kfz | C19: 9.6407059 | D19: 3185 | E19: 2047 | F19: 2253 | G19: 2765 | H19: 2994 | I19: 191 | J19: 6.3794255
A20: H | B20: Verkehr und Lagerei | C20: 7.2978781 | D20: 2411 | E20: 696 | F20: 1198 | G20: 793 | H20: 1356 | I20: 1055 | J20: 77.80236
A21: I | B21: Gastgewerbe | C21: 6.2566214 | D21: 2067 | E21: 803 | F21: 1717 | G21: 1808 | H21: 2539 | I21: -472 | J21: -18.589996
A22: J | B22: Information und Kommunikation | C22: 14.359657 | D22: 4744 | E22: 4293 | F22: 4808 | G22: 4996 | H22: 5079 | I22: -335 | J22: -6.5957866
A23: K | B23: Erbringung von Finanz- und Versicherungsdienstleistungen | C23: 1.3500015 | D23: 446 | E23: 164 | F23: 241 | G23: 220 | H23: 371 | I23: 75 | J23: 20.215633
A24: L,M | B24: Immobilien, freiberufliche wissenschaftliche und technische Dienstleistungen | C24: 6.9043799 | D24: 2281 | E24: 1456 | F24: 2264 | G24: 1915 | H24: 2366 | I24: -85 | J24: -3.5925613
A25: N | B25: sonstige wirtschaftliche Dienstleistungen | C25: 23.979175 | D25: 7922 | E25: 3686 | F25: 6504 | G25: 6090 | H25: 7715 | I25: 207 | J25: 2.6830849
A26: dav. N (ohne ANÜ) | B26: sonstige wirtschaftliche Dienstleistungen (ohne Arbeitnehmerüberlassung) | C26: 11.741381 | D26: 3879 | E26: 1570 | F26: 3179 | G26: 2872 | H26: 3714 | I26: 165 | J26: 4.4426494
A27: 782.783 | B27: Arbeitnehmerüberlassung | C27: 12.237794 | D27: 4043 | E27: 2116 | F27: 3325 | G27: 3218 | H27: 4001 | I27: 42 | J27: 1.0497376
A28: O, U | B28: Öffentliche Verwaltung, Verteidigung, Sozialversicherung, Ext. Organisationen | C28: 1.9251143 | D28: 636 | E28: 266 | F28: 345 | G28: 330 | H28: 673 | I28: -37 | J28: -5.4977712
A29: P | B29: Erziehung und Unterricht | C29: 4.7764628 | D29: 1578 | E29: 875 | F29: 1027 | G29: 1284 | H29: 1632 | I29: -54 | J29: -3.3088235
A30: 86 | B30: Gesundheitswesen | C30: 6.0447377 | D30: 1997 | E30: 916 | F30: 1279 | G30: 1264 | H30: 1994 | I30: 3 | J30: 0.15045135
A31: 87.88 | B31: Heime und Sozialwesen | C31: 6.0084148 | D31: 1985 | E31: 836 | F31: 1179 | G31: 1111 | H31: 2037 | I31: -52 | J31: -2.5527737
A32: R,S,T | B32: sonstige Dienstleistungen, Private Haushalte | C32: 2.8634561 | D32: 946 | E32: 601 | F32: 966 | G32: 767 | H32: 1172 | I32: -226 | J32: -19.283276
B33: keine Zuordnung möglich | C33: 0 | D33: 0 | E33: 0 | F33: 0 | G33: 0 | H33: 0 | I33: 0 | J33: 0
A34: davon nach Sektoren:
A35: A | B35: Land-, Forstwirtschaft und Fischerei | C35: 0.099888004 | D35: 33 | E35: 30 | F35: 47 | G35: 18 | H35: 67 | I35: -34 | J35: -50.746269
A36: B - F | B36: Produzierendes Gewerbe | C36: 8.4935073 | D36: 2806 | E36: 1689 | F36: 3364 | G36: 2331 | H36: 2701 | I36: 105 | J36: 3.8874491
A37: G - U | B37: Dienstleistungsbereich | C37: 91.406605 | D37: 30198 | E37: 16639 | F37: 23781 | G37: 23343 | H37: 29928 | I37: 270 | J37: 0.9021652
J38: © Statistik der Bundesagentur für Arbeit
A39: 1) Anteil an der jeweiligen Gesamtsumme (Spaltenprozent)
