{"text_format":"1","workbook":"xlsx","n_sheets":32,"sheets":["Deckblatt","Impressum","Inhaltsverzeichnis","Hinweise_BST-Revision2017","1_Grafik","1","1 Roh-Daten","1.2 Steuerung","Steuerung1","2_Grafik","2","2_BV_Roh-Daten","2_BV Steuerung","3_Grafik","3","3 Roh-Daten","3 Steuerung","4_Grafik","4","4 Roh-Daten","4 Steuerung","5","6","7","8","9_Grafik","9","10 Steuerung","10 Rohdaten","10_Grafik","10","Statistik-Infoseite"],"not_rendered":{"charts":0,"images":4,"macros":0,"external_links":8,"defined_names":468,"comments":0,"pivot_tables":0},"unopened":[],"bounds":{"document_bytes":16777216,"sheet_cells":100000,"rows_first":2000,"rows_last":500,"rows_between":2000,"halvings":0,"cell_chars":16384,"cell_head_chars":4096},"cells_cut":0,"cells_raw":0,"read":"whole","date_system":"1900"}

{"sheet":"Deckblatt","index":0,"n_rows":0,"n_cols":0,"rows_kept":0,"cut":false,"hidden":false,"merged":[]}

{"sheet":"Impressum","index":1,"n_rows":49,"n_cols":3,"rows_kept":49,"cut":false,"hidden":false,"merged":[[32,2,32,5],[33,2,33,5],[36,2,36,5],[7,2,7,5],[9,2,9,5],[11,2,11,5],[15,2,15,5],[31,2,31,5],[35,2,35,5]]}
[]
[]
[]
["Impressum"]
[]
[]
[]
["Produktlinie/Reihe:",null,"Tabellen"]
[]
["Titel:",null,"Revision der Beschäftigungsstatistik 2017"]
[]
["Region:",null,"Deutschland, Länder, Regionaldirektionen und Agenturen für Arbeit (Arbeitsort)"]
[]
["Erstellungsdatum:",null,"2018-01-03"]
[]
["Hinweise:"]
[]
["Herausgeberin:",null,"Bundesagentur für Arbeit"]
[null,null,"Statistik"]
[]
["Rückfragen an:",null,"Zentraler Statistik-Service"]
[null,null,"Regensburger Straße 104"]
[null,null,"90478 Nürnberg"]
["E-Mail:",null,"Zentraler-Statistik-Service@arbeitsagentur.de"]
["Hotline:",null,"0911/179-3632"]
["Fax:",null,"0911/179-1131"]
[]
[]
[]
["Weiterführende statistische Informationen"]
[]
["Internet:",null,"http://statistik.arbeitsagentur.de "]
[null,null,"Register: \"Statistik nach Themen\""]
[null,null,"http://statistik.arbeitsagentur.de/Navigation/Statistik/Statistik-nach-Themen/Statistik-nach-Themen-Nav.html"]
[]
["Zitierhinweis:",null,"Statistik der Bundesagentur für Arbeit, Revision der Beschäftigungsstatistik 2017, Januar 2018"]
[]
[]
["Nutzungsbedingungen:",null,"© Statistik der Bundesagentur für Arbeit"]
[null,null,"Sie können Informationen speichern, (auch auszugsweise) mit Quellen-"]
[null,null,"angabe weitergeben, vervielfältigen und verbreiten. Die Inhalte dürfen"]
[null,null,"nicht verändert oder verfälscht werden. Eigene Berechnungen sind"]
[null,null,"erlaubt, jedoch als solche kenntlich zu machen."]
[null,null,"Im Falle einer Zugänglichmachung im Internet soll dies in Form einer"]
[null,null,"Verlinkung auf die Homepage der Statistik der Bundesagentur für Arbeit"]
[null,null,"erfolgen. "]
[null,null,"Die Nutzung der Inhalte für gewerbliche Zwecke, ausgenommen Presse, "]
[null,null,"Rundfunk und Fernsehen und wissenschaftliche Publikationen, bedarf"]
[null,null,"der Genehmigung durch die Statistik der Bundesagentur für Arbeit. "]

{"sheet":"Inhaltsverzeichnis","index":2,"n_rows":29,"n_cols":3,"rows_kept":29,"cut":false,"hidden":false,"merged":[[10,0,10,2]]}
[]
[]
[]
["Revision der Beschäftigungsstatistik 2017"]
[]
[]
[]
["Methodische Hinweise zur Revision 2017",null,"Hinweise"]
[]
[]
["Vergleich der Daten vor und nach der Revision - Stichtag 30.06.2016\nBeschäftigte, sozialversicherungspflichtig Beschäftigte und geringfügig Beschäftigte "]
[]
["Sozialversicherungspflichtig Beschäftigte und geringfügig Beschäftigte nach \nausgewählten Merkmalen - absolute Veränderung in % ",null,"1_Grafik"]
["Daten",null,"1"]
["Begonnene und beendete sozialversicherungspflichtige Beschäftigungsverhältnisse nach ausgewählten Merkmalen",null,"2_Grafik"]
["Daten",null,"2"]
["Sozialversicherungspflichtig Beschäftigte und geringfügig Beschäftigte nach Wirtschaftsabteilungen (WZ 2008)",null,"3_Grafik"]
["Daten",null,"3"]
["Sozialversicherungspflichtig Beschäftigte und geringfügig Beschäftigte nach der ausgeübten Tätigkeit (KldB 2010) und dem Anforderungsniveau",null,"4_Grafik"]
["Daten",null,"4"]
["Sozialversicherungspflichtig Beschäftigte und geringfügig Beschäftigte nach Ländern und Kreisen",null,"5"]
["Sozialversicherungspflichtig Beschäftigte und geringfügig Beschäftigte nach Regionaldirektionen und Agenturen für Arbeit",null,"6"]
["Begonnene und beendete sozialversicherungspflichtige Beschäftigungsverhältnisse nach Ländern und Kreisen",null,7]
["Begonnene und beendete sozialversicherungspflichtige Beschäftigungsverhältnisse nach Regionaldirektionen und Agenturen für Arbeit",null,8]
["Sozialversicherungspflichtig Beschäftigte nach ausgewählten Merkmalen",null,"9_Grafik"]
["Daten",null,"9"]
["Geringfügig Beschäftigte",null,"10_Grafik"]
["Daten",null,"10"]
["Statistik-Infoseite",null,"Infoseite"]

{"sheet":"Hinweise_BST-Revision2017","index":3,"n_rows":34,"n_cols":6,"rows_kept":34,"cut":false,"hidden":false,"merged":[[13,3,13,5],[30,0,30,5],[32,0,32,5],[33,0,33,5],[2,0,2,5],[5,0,8,5],[18,1,18,5],[24,1,24,5],[11,1,11,5],[9,0,9,5]]}
[null,null,null,null,null,"Beschäftigungsstatistik"]
[null,null,null,null,null,"Stand: Januar 2018"]
[]
["Methodische Hinweise - Revision der Beschäftigungsstatistik 2017"]
[]
["Im Jahr 2016 sind aufgrund eines technischen Problems im Datenverarbeitungsprozess in größerem Umfang Arbeitgebermeldungen zur Sozialversicherung nicht in die Statistik-Datenverarbeitung eingeflossen. Diese Meldungen wurden im Jahr 2017 nachträglich aufgenommen und die Ergebnisse der Beschäftigungsstatistik neu ermittelt. Daher erfolgt eine Revision der Beschäftigungsstatistik.\n"]
[]
[]
[]
["Folgende signifikante Effekte sind hervorzuheben:\n"]
[]
[null,"- Der Bestand an sozialversicherungspflichtig und geringfügig entlohnten Beschäftigten für die Berichtsmonate Juni und Juli 2016 war insgesamt leicht unterzeichnet."]
[]
[null,"Berichtsmonat","Messgröße","Revisionseffekt (gerundet)"]
[null,null,null,"sozialversicherungs-\npflichtig Beschäftigte","geringfügig entlohnte Beschäftigte","kurzfristig \nBeschäftigte"]
[null,"2016-06-01","Bestand","+ 69.600  (+ 0,2 %)","+ 7.300  (+ 0,1 %)","- 200  (- 0,1 %)"]
[null,"2016-07-01","Bestand","+ 119.900  (+ 0,4 %)","+ 16.300  (+ 0,2 %)","- 200  (- 0,1 %)"]
[]
[null,"- Die Anzahl der begonnenen und beendeten sozialversicherungspflichtigen Beschäftigungsverhältnisse war im \n1. Quartal 2016 untererfasst und ist durch die Revision korrigiert worden."]
[]
[null,"Berichtsmonat","Messgröße","Revisionseffekt \n(gerundet)"]
[null,"1. Quartal 2016","begonnene Beschäftigungsverhältnisse","+ 18.600  (+ 0,7 %)"]
[null,"1. Quartal 2016","beendete Beschäftigungsverhältnisse","+ 9.000  (+ 0,4 %)"]
[]
[null," - Die Anzahl der beendeten Beschäftigungsverhältnisse war vor der Revision im 2. und 3. Quartal 2016 deutlich überzeichnet."]
[]
[null,"Berichtsmonat","Messgröße","Revisionseffekt \n(gerundet)"]
[null,"2. Quartal 2016","beendete Beschäftigungsverhältnisse","- 56.800  (- 2,6 %)"]
[null,"3. Quartal 2016","beendete Beschäftigungsverhältnisse","- 62.300  (- 2,2 %)"]
[]
["Die Statistik und Arbeitsmarktberichterstattung der Bundesagentur für Arbeit schließt im Zuge der Revision 2017 zudem die seit längerer Zeit bestehende Lücke (von Januar 2011 bis September 2012) in der Berichterstattung der sozialversicherungspflichtig Beschäftigten zum Merkmal Arbeitszeit (Vollzeit / Teilzeit). Angaben zu Vollzeit- und Teilzeitbeschäftigung stehen damit durchgängig für alle Berichtsmonate zur Verfügung."]
[]
["Der Methodenbericht „Revision der Beschäftigungsstatistik 2017“ mit ausführlichen Informationen steht im Internet zur Verfügung:"]
["https://statistik.arbeitsagentur.de/Navigation/Statistik/Grundlagen/Methodenberichte/Beschaeftigungsstatistik/Methodeberichte-Beschaeftigungsstatistik-Nav.html"]

{"sheet":"1_Grafik","index":4,"n_rows":32,"n_cols":5,"rows_kept":32,"cut":false,"hidden":false,"merged":[[6,0,9,0],[6,1,7,1],[6,2,7,2],[6,3,6,4]]}
[null,null,null,null,"Beschäftigungsstatistik"]
[]
["Sozialversicherungspflichtig Beschäftigte und geringfügig Beschäftigte nach ausgewählten Merkmalen - Veränderung in %"]
[null,"(Daten nach dem Arbeitsort)"]
["Stichtag: 30.06.2016"]
[]
["Merkmale","sozialversicherungspflichtig \nBeschäftigte","geringfügig Beschäftigte (GB)","davon"]
[null,null,null,"ausschließlich GB","im Nebenjob GB"]
[null,"Daten vor und nach der Revision Veränderung in % (relativ) ","Daten vor und nach der Revision Veränderung in % (relativ) ","Daten vor und nach der Revision Veränderung in % (relativ) ","Daten vor und nach der Revision Veränderung in % (relativ) "]
[null,1,2,3,4]
["Insgesamt",{"$f":"IFERROR('1'!E12,\"-\")","v":0.22192798418267076},{"$f":"IFERROR('1'!I12,\"\")","v":9.1850356635698335E-2},{"$f":"'1'!M12","v":7.177362947379232E-3},{"$f":"'1'!Q12","v":0.25832431460880406}]
["nach Geschlecht"]
["Männer",{"$f":"IFERROR('1'!E14,\"-\")","v":0.20926364652466187},{"$f":"IFERROR('1'!I14,\"\")","v":6.5431048877187675E-2},{"$f":"'1'!M14","v":-3.1967858895933274E-2},{"$f":"'1'!Q14","v":0.2295738372719468}]
["Frauen",{"$f":"IFERROR('1'!E15,\"-\")","v":0.236581331690946},{"$f":"IFERROR('1'!I15,\"\")","v":0.10934845722657849},{"$f":"'1'!M15","v":3.0889685406200924E-2},{"$f":"'1'!Q15","v":0.28092305044320681}]
["nach Alter"]
["unter 25 Jahren",{"$f":"IFERROR('1'!E17,\"-\")","v":0.11904036350103156},{"$f":"IFERROR('1'!I17,\"\")","v":-1.7978585207003808E-2},{"$f":"'1'!M17","v":-2.184026586096605E-2},{"$f":"'1'!Q17","v":-2.3837496381808585E-3}]
["25 bis unter 30 Jahren",{"$f":"IFERROR('1'!E18,\"-\")","v":0.20621185890008226},{"$f":"IFERROR('1'!I18,\"\")","v":-2.9974433571365599E-2},{"$f":"'1'!M18","v":-0.16202072245040142},{"$f":"'1'!Q18","v":0.1276361210222493}]
["30 bis unter 35 Jahren",{"$f":"IFERROR('1'!E19,\"-\")","v":0.23849138440333623},{"$f":"IFERROR('1'!I19,\"\")","v":2.7566565954378248E-2},{"$f":"'1'!M19","v":-0.18402980385116027},{"$f":"'1'!Q19","v":0.22930136190031275}]
["35 bis unter 40 Jahren",{"$f":"IFERROR('1'!E20,\"-\")","v":0.25489330006595845},{"$f":"IFERROR('1'!I20,\"\")","v":7.0973451327433629E-2},{"$f":"'1'!M20","v":-0.13595809954528004},{"$f":"'1'!Q20","v":0.27998249664696945}]
["40 bis unter 45 Jahren",{"$f":"IFERROR('1'!E21,\"-\")","v":0.2623148207873745},{"$f":"IFERROR('1'!I21,\"\")","v":0.12376134409489926},{"$f":"'1'!M21","v":-8.3367518426868154E-2},{"$f":"'1'!Q21","v":0.33438178056616152}]
["45 bis unter 50 Jahren",{"$f":"IFERROR('1'!E22,\"-\")","v":0.25392909491362975},{"$f":"IFERROR('1'!I22,\"\")","v":0.15953627426661618},{"$f":"'1'!M22","v":-6.3362469682096981E-2},{"$f":"'1'!Q22","v":0.38489408848888373}]
["50 bis unter 55 Jahren",{"$f":"IFERROR('1'!E23,\"-\")","v":0.23168575083903023},{"$f":"IFERROR('1'!I23,\"\")","v":0.15983837461250364},{"$f":"'1'!M23","v":-1.5539447344125632E-2},{"$f":"'1'!Q23","v":0.36826010678456783}]
["55 bis unter 60 Jahren",{"$f":"IFERROR('1'!E24,\"-\")","v":0.22977360509108843},{"$f":"IFERROR('1'!I24,\"\")","v":0.15820751330582797},{"$f":"'1'!M24","v":4.9960644209514203E-2},{"$f":"'1'!Q24","v":0.34002968827313212}]
["60 bis unter 65 Jahren",{"$f":"IFERROR('1'!E25,\"-\")","v":0.17873634780531064},{"$f":"IFERROR('1'!I25,\"\")","v":0.14349484822300348},{"$f":"'1'!M25","v":0.10765984170882693},{"$f":"'1'!Q25","v":0.28657757841946235}]
["65 Jahre und älter",{"$f":"IFERROR('1'!E26,\"-\")","v":1.2965276631856863E-2},{"$f":"IFERROR('1'!I26,\"\")","v":0.18102926052716847},{"$f":"'1'!M26","v":0.19616036161020281},{"$f":"'1'!Q26","v":-0.48398769676135334}]
["nach Nationalität"]
["Deutsche",{"$f":"IFERROR('1'!E28,\"-\")","v":0.23058794221676598},{"$f":"IFERROR('1'!I28,\"\")","v":0.10420069268622871},{"$f":"'1'!M28","v":1.6275057880553164E-2},{"$f":"'1'!Q28","v":0.27370821547595103}]
["Ausländer",{"$f":"IFERROR('1'!E29,\"-\")","v":0.14434275156206211},{"$f":"IFERROR('1'!I29,\"\")","v":7.5544788091623238E-3},{"$f":"'1'!M29","v":-5.2332855268377526E-2},{"$f":"'1'!Q29","v":0.13942222087839359}]
["nach der Arbeitszeit"]
["Vollzeit",{"$f":"IFERROR('1'!E31,\"-\")","v":0.21306586680695522}]
["Teilzeit",{"$f":"IFERROR('1'!E32,\"-\")","v":0.24576403049734255}]
[null,null,null,null,"© Statistik der Bundesagentur für Arbeit"]

{"sheet":"1","index":5,"n_rows":33,"n_cols":17,"rows_kept":33,"cut":false,"hidden":false,"merged":[[8,5,9,5],[8,6,9,6],[6,0,10,0],[6,1,7,4],[6,5,7,8],[7,13,7,16],[8,13,9,13],[8,14,9,14],[6,9,6,16],[8,1,9,1],[8,2,9,2],[7,9,7,12],[8,9,9,9],[8,3,8,4],[8,7,8,8],[8,11,8,12],[8,15,8,16],[8,10,9,10]]}
[null,null,null,null,null,null,null,null,null,null,null,null,null,null,null,null,"Beschäftigungsstatistik"]
[]
["Sozialversicherungspflichtig Beschäftigte und geringfügig Beschäftigte nach ausgewählten Merkmalen"]
[null,null,"(Daten nach dem Arbeitsort)"]
["Stichtag: 30.06.2016"]
[]
["Merkmale","sozialversicherungspflichtig Beschäftigte",null,null,null,"geringfügig Beschäftigte (GB)",null,null,null,"davon"]
[null,null,null,null,null,null,null,null,null,"ausschließlich GB",null,null,null,"im Nebenjob GB"]
[null," nach Revision"," vor Revision","Veränderung (Spalte 1 zu 2)",null," nach Revision"," vor Revision","Veränderung (Spalte 5 zu 6)",null," nach Revision"," vor Revision","Veränderung (Spalte 9 zu 10)",null," nach Revision"," vor Revision","Veränderung (Spalte 13 zu 14)"]
[null,null,null,"absolut","in %",null,null,"absolut","in %",null,null,"absolut","in %",null,null,"absolut","in %"]
[null,1,2,3,4,5,6,7,8,9,10,11,12,13,14,15,16]
["Insgesamt",{"$f":"'1.2 Steuerung'!H18","v":31443318},{"$f":"'1.2 Steuerung'!G47","v":31373691},{"$f":"B12-C12","v":69627},{"$f":"(D12*100)/C12","v":0.22192798418267076},{"$f":"'1.2 Steuerung'!I18","v":7763218},{"$f":"'1.2 Steuerung'!I47","v":7756094},{"$f":"F12-G12","v":7124},{"$f":"(H12*100)/G12","v":9.1850356635698335E-2},{"$f":"'1.2 Steuerung'!J18","v":5141533},{"$f":"'1.2 Steuerung'!J47","v":5141164},{"$f":"J12-K12","v":369},{"$f":"(L12*100)/K12","v":7.177362947379232E-3},{"$f":"'1.2 Steuerung'!K18","v":2621685},{"$f":"'1.2 Steuerung'!K47","v":2614930},{"$f":"N12-O12","v":6755},{"$f":"(P12*100)/O12","v":0.25832431460880406}]
["nach Geschlecht"]
["Männer",{"$f":"'1.2 Steuerung'!H19","v":16864227},{"$f":"'1.2 Steuerung'!G48","v":16829010},{"$f":"B14-C14","v":35217},{"$f":"(D14*100)/C14","v":0.20926364652466187},{"$f":"'1.2 Steuerung'!I19","v":3092298},{"$f":"'1.2 Steuerung'!I48","v":3090276},{"$f":"F14-G14","v":2022},{"$f":"(H14*100)/G14","v":6.5431048877187675E-2},{"$f":"'1.2 Steuerung'!J19","v":1938828},{"$f":"'1.2 Steuerung'!J48","v":1939448},{"$f":"J14-K14","v":-620},{"$f":"(L14*100)/K14","v":-3.1967858895933274E-2},{"$f":"'1.2 Steuerung'!K19","v":1153470},{"$f":"'1.2 Steuerung'!K48","v":1150828},{"$f":"N14-O14","v":2642},{"$f":"(P14*100)/O14","v":0.2295738372719468}]
["Frauen",{"$f":"'1.2 Steuerung'!H20","v":14579091},{"$f":"'1.2 Steuerung'!G49","v":14544681},{"$f":"B15-C15","v":34410},{"$f":"(D15*100)/C15","v":0.236581331690946},{"$f":"'1.2 Steuerung'!I20","v":4670920},{"$f":"'1.2 Steuerung'!I49","v":4665818},{"$f":"F15-G15","v":5102},{"$f":"(H15*100)/G15","v":0.10934845722657849},{"$f":"'1.2 Steuerung'!J20","v":3202705},{"$f":"'1.2 Steuerung'!J49","v":3201716},{"$f":"J15-K15","v":989},3.0889685406200924E-2,{"$f":"'1.2 Steuerung'!K20","v":1468215},{"$f":"'1.2 Steuerung'!K49","v":1464102},4113,0.28092305044320681]
["nach Alter"]
["unter 25 Jahren",{"$f":"'1.2 Steuerung'!H21","v":3088340},{"$f":"'1.2 Steuerung'!G50","v":3084668},{"$f":"B17-C17","v":3672},0.11904036350103156,{"$f":"'1.2 Steuerung'!I21","v":1479272},{"$f":"'1.2 Steuerung'!I50","v":1479538},-266,-1.7978585207003808E-2,{"$f":"'1.2 Steuerung'!J21","v":1185624},{"$f":"'1.2 Steuerung'!J50","v":1185883},{"$f":"J17-K17","v":-259},-2.184026586096605E-2,{"$f":"'1.2 Steuerung'!K21","v":293648},{"$f":"'1.2 Steuerung'!K50","v":293655},-7,-2.3837496381808585E-3]
["25 bis unter 30 Jahren",{"$f":"'1.2 Steuerung'!H22","v":3528397},{"$f":"'1.2 Steuerung'!G51","v":3521136},7261,0.20621185890008226,{"$f":"'1.2 Steuerung'!I22","v":680376},{"$f":"'1.2 Steuerung'!I51","v":680580},-204,-2.9974433571365599E-2,{"$f":"'1.2 Steuerung'!J22","v":369723},{"$f":"'1.2 Steuerung'!J51","v":370323},-600,-0.16202072245040142,{"$f":"'1.2 Steuerung'!K22","v":310653},{"$f":"'1.2 Steuerung'!K51","v":310257},396,0.1276361210222493]
["30 bis unter 35 Jahren",{"$f":"'1.2 Steuerung'!H23","v":3546091},{"$f":"'1.2 Steuerung'!G52","v":3537654},8437,0.23849138440333623,{"$f":"'1.2 Steuerung'!I23","v":547916},{"$f":"'1.2 Steuerung'!I52","v":547765},151,2.7566565954378248E-2,{"$f":"'1.2 Steuerung'!J23","v":266856},{"$f":"'1.2 Steuerung'!J52","v":267348},-492,-0.18402980385116027,{"$f":"'1.2 Steuerung'!K23","v":281060},{"$f":"'1.2 Steuerung'!K52","v":280417},643,0.22930136190031275]
["35 bis unter 40 Jahren",{"$f":"'1.2 Steuerung'!H24","v":3386494},{"$f":"'1.2 Steuerung'!G53","v":3377884},8610,0.25489330006595845,{"$f":"'1.2 Steuerung'!I24","v":565401},{"$f":"'1.2 Steuerung'!I53","v":565000},401,7.0973451327433629E-2,{"$f":"'1.2 Steuerung'!J24","v":283525},{"$f":"'1.2 Steuerung'!J53","v":283911},-386,-0.13595809954528004,{"$f":"'1.2 Steuerung'!K24","v":281876},{"$f":"'1.2 Steuerung'!K53","v":281089},787,0.27998249664696945]
["40 bis unter 45 Jahren",{"$f":"'1.2 Steuerung'!H25","v":3264170},{"$f":"'1.2 Steuerung'!G54","v":3255630},8540,0.2623148207873745,{"$f":"'1.2 Steuerung'!I25","v":600283},{"$f":"'1.2 Steuerung'!I54","v":599541},742,0.12376134409489926,{"$f":"'1.2 Steuerung'!J25","v":302024},{"$f":"'1.2 Steuerung'!J54","v":302276},-252,-8.3367518426868154E-2,{"$f":"'1.2 Steuerung'!K25","v":298259},{"$f":"'1.2 Steuerung'!K54","v":297265},994,0.33438178056616152]
["45 bis unter 50 Jahren",{"$f":"'1.2 Steuerung'!H26","v":4286460},{"$f":"'1.2 Steuerung'!G55","v":4275603},10857,{"$f":"(D22*100)/C22","v":0.25392909491362975},{"$f":"'1.2 Steuerung'!I26","v":767192},{"$f":"'1.2 Steuerung'!I55","v":765970},1222,0.15953627426661618,{"$f":"'1.2 Steuerung'!J26","v":384842},{"$f":"'1.2 Steuerung'!J55","v":385086},-244,-6.3362469682096981E-2,{"$f":"'1.2 Steuerung'!K26","v":382350},{"$f":"'1.2 Steuerung'!K55","v":380884},1466,0.38489408848888373]
["50 bis unter 55 Jahren",{"$f":"'1.2 Steuerung'!H27","v":4525196},{"$f":"'1.2 Steuerung'!G56","v":4514736},10460,0.23168575083903023,{"$f":"'1.2 Steuerung'!I27","v":807102},{"$f":"'1.2 Steuerung'!I56","v":805814},1288,0.15983837461250364,{"$f":"'1.2 Steuerung'!J27","v":437528},{"$f":"'1.2 Steuerung'!J56","v":437596},-68,-1.5539447344125632E-2,{"$f":"'1.2 Steuerung'!K27","v":369574},{"$f":"'1.2 Steuerung'!K56","v":368218},1356,0.36826010678456783]
["55 bis unter 60 Jahren",{"$f":"'1.2 Steuerung'!H28","v":3601358},{"$f":"'1.2 Steuerung'!G57","v":3593102},8256,{"$f":"(D24*100)/C24","v":0.22977360509108843},{"$f":"'1.2 Steuerung'!I28","v":678030},{"$f":"'1.2 Steuerung'!I57","v":676959},1071,0.15820751330582797,{"$f":"'1.2 Steuerung'!J28","v":424546},{"$f":"'1.2 Steuerung'!J57","v":424334},212,4.9960644209514203E-2,{"$f":"'1.2 Steuerung'!K28","v":253484},{"$f":"'1.2 Steuerung'!K57","v":252625},859,0.34002968827313212]
["60 bis unter 65 Jahren",{"$f":"'1.2 Steuerung'!H29","v":1962252},{"$f":"'1.2 Steuerung'!G58","v":1958751},3501,0.17873634780531064,{"$f":"'1.2 Steuerung'!I29","v":642058},{"$f":"'1.2 Steuerung'!I58","v":641138},920,0.14349484822300348,{"$f":"'1.2 Steuerung'!J29","v":513278},{"$f":"'1.2 Steuerung'!J58","v":512726},552,0.10765984170882693,{"$f":"'1.2 Steuerung'!K29","v":128780},{"$f":"'1.2 Steuerung'!K58","v":128412},368,0.28657757841946235]
["65 Jahre und älter",{"$f":"'1.2 Steuerung'!H30","v":254559},{"$f":"'1.2 Steuerung'!G59","v":254526},33,1.2965276631856863E-2,{"$f":"'1.2 Steuerung'!I30","v":995561},{"$f":"'1.2 Steuerung'!I59","v":993762},1799,0.18102926052716847,{"$f":"'1.2 Steuerung'!J30","v":973560},{"$f":"'1.2 Steuerung'!J59","v":971654},1906,0.19616036161020281,{"$f":"'1.2 Steuerung'!K30","v":22001},{"$f":"'1.2 Steuerung'!K59","v":22108},-107,-0.48398769676135334]
["nach Nationalität"]
["Deutsche",{"$f":"'1.2 Steuerung'!H31","v":28292932},{"$f":"'1.2 Steuerung'!G60","v":28227842},{"$f":"B28-C28","v":65090},0.23058794221676598,{"$f":"'1.2 Steuerung'!I31","v":6791093},{"$f":"'1.2 Steuerung'!I60","v":6784024},7069,0.10420069268622871,{"$f":"'1.2 Steuerung'!J31","v":4467685},{"$f":"'1.2 Steuerung'!J60","v":4466958},727,1.6275057880553164E-2,{"$f":"'1.2 Steuerung'!K31","v":2323408},{"$f":"'1.2 Steuerung'!K60","v":2317066},6342,0.27370821547595103]
["Ausländer",{"$f":"'1.2 Steuerung'!H32","v":3133874},{"$f":"'1.2 Steuerung'!G61","v":3129357},{"$f":"B29-C29","v":4517},0.14434275156206211,{"$f":"'1.2 Steuerung'!I32","v":953149},{"$f":"'1.2 Steuerung'!I61","v":953077},72,7.5544788091623238E-3,{"$f":"'1.2 Steuerung'!J32","v":655077},{"$f":"'1.2 Steuerung'!J61","v":655420},-343,-5.2332855268377526E-2,{"$f":"'1.2 Steuerung'!K32","v":298072},{"$f":"'1.2 Steuerung'!K61","v":297657},415,0.13942222087839359]
["nach der Arbeitszeit"]
["Vollzeit",{"$f":"'1.2 Steuerung'!H34","v":22873969},{"$f":"'1.2 Steuerung'!G63","v":22825336},{"$f":"B31-C31","v":48633},0.21306586680695522]
["Teilzeit",{"$f":"'1.2 Steuerung'!H35","v":8568637},{"$f":"'1.2 Steuerung'!G64","v":8547630},{"$f":"B32-C32","v":21007},0.24576403049734255]
[null,null,null,null,null,null,null,null,null,null,null,null,null,null,null,null,"© Statistik der Bundesagentur für Arbeit"]

{"sheet":"1 Roh-Daten","index":6,"n_rows":122,"n_cols":70,"rows_kept":122,"cut":false,"hidden":true,"merged":[[97,1,97,17],[97,18,97,34],[97,35,97,51],[97,52,97,68],[13,2,13,18],[13,19,13,35],[13,36,13,52],[13,53,13,69],[54,2,54,18]]}
[]
[]
[]
[]
[]
[]
[]
[]
[]
[]
[]
["NACH REV"]
[]
[26,"Metriken","SvB",null,null,null,null,null,null,null,null,null,null,null,null,null,null,null,null,"GB",null,null,null,null,null,null,null,null,null,null,null,null,null,null,null,null,"GB_ausschl.",null,null,null,null,null,null,null,null,null,null,null,null,null,null,null,null,"GB_im_NJ"]
["Schleswig-Holstein,01","D+Länder(AO)","Deutschland","Schleswig-Holstein,01","Hamburg,02","Niedersachsen,03","Bremen,04","Nordrhein-Westfalen,05","Hessen,06","Rheinland-Pfalz,07","Baden-Württemberg,08","Bayern,09","Saarland,10","Berlin,11","Brandenburg,12","Mecklenburg-Vorpommern,13","Sachsen,14","Sachsen-Anhalt,15","Thüringen,16","Deutschland","Schleswig-Holstein,01","Hamburg,02","Niedersachsen,03","Bremen,04","Nordrhein-Westfalen,05","Hessen,06","Rheinland-Pfalz,07","Baden-Württemberg,08","Bayern,09","Saarland,10","Berlin,11","Brandenburg,12","Mecklenburg-Vorpommern,13","Sachsen,14","Sachsen-Anhalt,15","Thüringen,16","Deutschland","Schleswig-Holstein,01","Hamburg,02","Niedersachsen,03","Bremen,04","Nordrhein-Westfalen,05","Hessen,06","Rheinland-Pfalz,07","Baden-Württemberg,08","Bayern,09","Saarland,10","Berlin,11","Brandenburg,12","Mecklenburg-Vorpommern,13","Sachsen,14","Sachsen-Anhalt,15","Thüringen,16","Deutschland","Schleswig-Holstein,01","Hamburg,02","Niedersachsen,03","Bremen,04","Nordrhein-Westfalen,05","Hessen,06","Rheinland-Pfalz,07","Baden-Württemberg,08","Bayern,09","Saarland,10","Berlin,11","Brandenburg,12","Mecklenburg-Vorpommern,13","Sachsen,14","Sachsen-Anhalt,15","Thüringen,16"]
["Merkmale_1.1"]
["Insgesamt",null,31443318,940613,933846,2836091,319681,6549350,2462605,1364682,4458706,5317529,379591,1367680,818474,560372,1555300,783900,793363,7763218,275474,174263,792707,71241,1835199,602787,417903,1223207,1358722,98481,217952,134126,93184,233512,110120,122484,5141533,186563,106917,544874,47677,1272586,394720,282822,746314,820010,70006,152868,99132,71588,172186,83977,88050,2621685,88911,67346,247833,23564,562613,208067,135081,476893,538712,28475,65084,34994,21596,61326,26143,34434]
["Männer",null,16864227,490306,498817,1537923,179503,3585599,1342234,727986,2445220,2881658,207807,675753,422288,272778,793229,394788,407518,3092298,110054,72664,306748,30491,724606,240463,163635,486525,515756,38342,97505,59461,42264,102191,47450,53440,1938828,73163,42802,199693,19658,467418,147571,104176,271825,283120,25822,69491,45457,33812,77912,36939,39538,1153470,36891,29862,107055,10833,257188,92892,59459,214700,232636,12520,28014,14004,8452,24279,10511,13902]
["Frauen",null,14579091,450307,435029,1298168,140178,2963751,1120371,636696,2013486,2435871,171784,691927,396186,287594,762071,389112,385845,4670920,165420,101599,485959,40750,1110593,362324,254268,736682,842966,60139,120447,74665,50920,131321,62670,69044,3202705,113400,64115,345181,28019,805168,247149,178646,474489,536890,44184,83377,53675,37776,94274,47038,48512,1468215,52020,37484,140778,12731,305425,115175,75622,262193,306076,15955,37070,20990,13144,37047,15632,20532]
["U25",null,3088340,100511,80703,304553,30779,652726,225680,151058,487403,618698,38710,99594,51154,37981,103238,52466,52931,1479272,55948,38660,156097,15018,361195,115922,83906,247238,237860,15144,45266,20116,15486,37241,15143,18797,1185624,46688,30925,126714,12134,294643,94374,68115,191058,176444,12034,39010,17590,13913,32366,13142,16304,293648,9260,7735,29383,2884,66552,21548,15791,56180,61416,3110,6256,2526,1573,4875,2001,2493]
["25 - 29 Jahre",null,3528397,99156,114658,304610,34483,730453,273047,147551,501058,613759,41115,180788,84194,60842,176772,81254,84473,680376,22117,20206,63567,7738,157443,54362,33603,105377,118839,7633,28859,10519,8346,22061,9213,10328,369723,12366,10976,35917,4713,90764,30494,18500,51083,52822,4360,19178,6488,5563,13872,6224,6314,310653,9751,9230,27650,3025,66679,23868,15103,54294,66017,3273,9681,4031,2783,8189,2989,4014]
["30 - 34 Jahre",null,3546091,96763,122405,297469,34694,708101,280662,141099,491166,612518,39357,192965,94965,64286,190784,86223,92426,547916,17408,14199,51966,5242,126347,42719,27279,88515,101991,6194,19583,9261,6064,15872,7296,7832,266856,8735,6124,27282,2831,68016,20739,13839,38683,41726,3312,10949,5140,3439,8005,4250,3702,281060,8673,8075,24684,2411,58331,21980,13440,49832,60265,2882,8634,4121,2625,7867,3046,4130]
["35 - 39 Jahre",null,3386494,96985,115722,289602,32978,678610,275666,135810,465378,585012,37365,169711,91831,61366,181147,82086,87034,565401,18400,13446,54498,5203,132513,45130,28558,93829,107751,6453,16327,9102,5628,14360,6707,7315,283525,9290,5807,29558,2791,74917,22107,14972,42943,47054,3627,8691,4754,3052,6966,3719,3176,281876,9110,7639,24940,2412,57596,23023,13586,50886,60697,2826,7636,4348,2576,7394,2988,4139]
["40 - 44 Jahre",null,3264170,98237,102753,298123,33330,679043,270565,136108,464040,563337,37424,139665,78989,51585,157258,74867,78675,600283,20319,13414,60872,5368,144394,48837,31210,100833,113852,6815,14851,8306,4992,12660,6365,7003,302024,10234,5817,33042,2776,81987,23803,16352,45310,50406,3852,7996,4503,2805,6271,3590,3165,298259,10085,7597,27830,2592,62407,25034,14858,55523,63446,2963,6855,3803,2187,6389,2775,3838]
["45 - 49 Jahre",null,4286460,137504,125895,404698,45268,926803,349245,184988,601360,709838,52029,168192,105214,69844,198558,104740,102089,767192,28613,16110,81028,6627,188568,60834,41063,123145,141940,9586,17500,10775,6762,16354,8940,9130,384842,14428,6909,43808,3299,105015,29349,21095,53726,63834,5555,9256,6073,4084,8494,5307,4478,382350,14185,9201,37220,3328,83553,31485,19968,69419,78106,4031,8244,4702,2678,7860,3633,4652]
["50 - 54 Jahre",null,4525196,139676,123015,416083,47164,962474,355621,202372,630198,718239,57752,184407,130169,88405,226078,123636,119714,807102,29898,15869,85310,6789,199160,63056,44670,124737,142851,11871,18758,13583,8797,19778,10776,11005,437528,16210,7144,48558,3583,118327,33134,24638,57634,70914,7488,10472,8536,5786,11683,7050,6260,369574,13688,8725,36752,3206,80833,29922,20032,67103,71937,4383,8286,5047,3011,8095,3726,4745]
["55 - 59 Jahre",null,3601358,105153,90512,324571,37385,751935,270527,165242,506136,564739,47441,138642,112455,77885,193274,108097,107221,678030,23804,11918,71151,5612,167160,51114,38293,99886,115790,11530,15330,13533,9649,20346,11180,11569,424546,15056,6285,46480,3308,112076,31372,24302,53303,67022,8376,9703,9709,7182,14191,8315,7753,253484,8748,5633,24671,2304,55084,19742,13991,46583,48768,3154,5627,3824,2467,6155,2865,3816]
["60 - 64 Jahre",null,1962252,56993,49687,171779,20578,403028,142630,88496,273710,290837,25183,81890,64038,44731,118894,65776,63930,642058,21732,10309,65873,5041,143785,46299,35474,89675,103717,10226,15418,17451,12657,31817,15310,17125,513278,17241,7433,53387,3876,116783,36455,28327,66352,79763,8612,12288,15248,11172,27947,13439,14829,128780,4491,2876,12486,1165,27002,9844,7147,23323,23954,1614,3130,2203,1485,3870,1871,2296]
["65+",null,254559,9635,8496,24603,3022,56177,18962,11958,38257,40552,3215,11825,5465,3447,9297,4755,4870,995561,37234,20131,102344,8603,214629,74512,53846,149967,174128,13029,26059,21473,14803,43023,19190,22380,973560,36314,19496,100127,8366,210053,72891,52681,146217,170022,12790,25324,21084,14592,42391,18941,22069,22001,920,635,2217,237,4576,1621,1165,3750,4106,239,735,389,211,632,249,311]
["Deutsche",null,28292932,884722,834855,2632786,290014,5913164,2124932,1236435,3826915,4645002,337783,1203537,782130,543163,1505297,763265,767668,6791093,254834,147338,719409,60921,1609387,502015,370820,1024372,1173942,87570,181598,124976,87446,222356,105341,117279,4467685,170798,90006,487584,40214,1099465,327932,246782,620976,713496,61286,124621,91106,66268,162653,79843,83698,2323408,84036,57332,231825,20707,509922,174083,124038,403396,460446,26284,56977,33870,21178,59703,25498,33581]
["Ausländer",null,3133874,55449,97891,202263,29528,631202,336237,127668,630143,670785,41709,161757,36032,17092,49752,20495,25601,953149,20100,26216,71701,10098,219895,98927,46139,196325,182623,10761,34800,8884,5646,10947,4633,5121,655077,15228,16219,55717,7241,167268,64958,35098,122862,104378,8570,26713,7762,5230,9324,3989,4268,298072,4872,9997,15984,2857,52627,33969,11041,73463,78245,2191,8087,1122,416,1623,644,853]
[]
["Vollzeitbeschäftigt",null,22873969,655297,682457,2034689,229034,4819617,1778404,978793,3337075,3913745,281482,925921,579715,399997,1108525,560296,587944,101871,3301,424,17852,512,15327,7049,10564,16676,15574,483,918,3907,1932,3198,1506,2645,98678,3133,400,17488,484,14918,6868,10318,16124,14753,462,800,3848,1882,3134,1474,2589,3193,168,24,364,28,409,181,246,552,821,21,118,59,50,64,32,56]
["Teilzeitbeschäftigt",null,8568637,285297,251368,801309,90644,1729552,684160,385853,1121549,1403713,98100,441729,238724,160354,446749,223590,205389,7385588,260402,168463,743651,68640,1746321,575621,389392,1170100,1294702,94360,209693,126140,88934,224904,105816,117278,4848031,175173,102980,504844,45706,1202711,373886,259720,706210,773458,66734,146590,92260,67982,165077,80356,83581,2537557,85229,65483,238807,22934,543610,201735,129672,463890,521244,27626,63103,33880,20952,59827,25460,33697]
["keine Angabe",null,712,19,21,93,3,181,41,36,82,71,9,30,35,21,26,14,30,275759,11771,5376,31204,2089,73551,20117,17947,36431,48446,3638,7341,4079,2318,5410,2798,2561,194824,8257,3537,22542,1487,54957,13966,12784,23980,31799,2810,5478,3024,1724,3975,2147,1880,80935,3514,1839,8662,602,18594,6151,5163,12451,16647,828,1863,1055,594,1435,651,681]
["ohne Berufsabschluss",null,3699511,115369,103502,334681,39600,906313,306706,182575,613361,620363,51987,143226,55975,36199,90618,49612,49254,1567956,54037,40276,156043,16142,401066,131585,85661,276845,247576,19341,44628,17923,12707,33842,13868,16145,1185028,42708,28470,121736,12070,305078,97110,65863,200055,178456,15264,35546,15115,11260,29812,12131,14164,382928,11329,11806,34307,4072,95988,34475,19798,76790,69120,4077,9082,2808,1447,4030,1737,1981]
["mit anerkanntem Berufsabschluss",null,19675786,612016,494401,1860174,187995,3921074,1423680,894521,2762971,3368586,251093,685594,562632,396563,1091667,573587,588373,3757097,133894,68846,383228,28735,792095,276737,203438,618137,738823,49210,77789,68820,48764,133109,62782,71878,1980435,71030,31236,210130,14615,431558,143943,108161,289326,354720,29371,42169,43951,33046,88157,43260,45341,1776662,62864,37610,173098,14120,360537,132794,95277,328811,384103,19839,35620,24869,15718,44952,19522,26537]
["mit akad. Abschluss",null,4713610,96652,201476,334085,51048,912794,433807,148906,715732,819574,41889,326737,104115,69416,258215,96535,102352,534151,14492,16523,46690,5644,106366,42640,22923,86569,96312,5768,26343,10671,7249,24402,9442,11968,289356,7851,8336,26974,3146,57145,22334,12181,44713,49472,3149,14758,6203,4347,15072,6024,7573,244795,6641,8187,19716,2498,49221,20306,10742,41856,46840,2619,11585,4468,2902,9330,3418,4395]
["keine Angabe",null,3354411,116576,134467,307151,41038,809169,298412,138680,366642,509006,34622,212123,95752,58194,114800,64166,53384,1904014,73051,48618,206746,20720,535672,151825,105881,241656,276011,24162,69192,36712,24464,42159,24028,22493,1686714,64974,38875,186034,17846,478805,131333,96617,212220,237362,22222,60395,33863,22935,39145,22562,20972,217300,8077,9743,20712,2874,56867,20492,9264,29436,38649,1940,8797,2849,1529,3014,1466,1521]
[]
[]
[]
[]
[]
[]
[]
[]
[]
[]
[]
[]
[]
[]
[]
[]
[]
[]
[]
[]
[]
[]
[]
[]
[]
[]
[]
[]
[]
[]
[]
[]
[]
[]
[]
[]
[]
[]
[]
[]
[]
[]
[]
[]
[]
[]
[]
[]
[]
[]
[]
[]
[]
[]
[]
[]
["VOR REV"]
[]
[null,"SvB",null,null,null,null,null,null,null,null,null,null,null,null,null,null,null,null,"GB",null,null,null,null,null,null,null,null,null,null,null,null,null,null,null,null,"GB_ausschl.",null,null,null,null,null,null,null,null,null,null,null,null,null,null,null,null,"GB_im_NJ"]
["Merkmale_1.1","Deutschland","Schleswig-Holstein,01","Hamburg,02","Niedersachsen,03","Bremen,04","Nordrhein-Westfalen,05","Hessen,06","Rheinland-Pfalz,07","Baden-Württemberg,08","Bayern,09","Saarland,10","Berlin,11","Brandenburg,12","Mecklenburg-Vorpommern,13","Sachsen,14","Sachsen-Anhalt,15","Thüringen,16","Deutschland","Schleswig-Holstein,01","Hamburg,02","Niedersachsen,03","Bremen,04","Nordrhein-Westfalen,05","Hessen,06","Rheinland-Pfalz,07","Baden-Württemberg,08","Bayern,09","Saarland,10","Berlin,11","Brandenburg,12","Mecklenburg-Vorpommern,13","Sachsen,14","Sachsen-Anhalt,15","Thüringen,16","Deutschland","Schleswig-Holstein,01","Hamburg,02","Niedersachsen,03","Bremen,04","Nordrhein-Westfalen,05","Hessen,06","Rheinland-Pfalz,07","Baden-Württemberg,08","Bayern,09","Saarland,10","Berlin,11","Brandenburg,12","Mecklenburg-Vorpommern,13","Sachsen,14","Sachsen-Anhalt,15","Thüringen,16","Deutschland","Schleswig-Holstein,01","Hamburg,02","Niedersachsen,03","Bremen,04","Nordrhein-Westfalen,05","Hessen,06","Rheinland-Pfalz,07","Baden-Württemberg,08","Bayern,09","Saarland,10","Berlin,11","Brandenburg,12","Mecklenburg-Vorpommern,13","Sachsen,14","Sachsen-Anhalt,15","Thüringen,16"]
["Insgesamt",31373691,939248,932219,2820257,319041,6532721,2457858,1361894,4451187,5308747,378477,1365639,816778,559531,1553509,782541,792509,7756094,275183,174175,792020,71170,1833161,602198,417486,1222120,1357589,98330,217838,134078,93120,233364,110006,122399,5141164,186447,106889,545652,47675,1272081,394583,282736,746390,819989,69948,152822,99115,71538,172106,83919,88028,2614930,88736,67286,246368,23495,561080,207615,134750,475730,537600,28382,65016,34963,21582,61258,26087,34371]
["Männer",16829010,489683,497997,1529704,179146,3576886,1339826,726584,2441225,2877312,207188,674896,421601,272468,792431,394108,407135,3090276,109946,72634,306562,30472,724007,240288,163499,486216,515506,38312,97454,59443,42246,102149,47412,53427,1939448,73111,42807,200104,19672,467417,147594,104182,272027,283249,25828,69467,45443,33789,77884,36910,39531,1150828,36835,29827,106458,10800,256590,92694,59317,214189,232257,12484,27987,14000,8457,24265,10502,13896]
["Frauen",14544681,449565,434222,1290553,139895,2955835,1118032,635310,2009962,2431435,171289,690743,395177,287063,761078,388433,385374,4665818,165237,101541,485458,40698,1109154,361910,253987,735904,842083,60018,120384,74635,50874,131215,62594,68972,3201716,113336,64082,345548,28003,804664,246989,178554,474363,536740,44120,83355,53672,37749,94222,47009,48497,1464102,51901,37459,139910,12695,304490,114921,75433,261541,305343,15898,37029,20963,13125,36993,15585,20475]
["U25",3084668,100446,80652,303543,30749,651841,225516,150906,487011,618122,38652,99520,51094,37960,103184,52402,52915,1479538,55939,38685,156117,15012,361249,115967,83918,247272,237900,15146,45300,20125,15494,37244,15129,18806,1185883,46679,30925,126779,12128,294704,94386,68130,191128,176493,12033,39021,17589,13919,32365,13126,16308,293655,9260,7760,29338,2884,66545,21581,15788,56144,61407,3113,6279,2536,1575,4879,2003,2498]
["25 - 29 Jahre",3521136,99013,114480,302945,34412,728664,272620,147257,500293,612826,40975,180553,84059,60775,176591,81116,84373,680580,22126,20236,63594,7745,157443,54381,33624,105397,118895,7630,28876,10518,8351,22069,9207,10323,370323,12374,11000,36080,4721,90862,30533,18519,51176,52939,4360,19195,6490,5567,13876,6221,6321,310257,9752,9236,27514,3024,66581,23848,15105,54221,65956,3270,9681,4028,2784,8193,2986,4002]
["30 - 34 Jahre",3537654,96605,122169,295637,34591,706101,280131,140791,490243,611417,39243,192619,94762,64173,190566,86073,92325,547765,17405,14211,51958,5237,126322,42691,27265,88473,101952,6191,19580,9267,6064,15874,7296,7831,267348,8743,6140,27418,2833,68122,20764,13846,38762,41794,3321,10959,5148,3442,8015,4254,3703,280417,8662,8071,24540,2404,58200,21927,13419,49711,60158,2870,8621,4119,2622,7859,3042,4128]
["35 - 39 Jahre",3377884,96818,115489,287890,32903,676558,275035,135462,464412,583882,37227,169425,91631,61248,180881,81914,86918,565000,18395,13448,54473,5196,132406,45096,28525,93757,107646,6448,16326,9108,5627,14353,6700,7315,283911,9301,5826,29660,2797,74978,22107,14990,42999,47132,3630,8696,4762,3050,6977,3725,3180,281089,9094,7622,24813,2399,57428,22989,13535,50758,60514,2818,7630,4346,2577,7376,2975,4135]
["40 - 44 Jahre",3255630,98061,102553,296321,33237,676956,269943,135766,463089,562256,37268,139411,78784,51474,157034,74718,78588,599541,20298,13382,60796,5359,144182,48761,31159,100727,113742,6810,14847,8301,4988,12643,6362,6992,302276,10236,5803,33170,2775,82012,23811,16347,45358,50442,3856,8014,4506,2803,6272,3592,3163,297265,10062,7579,27626,2584,62170,24950,14812,55369,63300,2954,6833,3795,2185,6371,2770,3829]
["45 - 49 Jahre",4275603,137288,125625,402233,45166,924149,348393,184481,600238,708521,51867,167928,104955,69728,198335,104538,101963,765970,28562,16094,80914,6619,188204,60722,41001,122945,141734,9575,17476,10769,6753,16337,8925,9122,385086,14418,6917,43976,3305,104972,29356,21120,53771,63864,5559,9251,6078,4076,8497,5310,4482,380884,14144,9177,36938,3314,83232,31366,19881,69174,77870,4016,8225,4691,2677,7840,3615,4640]
["50 - 54 Jahre",4514736,139478,122786,413676,47091,959930,354878,201965,629092,717034,57573,184143,129870,88263,225764,123428,119572,805814,29836,15854,85177,6772,198799,62936,44608,124559,142647,11823,18733,13571,8790,19761,10763,10991,437596,16194,7142,48721,3580,118268,33107,24640,57670,70912,7471,10472,8537,5783,11681,7046,6261,368218,13642,8712,36456,3192,80531,29829,19968,66889,71735,4352,8261,5034,3007,8080,3717,4730]
["55 - 59 Jahre",3593102,104979,90358,322555,37310,750123,269984,164932,505226,563708,47318,138426,112203,77782,193039,107907,107109,676959,23767,11904,71030,5604,166865,51037,38222,99725,115626,11503,15310,13524,9627,20329,11167,11554,424334,15051,6278,46544,3308,111976,31353,24269,53286,66981,8366,9691,9706,7169,14185,8312,7746,252625,8716,5626,24486,2296,54889,19684,13953,46439,48645,3137,5619,3818,2458,6144,2855,3808]
["60 - 64 Jahre",1958751,56925,49607,170860,20558,402244,142403,88377,273318,290434,25138,81797,63950,44678,118818,65694,63878,641138,21704,10281,65799,5039,143532,46240,35407,89540,103586,10214,15383,17443,12644,31783,15288,17106,512726,17226,7415,53393,3878,116614,36419,28285,66284,79695,8603,12258,15240,11160,27900,13414,14816,128412,4478,2866,12406,1161,26918,9821,7122,23256,23891,1611,3125,2203,1484,3883,1874,2290]
["65+",254526,9635,8500,24597,3024,56155,18955,11957,38265,40547,3216,11816,5470,3450,9297,4751,4868,993762,37150,20079,102161,8587,214154,74365,53756,149720,173858,12990,26006,21445,14782,42971,19169,22359,971654,36224,19442,99910,8350,209568,72745,52589,145951,169734,12749,25264,21052,14569,42338,18919,22048,22108,926,637,2251,237,4586,1620,1167,3769,4124,241,742,393,213,633,250,311]
["Deutsche",28227842,883402,833325,2617869,289416,5897625,2120588,1233768,3820095,4637008,336755,1201657,780460,542327,1503516,761933,766834,6784024,254530,147235,718698,60849,1607426,501474,370411,1023290,1172809,87422,181466,124928,87378,222201,105226,117191,4466958,170671,89962,488259,40209,1098963,327783,246696,620943,713374,61230,124571,91090,66216,162571,79785,83675,2317066,83859,57273,230439,20640,508463,173691,123715,402347,459435,26192,56895,33838,21162,59630,25441,33516]
["Ausländer",3129357,55404,97802,201344,29486,630113,335838,127549,629439,670003,41624,161600,36006,17087,49742,20468,25582,953077,20113,26230,71725,10099,219810,98877,46131,196316,182622,10758,34817,8884,5650,10954,4634,5124,655420,15239,16234,55820,7244,167258,64968,35098,122967,104478,8568,26717,7761,5232,9326,3989,4269,297657,4874,9996,15905,2855,52552,33909,11033,73349,78144,2190,8100,1123,418,1628,645,855]
[]
["Vollzeitbeschäftigt",22825336,654396,681261,2023642,228544,4807843,1775075,976809,3331613,3907766,280655,924600,578663,399436,1107351,559291,587413,101914,3303,426,17860,510,15333,7055,10565,16685,15588,484,918,3909,1932,3195,1505,2643,98720,3134,401,17496,482,14921,6875,10320,16133,14768,463,800,3850,1882,3132,1473,2587,3194,169,25,364,28,412,180,245,552,820,21,118,59,50,63,32,56]
["Teilzeitbeschäftigt",8547630,284833,250937,796519,90493,1724693,682741,385049,1119492,1400908,97813,441009,238079,160074,446131,223236,205066,7377556,260058,168365,742847,68561,1744031,574969,388917,1168896,1293406,94189,209563,126086,88865,224747,105692,117193,4846612,175000,102946,505434,45695,1201927,373677,259565,706168,773254,66655,146527,92237,67926,164988,80288,83560,2530944,85058,65419,237413,22866,542104,201292,129352,462728,520152,27534,63036,33849,20939,59759,25404,33633]
["Keine Angabe",725,19,21,96,4,185,42,36,82,73,9,30,36,21,27,14,30,276624,11822,5384,31313,2099,73797,20174,18004,36539,48595,3657,7357,4083,2323,5422,2809,2563,195832,8313,3542,22722,1498,55233,14031,12851,24089,31967,2830,5495,3028,1730,3986,2158,1881,80792,3509,1842,8591,601,18564,6143,5153,12450,16628,827,1862,1055,593,1436,651,682]
["ohne Berufsabschluss",3693645,115284,103413,333043,39541,904622,306298,182395,612785,619726,51894,143071,55913,36176,90513,49572,49229,1567590,54006,40273,156008,16141,400945,131556,85667,276766,247529,19331,44635,17925,12707,33833,13844,16153,1185028,42683,28469,121820,12074,305076,97095,65868,200063,178442,15253,35547,15107,11258,29807,12106,14170,382562,11323,11804,34188,4067,95869,34461,19799,76703,69087,4078,9088,2818,1449,4026,1738,1983]
["mit anerkanntem Berufsabschluss",19627411,611006,493389,1848906,187583,3909735,1420560,892407,2757926,3362477,250265,684459,561359,395946,1090354,572491,587689,3752426,133712,68797,382785,28684,790964,276341,203127,617366,737967,49107,77720,68790,48721,133003,62723,71806,1981237,71003,31241,210834,14622,431615,143905,108138,289489,354797,29349,42167,43954,33020,88109,43249,45322,1771189,62709,37556,171951,14062,359349,132436,94989,327877,383170,19758,35553,24836,15701,44894,19474,26484]
["mit akad. Abschluss",4704645,96520,201161,332794,50962,910867,432983,148587,714316,818264,41770,326308,103946,69282,257963,96399,102246,533626,14473,16516,46628,5636,106229,42605,22891,86481,96246,5768,26344,10663,7240,24389,9422,11946,289411,7844,8328,26992,3144,57136,22338,12184,44721,49519,3157,14775,6206,4343,15071,6013,7562,244215,6629,8188,19636,2492,49093,20267,10707,41760,46727,2611,11569,4457,2897,9318,3409,4384]
["keine Angabe",3347990,116438,134256,305514,40955,807497,298017,138505,366160,508280,34548,211801,95560,58127,114679,64079,53345,1902452,72992,48589,206599,20709,535023,151696,105801,241507,275847,24124,69139,36700,24452,42139,24017,22494,1685488,64917,38851,186006,17835,478254,131245,96546,212117,237231,22189,60333,33848,22917,39119,22551,20974,216964,8075,9738,20593,2874,56769,20451,9255,29390,38616,1935,8806,2852,1535,3020,1466,1520]

{"sheet":"1.2 Steuerung","index":7,"n_rows":69,"n_cols":12,"rows_kept":69,"cut":false,"hidden":true,"merged":[[44,5,45,5],[41,2,45,3],[41,6,41,7],[4,2,7,7],[12,6,12,7],[15,5,16,5],[12,3,15,4]]}
[]
[]
[]
[]
[null,null,"Steuerungsblatt - Bitte keine Änderungen vornehmen. "]
[]
[]
[]
[]
[]
[]
[]
[null,null,null,"NACH REV",null,null,"SvB",null,"GB","GB_ausschl.","GB_im_NJ"]
[null,null,null,null,null,"1. Vergleich",null,{"$f":"MATCH(G$13,'1 Roh-Daten'!$C$14:$BR$14,0)","v":1},{"$f":"MATCH(I$13,'1 Roh-Daten'!$C$14:$BR$14,0)","v":18},{"$f":"MATCH(J$13,'1 Roh-Daten'!$C$14:$BR$14,0)","v":35},{"$f":"MATCH(K$13,'1 Roh-Daten'!$C$14:$BR$14,0)","v":52},{"$f":"MATCH('1.2 Steuerung'!G13,'1 Roh-Daten'!#REF!)","v":{"$error":"#REF!"}}]
[null,null,null,null,null,"2. Vergleich",null,{"$f":"MATCH('1.2 Steuerung'!$C$18,'1 Roh-Daten'!$C$15:$S$15,0)","v":1},null,null,null,{"$f":"MATCH('1.2 Steuerung'!$C$18,'1 Roh-Daten'!#REF!,0)","v":{"$error":"#REF!"}}]
[null,null,null,null,null,"Zeilennum.",null,"mit PG",null,null,null,"neue PG"]
[null,"Zuweis.1 Refnm.",null,null,null,null,null,{"$f":"H14+$H$15-1","v":1},{"$f":"I14+$H$15-1","v":18},{"$f":"J14+$H$15-1","v":35},{"$f":"K14+$H$15-1","v":52},{"$f":"L14+L15-1","v":{"$error":"#REF!"}}]
[null,{"$f":"INDEX($B$20:$B$36,B19,1)","v":"Deutschland"},{"$f":"INDEX(C20:C36,C19,1)","v":"Deutschland"},null,"Insgesamt",1,{"$f":"IFERROR(INDEX('1 Roh-Daten'!$C$58:$S$80,'1.2 Steuerung'!$F18,'1.2 Steuerung'!G$17),\"\")","v":0},{"$f":"IFERROR(INDEX('1 Roh-Daten'!$C$17:$BR$39,'1.2 Steuerung'!$F18,'1.2 Steuerung'!H$17),\"\")","v":31443318},{"$f":"IFERROR(INDEX('1 Roh-Daten'!$C$17:$BR$39,'1.2 Steuerung'!$F18,'1.2 Steuerung'!I$17),\"\")","v":7763218},{"$f":"IFERROR(INDEX('1 Roh-Daten'!$C$17:$BR$39,'1.2 Steuerung'!$F18,'1.2 Steuerung'!J$17),\"\")","v":5141533},{"$f":"IFERROR(INDEX('1 Roh-Daten'!$C$17:$BR$39,'1.2 Steuerung'!$F18,'1.2 Steuerung'!K$17),\"\")","v":2621685},{"$f":"IFERROR(INDEX('1 Roh-Daten'!#REF!,'1.2 Steuerung'!$F18,'1.2 Steuerung'!L$17),\"\")","v":""}]
[null,1,{"$f":"B19","v":1},null,"Männer",2,{"$f":"IFERROR(INDEX('1 Roh-Daten'!$C$58:$S$80,'1.2 Steuerung'!$F19,'1.2 Steuerung'!G$17),\"\")","v":0},{"$f":"IFERROR(INDEX('1 Roh-Daten'!$C$17:$BR$39,'1.2 Steuerung'!$F19,'1.2 Steuerung'!H$17),\"\")","v":16864227},{"$f":"IFERROR(INDEX('1 Roh-Daten'!$C$17:$BR$39,'1.2 Steuerung'!$F19,'1.2 Steuerung'!I$17),\"\")","v":3092298},{"$f":"IFERROR(INDEX('1 Roh-Daten'!$C$17:$BR$39,'1.2 Steuerung'!$F19,'1.2 Steuerung'!J$17),\"\")","v":1938828},{"$f":"IFERROR(INDEX('1 Roh-Daten'!$C$17:$BR$39,'1.2 Steuerung'!$F19,'1.2 Steuerung'!K$17),\"\")","v":1153470},{"$f":"IFERROR(INDEX('1 Roh-Daten'!#REF!,'1.2 Steuerung'!$F19,'1.2 Steuerung'!L$17),\"\")","v":""}]
[null,"Deutschland","Deutschland",null,"Frauen",3,{"$f":"IFERROR(INDEX('1 Roh-Daten'!$C$58:$S$80,'1.2 Steuerung'!$F20,'1.2 Steuerung'!G$17),\"\")","v":0},{"$f":"IFERROR(INDEX('1 Roh-Daten'!$C$17:$BR$39,'1.2 Steuerung'!$F20,'1.2 Steuerung'!H$17),\"\")","v":14579091},{"$f":"IFERROR(INDEX('1 Roh-Daten'!$C$17:$BR$39,'1.2 Steuerung'!$F20,'1.2 Steuerung'!I$17),\"\")","v":4670920},{"$f":"IFERROR(INDEX('1 Roh-Daten'!$C$17:$BR$39,'1.2 Steuerung'!$F20,'1.2 Steuerung'!J$17),\"\")","v":3202705},{"$f":"IFERROR(INDEX('1 Roh-Daten'!$C$17:$BR$39,'1.2 Steuerung'!$F20,'1.2 Steuerung'!K$17),\"\")","v":1468215},{"$f":"IFERROR(INDEX('1 Roh-Daten'!#REF!,'1.2 Steuerung'!$F20,'1.2 Steuerung'!L$17),\"\")","v":""}]
[null,"Schleswig-Holstein","Schleswig-Holstein,01",null,"U25",4,{"$f":"IFERROR(INDEX('1 Roh-Daten'!$C$58:$S$80,'1.2 Steuerung'!$F21,'1.2 Steuerung'!G$17),\"\")","v":0},{"$f":"IFERROR(INDEX('1 Roh-Daten'!$C$17:$BR$39,'1.2 Steuerung'!$F21,'1.2 Steuerung'!H$17),\"\")","v":3088340},{"$f":"IFERROR(INDEX('1 Roh-Daten'!$C$17:$BR$39,'1.2 Steuerung'!$F21,'1.2 Steuerung'!I$17),\"\")","v":1479272},{"$f":"IFERROR(INDEX('1 Roh-Daten'!$C$17:$BR$39,'1.2 Steuerung'!$F21,'1.2 Steuerung'!J$17),\"\")","v":1185624},{"$f":"IFERROR(INDEX('1 Roh-Daten'!$C$17:$BR$39,'1.2 Steuerung'!$F21,'1.2 Steuerung'!K$17),\"\")","v":293648},{"$f":"IFERROR(INDEX('1 Roh-Daten'!#REF!,'1.2 Steuerung'!$F21,'1.2 Steuerung'!L$17),\"\")","v":""}]
[null,"Hamburg","Hamburg,02",null,"25 - 29 Jahre",5,{"$f":"IFERROR(INDEX('1 Roh-Daten'!$C$58:$S$80,'1.2 Steuerung'!$F22,'1.2 Steuerung'!G$17),\"\")","v":0},{"$f":"IFERROR(INDEX('1 Roh-Daten'!$C$17:$BR$39,'1.2 Steuerung'!$F22,'1.2 Steuerung'!H$17),\"\")","v":3528397},{"$f":"IFERROR(INDEX('1 Roh-Daten'!$C$17:$BR$39,'1.2 Steuerung'!$F22,'1.2 Steuerung'!I$17),\"\")","v":680376},{"$f":"IFERROR(INDEX('1 Roh-Daten'!$C$17:$BR$39,'1.2 Steuerung'!$F22,'1.2 Steuerung'!J$17),\"\")","v":369723},{"$f":"IFERROR(INDEX('1 Roh-Daten'!$C$17:$BR$39,'1.2 Steuerung'!$F22,'1.2 Steuerung'!K$17),\"\")","v":310653},{"$f":"IFERROR(INDEX('1 Roh-Daten'!#REF!,'1.2 Steuerung'!$F22,'1.2 Steuerung'!L$17),\"\")","v":""}]
[null,"Niedersachsen","Niedersachsen,03",null,"30 - 34 Jahre",6,{"$f":"IFERROR(INDEX('1 Roh-Daten'!$C$58:$S$80,'1.2 Steuerung'!$F23,'1.2 Steuerung'!G$17),\"\")","v":0},{"$f":"IFERROR(INDEX('1 Roh-Daten'!$C$17:$BR$39,'1.2 Steuerung'!$F23,'1.2 Steuerung'!H$17),\"\")","v":3546091},{"$f":"IFERROR(INDEX('1 Roh-Daten'!$C$17:$BR$39,'1.2 Steuerung'!$F23,'1.2 Steuerung'!I$17),\"\")","v":547916},{"$f":"IFERROR(INDEX('1 Roh-Daten'!$C$17:$BR$39,'1.2 Steuerung'!$F23,'1.2 Steuerung'!J$17),\"\")","v":266856},{"$f":"IFERROR(INDEX('1 Roh-Daten'!$C$17:$BR$39,'1.2 Steuerung'!$F23,'1.2 Steuerung'!K$17),\"\")","v":281060},{"$f":"IFERROR(INDEX('1 Roh-Daten'!#REF!,'1.2 Steuerung'!$F23,'1.2 Steuerung'!L$17),\"\")","v":""}]
[null,"Bremen","Bremen,04",null,"35 - 39 Jahre",7,{"$f":"IFERROR(INDEX('1 Roh-Daten'!$C$58:$S$80,'1.2 Steuerung'!$F24,'1.2 Steuerung'!G$17),\"\")","v":0},{"$f":"IFERROR(INDEX('1 Roh-Daten'!$C$17:$BR$39,'1.2 Steuerung'!$F24,'1.2 Steuerung'!H$17),\"\")","v":3386494},{"$f":"IFERROR(INDEX('1 Roh-Daten'!$C$17:$BR$39,'1.2 Steuerung'!$F24,'1.2 Steuerung'!I$17),\"\")","v":565401},{"$f":"IFERROR(INDEX('1 Roh-Daten'!$C$17:$BR$39,'1.2 Steuerung'!$F24,'1.2 Steuerung'!J$17),\"\")","v":283525},{"$f":"IFERROR(INDEX('1 Roh-Daten'!$C$17:$BR$39,'1.2 Steuerung'!$F24,'1.2 Steuerung'!K$17),\"\")","v":281876},{"$f":"IFERROR(INDEX('1 Roh-Daten'!#REF!,'1.2 Steuerung'!$F24,'1.2 Steuerung'!L$17),\"\")","v":""}]
[null,"Nordrhein-Westfalen","Nordrhein-Westfalen,05",null,"40 - 44 Jahre",8,{"$f":"IFERROR(INDEX('1 Roh-Daten'!$C$58:$S$80,'1.2 Steuerung'!$F25,'1.2 Steuerung'!G$17),\"\")","v":0},{"$f":"IFERROR(INDEX('1 Roh-Daten'!$C$17:$BR$39,'1.2 Steuerung'!$F25,'1.2 Steuerung'!H$17),\"\")","v":3264170},{"$f":"IFERROR(INDEX('1 Roh-Daten'!$C$17:$BR$39,'1.2 Steuerung'!$F25,'1.2 Steuerung'!I$17),\"\")","v":600283},{"$f":"IFERROR(INDEX('1 Roh-Daten'!$C$17:$BR$39,'1.2 Steuerung'!$F25,'1.2 Steuerung'!J$17),\"\")","v":302024},{"$f":"IFERROR(INDEX('1 Roh-Daten'!$C$17:$BR$39,'1.2 Steuerung'!$F25,'1.2 Steuerung'!K$17),\"\")","v":298259},{"$f":"IFERROR(INDEX('1 Roh-Daten'!#REF!,'1.2 Steuerung'!$F25,'1.2 Steuerung'!L$17),\"\")","v":""}]
[null,"Hessen","Hessen,06",null,"45 - 49 Jahre",9,{"$f":"IFERROR(INDEX('1 Roh-Daten'!$C$58:$S$80,'1.2 Steuerung'!$F26,'1.2 Steuerung'!G$17),\"\")","v":0},{"$f":"IFERROR(INDEX('1 Roh-Daten'!$C$17:$BR$39,'1.2 Steuerung'!$F26,'1.2 Steuerung'!H$17),\"\")","v":4286460},{"$f":"IFERROR(INDEX('1 Roh-Daten'!$C$17:$BR$39,'1.2 Steuerung'!$F26,'1.2 Steuerung'!I$17),\"\")","v":767192},{"$f":"IFERROR(INDEX('1 Roh-Daten'!$C$17:$BR$39,'1.2 Steuerung'!$F26,'1.2 Steuerung'!J$17),\"\")","v":384842},{"$f":"IFERROR(INDEX('1 Roh-Daten'!$C$17:$BR$39,'1.2 Steuerung'!$F26,'1.2 Steuerung'!K$17),\"\")","v":382350},{"$f":"IFERROR(INDEX('1 Roh-Daten'!#REF!,'1.2 Steuerung'!$F26,'1.2 Steuerung'!L$17),\"\")","v":""}]
[null,"Rheinland-Pfalz","Rheinland-Pfalz,07",null,"50 - 54 Jahre",10,{"$f":"IFERROR(INDEX('1 Roh-Daten'!$C$58:$S$80,'1.2 Steuerung'!$F27,'1.2 Steuerung'!G$17),\"\")","v":0},{"$f":"IFERROR(INDEX('1 Roh-Daten'!$C$17:$BR$39,'1.2 Steuerung'!$F27,'1.2 Steuerung'!H$17),\"\")","v":4525196},{"$f":"IFERROR(INDEX('1 Roh-Daten'!$C$17:$BR$39,'1.2 Steuerung'!$F27,'1.2 Steuerung'!I$17),\"\")","v":807102},{"$f":"IFERROR(INDEX('1 Roh-Daten'!$C$17:$BR$39,'1.2 Steuerung'!$F27,'1.2 Steuerung'!J$17),\"\")","v":437528},{"$f":"IFERROR(INDEX('1 Roh-Daten'!$C$17:$BR$39,'1.2 Steuerung'!$F27,'1.2 Steuerung'!K$17),\"\")","v":369574},{"$f":"IFERROR(INDEX('1 Roh-Daten'!#REF!,'1.2 Steuerung'!$F27,'1.2 Steuerung'!L$17),\"\")","v":""}]
[null,"Baden-Württemberg","Baden-Württemberg,08",null,"55 - 59 Jahre",11,{"$f":"IFERROR(INDEX('1 Roh-Daten'!$C$58:$S$80,'1.2 Steuerung'!$F28,'1.2 Steuerung'!G$17),\"\")","v":0},{"$f":"IFERROR(INDEX('1 Roh-Daten'!$C$17:$BR$39,'1.2 Steuerung'!$F28,'1.2 Steuerung'!H$17),\"\")","v":3601358},{"$f":"IFERROR(INDEX('1 Roh-Daten'!$C$17:$BR$39,'1.2 Steuerung'!$F28,'1.2 Steuerung'!I$17),\"\")","v":678030},{"$f":"IFERROR(INDEX('1 Roh-Daten'!$C$17:$BR$39,'1.2 Steuerung'!$F28,'1.2 Steuerung'!J$17),\"\")","v":424546},{"$f":"IFERROR(INDEX('1 Roh-Daten'!$C$17:$BR$39,'1.2 Steuerung'!$F28,'1.2 Steuerung'!K$17),\"\")","v":253484},{"$f":"IFERROR(INDEX('1 Roh-Daten'!#REF!,'1.2 Steuerung'!$F28,'1.2 Steuerung'!L$17),\"\")","v":""}]
[null,"Bayern","Bayern,09",null,"60 - 64 Jahre",12,{"$f":"IFERROR(INDEX('1 Roh-Daten'!$C$58:$S$80,'1.2 Steuerung'!$F29,'1.2 Steuerung'!G$17),\"\")","v":0},{"$f":"IFERROR(INDEX('1 Roh-Daten'!$C$17:$BR$39,'1.2 Steuerung'!$F29,'1.2 Steuerung'!H$17),\"\")","v":1962252},{"$f":"IFERROR(INDEX('1 Roh-Daten'!$C$17:$BR$39,'1.2 Steuerung'!$F29,'1.2 Steuerung'!I$17),\"\")","v":642058},{"$f":"IFERROR(INDEX('1 Roh-Daten'!$C$17:$BR$39,'1.2 Steuerung'!$F29,'1.2 Steuerung'!J$17),\"\")","v":513278},{"$f":"IFERROR(INDEX('1 Roh-Daten'!$C$17:$BR$39,'1.2 Steuerung'!$F29,'1.2 Steuerung'!K$17),\"\")","v":128780},{"$f":"IFERROR(INDEX('1 Roh-Daten'!#REF!,'1.2 Steuerung'!$F29,'1.2 Steuerung'!L$17),\"\")","v":""}]
[null,"Saarland","Saarland,10",null,"65+",13,{"$f":"IFERROR(INDEX('1 Roh-Daten'!$C$58:$S$80,'1.2 Steuerung'!$F30,'1.2 Steuerung'!G$17),\"\")","v":0},{"$f":"IFERROR(INDEX('1 Roh-Daten'!$C$17:$BR$39,'1.2 Steuerung'!$F30,'1.2 Steuerung'!H$17),\"\")","v":254559},{"$f":"IFERROR(INDEX('1 Roh-Daten'!$C$17:$BR$39,'1.2 Steuerung'!$F30,'1.2 Steuerung'!I$17),\"\")","v":995561},{"$f":"IFERROR(INDEX('1 Roh-Daten'!$C$17:$BR$39,'1.2 Steuerung'!$F30,'1.2 Steuerung'!J$17),\"\")","v":973560},{"$f":"IFERROR(INDEX('1 Roh-Daten'!$C$17:$BR$39,'1.2 Steuerung'!$F30,'1.2 Steuerung'!K$17),\"\")","v":22001},{"$f":"IFERROR(INDEX('1 Roh-Daten'!#REF!,'1.2 Steuerung'!$F30,'1.2 Steuerung'!L$17),\"\")","v":""}]
[null,"Berlin","Berlin,11",null,"Deutsche",14,{"$f":"IFERROR(INDEX('1 Roh-Daten'!$C$58:$S$80,'1.2 Steuerung'!$F31,'1.2 Steuerung'!G$17),\"\")","v":0},{"$f":"IFERROR(INDEX('1 Roh-Daten'!$C$17:$BR$39,'1.2 Steuerung'!$F31,'1.2 Steuerung'!H$17),\"\")","v":28292932},{"$f":"IFERROR(INDEX('1 Roh-Daten'!$C$17:$BR$39,'1.2 Steuerung'!$F31,'1.2 Steuerung'!I$17),\"\")","v":6791093},{"$f":"IFERROR(INDEX('1 Roh-Daten'!$C$17:$BR$39,'1.2 Steuerung'!$F31,'1.2 Steuerung'!J$17),\"\")","v":4467685},{"$f":"IFERROR(INDEX('1 Roh-Daten'!$C$17:$BR$39,'1.2 Steuerung'!$F31,'1.2 Steuerung'!K$17),\"\")","v":2323408},{"$f":"IFERROR(INDEX('1 Roh-Daten'!#REF!,'1.2 Steuerung'!$F31,'1.2 Steuerung'!L$17),\"\")","v":""}]
[null,"Brandenburg","Brandenburg,12",null,"Ausländer",15,{"$f":"IFERROR(INDEX('1 Roh-Daten'!$C$58:$S$80,'1.2 Steuerung'!$F32,'1.2 Steuerung'!G$17),\"\")","v":0},{"$f":"IFERROR(INDEX('1 Roh-Daten'!$C$17:$BR$39,'1.2 Steuerung'!$F32,'1.2 Steuerung'!H$17),\"\")","v":3133874},{"$f":"IFERROR(INDEX('1 Roh-Daten'!$C$17:$BR$39,'1.2 Steuerung'!$F32,'1.2 Steuerung'!I$17),\"\")","v":953149},{"$f":"IFERROR(INDEX('1 Roh-Daten'!$C$17:$BR$39,'1.2 Steuerung'!$F32,'1.2 Steuerung'!J$17),\"\")","v":655077},{"$f":"IFERROR(INDEX('1 Roh-Daten'!$C$17:$BR$39,'1.2 Steuerung'!$F32,'1.2 Steuerung'!K$17),\"\")","v":298072},{"$f":"IFERROR(INDEX('1 Roh-Daten'!#REF!,'1.2 Steuerung'!$F32,'1.2 Steuerung'!L$17),\"\")","v":""}]
[null,"Mecklenburg-Vorpommern","Mecklenburg-Vorpommern,13",null,"Keine Angabe",16,{"$f":"IFERROR(INDEX('1 Roh-Daten'!$C$58:$S$80,'1.2 Steuerung'!$F33,'1.2 Steuerung'!G$17),\"\")","v":0},{"$f":"IFERROR(INDEX('1 Roh-Daten'!$C$17:$BR$39,'1.2 Steuerung'!$F33,'1.2 Steuerung'!H$17),\"\")","v":0},{"$f":"IFERROR(INDEX('1 Roh-Daten'!$C$17:$BR$39,'1.2 Steuerung'!$F33,'1.2 Steuerung'!I$17),\"\")","v":0},{"$f":"IFERROR(INDEX('1 Roh-Daten'!$C$17:$BR$39,'1.2 Steuerung'!$F33,'1.2 Steuerung'!J$17),\"\")","v":0},{"$f":"IFERROR(INDEX('1 Roh-Daten'!$C$17:$BR$39,'1.2 Steuerung'!$F33,'1.2 Steuerung'!K$17),\"\")","v":0},{"$f":"IFERROR(INDEX('1 Roh-Daten'!#REF!,'1.2 Steuerung'!$F33,'1.2 Steuerung'!L$17),\"\")","v":""}]
[null,"Sachsen","Sachsen,14",null,"Vollzeitbeschäftigt",17,{"$f":"IFERROR(INDEX('1 Roh-Daten'!$C$58:$S$80,'1.2 Steuerung'!$F34,'1.2 Steuerung'!G$17),\"\")","v":0},{"$f":"IFERROR(INDEX('1 Roh-Daten'!$C$17:$BR$39,'1.2 Steuerung'!$F34,'1.2 Steuerung'!H$17),\"\")","v":22873969},{"$f":"IFERROR(INDEX('1 Roh-Daten'!$C$17:$BR$39,'1.2 Steuerung'!$F34,'1.2 Steuerung'!I$17),\"\")","v":101871},{"$f":"IFERROR(INDEX('1 Roh-Daten'!$C$17:$BR$39,'1.2 Steuerung'!$F34,'1.2 Steuerung'!J$17),\"\")","v":98678},{"$f":"IFERROR(INDEX('1 Roh-Daten'!$C$17:$BR$39,'1.2 Steuerung'!$F34,'1.2 Steuerung'!K$17),\"\")","v":3193},{"$f":"IFERROR(INDEX('1 Roh-Daten'!#REF!,'1.2 Steuerung'!$F34,'1.2 Steuerung'!L$17),\"\")","v":""}]
[null,"Sachsen-Anhalt","Sachsen-Anhalt,15",null,"Teilzeitbeschäftigt",18,{"$f":"IFERROR(INDEX('1 Roh-Daten'!$C$58:$S$80,'1.2 Steuerung'!$F35,'1.2 Steuerung'!G$17),\"\")","v":0},{"$f":"IFERROR(INDEX('1 Roh-Daten'!$C$17:$BR$39,'1.2 Steuerung'!$F35,'1.2 Steuerung'!H$17),\"\")","v":8568637},{"$f":"IFERROR(INDEX('1 Roh-Daten'!$C$17:$BR$39,'1.2 Steuerung'!$F35,'1.2 Steuerung'!I$17),\"\")","v":7385588},{"$f":"IFERROR(INDEX('1 Roh-Daten'!$C$17:$BR$39,'1.2 Steuerung'!$F35,'1.2 Steuerung'!J$17),\"\")","v":4848031},{"$f":"IFERROR(INDEX('1 Roh-Daten'!$C$17:$BR$39,'1.2 Steuerung'!$F35,'1.2 Steuerung'!K$17),\"\")","v":2537557},{"$f":"IFERROR(INDEX('1 Roh-Daten'!#REF!,'1.2 Steuerung'!$F35,'1.2 Steuerung'!L$17),\"\")","v":""}]
[null,"Thüringen","Thüringen,16",null,"keine Angabe",19,{"$f":"IFERROR(INDEX('1 Roh-Daten'!$C$58:$S$80,'1.2 Steuerung'!$F36,'1.2 Steuerung'!G$17),\"\")","v":0},{"$f":"IFERROR(INDEX('1 Roh-Daten'!$C$17:$BR$39,'1.2 Steuerung'!$F36,'1.2 Steuerung'!H$17),\"\")","v":712},{"$f":"IFERROR(INDEX('1 Roh-Daten'!$C$17:$BR$39,'1.2 Steuerung'!$F36,'1.2 Steuerung'!I$17),\"\")","v":275759},{"$f":"IFERROR(INDEX('1 Roh-Daten'!$C$17:$BR$39,'1.2 Steuerung'!$F36,'1.2 Steuerung'!J$17),\"\")","v":194824},{"$f":"IFERROR(INDEX('1 Roh-Daten'!$C$17:$BR$39,'1.2 Steuerung'!$F36,'1.2 Steuerung'!K$17),\"\")","v":80935},{"$f":"IFERROR(INDEX('1 Roh-Daten'!#REF!,'1.2 Steuerung'!$F36,'1.2 Steuerung'!L$17),\"\")","v":""}]
[null,null,null,null,"ohne Berufsabschluss",20,{"$f":"IFERROR(INDEX('1 Roh-Daten'!$C$58:$S$80,'1.2 Steuerung'!$F37,'1.2 Steuerung'!G$17),\"\")","v":0},{"$f":"IFERROR(INDEX('1 Roh-Daten'!$C$17:$BR$39,'1.2 Steuerung'!$F37,'1.2 Steuerung'!H$17),\"\")","v":3699511},{"$f":"IFERROR(INDEX('1 Roh-Daten'!$C$17:$BR$39,'1.2 Steuerung'!$F37,'1.2 Steuerung'!I$17),\"\")","v":1567956},{"$f":"IFERROR(INDEX('1 Roh-Daten'!$C$17:$BR$39,'1.2 Steuerung'!$F37,'1.2 Steuerung'!J$17),\"\")","v":1185028},{"$f":"IFERROR(INDEX('1 Roh-Daten'!$C$17:$BR$39,'1.2 Steuerung'!$F37,'1.2 Steuerung'!K$17),\"\")","v":382928},{"$f":"IFERROR(INDEX('1 Roh-Daten'!#REF!,'1.2 Steuerung'!$F37,'1.2 Steuerung'!L$17),\"\")","v":""}]
[null,null,null,null,"mit anerkanntem Berufsabschluss",21,{"$f":"IFERROR(INDEX('1 Roh-Daten'!$C$58:$S$80,'1.2 Steuerung'!$F38,'1.2 Steuerung'!G$17),\"\")","v":0},{"$f":"IFERROR(INDEX('1 Roh-Daten'!$C$17:$BR$39,'1.2 Steuerung'!$F38,'1.2 Steuerung'!H$17),\"\")","v":19675786},{"$f":"IFERROR(INDEX('1 Roh-Daten'!$C$17:$BR$39,'1.2 Steuerung'!$F38,'1.2 Steuerung'!I$17),\"\")","v":3757097},{"$f":"IFERROR(INDEX('1 Roh-Daten'!$C$17:$BR$39,'1.2 Steuerung'!$F38,'1.2 Steuerung'!J$17),\"\")","v":1980435},{"$f":"IFERROR(INDEX('1 Roh-Daten'!$C$17:$BR$39,'1.2 Steuerung'!$F38,'1.2 Steuerung'!K$17),\"\")","v":1776662},{"$f":"IFERROR(INDEX('1 Roh-Daten'!#REF!,'1.2 Steuerung'!$F38,'1.2 Steuerung'!L$17),\"\")","v":""}]
[null,null,null,null,"mit akad. Abschluss",22,{"$f":"IFERROR(INDEX('1 Roh-Daten'!$C$58:$S$80,'1.2 Steuerung'!$F39,'1.2 Steuerung'!G$17),\"\")","v":0},{"$f":"IFERROR(INDEX('1 Roh-Daten'!$C$17:$BR$39,'1.2 Steuerung'!$F39,'1.2 Steuerung'!H$17),\"\")","v":4713610},{"$f":"IFERROR(INDEX('1 Roh-Daten'!$C$17:$BR$39,'1.2 Steuerung'!$F39,'1.2 Steuerung'!I$17),\"\")","v":534151},{"$f":"IFERROR(INDEX('1 Roh-Daten'!$C$17:$BR$39,'1.2 Steuerung'!$F39,'1.2 Steuerung'!J$17),\"\")","v":289356},{"$f":"IFERROR(INDEX('1 Roh-Daten'!$C$17:$BR$39,'1.2 Steuerung'!$F39,'1.2 Steuerung'!K$17),\"\")","v":244795},{"$f":"IFERROR(INDEX('1 Roh-Daten'!#REF!,'1.2 Steuerung'!$F39,'1.2 Steuerung'!L$17),\"\")","v":""}]
[null,null,null,null,"keine Angabe",23,{"$f":"IFERROR(INDEX('1 Roh-Daten'!$C$58:$S$80,'1.2 Steuerung'!$F40,'1.2 Steuerung'!G$17),\"\")","v":0},{"$f":"IFERROR(INDEX('1 Roh-Daten'!$C$17:$BR$39,'1.2 Steuerung'!$F40,'1.2 Steuerung'!H$17),\"\")","v":3354411},{"$f":"IFERROR(INDEX('1 Roh-Daten'!$C$17:$BR$39,'1.2 Steuerung'!$F40,'1.2 Steuerung'!I$17),\"\")","v":1904014},{"$f":"IFERROR(INDEX('1 Roh-Daten'!$C$17:$BR$39,'1.2 Steuerung'!$F40,'1.2 Steuerung'!J$17),\"\")","v":1686714},{"$f":"IFERROR(INDEX('1 Roh-Daten'!$C$17:$BR$39,'1.2 Steuerung'!$F40,'1.2 Steuerung'!K$17),\"\")","v":217300},{"$f":"IFERROR(INDEX('1 Roh-Daten'!#REF!,'1.2 Steuerung'!$F40,'1.2 Steuerung'!L$17),\"\")","v":""}]
[]
[null,null,"VOR REV",null,null,null,"SvB",null,"GB","GB_ausschl.","GB_im_NJ"]
[null,null,null,null,null,"1. Vergleich",{"$f":"MATCH('1.2 Steuerung'!G42,'1 Roh-Daten'!B98:BQ98,0)","v":1},null,{"$f":"MATCH('1.2 Steuerung'!I42,'1 Roh-Daten'!B98:BQ98,0)","v":18},{"$f":"MATCH('1.2 Steuerung'!J42,'1 Roh-Daten'!B98:BQ98,0)","v":35},{"$f":"MATCH('1.2 Steuerung'!K42,'1 Roh-Daten'!B98:BQ98,0)","v":52}]
[null,null,null,null,null,"2. Vergleich",{"$f":"MATCH('1.2 Steuerung'!$C$18,'1 Roh-Daten'!B99:R99,0)","v":1}]
[null,null,null,null,null,"Zeilennum.",{"$f":"G43+$G$44-1","v":1},null,{"$f":"I43+G44-1","v":18},{"$f":"J43+G44-1","v":35},{"$f":"K43+G44-1","v":52}]
[]
[null,null,null,null,"Insgesamt",1,{"$f":"IFERROR(INDEX('1 Roh-Daten'!$B$100:$BQ$122,'1.2 Steuerung'!F47,'1.2 Steuerung'!G$45),\"\")","v":31373691},null,{"$f":"IFERROR(INDEX('1 Roh-Daten'!$B$100:$BQ$122,'1.2 Steuerung'!F47,'1.2 Steuerung'!I$45),\"\")","v":7756094},{"$f":"IFERROR(INDEX('1 Roh-Daten'!$B$100:$BQ$122,'1.2 Steuerung'!F47,'1.2 Steuerung'!J$45),\"\")","v":5141164},{"$f":"IFERROR(INDEX('1 Roh-Daten'!$B$100:$BQ$122,'1.2 Steuerung'!F47,'1.2 Steuerung'!K$45),\"\")","v":2614930}]
[null,null,null,null,"Männer",2,{"$f":"IFERROR(INDEX('1 Roh-Daten'!$B$100:$BQ$122,'1.2 Steuerung'!F48,'1.2 Steuerung'!G$45),\"\")","v":16829010},null,{"$f":"IFERROR(INDEX('1 Roh-Daten'!$B$100:$BQ$122,'1.2 Steuerung'!F48,'1.2 Steuerung'!I$45),\"\")","v":3090276},{"$f":"IFERROR(INDEX('1 Roh-Daten'!$B$100:$BQ$122,'1.2 Steuerung'!F48,'1.2 Steuerung'!J$45),\"\")","v":1939448},{"$f":"IFERROR(INDEX('1 Roh-Daten'!$B$100:$BQ$122,'1.2 Steuerung'!F48,'1.2 Steuerung'!K$45),\"\")","v":1150828}]
[null,null,null,null,"Frauen",3,{"$f":"IFERROR(INDEX('1 Roh-Daten'!$B$100:$BQ$122,'1.2 Steuerung'!F49,'1.2 Steuerung'!G$45),\"\")","v":14544681},null,{"$f":"IFERROR(INDEX('1 Roh-Daten'!$B$100:$BQ$122,'1.2 Steuerung'!F49,'1.2 Steuerung'!I$45),\"\")","v":4665818},{"$f":"IFERROR(INDEX('1 Roh-Daten'!$B$100:$BQ$122,'1.2 Steuerung'!F49,'1.2 Steuerung'!J$45),\"\")","v":3201716},{"$f":"IFERROR(INDEX('1 Roh-Daten'!$B$100:$BQ$122,'1.2 Steuerung'!F49,'1.2 Steuerung'!K$45),\"\")","v":1464102}]
[null,null,null,null,"U25",4,{"$f":"IFERROR(INDEX('1 Roh-Daten'!$B$100:$BQ$122,'1.2 Steuerung'!F50,'1.2 Steuerung'!G$45),\"\")","v":3084668},null,{"$f":"IFERROR(INDEX('1 Roh-Daten'!$B$100:$BQ$122,'1.2 Steuerung'!F50,'1.2 Steuerung'!I$45),\"\")","v":1479538},{"$f":"IFERROR(INDEX('1 Roh-Daten'!$B$100:$BQ$122,'1.2 Steuerung'!F50,'1.2 Steuerung'!J$45),\"\")","v":1185883},{"$f":"IFERROR(INDEX('1 Roh-Daten'!$B$100:$BQ$122,'1.2 Steuerung'!F50,'1.2 Steuerung'!K$45),\"\")","v":293655}]
[null,null,null,null,"25 - 29 Jahre",5,{"$f":"IFERROR(INDEX('1 Roh-Daten'!$B$100:$BQ$122,'1.2 Steuerung'!F51,'1.2 Steuerung'!G$45),\"\")","v":3521136},null,{"$f":"IFERROR(INDEX('1 Roh-Daten'!$B$100:$BQ$122,'1.2 Steuerung'!F51,'1.2 Steuerung'!I$45),\"\")","v":680580},{"$f":"IFERROR(INDEX('1 Roh-Daten'!$B$100:$BQ$122,'1.2 Steuerung'!F51,'1.2 Steuerung'!J$45),\"\")","v":370323},{"$f":"IFERROR(INDEX('1 Roh-Daten'!$B$100:$BQ$122,'1.2 Steuerung'!F51,'1.2 Steuerung'!K$45),\"\")","v":310257}]
[null,null,null,null,"30 - 34 Jahre",6,{"$f":"IFERROR(INDEX('1 Roh-Daten'!$B$100:$BQ$122,'1.2 Steuerung'!F52,'1.2 Steuerung'!G$45),\"\")","v":3537654},null,{"$f":"IFERROR(INDEX('1 Roh-Daten'!$B$100:$BQ$122,'1.2 Steuerung'!F52,'1.2 Steuerung'!I$45),\"\")","v":547765},{"$f":"IFERROR(INDEX('1 Roh-Daten'!$B$100:$BQ$122,'1.2 Steuerung'!F52,'1.2 Steuerung'!J$45),\"\")","v":267348},{"$f":"IFERROR(INDEX('1 Roh-Daten'!$B$100:$BQ$122,'1.2 Steuerung'!F52,'1.2 Steuerung'!K$45),\"\")","v":280417}]
[null,null,null,null,"35 - 39 Jahre",7,{"$f":"IFERROR(INDEX('1 Roh-Daten'!$B$100:$BQ$122,'1.2 Steuerung'!F53,'1.2 Steuerung'!G$45),\"\")","v":3377884},null,{"$f":"IFERROR(INDEX('1 Roh-Daten'!$B$100:$BQ$122,'1.2 Steuerung'!F53,'1.2 Steuerung'!I$45),\"\")","v":565000},{"$f":"IFERROR(INDEX('1 Roh-Daten'!$B$100:$BQ$122,'1.2 Steuerung'!F53,'1.2 Steuerung'!J$45),\"\")","v":283911},{"$f":"IFERROR(INDEX('1 Roh-Daten'!$B$100:$BQ$122,'1.2 Steuerung'!F53,'1.2 Steuerung'!K$45),\"\")","v":281089}]
[null,null,null,null,"40 - 44 Jahre",8,{"$f":"IFERROR(INDEX('1 Roh-Daten'!$B$100:$BQ$122,'1.2 Steuerung'!F54,'1.2 Steuerung'!G$45),\"\")","v":3255630},null,{"$f":"IFERROR(INDEX('1 Roh-Daten'!$B$100:$BQ$122,'1.2 Steuerung'!F54,'1.2 Steuerung'!I$45),\"\")","v":599541},{"$f":"IFERROR(INDEX('1 Roh-Daten'!$B$100:$BQ$122,'1.2 Steuerung'!F54,'1.2 Steuerung'!J$45),\"\")","v":302276},{"$f":"IFERROR(INDEX('1 Roh-Daten'!$B$100:$BQ$122,'1.2 Steuerung'!F54,'1.2 Steuerung'!K$45),\"\")","v":297265}]
[null,null,null,null,"45 - 49 Jahre",9,{"$f":"IFERROR(INDEX('1 Roh-Daten'!$B$100:$BQ$122,'1.2 Steuerung'!F55,'1.2 Steuerung'!G$45),\"\")","v":4275603},null,{"$f":"IFERROR(INDEX('1 Roh-Daten'!$B$100:$BQ$122,'1.2 Steuerung'!F55,'1.2 Steuerung'!I$45),\"\")","v":765970},{"$f":"IFERROR(INDEX('1 Roh-Daten'!$B$100:$BQ$122,'1.2 Steuerung'!F55,'1.2 Steuerung'!J$45),\"\")","v":385086},{"$f":"IFERROR(INDEX('1 Roh-Daten'!$B$100:$BQ$122,'1.2 Steuerung'!F55,'1.2 Steuerung'!K$45),\"\")","v":380884}]
[null,null,null,null,"50 - 54 Jahre",10,{"$f":"IFERROR(INDEX('1 Roh-Daten'!$B$100:$BQ$122,'1.2 Steuerung'!F56,'1.2 Steuerung'!G$45),\"\")","v":4514736},null,{"$f":"IFERROR(INDEX('1 Roh-Daten'!$B$100:$BQ$122,'1.2 Steuerung'!F56,'1.2 Steuerung'!I$45),\"\")","v":805814},{"$f":"IFERROR(INDEX('1 Roh-Daten'!$B$100:$BQ$122,'1.2 Steuerung'!F56,'1.2 Steuerung'!J$45),\"\")","v":437596},{"$f":"IFERROR(INDEX('1 Roh-Daten'!$B$100:$BQ$122,'1.2 Steuerung'!F56,'1.2 Steuerung'!K$45),\"\")","v":368218}]
[null,null,null,null,"55 - 59 Jahre",11,{"$f":"IFERROR(INDEX('1 Roh-Daten'!$B$100:$BQ$122,'1.2 Steuerung'!F57,'1.2 Steuerung'!G$45),\"\")","v":3593102},null,{"$f":"IFERROR(INDEX('1 Roh-Daten'!$B$100:$BQ$122,'1.2 Steuerung'!F57,'1.2 Steuerung'!I$45),\"\")","v":676959},{"$f":"IFERROR(INDEX('1 Roh-Daten'!$B$100:$BQ$122,'1.2 Steuerung'!F57,'1.2 Steuerung'!J$45),\"\")","v":424334},{"$f":"IFERROR(INDEX('1 Roh-Daten'!$B$100:$BQ$122,'1.2 Steuerung'!F57,'1.2 Steuerung'!K$45),\"\")","v":252625}]
[null,null,null,null,"60 - 64 Jahre",12,{"$f":"IFERROR(INDEX('1 Roh-Daten'!$B$100:$BQ$122,'1.2 Steuerung'!F58,'1.2 Steuerung'!G$45),\"\")","v":1958751},null,{"$f":"IFERROR(INDEX('1 Roh-Daten'!$B$100:$BQ$122,'1.2 Steuerung'!F58,'1.2 Steuerung'!I$45),\"\")","v":641138},{"$f":"IFERROR(INDEX('1 Roh-Daten'!$B$100:$BQ$122,'1.2 Steuerung'!F58,'1.2 Steuerung'!J$45),\"\")","v":512726},{"$f":"IFERROR(INDEX('1 Roh-Daten'!$B$100:$BQ$122,'1.2 Steuerung'!F58,'1.2 Steuerung'!K$45),\"\")","v":128412}]
[null,null,null,null,"65+",13,{"$f":"IFERROR(INDEX('1 Roh-Daten'!$B$100:$BQ$122,'1.2 Steuerung'!F59,'1.2 Steuerung'!G$45),\"\")","v":254526},null,{"$f":"IFERROR(INDEX('1 Roh-Daten'!$B$100:$BQ$122,'1.2 Steuerung'!F59,'1.2 Steuerung'!I$45),\"\")","v":993762},{"$f":"IFERROR(INDEX('1 Roh-Daten'!$B$100:$BQ$122,'1.2 Steuerung'!F59,'1.2 Steuerung'!J$45),\"\")","v":971654},{"$f":"IFERROR(INDEX('1 Roh-Daten'!$B$100:$BQ$122,'1.2 Steuerung'!F59,'1.2 Steuerung'!K$45),\"\")","v":22108}]
[null,null,null,null,"Deutsche",14,{"$f":"IFERROR(INDEX('1 Roh-Daten'!$B$100:$BQ$122,'1.2 Steuerung'!F60,'1.2 Steuerung'!G$45),\"\")","v":28227842},null,{"$f":"IFERROR(INDEX('1 Roh-Daten'!$B$100:$BQ$122,'1.2 Steuerung'!F60,'1.2 Steuerung'!I$45),\"\")","v":6784024},{"$f":"IFERROR(INDEX('1 Roh-Daten'!$B$100:$BQ$122,'1.2 Steuerung'!F60,'1.2 Steuerung'!J$45),\"\")","v":4466958},{"$f":"IFERROR(INDEX('1 Roh-Daten'!$B$100:$BQ$122,'1.2 Steuerung'!F60,'1.2 Steuerung'!K$45),\"\")","v":2317066}]
[null,null,null,null,"Ausländer",15,{"$f":"IFERROR(INDEX('1 Roh-Daten'!$B$100:$BQ$122,'1.2 Steuerung'!F61,'1.2 Steuerung'!G$45),\"\")","v":3129357},null,{"$f":"IFERROR(INDEX('1 Roh-Daten'!$B$100:$BQ$122,'1.2 Steuerung'!F61,'1.2 Steuerung'!I$45),\"\")","v":953077},{"$f":"IFERROR(INDEX('1 Roh-Daten'!$B$100:$BQ$122,'1.2 Steuerung'!F61,'1.2 Steuerung'!J$45),\"\")","v":655420},{"$f":"IFERROR(INDEX('1 Roh-Daten'!$B$100:$BQ$122,'1.2 Steuerung'!F61,'1.2 Steuerung'!K$45),\"\")","v":297657}]
[null,null,null,null,"Keine Angabe",16,{"$f":"IFERROR(INDEX('1 Roh-Daten'!$B$100:$BQ$122,'1.2 Steuerung'!F62,'1.2 Steuerung'!G$45),\"\")","v":0},null,{"$f":"IFERROR(INDEX('1 Roh-Daten'!$B$100:$BQ$122,'1.2 Steuerung'!F62,'1.2 Steuerung'!I$45),\"\")","v":0},{"$f":"IFERROR(INDEX('1 Roh-Daten'!$B$100:$BQ$122,'1.2 Steuerung'!F62,'1.2 Steuerung'!J$45),\"\")","v":0},{"$f":"IFERROR(INDEX('1 Roh-Daten'!$B$100:$BQ$122,'1.2 Steuerung'!F62,'1.2 Steuerung'!K$45),\"\")","v":0}]
[null,null,null,null,"Vollzeitbeschäftigt",17,{"$f":"IFERROR(INDEX('1 Roh-Daten'!$B$100:$BQ$122,'1.2 Steuerung'!F63,'1.2 Steuerung'!G$45),\"\")","v":22825336},null,{"$f":"IFERROR(INDEX('1 Roh-Daten'!$B$100:$BQ$122,'1.2 Steuerung'!F63,'1.2 Steuerung'!I$45),\"\")","v":101914},{"$f":"IFERROR(INDEX('1 Roh-Daten'!$B$100:$BQ$122,'1.2 Steuerung'!F63,'1.2 Steuerung'!J$45),\"\")","v":98720},{"$f":"IFERROR(INDEX('1 Roh-Daten'!$B$100:$BQ$122,'1.2 Steuerung'!F63,'1.2 Steuerung'!K$45),\"\")","v":3194}]
[null,null,null,null,"Teilzeitbeschäftigt",18,{"$f":"IFERROR(INDEX('1 Roh-Daten'!$B$100:$BQ$122,'1.2 Steuerung'!F64,'1.2 Steuerung'!G$45),\"\")","v":8547630},null,{"$f":"IFERROR(INDEX('1 Roh-Daten'!$B$100:$BQ$122,'1.2 Steuerung'!F64,'1.2 Steuerung'!I$45),\"\")","v":7377556},{"$f":"IFERROR(INDEX('1 Roh-Daten'!$B$100:$BQ$122,'1.2 Steuerung'!F64,'1.2 Steuerung'!J$45),\"\")","v":4846612},{"$f":"IFERROR(INDEX('1 Roh-Daten'!$B$100:$BQ$122,'1.2 Steuerung'!F64,'1.2 Steuerung'!K$45),\"\")","v":2530944}]
[null,null,null,null,"keine Angabe",19,{"$f":"IFERROR(INDEX('1 Roh-Daten'!$B$100:$BQ$122,'1.2 Steuerung'!F65,'1.2 Steuerung'!G$45),\"\")","v":725},null,{"$f":"IFERROR(INDEX('1 Roh-Daten'!$B$100:$BQ$122,'1.2 Steuerung'!F65,'1.2 Steuerung'!I$45),\"\")","v":276624},{"$f":"IFERROR(INDEX('1 Roh-Daten'!$B$100:$BQ$122,'1.2 Steuerung'!F65,'1.2 Steuerung'!J$45),\"\")","v":195832},{"$f":"IFERROR(INDEX('1 Roh-Daten'!$B$100:$BQ$122,'1.2 Steuerung'!F65,'1.2 Steuerung'!K$45),\"\")","v":80792}]
[null,null,null,null,"ohne Berufsabschluss",20,{"$f":"IFERROR(INDEX('1 Roh-Daten'!$B$100:$BQ$122,'1.2 Steuerung'!F66,'1.2 Steuerung'!G$45),\"\")","v":3693645},null,{"$f":"IFERROR(INDEX('1 Roh-Daten'!$B$100:$BQ$122,'1.2 Steuerung'!F66,'1.2 Steuerung'!I$45),\"\")","v":1567590},{"$f":"IFERROR(INDEX('1 Roh-Daten'!$B$100:$BQ$122,'1.2 Steuerung'!F66,'1.2 Steuerung'!J$45),\"\")","v":1185028},{"$f":"IFERROR(INDEX('1 Roh-Daten'!$B$100:$BQ$122,'1.2 Steuerung'!F66,'1.2 Steuerung'!K$45),\"\")","v":382562}]
[null,null,null,null,"mit anerkanntem Berufsabschluss",21,{"$f":"IFERROR(INDEX('1 Roh-Daten'!$B$100:$BQ$122,'1.2 Steuerung'!F67,'1.2 Steuerung'!G$45),\"\")","v":19627411},null,{"$f":"IFERROR(INDEX('1 Roh-Daten'!$B$100:$BQ$122,'1.2 Steuerung'!F67,'1.2 Steuerung'!I$45),\"\")","v":3752426},{"$f":"IFERROR(INDEX('1 Roh-Daten'!$B$100:$BQ$122,'1.2 Steuerung'!F67,'1.2 Steuerung'!J$45),\"\")","v":1981237},{"$f":"IFERROR(INDEX('1 Roh-Daten'!$B$100:$BQ$122,'1.2 Steuerung'!F67,'1.2 Steuerung'!K$45),\"\")","v":1771189}]
[null,null,null,null,"mit akad. Abschluss",22,{"$f":"IFERROR(INDEX('1 Roh-Daten'!$B$100:$BQ$122,'1.2 Steuerung'!F68,'1.2 Steuerung'!G$45),\"\")","v":4704645},null,{"$f":"IFERROR(INDEX('1 Roh-Daten'!$B$100:$BQ$122,'1.2 Steuerung'!F68,'1.2 Steuerung'!I$45),\"\")","v":533626},{"$f":"IFERROR(INDEX('1 Roh-Daten'!$B$100:$BQ$122,'1.2 Steuerung'!F68,'1.2 Steuerung'!J$45),\"\")","v":289411},{"$f":"IFERROR(INDEX('1 Roh-Daten'!$B$100:$BQ$122,'1.2 Steuerung'!F68,'1.2 Steuerung'!K$45),\"\")","v":244215}]
[null,null,null,null,"keine Angabe",23,{"$f":"IFERROR(INDEX('1 Roh-Daten'!$B$100:$BQ$122,'1.2 Steuerung'!F69,'1.2 Steuerung'!G$45),\"\")","v":3347990},null,{"$f":"IFERROR(INDEX('1 Roh-Daten'!$B$100:$BQ$122,'1.2 Steuerung'!F69,'1.2 Steuerung'!I$45),\"\")","v":1902452},{"$f":"IFERROR(INDEX('1 Roh-Daten'!$B$100:$BQ$122,'1.2 Steuerung'!F69,'1.2 Steuerung'!J$45),\"\")","v":1685488},{"$f":"IFERROR(INDEX('1 Roh-Daten'!$B$100:$BQ$122,'1.2 Steuerung'!F69,'1.2 Steuerung'!K$45),\"\")","v":216964}]

{"sheet":"Steuerung1","index":8,"n_rows":28,"n_cols":2,"rows_kept":28,"cut":false,"hidden":true,"merged":[]}
[]
[]
[null,4]
[]
[]
[]
[]
[]
[]
[]
[]
[null,"Deutschland"]
[null,"       01 Schleswig-Holstein"]
[null,"       02 Hamburg"]
[null,"       03 Niedersachsen"]
[null,"       04 Bremen"]
[null,"       05 Nordrhein-Westfalen"]
[null,"       06 Hessen"]
[null,"       05 Rheinland-Pfalz"]
[null,"       08 Baden-Württemberg"]
[null,"       09 Bayern"]
[null,"       10 Saarland"]
[null,"       11 Berlin"]
[null,"       12 Brandenburg"]
[null,"       13 Mecklenburg-Vorpommern"]
[null,"       14 Sachsen"]
[null,"       15 Sachsen-Anhalt"]
[null,"       16 Thüringen"]

{"sheet":"2_Grafik","index":9,"n_rows":31,"n_cols":3,"rows_kept":31,"cut":false,"hidden":false,"merged":[[6,0,8,0],[2,0,2,2]]}
[null,null,"Beschäftigungsstatistik"]
[]
["Begonnene und beendete sozialversicherungspflichtige Beschäftigungsverhältnisse nach ausgewählten Merkmalen - Veränderung in %"]
[null,"(Arbeitsort)"]
["Berichtsjahr 2016"]
[]
["Merkmale","Begonnene Beschäftigungsverhältnisse","Beendete Beschäftigungsverhältnisse"]
[null,"Daten vor und nach der Revision Veränderung in % (relativ) ","Daten vor und nach der Revision Veränderung in % (relativ) "]
[null,1,2]
["Insgesamt",{"$f":"IFERROR('2'!E11,\"-\")","v":0.18040699292241197},{"$f":"'2'!I11","v":-1.1564149662800969}]
["nach Geschlecht"]
["Männer",{"$f":"IFERROR('2'!E13,\"-\")","v":0.18150321780143322},{"$f":"'2'!I13","v":-1.0829875897033747}]
["Frauen",{"$f":"IFERROR('2'!E14,\"-\")","v":0.17898240355719919},{"$f":"'2'!I14","v":-1.2502458636642868}]
["nach Alter"]
["unter 25 Jahren",{"$f":"IFERROR('2'!E16,\"-\")","v":0.12344083643979349},{"$f":"'2'!I16","v":-0.2242436683445132}]
["25 bis unter 30 Jahren",{"$f":"IFERROR('2'!E17,\"-\")","v":0.16487562861276114},{"$f":"'2'!I17","v":-0.63225049351837581}]
["30 bis unter 35 Jahren",{"$f":"IFERROR('2'!E18,\"-\")","v":0.18197036952356493},{"$f":"'2'!I18","v":-0.9417776225253256}]
["35 bis unter 40 Jahren",{"$f":"IFERROR('2'!E19,\"-\")","v":0.19225986461174971},{"$f":"'2'!I19","v":-1.2569127181944553}]
["40 bis unter 45 Jahren",{"$f":"IFERROR('2'!E20,\"-\")","v":0.2229324494949495},{"$f":"'2'!I20","v":-1.6599502221530864}]
["45 bis unter 50 Jahren",{"$f":"IFERROR('2'!E21,\"-\")","v":0.24103403932602793},{"$f":"'2'!I21","v":-2.125544740569945}]
["50 bis unter 55 Jahren",{"$f":"IFERROR('2'!E22,\"-\")","v":0.23617854346123726},{"$f":"'2'!I22","v":-2.342415505682323}]
["55 bis unter 60 Jahren",{"$f":"IFERROR('2'!E23,\"-\")","v":0.23784339386985545},{"$f":"'2'!I23","v":-2.6829968289294599}]
["60 bis unter 65 Jahren",{"$f":"IFERROR('2'!E24,\"-\")","v":0.20882530884677686},{"$f":"'2'!I24","v":-1.3029140762941971}]
["65 Jahre und älter",{"$f":"IFERROR('2'!E25,\"-\")","v":0.16238971462852059},{"$f":"'2'!I25","v":-0.13497247669458448}]
["nach Nationalität"]
["Deutsche",{"$f":"IFERROR('2'!E27,\"-\")","v":0.1950197755448799},{"$f":"'2'!I27","v":-1.3380790013653996}]
["Ausländer",{"$f":"IFERROR('2'!E28,\"-\")","v":0.12701358395639079},{"$f":"'2'!I28","v":-0.37773371730099797}]
["nach der Arbeitszeit"]
["Vollzeit",{"$f":"IFERROR('2'!E30,\"-\")","v":0.18606065368731911},{"$f":"'2'!I30","v":-1.2825470247529347}]
["Teilzeit",{"$f":"IFERROR('2'!E31,\"-\")","v":0.16906830665968278},{"$f":"'2'!I31","v":-0.89496089620713193}]
[null,null,"© Statistik der Bundesagentur für Arbeit"]

{"sheet":"2","index":10,"n_rows":32,"n_cols":9,"rows_kept":32,"cut":false,"hidden":false,"merged":[[7,6,8,6],[7,7,7,8],[2,0,2,8],[7,5,8,5],[6,0,9,0],[6,1,6,4],[6,5,6,8],[7,1,8,1],[7,2,8,2],[7,3,7,4]]}
[null,null,null,null,null,null,null,null,"Beschäftigungsstatistik"]
[]
["Begonnene und beendete sozialversicherungspflichtige Beschäftigungsverhältnisse nach ausgewählten Merkmalen"]
[null,null,"(Arbeitsort)"]
["Berichtsjahr 2016"]
[]
["Merkmale","Begonnene Beschäftigungsverhältnisse",null,null,null,"Beendete Beschäftigungsverhältnisse"]
[null," nach Revision"," vor Revision","Veränderung (Spalte 1 zu 2)",null," nach Revision"," vor Revision","Veränderung (Spalte 5 zu 6)"]
[null,null,null,"absolut","in %",null,null,"absolut","in %"]
[null,1,2,3,4,5,6,7,8]
["Insgesamt",{"$f":"'2_BV Steuerung'!H18","v":10220893},{"$f":"'2_BV Steuerung'!G47","v":10202487},{"$f":"B11-C11","v":18406},{"$f":"(D11*100)/C11","v":0.18040699292241197},{"$f":"'2_BV Steuerung'!I18","v":9661314},{"$f":"'2_BV Steuerung'!I47","v":9774346},{"$f":"F11-G11","v":-113032},{"$f":"(H11*100)/G11","v":-1.1564149662800969}]
["nach Geschlecht"]
["Männer",{"$f":"'2_BV Steuerung'!H19","v":5776203},{"$f":"'2_BV Steuerung'!G48","v":5765738},{"$f":"B13-C13","v":10465},{"$f":"(D13*100)/C13","v":0.18150321780143322},{"$f":"'2_BV Steuerung'!I19","v":5423966},{"$f":"'2_BV Steuerung'!I48","v":5483350},{"$f":"F13-G13","v":-59384},{"$f":"(H13*100)/G13","v":-1.0829875897033747}]
["Frauen",{"$f":"'2_BV Steuerung'!H20","v":4444690},{"$f":"'2_BV Steuerung'!G49","v":4436749},{"$f":"B14-C14","v":7941},{"$f":"(D14*100)/C14","v":0.17898240355719919},{"$f":"'2_BV Steuerung'!I20","v":4237348},{"$f":"'2_BV Steuerung'!I49","v":4290996},-53648,-1.2502458636642868]
["nach Alter"]
["unter 25 Jahren",{"$f":"'2_BV Steuerung'!H21","v":2735045},{"$f":"'2_BV Steuerung'!G50","v":2731673},{"$f":"B16-C16","v":3372},0.12344083643979349,{"$f":"'2_BV Steuerung'!I21","v":2109477},{"$f":"'2_BV Steuerung'!I50","v":2114218},-4741,-0.2242436683445132]
["25 bis unter 30 Jahren",{"$f":"'2_BV Steuerung'!H22","v":1794000},{"$f":"'2_BV Steuerung'!G51","v":1791047},2953,0.16487562861276114,{"$f":"'2_BV Steuerung'!I22","v":1598684},{"$f":"'2_BV Steuerung'!I51","v":1608856},-10172,-0.63225049351837581]
["30 bis unter 35 Jahren",{"$f":"'2_BV Steuerung'!H23","v":1279455},{"$f":"'2_BV Steuerung'!G52","v":1277131},2324,0.18197036952356493,{"$f":"'2_BV Steuerung'!I23","v":1219377},{"$f":"'2_BV Steuerung'!I52","v":1230970},-11593,-0.9417776225253256]
["35 bis unter 40 Jahren",{"$f":"'2_BV Steuerung'!H24","v":1031315},{"$f":"'2_BV Steuerung'!G53","v":1029336},1979,0.19225986461174971,{"$f":"'2_BV Steuerung'!I24","v":981686},{"$f":"'2_BV Steuerung'!I53","v":994182},-12496,-1.2569127181944553]
["40 bis unter 45 Jahren",{"$f":"'2_BV Steuerung'!H25","v":863617},{"$f":"'2_BV Steuerung'!G54","v":861696},1921,0.2229324494949495,{"$f":"'2_BV Steuerung'!I25","v":809197},{"$f":"'2_BV Steuerung'!I54","v":822856},-13659,-1.6599502221530864]
["45 bis unter 50 Jahren",{"$f":"'2_BV Steuerung'!H26","v":912023},{"$f":"'2_BV Steuerung'!G55","v":909830},2193,{"$f":"(D21*100)/C21","v":0.24103403932602793},{"$f":"'2_BV Steuerung'!I26","v":868488},{"$f":"'2_BV Steuerung'!I55","v":887349},-18861,-2.125544740569945]
["50 bis unter 55 Jahren",{"$f":"'2_BV Steuerung'!H27","v":800010},{"$f":"'2_BV Steuerung'!G56","v":798125},1885,0.23617854346123726,{"$f":"'2_BV Steuerung'!I27","v":791253},{"$f":"'2_BV Steuerung'!I56","v":810232},-18979,-2.342415505682323]
["55 bis unter 60 Jahren",{"$f":"'2_BV Steuerung'!H28","v":503205},{"$f":"'2_BV Steuerung'!G57","v":502011},1194,{"$f":"(D23*100)/C23","v":0.23784339386985545},{"$f":"'2_BV Steuerung'!I28","v":552709},{"$f":"'2_BV Steuerung'!I57","v":567947},-15238,-2.6829968289294599]
["60 bis unter 65 Jahren",{"$f":"'2_BV Steuerung'!H29","v":205384},{"$f":"'2_BV Steuerung'!G58","v":204956},428,0.20882530884677686,{"$f":"'2_BV Steuerung'!I29","v":532151},{"$f":"'2_BV Steuerung'!I58","v":539176},-7025,-1.3029140762941971]
["65 Jahre und älter",{"$f":"'2_BV Steuerung'!H30","v":96838},{"$f":"'2_BV Steuerung'!G59","v":96681},157,0.16238971462852059,{"$f":"'2_BV Steuerung'!I30","v":198291},{"$f":"'2_BV Steuerung'!I59","v":198559},-268,-0.13497247669458448]
["nach Nationalität"]
["Deutsche",{"$f":"'2_BV Steuerung'!H31","v":8020954},{"$f":"'2_BV Steuerung'!G60","v":8005342},{"$f":"B27-C27","v":15612},0.1950197755448799,{"$f":"'2_BV Steuerung'!I31","v":7818385},{"$f":"'2_BV Steuerung'!I60","v":7924420},-106035,-1.3380790013653996]
["Ausländer",{"$f":"'2_BV Steuerung'!H32","v":2188369},{"$f":"'2_BV Steuerung'!G61","v":2185593},{"$f":"B28-C28","v":2776},0.12701358395639079,{"$f":"'2_BV Steuerung'!I32","v":1832443},{"$f":"'2_BV Steuerung'!I61","v":1839391},-6948,-0.37773371730099797]
["nach der Arbeitszeit"]
["Vollzeit",{"$f":"'2_BV Steuerung'!H34","v":6820662},{"$f":"'2_BV Steuerung'!G63","v":6807995},{"$f":"B30-C30","v":12667},0.18606065368731911,{"$f":"'2_BV Steuerung'!I34","v":6510033},{"$f":"'2_BV Steuerung'!I63","v":6594612},{"$f":"IFERROR(F30-G30,\"-\")","v":-84579},{"$f":"IFERROR((H30*100)/G30,\"-\")","v":-1.2825470247529347}]
["Teilzeit",{"$f":"'2_BV Steuerung'!H35","v":3400225},{"$f":"'2_BV Steuerung'!G64","v":3394486},{"$f":"B31-C31","v":5739},0.16906830665968278,{"$f":"'2_BV Steuerung'!I35","v":3149131},{"$f":"'2_BV Steuerung'!I64","v":3177569},{"$f":"IFERROR(F31-G31,\"-\")","v":-28438},{"$f":"IFERROR((H31*100)/G31,\"-\")","v":-0.89496089620713193}]
[null,null,null,null,null,null,null,null,"© Statistik der Bundesagentur für Arbeit"]

{"sheet":"2_BV_Roh-Daten","index":11,"n_rows":113,"n_cols":36,"rows_kept":113,"cut":false,"hidden":true,"merged":[[13,2,13,18],[13,19,13,35],[50,2,50,18],[93,1,93,17],[93,18,93,34]]}
[]
[]
[]
[]
[]
[]
[]
[]
[]
[]
[]
["NACH REV"]
[]
[26,"Metriken","begonnene BV",null,null,null,null,null,null,null,null,null,null,null,null,null,null,null,null,"beendete BV"]
["Schleswig-Holstein,01","D+Länder(AO)","Deutschland","Schleswig-Holstein,01","Hamburg,02","Niedersachsen,03","Bremen,04","Nordrhein-Westfalen,05","Hessen,06","Rheinland-Pfalz,07","Baden-Württemberg,08","Bayern,09","Saarland,10","Berlin,11","Brandenburg,12","Mecklenburg-Vorpommern,13","Sachsen,14","Sachsen-Anhalt,15","Thüringen,16","Deutschland","Schleswig-Holstein,01","Hamburg,02","Niedersachsen,03","Bremen,04","Nordrhein-Westfalen,05","Hessen,06","Rheinland-Pfalz,07","Baden-Württemberg,08","Bayern,09","Saarland,10","Berlin,11","Brandenburg,12","Mecklenburg-Vorpommern,13","Sachsen,14","Sachsen-Anhalt,15","Thüringen,16"]
["Merkmale_1.1"]
["Insgesamt",null,10220893,322055,378831,884196,139237,2119648,765759,431322,1347738,1710552,109671,668078,253358,179499,452668,217761,227396,9661314,302710,359824,839387,133663,2018327,724992,413039,1266609,1598799,107345,618163,241573,173848,432411,209367,220561]
["Männer",null,5776203,177373,214310,494963,88040,1210562,433739,244032,753705,963291,62707,370703,146261,100315,253805,124686,129733,5423966,165440,202670,471636,84057,1149960,407521,232436,701419,891796,61784,339282,138527,95664,239441,117790,124127]
["Frauen",null,4444690,144682,164521,389233,51197,909086,332020,187290,594033,747261,46964,297375,107097,79184,198863,93075,97663,4237348,137270,157154,367751,49606,868367,317471,180603,565190,707003,45561,278881,103046,78184,192970,91577,96434]
["U25",null,2735045,88924,88116,261613,37461,592028,205595,126573,422198,495481,32698,123473,48180,33819,86563,43636,46882,2109477,69465,67032,205131,30818,454231,156838,100286,329316,382564,25974,93150,36597,26129,63704,32893,35230]
["25 - 29 Jahre",null,1794000,51058,76689,143102,26844,369801,141946,70238,233989,295104,18215,135440,42020,30627,81857,36386,38782,1598684,46280,68745,130517,24709,333581,125361,64804,207302,259684,17091,117276,37332,27542,71678,32050,34614]
["30 - 34 Jahre",null,1279455,36577,55683,100473,17377,254319,96875,48892,155568,207529,12520,103784,36237,25071,66106,29755,30967,1219377,34945,54209,96369,16959,246436,92965,47305,150293,199397,12446,96249,32450,23035,60834,26833,28560]
["35 - 39 Jahre",null,1031315,30838,41547,84387,13417,208949,78263,40584,126722,171120,10167,75410,29252,19741,51766,22981,24541,981686,29163,41776,79679,12923,200970,75403,38956,121407,164192,9814,71540,26530,17997,47426,20989,22829]
["40 - 44 Jahre",null,863617,27966,32985,74078,11328,180617,65914,36154,108794,144860,9053,57983,21793,14617,39262,17902,18914,809197,25934,32108,69012,10655,171423,62874,33888,101026,135209,8669,54763,19905,13413,36417,16371,17463]
["45 - 49 Jahre",null,912023,31842,32483,81311,11099,193936,68067,39347,113062,149635,9756,57804,23804,16374,40310,20794,20720,868488,29851,32056,77104,10725,187734,65808,37226,107158,141872,9412,55500,22086,15273,37894,19332,19381]
["50 - 54 Jahre",null,800010,27802,25755,69732,9467,164712,56382,34676,95472,125635,8730,54605,24648,18173,39835,21196,21813,791253,26937,26284,69336,9551,167325,56745,34214,94157,123890,8957,52933,23643,17495,38300,20499,20931]
["55 - 59 Jahre",null,503205,16882,15502,43035,7125,98590,33769,21967,57725,76811,5489,34274,17385,13450,28360,15876,15959,552709,17831,17054,47987,7813,113151,38746,24556,64056,84366,6374,35055,18489,14320,29422,16370,17076]
["60 - 64 Jahre",null,205384,6775,6139,17053,3224,37727,12833,8602,22311,30110,2082,16828,7542,5909,13688,7204,6905,532151,15401,13073,45721,6287,101628,36396,22865,65112,79172,6336,28106,19585,15174,37650,19510,20113]
["65+",null,96838,3391,3932,9412,1895,18969,6115,4289,11897,14267,961,8476,2497,1718,4921,2031,1913,198291,6903,7487,18531,3223,41847,13856,8939,26782,28453,2272,13591,4956,3470,9086,4520,4364]
["Deutsche",null,8020954,274790,305368,721940,109828,1693124,554495,330428,980832,1253219,83057,527406,216923,160536,403034,197296,199227,7818385,262869,298121,703258,107751,1658638,546222,326032,957068,1214847,83290,502571,212529,159208,393660,193532,198294]
["Ausländer",null,2188369,47008,72794,161625,29323,423436,210569,100540,366134,456387,26563,138860,36245,18864,47966,20333,28097,1832443,39631,61116,135587,25819,356966,178069,86701,308797,383064,24008,113951,28900,14559,37135,15720,22219]
["Keine Angabe",null,11570,257,669,631,86,3088,695,354,772,946,51,1812,190,99,1668,132,72,10486,210,587,542,93,2723,701,306,744,888,47,1641,144,81,1616,115,48]
["Vollzeitbeschäftigt",null,6820662,212215,243850,595504,70581,1392118,497973,296450,964068,1195895,76385,372997,161776,123331,304491,145674,159791,6510033,202472,233303,575858,67060,1344195,474134,286045,908246,1118369,76505,343680,158233,121328,298574,143726,157890]
["Teilzeitbeschäftigt",null,3400225,109840,134981,288688,68656,727530,267786,134872,383670,514656,33286,295081,91581,56168,148177,72087,67605,3149131,100170,126473,263319,66588,673586,250745,126896,358065,480209,30809,274395,83262,52442,133726,65584,62581]
[]
[]
[]
[]
[]
[]
[]
[]
[]
[]
[]
[]
[]
[]
[]
[]
[]
[]
[]
[]
[]
[]
[]
[]
[]
[]
[]
[]
[]
[]
[]
[]
[]
[]
[]
[]
[]
[]
[]
[]
[]
[]
[]
[]
[]
[]
[]
[]
[]
[]
[]
[]
[]
[]
[]
[]
[]
["VOR REV"]
[]
[null,"begonnene BV",null,null,null,null,null,null,null,null,null,null,null,null,null,null,null,null,"beendete BV"]
["Merkmale_1.1","Deutschland","Schleswig-Holstein,01","Hamburg,02","Niedersachsen,03","Bremen,04","Nordrhein-Westfalen,05","Hessen,06","Rheinland-Pfalz,07","Baden-Württemberg,08","Bayern,09","Saarland,10","Berlin,11","Brandenburg,12","Mecklenburg-Vorpommern,13","Sachsen,14","Sachsen-Anhalt,15","Thüringen,16","Deutschland","Schleswig-Holstein,01","Hamburg,02","Niedersachsen,03","Bremen,04","Nordrhein-Westfalen,05","Hessen,06","Rheinland-Pfalz,07","Baden-Württemberg,08","Bayern,09","Saarland,10","Berlin,11","Brandenburg,12","Mecklenburg-Vorpommern,13","Sachsen,14","Sachsen-Anhalt,15","Thüringen,16"]
["Insgesamt",10202487,321730,378349,879938,138990,2115879,764800,430717,1345218,1707913,109356,667335,253025,179347,452212,217372,227182,9774346,304981,362418,865134,134608,2045020,732948,417788,1278208,1614327,109046,621070,244240,175240,435105,211501,222016]
["Männer",5765738,177227,214037,492737,87891,1208325,433209,243729,752085,961818,62479,370290,146074,100233,253559,124475,129592,5483350,166593,203977,485837,84588,1164151,411790,235013,707644,899954,62682,340495,139629,96196,240718,118839,124828]
["Frauen",4436749,144503,164312,387201,51099,907554,331591,186988,593133,746095,46877,297045,106951,79114,198653,92897,97590,4290996,138388,158441,379297,50020,880869,321158,182775,570564,714373,46364,280575,104611,79044,194387,92662,97188]
["U25",2731673,88876,88025,260723,37413,591204,205439,126462,421809,494985,32648,123384,48140,33806,86512,43581,46861,2114218,69545,67074,206491,30842,455276,157090,100485,329799,383453,26045,93191,36655,26157,63763,32963,35270]
["25 - 29 Jahre",1791047,51005,76587,142445,26801,369160,141810,70123,233626,294672,18171,135297,41970,30604,81798,36339,38737,1608856,46468,68952,132940,24814,336156,125992,65205,208286,261026,17272,117552,37531,27656,71925,32216,34747]
["30 - 34 Jahre",1277131,36542,55606,99960,17340,253882,96735,48837,155236,207196,12500,103667,36191,25049,66025,29706,30937,1230970,35178,54530,98877,17082,249102,93745,47765,151507,200988,12628,96652,32749,23185,61121,27057,28712]
["35 - 39 Jahre",1029336,30809,41501,83983,13395,208549,78132,40519,126464,170815,10128,75316,29211,19723,51708,22942,24511,994182,29433,42107,82257,13056,203874,76291,39478,122753,165923,10009,71943,26830,18157,47749,21227,23003]
["40 - 44 Jahre",861696,27928,32931,73660,11301,180247,65795,36094,108546,144582,8996,57912,21754,14594,39208,17865,18886,822856,26208,32421,71846,10774,174725,63900,34507,102557,137098,8870,55136,20214,13586,36731,16618,17598]
["45 - 49 Jahre",909830,31797,32439,80807,11067,193484,67972,39261,112732,149320,9720,57730,23763,16360,40261,20742,20696,887349,30254,32523,81314,10868,192475,67281,38094,109003,144376,9657,55914,22494,15465,38290,19668,19597]
["50 - 54 Jahre",798125,27765,25717,69289,9449,164385,56281,34611,95162,125385,8685,54526,24610,18161,39778,21141,21803,810232,27340,26717,73573,9683,171908,58133,35011,96016,126405,9278,53376,24147,17759,38779,20856,21195]
["55 - 59 Jahre",502011,16850,15487,42763,7116,98370,33708,21932,57520,76665,5471,34233,17359,13431,28321,15840,15939,567947,18111,17363,51700,7927,116419,39799,25183,65625,86535,6582,35427,18886,14515,29831,16691,17310]
["60 - 64 Jahre",204956,6767,6124,16931,3215,37655,12817,8590,22250,30058,2080,16814,7531,5903,13681,7187,6901,539176,15536,13239,47498,6340,103175,36845,23112,65861,80047,6430,28289,19778,15292,37820,19679,20213]
["65+",96681,3391,3932,9377,1893,18943,6111,4288,11873,14235,957,8455,2496,1716,4920,2029,1911,198559,6908,7492,18638,3222,41909,13872,8948,26801,28476,2275,13590,4956,3468,9096,4526,4371]
["Deutsche",8005342,274488,304954,718266,109612,1689877,553741,329899,978732,1251130,82786,526810,216617,160384,402613,196934,199048,7924420,265076,300595,727532,108650,1683405,553418,330556,967613,1229438,84882,505296,215147,160594,396336,195651,199736]
["Ausländer",2185593,46985,72733,161041,29292,422915,210365,100465,365715,455842,26519,138715,36218,18864,47931,20306,28062,1839391,39694,61233,137049,25864,358881,178824,86923,309846,383999,24116,114130,28946,14565,37153,15734,22233]
["Keine Angabe",11552,257,662,631,86,3087,694,353,771,941,51,1810,190,99,1668,132,72,10535,211,590,553,94,2734,706,309,749,890,48,1644,147,81,1616,116,47]
["Vollzeitbeschäftigt",6807995,212014,243484,592676,70409,1389459,497306,296068,962120,1194110,76135,372576,161573,123243,304194,145407,159655,6594612,204131,235279,594630,67790,1364398,480267,289629,917230,1130007,77798,345667,160103,122343,300586,145375,158964]
["Teilzeitbeschäftigt",3394486,109716,134865,287258,68581,726420,267494,134649,383098,513802,33221,294759,91451,56104,148018,71965,67527,3177569,100782,127091,270289,66803,680073,252567,128060,360679,484098,31217,275315,84059,52819,134406,66069,62961]

{"sheet":"2_BV Steuerung","index":12,"n_rows":69,"n_cols":9,"rows_kept":69,"cut":false,"hidden":true,"merged":[[4,2,7,7],[12,3,15,4],[12,6,12,7],[15,5,16,5],[41,2,45,3],[41,6,41,7],[44,5,45,5]]}
[]
[]
[]
[]
[null,null,"Steuerungsblatt - Bitte keine Änderungen vornehmen. "]
[]
[]
[]
[]
[]
[]
[]
[null,null,null,"NACH REV",null,null,"begonnene BV",null,"beendete BV"]
[null,null,null,null,null,"1. Vergleich",null,{"$f":"MATCH(G$13,'2_BV_Roh-Daten'!$C$14:$BR$14,0)","v":1},{"$f":"MATCH(I$13,'2_BV_Roh-Daten'!$C$14:$BR$14,0)","v":18}]
[null,null,null,null,null,"2. Vergleich",null,{"$f":"MATCH('2_BV Steuerung'!$C$18,'2_BV_Roh-Daten'!$C$15:$S$15,0)","v":1}]
[null,null,null,null,null,"Zeilennum.",null,"mit PG"]
[null,"Zuweis.1 Refnm.",null,null,null,null,null,{"$f":"H14+$H$15-1","v":1},{"$f":"I14+$H$15-1","v":18}]
[null,{"$f":"INDEX($B$20:$B$36,B19,1)","v":"Deutschland"},{"$f":"INDEX(C20:C36,C19,1)","v":"Deutschland"},null,"Insgesamt",1,{"$f":"IFERROR(INDEX('2_BV_Roh-Daten'!$C$58:$S$80,'2_BV Steuerung'!$F18,'2_BV Steuerung'!G$17),\"\")","v":0},{"$f":"IFERROR(INDEX('2_BV_Roh-Daten'!$C$17:$BR$39,'2_BV Steuerung'!$F18,'2_BV Steuerung'!H$17),\"\")","v":10220893},{"$f":"IFERROR(INDEX('2_BV_Roh-Daten'!$C$17:$BR$39,'2_BV Steuerung'!$F18,'2_BV Steuerung'!I$17),\"\")","v":9661314}]
[null,1,{"$f":"B19","v":1},null,"Männer",2,{"$f":"IFERROR(INDEX('2_BV_Roh-Daten'!$C$58:$S$80,'2_BV Steuerung'!$F19,'2_BV Steuerung'!G$17),\"\")","v":0},{"$f":"IFERROR(INDEX('2_BV_Roh-Daten'!$C$17:$BR$39,'2_BV Steuerung'!$F19,'2_BV Steuerung'!H$17),\"\")","v":5776203},{"$f":"IFERROR(INDEX('2_BV_Roh-Daten'!$C$17:$BR$39,'2_BV Steuerung'!$F19,'2_BV Steuerung'!I$17),\"\")","v":5423966}]
[null,"Deutschland","Deutschland",null,"Frauen",3,{"$f":"IFERROR(INDEX('2_BV_Roh-Daten'!$C$58:$S$80,'2_BV Steuerung'!$F20,'2_BV Steuerung'!G$17),\"\")","v":0},{"$f":"IFERROR(INDEX('2_BV_Roh-Daten'!$C$17:$BR$39,'2_BV Steuerung'!$F20,'2_BV Steuerung'!H$17),\"\")","v":4444690},{"$f":"IFERROR(INDEX('2_BV_Roh-Daten'!$C$17:$BR$39,'2_BV Steuerung'!$F20,'2_BV Steuerung'!I$17),\"\")","v":4237348}]
[null,"Schleswig-Holstein","Schleswig-Holstein,01",null,"U25",4,{"$f":"IFERROR(INDEX('2_BV_Roh-Daten'!$C$58:$S$80,'2_BV Steuerung'!$F21,'2_BV Steuerung'!G$17),\"\")","v":0},{"$f":"IFERROR(INDEX('2_BV_Roh-Daten'!$C$17:$BR$39,'2_BV Steuerung'!$F21,'2_BV Steuerung'!H$17),\"\")","v":2735045},{"$f":"IFERROR(INDEX('2_BV_Roh-Daten'!$C$17:$BR$39,'2_BV Steuerung'!$F21,'2_BV Steuerung'!I$17),\"\")","v":2109477}]
[null,"Hamburg","Hamburg,02",null,"25 - 29 Jahre",5,{"$f":"IFERROR(INDEX('2_BV_Roh-Daten'!$C$58:$S$80,'2_BV Steuerung'!$F22,'2_BV Steuerung'!G$17),\"\")","v":0},{"$f":"IFERROR(INDEX('2_BV_Roh-Daten'!$C$17:$BR$39,'2_BV Steuerung'!$F22,'2_BV Steuerung'!H$17),\"\")","v":1794000},{"$f":"IFERROR(INDEX('2_BV_Roh-Daten'!$C$17:$BR$39,'2_BV Steuerung'!$F22,'2_BV Steuerung'!I$17),\"\")","v":1598684}]
[null,"Niedersachsen","Niedersachsen,03",null,"30 - 34 Jahre",6,{"$f":"IFERROR(INDEX('2_BV_Roh-Daten'!$C$58:$S$80,'2_BV Steuerung'!$F23,'2_BV Steuerung'!G$17),\"\")","v":0},{"$f":"IFERROR(INDEX('2_BV_Roh-Daten'!$C$17:$BR$39,'2_BV Steuerung'!$F23,'2_BV Steuerung'!H$17),\"\")","v":1279455},{"$f":"IFERROR(INDEX('2_BV_Roh-Daten'!$C$17:$BR$39,'2_BV Steuerung'!$F23,'2_BV Steuerung'!I$17),\"\")","v":1219377}]
[null,"Bremen","Bremen,04",null,"35 - 39 Jahre",7,{"$f":"IFERROR(INDEX('2_BV_Roh-Daten'!$C$58:$S$80,'2_BV Steuerung'!$F24,'2_BV Steuerung'!G$17),\"\")","v":0},{"$f":"IFERROR(INDEX('2_BV_Roh-Daten'!$C$17:$BR$39,'2_BV Steuerung'!$F24,'2_BV Steuerung'!H$17),\"\")","v":1031315},{"$f":"IFERROR(INDEX('2_BV_Roh-Daten'!$C$17:$BR$39,'2_BV Steuerung'!$F24,'2_BV Steuerung'!I$17),\"\")","v":981686}]
[null,"Nordrhein-Westfalen","Nordrhein-Westfalen,05",null,"40 - 44 Jahre",8,{"$f":"IFERROR(INDEX('2_BV_Roh-Daten'!$C$58:$S$80,'2_BV Steuerung'!$F25,'2_BV Steuerung'!G$17),\"\")","v":0},{"$f":"IFERROR(INDEX('2_BV_Roh-Daten'!$C$17:$BR$39,'2_BV Steuerung'!$F25,'2_BV Steuerung'!H$17),\"\")","v":863617},{"$f":"IFERROR(INDEX('2_BV_Roh-Daten'!$C$17:$BR$39,'2_BV Steuerung'!$F25,'2_BV Steuerung'!I$17),\"\")","v":809197}]
[null,"Hessen","Hessen,06",null,"45 - 49 Jahre",9,{"$f":"IFERROR(INDEX('2_BV_Roh-Daten'!$C$58:$S$80,'2_BV Steuerung'!$F26,'2_BV Steuerung'!G$17),\"\")","v":0},{"$f":"IFERROR(INDEX('2_BV_Roh-Daten'!$C$17:$BR$39,'2_BV Steuerung'!$F26,'2_BV Steuerung'!H$17),\"\")","v":912023},{"$f":"IFERROR(INDEX('2_BV_Roh-Daten'!$C$17:$BR$39,'2_BV Steuerung'!$F26,'2_BV Steuerung'!I$17),\"\")","v":868488}]
[null,"Rheinland-Pfalz","Rheinland-Pfalz,07",null,"50 - 54 Jahre",10,{"$f":"IFERROR(INDEX('2_BV_Roh-Daten'!$C$58:$S$80,'2_BV Steuerung'!$F27,'2_BV Steuerung'!G$17),\"\")","v":0},{"$f":"IFERROR(INDEX('2_BV_Roh-Daten'!$C$17:$BR$39,'2_BV Steuerung'!$F27,'2_BV Steuerung'!H$17),\"\")","v":800010},{"$f":"IFERROR(INDEX('2_BV_Roh-Daten'!$C$17:$BR$39,'2_BV Steuerung'!$F27,'2_BV Steuerung'!I$17),\"\")","v":791253}]
[null,"Baden-Württemberg","Baden-Württemberg,08",null,"55 - 59 Jahre",11,{"$f":"IFERROR(INDEX('2_BV_Roh-Daten'!$C$58:$S$80,'2_BV Steuerung'!$F28,'2_BV Steuerung'!G$17),\"\")","v":0},{"$f":"IFERROR(INDEX('2_BV_Roh-Daten'!$C$17:$BR$39,'2_BV Steuerung'!$F28,'2_BV Steuerung'!H$17),\"\")","v":503205},{"$f":"IFERROR(INDEX('2_BV_Roh-Daten'!$C$17:$BR$39,'2_BV Steuerung'!$F28,'2_BV Steuerung'!I$17),\"\")","v":552709}]
[null,"Bayern","Bayern,09",null,"60 - 64 Jahre",12,{"$f":"IFERROR(INDEX('2_BV_Roh-Daten'!$C$58:$S$80,'2_BV Steuerung'!$F29,'2_BV Steuerung'!G$17),\"\")","v":0},{"$f":"IFERROR(INDEX('2_BV_Roh-Daten'!$C$17:$BR$39,'2_BV Steuerung'!$F29,'2_BV Steuerung'!H$17),\"\")","v":205384},{"$f":"IFERROR(INDEX('2_BV_Roh-Daten'!$C$17:$BR$39,'2_BV Steuerung'!$F29,'2_BV Steuerung'!I$17),\"\")","v":532151}]
[null,"Saarland","Saarland,10",null,"65+",13,{"$f":"IFERROR(INDEX('2_BV_Roh-Daten'!$C$58:$S$80,'2_BV Steuerung'!$F30,'2_BV Steuerung'!G$17),\"\")","v":0},{"$f":"IFERROR(INDEX('2_BV_Roh-Daten'!$C$17:$BR$39,'2_BV Steuerung'!$F30,'2_BV Steuerung'!H$17),\"\")","v":96838},{"$f":"IFERROR(INDEX('2_BV_Roh-Daten'!$C$17:$BR$39,'2_BV Steuerung'!$F30,'2_BV Steuerung'!I$17),\"\")","v":198291}]
[null,"Berlin","Berlin,11",null,"Deutsche",14,{"$f":"IFERROR(INDEX('2_BV_Roh-Daten'!$C$58:$S$80,'2_BV Steuerung'!$F31,'2_BV Steuerung'!G$17),\"\")","v":0},{"$f":"IFERROR(INDEX('2_BV_Roh-Daten'!$C$17:$BR$39,'2_BV Steuerung'!$F31,'2_BV Steuerung'!H$17),\"\")","v":8020954},{"$f":"IFERROR(INDEX('2_BV_Roh-Daten'!$C$17:$BR$39,'2_BV Steuerung'!$F31,'2_BV Steuerung'!I$17),\"\")","v":7818385}]
[null,"Brandenburg","Brandenburg,12",null,"Ausländer",15,{"$f":"IFERROR(INDEX('2_BV_Roh-Daten'!$C$58:$S$80,'2_BV Steuerung'!$F32,'2_BV Steuerung'!G$17),\"\")","v":0},{"$f":"IFERROR(INDEX('2_BV_Roh-Daten'!$C$17:$BR$39,'2_BV Steuerung'!$F32,'2_BV Steuerung'!H$17),\"\")","v":2188369},{"$f":"IFERROR(INDEX('2_BV_Roh-Daten'!$C$17:$BR$39,'2_BV Steuerung'!$F32,'2_BV Steuerung'!I$17),\"\")","v":1832443}]
[null,"Mecklenburg-Vorpommern","Mecklenburg-Vorpommern,13",null,"Keine Angabe",16,{"$f":"IFERROR(INDEX('2_BV_Roh-Daten'!$C$58:$S$80,'2_BV Steuerung'!$F33,'2_BV Steuerung'!G$17),\"\")","v":0},{"$f":"IFERROR(INDEX('2_BV_Roh-Daten'!$C$17:$BR$39,'2_BV Steuerung'!$F33,'2_BV Steuerung'!H$17),\"\")","v":11570},{"$f":"IFERROR(INDEX('2_BV_Roh-Daten'!$C$17:$BR$39,'2_BV Steuerung'!$F33,'2_BV Steuerung'!I$17),\"\")","v":10486}]
[null,"Sachsen","Sachsen,14",null,"Vollzeitbeschäftigt",17,{"$f":"IFERROR(INDEX('2_BV_Roh-Daten'!$C$58:$S$80,'2_BV Steuerung'!$F34,'2_BV Steuerung'!G$17),\"\")","v":0},{"$f":"IFERROR(INDEX('2_BV_Roh-Daten'!$C$17:$BR$39,'2_BV Steuerung'!$F34,'2_BV Steuerung'!H$17),\"\")","v":6820662},{"$f":"IFERROR(INDEX('2_BV_Roh-Daten'!$C$17:$BR$39,'2_BV Steuerung'!$F34,'2_BV Steuerung'!I$17),\"\")","v":6510033}]
[null,"Sachsen-Anhalt","Sachsen-Anhalt,15",null,"Teilzeitbeschäftigt",18,{"$f":"IFERROR(INDEX('2_BV_Roh-Daten'!$C$58:$S$80,'2_BV Steuerung'!$F35,'2_BV Steuerung'!G$17),\"\")","v":0},{"$f":"IFERROR(INDEX('2_BV_Roh-Daten'!$C$17:$BR$39,'2_BV Steuerung'!$F35,'2_BV Steuerung'!H$17),\"\")","v":3400225},{"$f":"IFERROR(INDEX('2_BV_Roh-Daten'!$C$17:$BR$39,'2_BV Steuerung'!$F35,'2_BV Steuerung'!I$17),\"\")","v":3149131}]
[null,"Thüringen","Thüringen,16",null,"keine Angabe",19,{"$f":"IFERROR(INDEX('2_BV_Roh-Daten'!$C$58:$S$80,'2_BV Steuerung'!$F36,'2_BV Steuerung'!G$17),\"\")","v":0},{"$f":"IFERROR(INDEX('2_BV_Roh-Daten'!$C$17:$BR$39,'2_BV Steuerung'!$F36,'2_BV Steuerung'!H$17),\"\")","v":0},{"$f":"IFERROR(INDEX('2_BV_Roh-Daten'!$C$17:$BR$39,'2_BV Steuerung'!$F36,'2_BV Steuerung'!I$17),\"\")","v":0}]
[null,null,null,null,"ohne Berufsabschluss",20,{"$f":"IFERROR(INDEX('2_BV_Roh-Daten'!$C$58:$S$80,'2_BV Steuerung'!$F37,'2_BV Steuerung'!G$17),\"\")","v":0},{"$f":"IFERROR(INDEX('2_BV_Roh-Daten'!$C$17:$BR$39,'2_BV Steuerung'!$F37,'2_BV Steuerung'!H$17),\"\")","v":0},{"$f":"IFERROR(INDEX('2_BV_Roh-Daten'!$C$17:$BR$39,'2_BV Steuerung'!$F37,'2_BV Steuerung'!I$17),\"\")","v":0}]
[null,null,null,null,"mit anerkanntem Berufsabschluss",21,{"$f":"IFERROR(INDEX('2_BV_Roh-Daten'!$C$58:$S$80,'2_BV Steuerung'!$F38,'2_BV Steuerung'!G$17),\"\")","v":0},{"$f":"IFERROR(INDEX('2_BV_Roh-Daten'!$C$17:$BR$39,'2_BV Steuerung'!$F38,'2_BV Steuerung'!H$17),\"\")","v":0},{"$f":"IFERROR(INDEX('2_BV_Roh-Daten'!$C$17:$BR$39,'2_BV Steuerung'!$F38,'2_BV Steuerung'!I$17),\"\")","v":0}]
[null,null,null,null,"mit akad. Abschluss",22,{"$f":"IFERROR(INDEX('2_BV_Roh-Daten'!$C$58:$S$80,'2_BV Steuerung'!$F39,'2_BV Steuerung'!G$17),\"\")","v":0},{"$f":"IFERROR(INDEX('2_BV_Roh-Daten'!$C$17:$BR$39,'2_BV Steuerung'!$F39,'2_BV Steuerung'!H$17),\"\")","v":0},{"$f":"IFERROR(INDEX('2_BV_Roh-Daten'!$C$17:$BR$39,'2_BV Steuerung'!$F39,'2_BV Steuerung'!I$17),\"\")","v":0}]
[null,null,null,null,"keine Angabe",23,{"$f":"IFERROR(INDEX('2_BV_Roh-Daten'!$C$58:$S$80,'2_BV Steuerung'!$F40,'2_BV Steuerung'!G$17),\"\")","v":0},{"$f":"IFERROR(INDEX('2_BV_Roh-Daten'!$C$17:$BR$39,'2_BV Steuerung'!$F40,'2_BV Steuerung'!H$17),\"\")","v":0},{"$f":"IFERROR(INDEX('2_BV_Roh-Daten'!$C$17:$BR$39,'2_BV Steuerung'!$F40,'2_BV Steuerung'!I$17),\"\")","v":0}]
[]
[null,null,"VOR REV",null,null,null,"begonnene BV",null,"beendete BV"]
[null,null,null,null,null,"1. Vergleich",{"$f":"MATCH('2_BV Steuerung'!G42,'2_BV_Roh-Daten'!B94:BQ94,0)","v":1},null,{"$f":"MATCH('2_BV Steuerung'!I42,'2_BV_Roh-Daten'!B94:BQ94,0)","v":18}]
[null,null,null,null,null,"2. Vergleich",{"$f":"MATCH('2_BV Steuerung'!$C$18,'2_BV_Roh-Daten'!B95:R95,0)","v":1}]
[null,null,null,null,null,"Zeilennum.",{"$f":"G43+$G$44-1","v":1},null,{"$f":"I43+G44-1","v":18}]
[]
[null,null,null,null,"Insgesamt",1,{"$f":"IFERROR(INDEX('2_BV_Roh-Daten'!$B$96:$BQ$114,'2_BV Steuerung'!F47,'2_BV Steuerung'!G$45),\"\")","v":10202487},null,{"$f":"IFERROR(INDEX('2_BV_Roh-Daten'!$B$96:$BQ$114,'2_BV Steuerung'!F47,'2_BV Steuerung'!I$45),\"\")","v":9774346}]
[null,null,null,null,"Männer",2,{"$f":"IFERROR(INDEX('2_BV_Roh-Daten'!$B$96:$BQ$114,'2_BV Steuerung'!F48,'2_BV Steuerung'!G$45),\"\")","v":5765738},null,{"$f":"IFERROR(INDEX('2_BV_Roh-Daten'!$B$96:$BQ$114,'2_BV Steuerung'!F48,'2_BV Steuerung'!I$45),\"\")","v":5483350}]
[null,null,null,null,"Frauen",3,{"$f":"IFERROR(INDEX('2_BV_Roh-Daten'!$B$96:$BQ$114,'2_BV Steuerung'!F49,'2_BV Steuerung'!G$45),\"\")","v":4436749},null,{"$f":"IFERROR(INDEX('2_BV_Roh-Daten'!$B$96:$BQ$114,'2_BV Steuerung'!F49,'2_BV Steuerung'!I$45),\"\")","v":4290996}]
[null,null,null,null,"U25",4,{"$f":"IFERROR(INDEX('2_BV_Roh-Daten'!$B$96:$BQ$114,'2_BV Steuerung'!F50,'2_BV Steuerung'!G$45),\"\")","v":2731673},null,{"$f":"IFERROR(INDEX('2_BV_Roh-Daten'!$B$96:$BQ$114,'2_BV Steuerung'!F50,'2_BV Steuerung'!I$45),\"\")","v":2114218}]
[null,null,null,null,"25 - 29 Jahre",5,{"$f":"IFERROR(INDEX('2_BV_Roh-Daten'!$B$96:$BQ$114,'2_BV Steuerung'!F51,'2_BV Steuerung'!G$45),\"\")","v":1791047},null,{"$f":"IFERROR(INDEX('2_BV_Roh-Daten'!$B$96:$BQ$114,'2_BV Steuerung'!F51,'2_BV Steuerung'!I$45),\"\")","v":1608856}]
[null,null,null,null,"30 - 34 Jahre",6,{"$f":"IFERROR(INDEX('2_BV_Roh-Daten'!$B$96:$BQ$114,'2_BV Steuerung'!F52,'2_BV Steuerung'!G$45),\"\")","v":1277131},null,{"$f":"IFERROR(INDEX('2_BV_Roh-Daten'!$B$96:$BQ$114,'2_BV Steuerung'!F52,'2_BV Steuerung'!I$45),\"\")","v":1230970}]
[null,null,null,null,"35 - 39 Jahre",7,{"$f":"IFERROR(INDEX('2_BV_Roh-Daten'!$B$96:$BQ$114,'2_BV Steuerung'!F53,'2_BV Steuerung'!G$45),\"\")","v":1029336},null,{"$f":"IFERROR(INDEX('2_BV_Roh-Daten'!$B$96:$BQ$114,'2_BV Steuerung'!F53,'2_BV Steuerung'!I$45),\"\")","v":994182}]
[null,null,null,null,"40 - 44 Jahre",8,{"$f":"IFERROR(INDEX('2_BV_Roh-Daten'!$B$96:$BQ$114,'2_BV Steuerung'!F54,'2_BV Steuerung'!G$45),\"\")","v":861696},null,{"$f":"IFERROR(INDEX('2_BV_Roh-Daten'!$B$96:$BQ$114,'2_BV Steuerung'!F54,'2_BV Steuerung'!I$45),\"\")","v":822856}]
[null,null,null,null,"45 - 49 Jahre",9,{"$f":"IFERROR(INDEX('2_BV_Roh-Daten'!$B$96:$BQ$114,'2_BV Steuerung'!F55,'2_BV Steuerung'!G$45),\"\")","v":909830},null,{"$f":"IFERROR(INDEX('2_BV_Roh-Daten'!$B$96:$BQ$114,'2_BV Steuerung'!F55,'2_BV Steuerung'!I$45),\"\")","v":887349}]
[null,null,null,null,"50 - 54 Jahre",10,{"$f":"IFERROR(INDEX('2_BV_Roh-Daten'!$B$96:$BQ$114,'2_BV Steuerung'!F56,'2_BV Steuerung'!G$45),\"\")","v":798125},null,{"$f":"IFERROR(INDEX('2_BV_Roh-Daten'!$B$96:$BQ$114,'2_BV Steuerung'!F56,'2_BV Steuerung'!I$45),\"\")","v":810232}]
[null,null,null,null,"55 - 59 Jahre",11,{"$f":"IFERROR(INDEX('2_BV_Roh-Daten'!$B$96:$BQ$114,'2_BV Steuerung'!F57,'2_BV Steuerung'!G$45),\"\")","v":502011},null,{"$f":"IFERROR(INDEX('2_BV_Roh-Daten'!$B$96:$BQ$114,'2_BV Steuerung'!F57,'2_BV Steuerung'!I$45),\"\")","v":567947}]
[null,null,null,null,"60 - 64 Jahre",12,{"$f":"IFERROR(INDEX('2_BV_Roh-Daten'!$B$96:$BQ$114,'2_BV Steuerung'!F58,'2_BV Steuerung'!G$45),\"\")","v":204956},null,{"$f":"IFERROR(INDEX('2_BV_Roh-Daten'!$B$96:$BQ$114,'2_BV Steuerung'!F58,'2_BV Steuerung'!I$45),\"\")","v":539176}]
[null,null,null,null,"65+",13,{"$f":"IFERROR(INDEX('2_BV_Roh-Daten'!$B$96:$BQ$114,'2_BV Steuerung'!F59,'2_BV Steuerung'!G$45),\"\")","v":96681},null,{"$f":"IFERROR(INDEX('2_BV_Roh-Daten'!$B$96:$BQ$114,'2_BV Steuerung'!F59,'2_BV Steuerung'!I$45),\"\")","v":198559}]
[null,null,null,null,"Deutsche",14,{"$f":"IFERROR(INDEX('2_BV_Roh-Daten'!$B$96:$BQ$114,'2_BV Steuerung'!F60,'2_BV Steuerung'!G$45),\"\")","v":8005342},null,{"$f":"IFERROR(INDEX('2_BV_Roh-Daten'!$B$96:$BQ$114,'2_BV Steuerung'!F60,'2_BV Steuerung'!I$45),\"\")","v":7924420}]
[null,null,null,null,"Ausländer",15,{"$f":"IFERROR(INDEX('2_BV_Roh-Daten'!$B$96:$BQ$114,'2_BV Steuerung'!F61,'2_BV Steuerung'!G$45),\"\")","v":2185593},null,{"$f":"IFERROR(INDEX('2_BV_Roh-Daten'!$B$96:$BQ$114,'2_BV Steuerung'!F61,'2_BV Steuerung'!I$45),\"\")","v":1839391}]
[null,null,null,null,"Keine Angabe",16,{"$f":"IFERROR(INDEX('2_BV_Roh-Daten'!$B$96:$BQ$114,'2_BV Steuerung'!F62,'2_BV Steuerung'!G$45),\"\")","v":11552},null,{"$f":"IFERROR(INDEX('2_BV_Roh-Daten'!$B$96:$BQ$114,'2_BV Steuerung'!F62,'2_BV Steuerung'!I$45),\"\")","v":10535}]
[null,null,null,null,"Vollzeitbeschäftigt",17,{"$f":"IFERROR(INDEX('2_BV_Roh-Daten'!$B$96:$BQ$114,'2_BV Steuerung'!F63,'2_BV Steuerung'!G$45),\"\")","v":6807995},null,{"$f":"IFERROR(INDEX('2_BV_Roh-Daten'!$B$96:$BQ$114,'2_BV Steuerung'!F63,'2_BV Steuerung'!I$45),\"\")","v":6594612}]
[null,null,null,null,"Teilzeitbeschäftigt",18,{"$f":"IFERROR(INDEX('2_BV_Roh-Daten'!$B$96:$BQ$114,'2_BV Steuerung'!F64,'2_BV Steuerung'!G$45),\"\")","v":3394486},null,{"$f":"IFERROR(INDEX('2_BV_Roh-Daten'!$B$96:$BQ$114,'2_BV Steuerung'!F64,'2_BV Steuerung'!I$45),\"\")","v":3177569}]
[null,null,null,null,"keine Angabe",19,{"$f":"IFERROR(INDEX('2_BV_Roh-Daten'!$B$96:$BQ$114,'2_BV Steuerung'!F65,'2_BV Steuerung'!G$45),\"\")","v":0},null,{"$f":"IFERROR(INDEX('2_BV_Roh-Daten'!$B$96:$BQ$114,'2_BV Steuerung'!F65,'2_BV Steuerung'!I$45),\"\")","v":0}]
[null,null,null,null,"ohne Berufsabschluss",20,{"$f":"IFERROR(INDEX('1 Roh-Daten'!$B$100:$BQ$122,'2_BV Steuerung'!F66,'2_BV Steuerung'!G$45),\"\")","v":3693645},null,{"$f":"IFERROR(INDEX('1 Roh-Daten'!$B$100:$BQ$122,'2_BV Steuerung'!F66,'2_BV Steuerung'!I$45),\"\")","v":1567590}]
[null,null,null,null,"mit anerkanntem Berufsabschluss",21,{"$f":"IFERROR(INDEX('1 Roh-Daten'!$B$100:$BQ$122,'2_BV Steuerung'!F67,'2_BV Steuerung'!G$45),\"\")","v":19627411},null,{"$f":"IFERROR(INDEX('1 Roh-Daten'!$B$100:$BQ$122,'2_BV Steuerung'!F67,'2_BV Steuerung'!I$45),\"\")","v":3752426}]
[null,null,null,null,"mit akad. Abschluss",22,{"$f":"IFERROR(INDEX('1 Roh-Daten'!$B$100:$BQ$122,'2_BV Steuerung'!F68,'2_BV Steuerung'!G$45),\"\")","v":4704645},null,{"$f":"IFERROR(INDEX('1 Roh-Daten'!$B$100:$BQ$122,'2_BV Steuerung'!F68,'2_BV Steuerung'!I$45),\"\")","v":533626}]
[null,null,null,null,"keine Angabe",23,{"$f":"IFERROR(INDEX('1 Roh-Daten'!$B$100:$BQ$122,'2_BV Steuerung'!F69,'2_BV Steuerung'!G$45),\"\")","v":3347990},null,{"$f":"IFERROR(INDEX('1 Roh-Daten'!$B$100:$BQ$122,'2_BV Steuerung'!F69,'2_BV Steuerung'!I$45),\"\")","v":1902452}]

{"sheet":"3_Grafik","index":13,"n_rows":101,"n_cols":5,"rows_kept":101,"cut":false,"hidden":false,"merged":[[2,0,2,4],[6,1,7,1],[6,2,7,2],[6,0,9,0],[6,3,6,4]]}
[null,null,null,null,"Beschäftigungsstatistik"]
[]
["Sozialversicherungspflichtig Beschäftigte und geringfügig Beschäftigte nach Wirtschaftsabteilungen (WZ 2008) - Veränderung in % "]
[null,"(Arbeitsort)"]
["Stichtag: 30.06.2016"]
[]
["Wirtschaftszweige (WZ 2008)","sozialversicherungspflichtig Beschäftigte","geringfügig Beschäftigte (GB)","davon"]
[null,null,null,"ausschließlich GB","im Nebenjob GB"]
[null,"Daten vor und nach der Revision Veränderung in % (relativ) ","Daten vor und nach der Revision Veränderung in % (relativ) ","Daten vor und nach der Revision Veränderung in % (relativ) ","Daten vor und nach der Revision Veränderung in % (relativ) "]
[null,1,2,3,4]
["Insgesamt",{"$f":"'3'!E12","v":0.22192798418267076},{"$f":"'3'!I12","v":9.1850356635698335E-2},{"$f":"'3'!M12","v":7.177362947379232E-3},{"$f":"'3'!Q12","v":0.25832431460880406}]
["davon"]
["      01 Landwirtsch., Jagd u.damit verb. Tätigk.",{"$f":"'3'!E14","v":0.15092558789745963},{"$f":"'3'!I14","v":6.8490916799843454E-2},{"$f":"'3'!M14","v":-9.0620120455052414E-3},{"$f":"'3'!Q14","v":0.34312515428289309}]
["      02 Forstwirtschaft und Holzeinschlag",{"$f":"'3'!E15","v":0.14207535255735634},{"$f":"'3'!I15","v":8.3507306889352817E-2},{"$f":"'3'!M15","v":2.3747328425552126E-2},{"$f":"'3'!Q15","v":0.16812373907195696}]
["      03 Fischerei und Aquakultur",{"$f":"'3'!E16","v":0.16135538523598225},{"$f":"'3'!I16","v":0.16778523489932887},{"$f":"'3'!M16","v":0.12484394506866417},{"$f":"'3'!Q16","v":0.25575447570332482}]
["      05 Kohlenbergbau",{"$f":"'3'!E17","v":0},{"$f":"'3'!I17","v":0},{"$f":"'3'!M17","v":0},{"$f":"'3'!Q17","v":0}]
["      06 Gewinnung von Erdöl und Erdgas",{"$f":"'3'!E18","v":0.29556650246305421},{"$f":"'3'!I18","v":0},{"$f":"'3'!M18","v":0},{"$f":"'3'!Q18","v":0}]
["      07 Erzbergbau",{"$f":"'3'!E19","v":1.0465116279069768},{"$f":"'3'!I19","v":0},{"$f":"'3'!M19","v":0},{"$f":"'3'!Q19","v":0}]
["      08 Gewinn. v.Steinen u.Erden,sonst.Bergbau",{"$f":"'3'!E20","v":0.18166499921015217},{"$f":"'3'!I20","v":4.8100048100048101E-2},{"$f":"'3'!M20","v":-0.10619469026548672},{"$f":"'3'!Q20","v":0.37509377344336087}]
["      09 DL f.Bergbau u.Gew.v.Steine u.Erden",{"$f":"'3'!E21","v":0.20291597775439651},{"$f":"'3'!I21","v":0},{"$f":"'3'!M21","v":0},{"$f":"'3'!Q21","v":0}]
["      10 Hrst. von Nahrungs- und Futtermitteln",{"$f":"'3'!E22","v":0.20400641861921412},{"$f":"'3'!I22","v":0.10504201680672269},{"$f":"'3'!M22","v":0.10625323379407199},{"$f":"'3'!Q22","v":0.10135135135135136}]
["      11 Getränkeherstellung",{"$f":"'3'!E23","v":0.16736029858262119},{"$f":"'3'!I23","v":0.1007121789799295},{"$f":"'3'!M23","v":4.1463667461386959E-2},{"$f":"'3'!Q23","v":0.23507287259050305}]
["      12 Tabakverarbeitung",{"$f":"'3'!E24","v":3.1100974497200912E-2},{"$f":"'3'!I24","v":0.69444444444444442},{"$f":"'3'!M24","v":0},{"$f":"'3'!Q24","v":2.7027027027027026}]
["      13 Herstellung von Textilien",{"$f":"'3'!E25","v":0.16126092016883317},{"$f":"'3'!I25","v":0.20291815634360807},{"$f":"'3'!M25","v":0.18691588785046728},{"$f":"'3'!Q25","v":0.24484085344526058}]
["      14 Herstellung von Bekleidung",{"$f":"'3'!E26","v":0.20654329147389291},{"$f":"'3'!I26","v":0.12959663048760733},{"$f":"'3'!M26","v":0.12684989429175475},{"$f":"'3'!Q26","v":0.13860013860013859}]
["      15 Herstellung v.Leder,Lederwaren u.Schuhen",{"$f":"'3'!E27","v":0.33980582524271846},{"$f":"'3'!I27","v":-0.19011406844106463},{"$f":"'3'!M27","v":-0.27868091035764048},{"$f":"'3'!Q27","v":0}]
["      16 Hrst.v.Holz-,Korb-,Korkwaren(ohne Möbel)",{"$f":"'3'!E28","v":0.22602036051181471},{"$f":"'3'!I28","v":6.5320665083135387E-2},{"$f":"'3'!M28","v":3.5442140705298601E-2},{"$f":"'3'!Q28","v":0.12603528988116672}]
["      17 Hrst. v. Papier, Pappe u. Waren daraus",{"$f":"'3'!E29","v":0.14476461596939724},{"$f":"'3'!I29","v":0.10693916349809886},{"$f":"'3'!M29","v":-3.4287673581347503E-2},{"$f":"'3'!Q29","v":0.42586140147115759}]
["      18 Druckgewerbe u. Vervielältigung",{"$f":"'3'!E30","v":0.18681032235641673},{"$f":"'3'!I30","v":8.4574124769090389E-2},{"$f":"'3'!M30","v":-3.4456834983084828E-2},{"$f":"'3'!Q30","v":0.37672022756977014}]
["      19 Kokerei und Mineralölverarbeitung",{"$f":"'3'!E31","v":0.18805265474332813},{"$f":"'3'!I31","v":-0.77922077922077926},{"$f":"'3'!M31","v":-0.39370078740157483},{"$f":"'3'!Q31","v":-1.5267175572519085}]
["      20 Herstellung von chemischen Erzeugnissen",{"$f":"'3'!E32","v":0.31271413442970164},{"$f":"'3'!I32","v":0.14032274230730682},{"$f":"'3'!M32","v":-1.4044943820224719E-2},{"$f":"'3'!Q32","v":0.52502625131256564}]
["      21 Herstellung v. pharmazeut. Erzeugnissen",{"$f":"'3'!E33","v":0.63196320744224999},{"$f":"'3'!I33","v":-0.13410818059901655},{"$f":"'3'!M33","v":0},{"$f":"'3'!Q33","v":-0.47468354430379744}]
["      22 Herstellung v. Gummi- u. Kunststoffwaren",{"$f":"'3'!E34","v":0.24843553463222667},{"$f":"'3'!I34","v":2.7720027720027719E-2},{"$f":"'3'!M34","v":-7.1710290426676232E-2},{"$f":"'3'!Q34","v":0.23562172003855628}]
["      23 Hrst.v.Glas,Keramik,Verarb.Steine+Erden",{"$f":"'3'!E35","v":0.22297161264344675},{"$f":"'3'!I35","v":7.7032472149798525E-2},{"$f":"'3'!M35","v":0},{"$f":"'3'!Q35","v":0.2499038831218762}]
["      24 Metallerzeugung und -bearbeitung",{"$f":"'3'!E36","v":0.38695469074691574},{"$f":"'3'!I36","v":3.1328320802005011E-2},{"$f":"'3'!M36","v":-0.10667479427003962},{"$f":"'3'!Q36","v":0.33178500331785005}]
["      25 Herstellung von Metallerzeugnissen",{"$f":"'3'!E37","v":0.23117336237495967},{"$f":"'3'!I37","v":9.1954022988505746E-2},{"$f":"'3'!M37","v":-4.6443942161810692E-2},{"$f":"'3'!Q37","v":0.31653519569914085}]
["      26 Hrst. v.DV-Gerät., elektr.u.opt.Erzeugn.",{"$f":"'3'!E38","v":0.17089724711595658},{"$f":"'3'!I38","v":9.4508033182820542E-2},{"$f":"'3'!M38","v":5.3426957716379175E-2},{"$f":"'3'!Q38","v":0.18506056527590847}]
["      27 Herstellung v. elektrischen Ausrüstungen",{"$f":"'3'!E39","v":0.18721165428058453},{"$f":"'3'!I39","v":0.23613504371689323},{"$f":"'3'!M39","v":0.14296606938619902},{"$f":"'3'!Q39","v":0.42495653853583154}]
["      28 Maschinenbau",{"$f":"'3'!E40","v":0.25387502487289093},{"$f":"'3'!I40","v":9.1534202536167175E-2},{"$f":"'3'!M40","v":6.6260270341902995E-3},{"$f":"'3'!Q40","v":0.26697699890470977}]
["      29 Hrst. v. Kraftwagen u. Kraftwagenteilen",{"$f":"'3'!E41","v":0.17899813947746651},{"$f":"'3'!I41","v":9.8493056239535109E-2},{"$f":"'3'!M41","v":0},{"$f":"'3'!Q41","v":0.44722719141323791}]
["      30 Sonstiger Fahrzeugbau",{"$f":"'3'!E42","v":0.13571924769084312},{"$f":"'3'!I42","v":3.8372985418265539E-2},{"$f":"'3'!M42","v":0},{"$f":"'3'!Q42","v":0.12224938875305623}]
["      31 Herstellung von Möbeln",{"$f":"'3'!E43","v":0.18764851854125197},{"$f":"'3'!I43","v":0.14564967420467612},{"$f":"'3'!M43","v":9.0151002929907589E-2},{"$f":"'3'!Q43","v":0.26372572524574445}]
["      32 Herstellung von sonstigen Waren",{"$f":"'3'!E44","v":0.22679015507654685},{"$f":"'3'!I44","v":0.35748451739590154},{"$f":"'3'!M44","v":0.30654454129118036},{"$f":"'3'!Q44","v":0.46655068796457377}]
["      33 Rep. u.Install. v. Masch. u.Ausrüstungen",{"$f":"'3'!E45","v":0.25238118860998116},{"$f":"'3'!I45","v":0.13079222720478326},{"$f":"'3'!M45","v":1.3767467474358091E-2},{"$f":"'3'!Q45","v":0.26976211885882451}]
["      35 Energieversorgung",{"$f":"'3'!E46","v":0.1594769509420626},{"$f":"'3'!I46","v":0.17430278884462153},{"$f":"'3'!M46","v":-1.5725743041358705E-2},{"$f":"'3'!Q46","v":0.38671119704693269}]
["      36 Wasserversorgung",{"$f":"'3'!E47","v":0.21379664961706044},{"$f":"'3'!I47","v":0},{"$f":"'3'!M47","v":0},{"$f":"'3'!Q47","v":0}]
["      37 Abwasserentsorgung",{"$f":"'3'!E48","v":0.22206256939455293},{"$f":"'3'!I48","v":0.12492192379762648},{"$f":"'3'!M48","v":0.10666666666666667},{"$f":"'3'!Q48","v":0.15071590052750566}]
["      38 Sammlung,Abfallbeseitigung,Rückgewinnung",{"$f":"'3'!E49","v":0.21735997694303008},{"$f":"'3'!I49","v":3.7481259370314844E-2},{"$f":"'3'!M49","v":9.7599063048994725E-3},{"$f":"'3'!Q49","v":8.6775425199583478E-2}]
["      39 Beseitig. v.UW-Verschm. u.sonst.Entsorg.",{"$f":"'3'!E50","v":0.52291602583820362},{"$f":"'3'!I50","v":-0.32894736842105265},{"$f":"'3'!M50","v":-0.51546391752577314},{"$f":"'3'!Q50","v":0}]
["      41 Hochbau",{"$f":"'3'!E51","v":8.0241218535368003E-2},{"$f":"'3'!I51","v":4.4508443513548893E-2},{"$f":"'3'!M51","v":-0.13498588783899865},{"$f":"'3'!Q51","v":0.36368926389292988}]
["      42 Tiefbau",{"$f":"'3'!E52","v":4.6526662226227325E-2},{"$f":"'3'!I52","v":2.6409613099168096E-2},{"$f":"'3'!M52","v":-0.10858835143139191},{"$f":"'3'!Q52","v":0.29904306220095694}]
["      43 Vorber.Baust.arb.,Bauinst.,so.Ausbaugew.",{"$f":"'3'!E53","v":0.14043750769071994},{"$f":"'3'!I53","v":9.0684965924437047E-2},{"$f":"'3'!M53","v":4.3379108621287984E-3},{"$f":"'3'!Q53","v":0.23993144815766923}]
["      45 Handel m. Kfz; Inst.halt. u. Rep. v. Kfz",{"$f":"'3'!E54","v":0.26930381861043684},{"$f":"'3'!I54","v":0.18721755971594578},{"$f":"'3'!M54","v":0.12852544083025033},{"$f":"'3'!Q54","v":0.30736697157470244}]
["      46 Großhandel (ohne Handel mit Kfz)",{"$f":"'3'!E55","v":0.32225896106384067},{"$f":"'3'!I55","v":0.15694826489562941},{"$f":"'3'!M55","v":9.2621751292073437E-2},{"$f":"'3'!Q55","v":0.28689393655901907}]
["      47 Einzelhandel (ohne Handel mit Kfz)",{"$f":"'3'!E56","v":0.36358404095850461},{"$f":"'3'!I56","v":0.12002804352070429},{"$f":"'3'!M56","v":0.10846371114121532},{"$f":"'3'!Q56","v":0.15504222331441847}]
["      49 Landverkehr u.Transp.i.Rohrfernleitungen",{"$f":"'3'!E57","v":0.17649158096226844},{"$f":"'3'!I57","v":4.6541335142173873E-2},{"$f":"'3'!M57","v":-5.2085328022672434E-2},{"$f":"'3'!Q57","v":0.22683992382659349}]
["      50 Schifffahrt",{"$f":"'3'!E58","v":0.1884691167651846},{"$f":"'3'!I58","v":3.3749578130273371E-2},{"$f":"'3'!M58","v":0},{"$f":"'3'!Q58","v":9.7181729834791064E-2}]
["      51 Luftfahrt",{"$f":"'3'!E59","v":9.0863516731419972E-2},{"$f":"'3'!I59","v":0.14367816091954022},{"$f":"'3'!M59","v":-0.54644808743169404},{"$f":"'3'!Q59","v":0.90909090909090906}]
["      52 Lagerei u. Erbr.v. sonst. DL f.d.Verkehr",{"$f":"'3'!E60","v":0.2267939386014616},{"$f":"'3'!I60","v":6.4267352185089971E-2},{"$f":"'3'!M60","v":-8.0442818563138035E-2},{"$f":"'3'!Q60","v":0.28060128847530424}]
["      53 Post-, Kurier- und Expressdienste",{"$f":"'3'!E61","v":5.4687974722002798E-2},{"$f":"'3'!I61","v":-1.4235109254463528E-2},{"$f":"'3'!M61","v":-9.9302554713380245E-2},{"$f":"'3'!Q61","v":0.18977450323732975}]
["      55 Beherbergung",{"$f":"'3'!E62","v":0.22749507484889503},{"$f":"'3'!I62","v":3.5834444864724972E-2},{"$f":"'3'!M62","v":-4.1406194770700573E-2},{"$f":"'3'!Q62","v":0.18384487363083948}]
["      56 Gastronomie",{"$f":"'3'!E63","v":0.14507427500642256},{"$f":"'3'!I63","v":-6.3333227777953704E-3},{"$f":"'3'!M63","v":-8.3012155351319297E-2},{"$f":"'3'!Q63","v":0.12808519341870112}]
["      58 Verlagswesen",{"$f":"'3'!E64","v":0.20354796415817342},{"$f":"'3'!I64","v":1.2546701611554118E-2},{"$f":"'3'!M64","v":-6.6253998902076588E-2},{"$f":"'3'!Q64","v":0.23274266067177996}]
["      59 Film, TV, Kino u. Tonstudio",{"$f":"'3'!E65","v":0.15899760317045966},{"$f":"'3'!I65","v":4.3383947939262472E-2},{"$f":"'3'!M65","v":-8.2489688788901394E-2},{"$f":"'3'!Q65","v":0.26990553306342779}]
["      60 Rundfunkveranstalter",{"$f":"'3'!E66","v":6.8024897112343122E-2},{"$f":"'3'!I66","v":0.12310217480508823},{"$f":"'3'!M66","v":-0.16968325791855204},{"$f":"'3'!Q66","v":0.89686098654708524}]
["      61 Telekommunikation",{"$f":"'3'!E67","v":0.16153166020540025},{"$f":"'3'!I67","v":0.3015454202789295},{"$f":"'3'!M67","v":0.22062879205736349},{"$f":"'3'!Q67","v":0.47619047619047616}]
["      62 DL der Informationstechnologie",{"$f":"'3'!E68","v":0.22994949585487923},{"$f":"'3'!I68","v":0.20535185028368194},{"$f":"'3'!M68","v":6.6190559136039023E-2},{"$f":"'3'!Q68","v":0.4209163024121742}]
["      63 Informationsdienstleistungen",{"$f":"'3'!E69","v":0.15355768919923707},{"$f":"'3'!I69","v":2.925901543413064E-2},{"$f":"'3'!M69","v":0},{"$f":"'3'!Q69","v":7.468259895444361E-2}]
["      64 Erbringung von Finanzdienstleistungen",{"$f":"'3'!E70","v":0.48058802830668179},{"$f":"'3'!I70","v":6.731217314762078E-2},{"$f":"'3'!M70","v":-0.13864284063775706},{"$f":"'3'!Q70","v":0.48973143759873616}]
["      65 Versicherungen u.Pensionskassen",{"$f":"'3'!E71","v":0.11122952299422888},{"$f":"'3'!I71","v":0},{"$f":"'3'!M71","v":6.5231572080887146E-2},{"$f":"'3'!Q71","v":-0.15267175572519084}]
["      66 M.Finanz-u.Versicherungs-DL verb.Tätigk.",{"$f":"'3'!E72","v":0.48961751102627671},{"$f":"'3'!I72","v":0.33365017167465227},{"$f":"'3'!M72","v":0.19451404457338783},{"$f":"'3'!Q72","v":0.53254159008435831}]
["      68 Grundstücks- und Wohnungswesen",{"$f":"'3'!E73","v":0.17787780883580789},{"$f":"'3'!I73","v":0.31830648588094412},{"$f":"'3'!M73","v":0.11029947347609831},{"$f":"'3'!Q73","v":0.5796874046566769}]
["      69 Rechts-,Steuerberatung, Wirtsch.-prüfung",{"$f":"'3'!E74","v":0.30552154654335384},{"$f":"'3'!I74","v":0.41657192971059215},{"$f":"'3'!M74","v":0.36253289650357162},{"$f":"'3'!Q74","v":0.49926035502958582}]
["      70 Verw.u.Führ. v.Untern.u.Betr.;Unt.berat.",{"$f":"'3'!E75","v":0.21966894112904123},{"$f":"'3'!I75","v":0.15540381445726395},{"$f":"'3'!M75","v":4.5314653626116343E-2},{"$f":"'3'!Q75","v":0.33774275260343373}]
["      71 Architektur-, Ingenieurbüros; Labore",{"$f":"'3'!E76","v":0.30262291841860411},{"$f":"'3'!I76","v":0.37438401425365647},{"$f":"'3'!M76","v":0.30687218335174565},{"$f":"'3'!Q76","v":0.49601920889675216}]
["      72 Forschung und Entwicklung",{"$f":"'3'!E77","v":0.19400722408809293},{"$f":"'3'!I77","v":7.5494488902310128E-2},{"$f":"'3'!M77","v":6.4977257959714096E-2},{"$f":"'3'!Q77","v":0.11163206072784104}]
["      73 Werbung und Marktforschung",{"$f":"'3'!E78","v":0.19328764716218591},{"$f":"'3'!I78","v":6.34997712140596E-2},{"$f":"'3'!M78","v":-2.6650760815767099E-2},{"$f":"'3'!Q78","v":0.31459879816189468}]
["      74 Sonst.freiberufl., wiss.u.techn. Tätigk.",{"$f":"'3'!E79","v":0.21058087925616353},{"$f":"'3'!I79","v":4.9714143673875215E-2},{"$f":"'3'!M79","v":-5.8582308142940832E-2},{"$f":"'3'!Q79","v":0.21639166892074654}]
["      75 Veterinärwesen",{"$f":"'3'!E80","v":0.22173717215812633},{"$f":"'3'!I80","v":0.40965933592065545},{"$f":"'3'!M80","v":0.449582530507386},{"$f":"'3'!Q80","v":0.32808398950131235}]
["      77 Vermietung von beweglichen Sachen",{"$f":"'3'!E81","v":0.22628724574289219},{"$f":"'3'!I81","v":0.1395903657267582},{"$f":"'3'!M81","v":-3.0647985989492119E-2},{"$f":"'3'!Q81","v":0.37437352816858888}]
["      78 Vermittl. u.Überlassung v.Arbeitskräften",{"$f":"'3'!E82","v":7.83198999348102E-2},{"$f":"'3'!I82","v":-6.7438678972619893E-3},{"$f":"'3'!M82","v":-6.5555207914301458E-2},{"$f":"'3'!Q82","v":0.10087516017339622}]
["      79 Reisebüros,-veranst.u.son.Reservier.-DL",{"$f":"'3'!E83","v":0.33092734583780814},{"$f":"'3'!I83","v":0.11676241184437906},{"$f":"'3'!M83","v":-2.0878279629758509E-2},{"$f":"'3'!Q83","v":0.39761431411530818}]
["      80 Wach- u.Sicherh.dienste sowie Detekteien",{"$f":"'3'!E84","v":7.2726052150173706E-2},{"$f":"'3'!I84","v":-2.5394245663932554E-2},{"$f":"'3'!M84","v":-0.2177956147220047},{"$f":"'3'!Q84","v":0.18208687391143716}]
["      81 Gebäudebetreuung;Garten-u.Landschaftsbau",{"$f":"'3'!E85","v":7.0526796752474266E-2},{"$f":"'3'!I85","v":2.0163066683836339E-2},{"$f":"'3'!M85","v":-0.13755845499516489},{"$f":"'3'!Q85","v":0.23482911881073254}]
["      82 Dienstleistg.f.Untern.u.Privatpers.ang",{"$f":"'3'!E86","v":0.23468795139457657},{"$f":"'3'!I86","v":-2.0569294789639404E-2},{"$f":"'3'!M86","v":-0.15308789485475319},{"$f":"'3'!Q86","v":0.21061316657981588}]
["      84 Öffentl. Verwalt.,Verteidigung;Soz.vers.",{"$f":"'3'!E87","v":0.25425924726306925},{"$f":"'3'!I87","v":-1.0403911870863444E-2},{"$f":"'3'!M87","v":-8.5797179982163213E-2},{"$f":"'3'!Q87","v":0.17321016166281755}]
["      85 Erziehung und Unterricht",{"$f":"'3'!E88","v":0.13801217598089599},{"$f":"'3'!I88","v":6.662063786232543E-2},{"$f":"'3'!M88","v":2.6114706235669555E-2},{"$f":"'3'!Q88","v":0.20459721036151438}]
["      86 Gesundheitswesen",{"$f":"'3'!E89","v":0.19632124969424855},{"$f":"'3'!I89","v":0.36836578075773485},{"$f":"'3'!M89","v":0.34517347179608215},{"$f":"'3'!Q89","v":0.40716361191138639}]
["      87 Heime (ohne Erholungs- und Ferienheime)",{"$f":"'3'!E90","v":0.22753162992358772},{"$f":"'3'!I90","v":9.0939988793253906E-2},{"$f":"'3'!M90","v":3.4224486303623847E-2},{"$f":"'3'!Q90","v":0.22192497111935308}]
["      88 Sozialwesen (ohne Heime)",{"$f":"'3'!E91","v":0.18485290596943088},{"$f":"'3'!I91","v":6.4700173514101691E-2},{"$f":"'3'!M91","v":-1.8822496019826364E-2},{"$f":"'3'!Q91","v":0.20389225078746848}]
["      90 Kreative, künstler.u.unterhalt. Tätigk.",{"$f":"'3'!E92","v":0.16550366791912685},{"$f":"'3'!I92","v":5.106382978723404E-2},{"$f":"'3'!M92","v":-6.8818388273346645E-2},{"$f":"'3'!Q92","v":0.24528932991414873}]
["      91 Bibl.,Archive,Museen,zoolog.u.ä.Gärten",{"$f":"'3'!E93","v":0.1609858998556678},{"$f":"'3'!I93","v":8.4114395577986056E-2},{"$f":"'3'!M93","v":9.177118384827164E-2},{"$f":"'3'!Q93","v":5.6053811659192827E-2}]
["      92 Spiel-, Wett- und Lotteriewesen",{"$f":"'3'!E94","v":0.21428444932438415},{"$f":"'3'!I94","v":0.1447233118787371},{"$f":"'3'!M94","v":0.10280599903241412},{"$f":"'3'!Q94","v":0.21602715769982511}]
["      93 DL d.Sports,d.Unterhaltg.u.d.Erholung",{"$f":"'3'!E95","v":0.14902363823227133},{"$f":"'3'!I95","v":6.86046511627907E-2},{"$f":"'3'!M95","v":-8.041271565228289E-2},{"$f":"'3'!Q95","v":0.25575783012433767}]
["      94 Interessenvertr.,kirchl.u.sonst.Verein",{"$f":"'3'!E96","v":0.16253982977334605},{"$f":"'3'!I96","v":5.9126407331674506E-2},{"$f":"'3'!M96","v":-5.5202870549268562E-2},{"$f":"'3'!Q96","v":0.29064351455080673}]
["      95 Reparatur v.DV-Geräten u.Gebrauchsgütern",{"$f":"'3'!E97","v":0.30317729808391947},{"$f":"'3'!I97","v":0.17241379310344829},{"$f":"'3'!M97","v":0.19037948978296737},{"$f":"'3'!Q97","v":0.12734797835084369}]
["      96 Sonstige überwieg. persönliche DL",{"$f":"'3'!E98","v":0.18467804671342647},{"$f":"'3'!I98","v":0.14566181127295758},{"$f":"'3'!M98","v":0.11019842967237717},{"$f":"'3'!Q98","v":0.24055716142549519}]
["      97 Private Haushalte mit Hauspersonal",{"$f":"'3'!E99","v":7.5807028996188588E-2},{"$f":"'3'!I99","v":-0.25784165778467233},{"$f":"'3'!M99","v":-0.45634256181617344},{"$f":"'3'!Q99","v":0.21374118317619398}]
["      98 H.v.Waren,Dienstl.d.priv. Haushalte oaS",{"$f":"'3'!E100","v":0.7407407407407407},{"$f":"'3'!I100","v":-0.25488530161427359},{"$f":"'3'!M100","v":-0.49586776859504134},{"$f":"'3'!Q100","v":0}]
["      99 Exterritoriale Organisat. u. Körpersch.",{"$f":"'3'!E101","v":2.5553227372617161E-2},{"$f":"'3'!I101","v":1.1235955056179776},{"$f":"'3'!M101","v":2.7027027027027026},{"$f":"'3'!Q101","v":-6.666666666666667}]
[null,null,null,null,"© Statistik der Bundesagentur für Arbeit"]

{"sheet":"3","index":14,"n_rows":102,"n_cols":17,"rows_kept":102,"cut":false,"hidden":false,"merged":[[2,0,2,8],[8,1,9,1],[8,2,9,2],[8,3,8,4],[8,5,9,5],[6,5,7,8],[6,1,7,4],[6,0,10,0],[8,6,9,6],[8,7,8,8],[6,9,6,16],[7,9,7,12],[7,13,7,16],[8,9,9,9],[8,10,9,10],[8,11,8,12],[8,13,9,13],[8,14,9,14],[8,15,8,16]]}
[null,null,null,null,null,null,null,null,null,null,null,null,null,null,null,null,"Beschäftigungsstatistik"]
[]
["Sozialversicherungspflichtig Beschäftigte und geringfügig Beschäftigte nach Wirtschaftsabteilungen (WZ 2008)"]
[null,"(Arbeitsort)"]
["Stichtag: 30.06.2016"]
[]
["Wirtschaftszweige (WZ 2008)","sozialversicherungspflichtig Beschäftigte",null,null,null,"geringfügig Beschäftigte",null,null,null,"davon"]
[null,null,null,null,null,null,null,null,null,"ausschließlich GB",null,null,null,"im Nebenjob GB"]
[null," nach Revision"," vor Revision","Veränderung (Spalte 1 zu 2)",null," nach Revision"," vor Revision","Veränderung (Spalte 5 zu 6)",null," nach Revision"," vor Revision","Veränderung (Spalte 9 zu 10)",null," nach Revision"," vor Revision","Veränderung (Spalte 13 zu 14)"]
[null,null,null,"absolut","in %",null,null,"absolut","in %",null,null,"absolut","in %",null,null,"absolut","in %"]
[null,1,2,3,4,5,6,7,8,9,10,11,12,13,14,15,16]
["Insgesamt",{"$f":"'3 Steuerung'!G7","v":31443318},{"$f":"'3 Steuerung'!P8","v":31373691},{"$f":"IFERROR(B12-C12,\"x\")","v":69627},{"$f":"IFERROR((D12*100)/C12,\"x\")","v":0.22192798418267076},{"$f":"'3 Steuerung'!H7","v":7763218},{"$f":"'3 Steuerung'!Q8","v":7756094},{"$f":"IFERROR(F12-G12,\"x\")","v":7124},{"$f":"IFERROR((H12*100)/G12,\"x\")","v":9.1850356635698335E-2},{"$f":"'3 Steuerung'!I7","v":5141533},{"$f":"'3 Steuerung'!R8","v":5141164},{"$f":"IFERROR(J12-K12,\"x\")","v":369},{"$f":"IFERROR((L12*100)/K12,\"x\")","v":7.177362947379232E-3},{"$f":"'3 Steuerung'!J7","v":2621685},{"$f":"'3 Steuerung'!S8","v":2614930},{"$f":"IFERROR(N12-O12,\"x\")","v":6755},{"$f":"IFERROR((P12*100)/O12,\"x\")","v":0.25832431460880406}]
["davon"]
["      01 Landwirtsch., Jagd u.damit verb. Tätigk.",{"$f":"'3 Steuerung'!G8","v":224953},{"$f":"'3 Steuerung'!P9","v":224614},{"$f":"IFERROR(B14-C14,\"x\")","v":339},{"$f":"IFERROR((D14*100)/C14,\"x\")","v":0.15092558789745963},{"$f":"'3 Steuerung'!H8","v":184092},{"$f":"'3 Steuerung'!Q9","v":183966},{"$f":"IFERROR(F14-G14,\"x\")","v":126},{"$f":"IFERROR((H14*100)/G14,\"x\")","v":6.8490916799843454E-2},{"$f":"'3 Steuerung'!I8","v":143443},{"$f":"'3 Steuerung'!R9","v":143456},{"$f":"IFERROR(J14-K14,\"x\")","v":-13},{"$f":"IFERROR((L14*100)/K14,\"x\")","v":-9.0620120455052414E-3},{"$f":"'3 Steuerung'!J8","v":40649},{"$f":"'3 Steuerung'!S9","v":40510},{"$f":"IFERROR(N14-O14,\"x\")","v":139},{"$f":"IFERROR((P14*100)/O14,\"x\")","v":0.34312515428289309}]
["      02 Forstwirtschaft und Holzeinschlag",{"$f":"'3 Steuerung'!G9","v":19031},{"$f":"'3 Steuerung'!P10","v":19004},27,0.14207535255735634,{"$f":"'3 Steuerung'!H9","v":7191},{"$f":"'3 Steuerung'!Q10","v":7185},6,8.3507306889352817E-2,{"$f":"'3 Steuerung'!I9","v":4212},{"$f":"'3 Steuerung'!R10","v":4211},1,2.3747328425552126E-2,{"$f":"'3 Steuerung'!J9","v":2979},{"$f":"'3 Steuerung'!S10","v":2974},5,0.16812373907195696]
["      03 Fischerei und Aquakultur",{"$f":"'3 Steuerung'!G10","v":2483},{"$f":"'3 Steuerung'!P11","v":2479},4,0.16135538523598225,{"$f":"'3 Steuerung'!H10","v":1194},{"$f":"'3 Steuerung'!Q11","v":1192},2,0.16778523489932887,{"$f":"'3 Steuerung'!I10","v":802},{"$f":"'3 Steuerung'!R11","v":801},1,0.12484394506866417,{"$f":"'3 Steuerung'!J10","v":392},{"$f":"'3 Steuerung'!S11","v":391},1,0.25575447570332482]
["      05 Kohlenbergbau",{"$f":"'3 Steuerung'!G11","v":15881},{"$f":"'3 Steuerung'!P12","v":15881},0,0,{"$f":"'3 Steuerung'!H11","v":215},{"$f":"'3 Steuerung'!Q12","v":215},0,0,{"$f":"'3 Steuerung'!I11","v":170},{"$f":"'3 Steuerung'!R12","v":170},0,0,{"$f":"'3 Steuerung'!J11","v":45},{"$f":"'3 Steuerung'!S12","v":45},0,0]
["      06 Gewinnung von Erdöl und Erdgas",{"$f":"'3 Steuerung'!G12","v":3054},{"$f":"'3 Steuerung'!P13","v":3045},9,0.29556650246305421,{"$f":"'3 Steuerung'!H12","v":11},{"$f":"'3 Steuerung'!Q13","v":11},0,0,{"$f":"'3 Steuerung'!I12","v":7},{"$f":"'3 Steuerung'!R13","v":7},0,0,{"$f":"'3 Steuerung'!J12","v":4},{"$f":"'3 Steuerung'!S13","v":4},0,0]
["      07 Erzbergbau",{"$f":"'3 Steuerung'!G13","v":869},{"$f":"'3 Steuerung'!P14","v":860},9,1.0465116279069768,{"$f":"'3 Steuerung'!H13","v":31},{"$f":"'3 Steuerung'!Q14","v":31},0,0,{"$f":"'3 Steuerung'!I13","v":22},{"$f":"'3 Steuerung'!R14","v":22},0,0,{"$f":"'3 Steuerung'!J13","v":9},{"$f":"'3 Steuerung'!S14","v":9},0,0]
["      08 Gewinn. v.Steinen u.Erden,sonst.Bergbau",{"$f":"'3 Steuerung'!G14","v":38051},{"$f":"'3 Steuerung'!P15","v":37982},69,0.18166499921015217,{"$f":"'3 Steuerung'!H14","v":4160},{"$f":"'3 Steuerung'!Q15","v":4158},2,4.8100048100048101E-2,{"$f":"'3 Steuerung'!I14","v":2822},{"$f":"'3 Steuerung'!R15","v":2825},-3,-0.10619469026548672,{"$f":"'3 Steuerung'!J14","v":1338},{"$f":"'3 Steuerung'!S15","v":1333},5,0.37509377344336087]
["      09 DL f.Bergbau u.Gew.v.Steine u.Erden",{"$f":"'3 Steuerung'!G15","v":13333},{"$f":"'3 Steuerung'!P16","v":13306},27,0.20291597775439651,{"$f":"'3 Steuerung'!H15","v":327},{"$f":"'3 Steuerung'!Q16","v":327},0,0,{"$f":"'3 Steuerung'!I15","v":207},{"$f":"'3 Steuerung'!R16","v":207},0,0,{"$f":"'3 Steuerung'!J15","v":120},{"$f":"'3 Steuerung'!S16","v":120},0,0]
["      10 Hrst. von Nahrungs- und Futtermitteln",{"$f":"'3 Steuerung'!G16","v":614467},{"$f":"'3 Steuerung'!P17","v":613216},1251,0.20400641861921412,{"$f":"'3 Steuerung'!H16","v":143903},{"$f":"'3 Steuerung'!Q17","v":143752},151,0.10504201680672269,{"$f":"'3 Steuerung'!I16","v":108347},{"$f":"'3 Steuerung'!R17","v":108232},115,0.10625323379407199,{"$f":"'3 Steuerung'!J16","v":35556},{"$f":"'3 Steuerung'!S17","v":35520},36,0.10135135135135136]
["      11 Getränkeherstellung",{"$f":"'3 Steuerung'!G17","v":67632},{"$f":"'3 Steuerung'!P18","v":67519},113,0.16736029858262119,{"$f":"'3 Steuerung'!H17","v":13915},{"$f":"'3 Steuerung'!Q18","v":13901},14,0.1007121789799295,{"$f":"'3 Steuerung'!I17","v":9651},{"$f":"'3 Steuerung'!R18","v":9647},4,4.1463667461386959E-2,{"$f":"'3 Steuerung'!J17","v":4264},{"$f":"'3 Steuerung'!S18","v":4254},10,0.23507287259050305]
["      12 Tabakverarbeitung",{"$f":"'3 Steuerung'!G18","v":9649},{"$f":"'3 Steuerung'!P19","v":9646},3,3.1100974497200912E-2,{"$f":"'3 Steuerung'!H18","v":145},{"$f":"'3 Steuerung'!Q19","v":144},1,0.69444444444444442,{"$f":"'3 Steuerung'!I18","v":107},{"$f":"'3 Steuerung'!R19","v":107},0,0,{"$f":"'3 Steuerung'!J18","v":38},{"$f":"'3 Steuerung'!S19","v":37},1,2.7027027027027026]
["      13 Herstellung von Textilien",{"$f":"'3 Steuerung'!G19","v":71428},{"$f":"'3 Steuerung'!P20","v":71313},115,0.16126092016883317,{"$f":"'3 Steuerung'!H19","v":10370},{"$f":"'3 Steuerung'!Q20","v":10349},21,0.20291815634360807,{"$f":"'3 Steuerung'!I19","v":7504},{"$f":"'3 Steuerung'!R20","v":7490},14,0.18691588785046728,{"$f":"'3 Steuerung'!J19","v":2866},{"$f":"'3 Steuerung'!S20","v":2859},7,0.24484085344526058]
["      14 Herstellung von Bekleidung",{"$f":"'3 Steuerung'!G20","v":36387},{"$f":"'3 Steuerung'!P21","v":36312},75,0.20654329147389291,{"$f":"'3 Steuerung'!H20","v":6181},{"$f":"'3 Steuerung'!Q21","v":6173},8,0.12959663048760733,{"$f":"'3 Steuerung'!I20","v":4736},{"$f":"'3 Steuerung'!R21","v":4730},6,0.12684989429175475,{"$f":"'3 Steuerung'!J20","v":1445},{"$f":"'3 Steuerung'!S21","v":1443},2,0.13860013860013859]
["      15 Herstellung v.Leder,Lederwaren u.Schuhen",{"$f":"'3 Steuerung'!G21","v":16536},{"$f":"'3 Steuerung'!P22","v":16480},56,0.33980582524271846,{"$f":"'3 Steuerung'!H21","v":3150},{"$f":"'3 Steuerung'!Q22","v":3156},-6,-0.19011406844106463,{"$f":"'3 Steuerung'!I21","v":2147},{"$f":"'3 Steuerung'!R22","v":2153},-6,-0.27868091035764048,{"$f":"'3 Steuerung'!J21","v":1003},{"$f":"'3 Steuerung'!S22","v":1003},0,0]
["      16 Hrst.v.Holz-,Korb-,Korkwaren(ohne Möbel)",{"$f":"'3 Steuerung'!G22","v":107312},{"$f":"'3 Steuerung'!P23","v":107070},242,0.22602036051181471,{"$f":"'3 Steuerung'!H22","v":16851},{"$f":"'3 Steuerung'!Q23","v":16840},11,6.5320665083135387E-2,{"$f":"'3 Steuerung'!I22","v":11290},{"$f":"'3 Steuerung'!R23","v":11286},4,3.5442140705298601E-2,{"$f":"'3 Steuerung'!J22","v":5561},{"$f":"'3 Steuerung'!S23","v":5554},7,0.12603528988116672]
["      17 Hrst. v. Papier, Pappe u. Waren daraus",{"$f":"'3 Steuerung'!G23","v":123828},{"$f":"'3 Steuerung'!P24","v":123649},179,0.14476461596939724,{"$f":"'3 Steuerung'!H23","v":8425},{"$f":"'3 Steuerung'!Q24","v":8416},9,0.10693916349809886,{"$f":"'3 Steuerung'!I23","v":5831},{"$f":"'3 Steuerung'!R24","v":5833},-2,-3.4287673581347503E-2,{"$f":"'3 Steuerung'!J23","v":2594},{"$f":"'3 Steuerung'!S24","v":2583},11,0.42586140147115759]
["      18 Druckgewerbe u. Vervielältigung",{"$f":"'3 Steuerung'!G24","v":138366},{"$f":"'3 Steuerung'!P25","v":138108},258,0.18681032235641673,{"$f":"'3 Steuerung'!H24","v":44969},{"$f":"'3 Steuerung'!Q25","v":44931},38,8.4574124769090389E-2,{"$f":"'3 Steuerung'!I24","v":31913},{"$f":"'3 Steuerung'!R25","v":31924},-11,-3.4456834983084828E-2,{"$f":"'3 Steuerung'!J24","v":13056},{"$f":"'3 Steuerung'!S25","v":13007},49,0.37672022756977014]
["      19 Kokerei und Mineralölverarbeitung",{"$f":"'3 Steuerung'!G25","v":25040},{"$f":"'3 Steuerung'!P26","v":24993},47,0.18805265474332813,{"$f":"'3 Steuerung'!H25","v":382},{"$f":"'3 Steuerung'!Q26","v":385},-3,-0.77922077922077926,{"$f":"'3 Steuerung'!I25","v":253},{"$f":"'3 Steuerung'!R26","v":254},-1,-0.39370078740157483,{"$f":"'3 Steuerung'!J25","v":129},{"$f":"'3 Steuerung'!S26","v":131},-2,-1.5267175572519085]
["      20 Herstellung von chemischen Erzeugnissen",{"$f":"'3 Steuerung'!G26","v":322064},{"$f":"'3 Steuerung'!P27","v":321060},1004,0.31271413442970164,{"$f":"'3 Steuerung'!H26","v":9991},{"$f":"'3 Steuerung'!Q27","v":9977},14,0.14032274230730682,{"$f":"'3 Steuerung'!I26","v":7119},{"$f":"'3 Steuerung'!R27","v":7120},-1,-1.4044943820224719E-2,{"$f":"'3 Steuerung'!J26","v":2872},{"$f":"'3 Steuerung'!S27","v":2857},15,0.52502625131256564]
["      21 Herstellung v. pharmazeut. Erzeugnissen",{"$f":"'3 Steuerung'!G27","v":153823},{"$f":"'3 Steuerung'!P28","v":152857},966,0.63196320744224999,{"$f":"'3 Steuerung'!H27","v":2234},{"$f":"'3 Steuerung'!Q28","v":2237},-3,-0.13410818059901655,{"$f":"'3 Steuerung'!I27","v":1605},{"$f":"'3 Steuerung'!R28","v":1605},0,0,{"$f":"'3 Steuerung'!J27","v":629},{"$f":"'3 Steuerung'!S28","v":632},-3,-0.47468354430379744]
["      22 Herstellung v. Gummi- u. Kunststoffwaren",{"$f":"'3 Steuerung'!G28","v":384150},{"$f":"'3 Steuerung'!P29","v":383198},952,0.24843553463222667,{"$f":"'3 Steuerung'!H28","v":28868},{"$f":"'3 Steuerung'!Q29","v":28860},8,2.7720027720027719E-2,{"$f":"'3 Steuerung'!I28","v":19509},{"$f":"'3 Steuerung'!R29","v":19523},-14,-7.1710290426676232E-2,{"$f":"'3 Steuerung'!J28","v":9359},{"$f":"'3 Steuerung'!S29","v":9337},22,0.23562172003855628]
["      23 Hrst.v.Glas,Keramik,Verarb.Steine+Erden",{"$f":"'3 Steuerung'!G29","v":199123},{"$f":"'3 Steuerung'!P30","v":198680},443,0.22297161264344675,{"$f":"'3 Steuerung'!H29","v":16889},{"$f":"'3 Steuerung'!Q30","v":16876},13,7.7032472149798525E-2,{"$f":"'3 Steuerung'!I29","v":11674},{"$f":"'3 Steuerung'!R30","v":11674},0,0,{"$f":"'3 Steuerung'!J29","v":5215},{"$f":"'3 Steuerung'!S30","v":5202},13,0.2499038831218762]
["      24 Metallerzeugung und -bearbeitung",{"$f":"'3 Steuerung'!G30","v":290819},{"$f":"'3 Steuerung'!P31","v":289698},1121,0.38695469074691574,{"$f":"'3 Steuerung'!H30","v":9579},{"$f":"'3 Steuerung'!Q31","v":9576},3,3.1328320802005011E-2,{"$f":"'3 Steuerung'!I30","v":6555},{"$f":"'3 Steuerung'!R31","v":6562},-7,-0.10667479427003962,{"$f":"'3 Steuerung'!J30","v":3024},{"$f":"'3 Steuerung'!S31","v":3014},10,0.33178500331785005]
["      25 Herstellung von Metallerzeugnissen",{"$f":"'3 Steuerung'!G31","v":795178},{"$f":"'3 Steuerung'!P32","v":793344},1834,0.23117336237495967,{"$f":"'3 Steuerung'!H31","v":104496},{"$f":"'3 Steuerung'!Q32","v":104400},96,9.1954022988505746E-2,{"$f":"'3 Steuerung'!I31","v":64564},{"$f":"'3 Steuerung'!R32","v":64594},-30,-4.6443942161810692E-2,{"$f":"'3 Steuerung'!J31","v":39932},{"$f":"'3 Steuerung'!S32","v":39806},126,0.31653519569914085]
["      26 Hrst. v.DV-Gerät., elektr.u.opt.Erzeugn.",{"$f":"'3 Steuerung'!G32","v":410889},{"$f":"'3 Steuerung'!P33","v":410188},701,0.17089724711595658,{"$f":"'3 Steuerung'!H32","v":19064},{"$f":"'3 Steuerung'!Q33","v":19046},18,9.4508033182820542E-2,{"$f":"'3 Steuerung'!I32","v":13109},{"$f":"'3 Steuerung'!R33","v":13102},7,5.3426957716379175E-2,{"$f":"'3 Steuerung'!J32","v":5955},{"$f":"'3 Steuerung'!S33","v":5944},11,0.18506056527590847]
["      27 Herstellung v. elektrischen Ausrüstungen",{"$f":"'3 Steuerung'!G33","v":352667},{"$f":"'3 Steuerung'!P34","v":352008},659,0.18721165428058453,{"$f":"'3 Steuerung'!H33","v":15706},{"$f":"'3 Steuerung'!Q34","v":15669},37,0.23613504371689323,{"$f":"'3 Steuerung'!I33","v":10507},{"$f":"'3 Steuerung'!R34","v":10492},15,0.14296606938619902,{"$f":"'3 Steuerung'!J33","v":5199},{"$f":"'3 Steuerung'!S34","v":5177},22,0.42495653853583154]
["      28 Maschinenbau",{"$f":"'3 Steuerung'!G34","v":1022777},{"$f":"'3 Steuerung'!P35","v":1020187},2590,0.25387502487289093,{"$f":"'3 Steuerung'!H34","v":44833},{"$f":"'3 Steuerung'!Q35","v":44792},41,9.1534202536167175E-2,{"$f":"'3 Steuerung'!I34","v":30186},{"$f":"'3 Steuerung'!R35","v":30184},2,6.6260270341902995E-3,{"$f":"'3 Steuerung'!J34","v":14647},{"$f":"'3 Steuerung'!S35","v":14608},39,0.26697699890470977]
["      29 Hrst. v. Kraftwagen u. Kraftwagenteilen",{"$f":"'3 Steuerung'!G35","v":908896},{"$f":"'3 Steuerung'!P36","v":907272},1624,0.17899813947746651,{"$f":"'3 Steuerung'!H35","v":10163},{"$f":"'3 Steuerung'!Q36","v":10153},10,9.8493056239535109E-2,{"$f":"'3 Steuerung'!I35","v":7917},{"$f":"'3 Steuerung'!R36","v":7917},0,0,{"$f":"'3 Steuerung'!J35","v":2246},{"$f":"'3 Steuerung'!S36","v":2236},10,0.44722719141323791]
["      30 Sonstiger Fahrzeugbau",{"$f":"'3 Steuerung'!G36","v":155679},{"$f":"'3 Steuerung'!P37","v":155468},211,0.13571924769084312,{"$f":"'3 Steuerung'!H36","v":2607},{"$f":"'3 Steuerung'!Q37","v":2606},1,3.8372985418265539E-2,{"$f":"'3 Steuerung'!I36","v":1788},{"$f":"'3 Steuerung'!R37","v":1788},0,0,{"$f":"'3 Steuerung'!J36","v":819},{"$f":"'3 Steuerung'!S37","v":818},1,0.12224938875305623]
["      31 Herstellung von Möbeln",{"$f":"'3 Steuerung'!G37","v":114257},{"$f":"'3 Steuerung'!P38","v":114043},214,0.18764851854125197,{"$f":"'3 Steuerung'!H37","v":13064},{"$f":"'3 Steuerung'!Q38","v":13045},19,0.14564967420467612,{"$f":"'3 Steuerung'!I37","v":8882},{"$f":"'3 Steuerung'!R38","v":8874},8,9.0151002929907589E-2,{"$f":"'3 Steuerung'!J37","v":4182},{"$f":"'3 Steuerung'!S38","v":4171},11,0.26372572524574445]
["      32 Herstellung von sonstigen Waren",{"$f":"'3 Steuerung'!G38","v":242623},{"$f":"'3 Steuerung'!P39","v":242074},549,0.22679015507654685,{"$f":"'3 Steuerung'!H38","v":39864},{"$f":"'3 Steuerung'!Q39","v":39722},142,0.35748451739590154,{"$f":"'3 Steuerung'!I38","v":27159},{"$f":"'3 Steuerung'!R39","v":27076},83,0.30654454129118036,{"$f":"'3 Steuerung'!J38","v":12705},{"$f":"'3 Steuerung'!S39","v":12646},59,0.46655068796457377]
["      33 Rep. u.Install. v. Masch. u.Ausrüstungen",{"$f":"'3 Steuerung'!G39","v":161671},{"$f":"'3 Steuerung'!P40","v":161264},407,0.25238118860998116,{"$f":"'3 Steuerung'!H39","v":26795},{"$f":"'3 Steuerung'!Q40","v":26760},35,0.13079222720478326,{"$f":"'3 Steuerung'!I39","v":14529},{"$f":"'3 Steuerung'!R40","v":14527},2,1.3767467474358091E-2,{"$f":"'3 Steuerung'!J39","v":12266},{"$f":"'3 Steuerung'!S40","v":12233},33,0.26976211885882451]
["      35 Energieversorgung",{"$f":"'3 Steuerung'!G40","v":226726},{"$f":"'3 Steuerung'!P41","v":226365},361,0.1594769509420626,{"$f":"'3 Steuerung'!H40","v":12069},{"$f":"'3 Steuerung'!Q41","v":12048},21,0.17430278884462153,{"$f":"'3 Steuerung'!I40","v":6358},{"$f":"'3 Steuerung'!R41","v":6359},-1,-1.5725743041358705E-2,{"$f":"'3 Steuerung'!J40","v":5711},{"$f":"'3 Steuerung'!S41","v":5689},22,0.38671119704693269]
["      36 Wasserversorgung",{"$f":"'3 Steuerung'!G41","v":37030},{"$f":"'3 Steuerung'!P42","v":36951},79,0.21379664961706044,{"$f":"'3 Steuerung'!H41","v":2079},{"$f":"'3 Steuerung'!Q42","v":2079},0,0,{"$f":"'3 Steuerung'!I41","v":1342},{"$f":"'3 Steuerung'!R42","v":1342},0,0,{"$f":"'3 Steuerung'!J41","v":737},{"$f":"'3 Steuerung'!S42","v":737},0,0]
["      37 Abwasserentsorgung",{"$f":"'3 Steuerung'!G42","v":30690},{"$f":"'3 Steuerung'!P43","v":30622},68,0.22206256939455293,{"$f":"'3 Steuerung'!H42","v":3206},{"$f":"'3 Steuerung'!Q43","v":3202},4,0.12492192379762648,{"$f":"'3 Steuerung'!I42","v":1877},{"$f":"'3 Steuerung'!R43","v":1875},2,0.10666666666666667,{"$f":"'3 Steuerung'!J42","v":1329},{"$f":"'3 Steuerung'!S43","v":1327},2,0.15071590052750566]
["      38 Sammlung,Abfallbeseitigung,Rückgewinnung",{"$f":"'3 Steuerung'!G43","v":166906},{"$f":"'3 Steuerung'!P44","v":166544},362,0.21735997694303008,{"$f":"'3 Steuerung'!H43","v":16014},{"$f":"'3 Steuerung'!Q44","v":16008},6,3.7481259370314844E-2,{"$f":"'3 Steuerung'!I43","v":10247},{"$f":"'3 Steuerung'!R44","v":10246},1,9.7599063048994725E-3,{"$f":"'3 Steuerung'!J43","v":5767},{"$f":"'3 Steuerung'!S44","v":5762},5,8.6775425199583478E-2]
["      39 Beseitig. v.UW-Verschm. u.sonst.Entsorg.",{"$f":"'3 Steuerung'!G44","v":3268},{"$f":"'3 Steuerung'!P45","v":3251},17,0.52291602583820362,{"$f":"'3 Steuerung'!H44","v":303},{"$f":"'3 Steuerung'!Q45","v":304},-1,-0.32894736842105265,{"$f":"'3 Steuerung'!I44","v":193},{"$f":"'3 Steuerung'!R45","v":194},-1,-0.51546391752577314,{"$f":"'3 Steuerung'!J44","v":110},{"$f":"'3 Steuerung'!S45","v":110},0,0]
["      41 Hochbau",{"$f":"'3 Steuerung'!G45","v":283124},{"$f":"'3 Steuerung'!P46","v":282897},227,8.0241218535368003E-2,{"$f":"'3 Steuerung'!H45","v":38212},{"$f":"'3 Steuerung'!Q46","v":38195},17,4.4508443513548893E-2,{"$f":"'3 Steuerung'!I45","v":24414},{"$f":"'3 Steuerung'!R46","v":24447},-33,-0.13498588783899865,{"$f":"'3 Steuerung'!J45","v":13798},{"$f":"'3 Steuerung'!S46","v":13748},50,0.36368926389292988]
["      42 Tiefbau",{"$f":"'3 Steuerung'!G46","v":204279},{"$f":"'3 Steuerung'!P47","v":204184},95,4.6526662226227325E-2,{"$f":"'3 Steuerung'!H46","v":15150},{"$f":"'3 Steuerung'!Q47","v":15146},4,2.6409613099168096E-2,{"$f":"'3 Steuerung'!I46","v":10119},{"$f":"'3 Steuerung'!R47","v":10130},-11,-0.10858835143139191,{"$f":"'3 Steuerung'!J46","v":5031},{"$f":"'3 Steuerung'!S47","v":5016},15,0.29904306220095694]
["      43 Vorber.Baust.arb.,Bauinst.,so.Ausbaugew.",{"$f":"'3 Steuerung'!G47","v":1261404},{"$f":"'3 Steuerung'!P48","v":1259635},1769,0.14043750769071994,{"$f":"'3 Steuerung'!H47","v":254959},{"$f":"'3 Steuerung'!Q48","v":254728},231,9.0684965924437047E-2,{"$f":"'3 Steuerung'!I47","v":161375},{"$f":"'3 Steuerung'!R48","v":161368},7,4.3379108621287984E-3,{"$f":"'3 Steuerung'!J47","v":93584},{"$f":"'3 Steuerung'!S48","v":93360},224,0.23993144815766923]
["      45 Handel m. Kfz; Inst.halt. u. Rep. v. Kfz",{"$f":"'3 Steuerung'!G48","v":630351},{"$f":"'3 Steuerung'!P49","v":628658},1693,0.26930381861043684,{"$f":"'3 Steuerung'!H48","v":124152},{"$f":"'3 Steuerung'!Q49","v":123920},232,0.18721755971594578,{"$f":"'3 Steuerung'!I48","v":83359},{"$f":"'3 Steuerung'!R49","v":83252},107,0.12852544083025033,{"$f":"'3 Steuerung'!J48","v":40793},{"$f":"'3 Steuerung'!S49","v":40668},125,0.30736697157470244]
["      46 Großhandel (ohne Handel mit Kfz)",{"$f":"'3 Steuerung'!G49","v":1351083},{"$f":"'3 Steuerung'!P50","v":1346743},4340,0.32225896106384067,{"$f":"'3 Steuerung'!H49","v":242498},{"$f":"'3 Steuerung'!Q50","v":242118},380,0.15694826489562941,{"$f":"'3 Steuerung'!I49","v":162099},{"$f":"'3 Steuerung'!R50","v":161949},150,9.2621751292073437E-2,{"$f":"'3 Steuerung'!J49","v":80399},{"$f":"'3 Steuerung'!S50","v":80169},230,0.28689393655901907]
["      47 Einzelhandel (ohne Handel mit Kfz)",{"$f":"'3 Steuerung'!G50","v":2336675},{"$f":"'3 Steuerung'!P51","v":2328210},8465,0.36358404095850461,{"$f":"'3 Steuerung'!H50","v":902538},{"$f":"'3 Steuerung'!Q51","v":901456},1082,0.12002804352070429,{"$f":"'3 Steuerung'!I50","v":678381},{"$f":"'3 Steuerung'!R51","v":677646},735,0.10846371114121532,{"$f":"'3 Steuerung'!J50","v":224157},{"$f":"'3 Steuerung'!S51","v":223810},347,0.15504222331441847]
["      49 Landverkehr u.Transp.i.Rohrfernleitungen",{"$f":"'3 Steuerung'!G51","v":617548},{"$f":"'3 Steuerung'!P52","v":616460},1088,0.17649158096226844,{"$f":"'3 Steuerung'!H51","v":202065},{"$f":"'3 Steuerung'!Q52","v":201971},94,4.6541335142173873E-2,{"$f":"'3 Steuerung'!I51","v":130487},{"$f":"'3 Steuerung'!R52","v":130555},-68,-5.2085328022672434E-2,{"$f":"'3 Steuerung'!J51","v":71578},{"$f":"'3 Steuerung'!S52","v":71416},162,0.22683992382659349]
["      50 Schifffahrt",{"$f":"'3 Steuerung'!G52","v":23390},{"$f":"'3 Steuerung'!P53","v":23346},44,0.1884691167651846,{"$f":"'3 Steuerung'!H52","v":2964},{"$f":"'3 Steuerung'!Q53","v":2963},1,3.3749578130273371E-2,{"$f":"'3 Steuerung'!I52","v":1934},{"$f":"'3 Steuerung'!R53","v":1934},0,0,{"$f":"'3 Steuerung'!J52","v":1030},{"$f":"'3 Steuerung'!S53","v":1029},1,9.7181729834791064E-2]
["      51 Luftfahrt",{"$f":"'3 Steuerung'!G53","v":63890},{"$f":"'3 Steuerung'!P54","v":63832},58,9.0863516731419972E-2,{"$f":"'3 Steuerung'!H53","v":697},{"$f":"'3 Steuerung'!Q54","v":696},1,0.14367816091954022,{"$f":"'3 Steuerung'!I53","v":364},{"$f":"'3 Steuerung'!R54","v":366},-2,-0.54644808743169404,{"$f":"'3 Steuerung'!J53","v":333},{"$f":"'3 Steuerung'!S54","v":330},3,0.90909090909090906]
["      52 Lagerei u. Erbr.v. sonst. DL f.d.Verkehr",{"$f":"'3 Steuerung'!G54","v":689851},{"$f":"'3 Steuerung'!P55","v":688290},1561,0.2267939386014616,{"$f":"'3 Steuerung'!H54","v":87192},{"$f":"'3 Steuerung'!Q55","v":87136},56,6.4267352185089971E-2,{"$f":"'3 Steuerung'!I54","v":52169},{"$f":"'3 Steuerung'!R55","v":52211},-42,-8.0442818563138035E-2,{"$f":"'3 Steuerung'!J54","v":35023},{"$f":"'3 Steuerung'!S55","v":34925},98,0.28060128847530424]
["      53 Post-, Kurier- und Expressdienste",{"$f":"'3 Steuerung'!G55","v":263456},{"$f":"'3 Steuerung'!P56","v":263312},144,5.4687974722002798E-2,{"$f":"'3 Steuerung'!H55","v":182621},{"$f":"'3 Steuerung'!Q56","v":182647},-26,-1.4235109254463528E-2,{"$f":"'3 Steuerung'!I55","v":128771},{"$f":"'3 Steuerung'!R56","v":128899},-128,-9.9302554713380245E-2,{"$f":"'3 Steuerung'!J55","v":53850},{"$f":"'3 Steuerung'!S56","v":53748},102,0.18977450323732975]
["      55 Beherbergung",{"$f":"'3 Steuerung'!G56","v":299147},{"$f":"'3 Steuerung'!P57","v":298468},679,0.22749507484889503,{"$f":"'3 Steuerung'!H56","v":150747},{"$f":"'3 Steuerung'!Q57","v":150693},54,3.5834444864724972E-2,{"$f":"'3 Steuerung'!I56","v":98978},{"$f":"'3 Steuerung'!R57","v":99019},-41,-4.1406194770700573E-2,{"$f":"'3 Steuerung'!J56","v":51769},{"$f":"'3 Steuerung'!S57","v":51674},95,0.18384487363083948]
["      56 Gastronomie",{"$f":"'3 Steuerung'!G57","v":728959},{"$f":"'3 Steuerung'!P58","v":727903},1056,0.14507427500642256,{"$f":"'3 Steuerung'!H57","v":821002},{"$f":"'3 Steuerung'!Q58","v":821054},-52,-6.3333227777953704E-3,{"$f":"'3 Steuerung'!I57","v":522381},{"$f":"'3 Steuerung'!R58","v":522815},-434,-8.3012155351319297E-2,{"$f":"'3 Steuerung'!J57","v":298621},{"$f":"'3 Steuerung'!S58","v":298239},382,0.12808519341870112]
["      58 Verlagswesen",{"$f":"'3 Steuerung'!G58","v":138332},{"$f":"'3 Steuerung'!P59","v":138051},281,0.20354796415817342,{"$f":"'3 Steuerung'!H58","v":71741},{"$f":"'3 Steuerung'!Q59","v":71732},9,1.2546701611554118E-2,{"$f":"'3 Steuerung'!I58","v":52792},{"$f":"'3 Steuerung'!R59","v":52827},-35,-6.6253998902076588E-2,{"$f":"'3 Steuerung'!J58","v":18949},{"$f":"'3 Steuerung'!S59","v":18905},44,0.23274266067177996]
["      59 Film, TV, Kino u. Tonstudio",{"$f":"'3 Steuerung'!G59","v":42206},{"$f":"'3 Steuerung'!P60","v":42139},67,0.15899760317045966,{"$f":"'3 Steuerung'!H59","v":20754},{"$f":"'3 Steuerung'!Q60","v":20745},9,4.3383947939262472E-2,{"$f":"'3 Steuerung'!I59","v":13324},{"$f":"'3 Steuerung'!R60","v":13335},-11,-8.2489688788901394E-2,{"$f":"'3 Steuerung'!J59","v":7430},{"$f":"'3 Steuerung'!S60","v":7410},20,0.26990553306342779]
["      60 Rundfunkveranstalter",{"$f":"'3 Steuerung'!G60","v":58842},{"$f":"'3 Steuerung'!P61","v":58802},40,6.8024897112343122E-2,{"$f":"'3 Steuerung'!H60","v":2440},{"$f":"'3 Steuerung'!Q61","v":2437},3,0.12310217480508823,{"$f":"'3 Steuerung'!I60","v":1765},{"$f":"'3 Steuerung'!R61","v":1768},-3,-0.16968325791855204,{"$f":"'3 Steuerung'!J60","v":675},{"$f":"'3 Steuerung'!S61","v":669},6,0.89686098654708524]
["      61 Telekommunikation",{"$f":"'3 Steuerung'!G61","v":58907},{"$f":"'3 Steuerung'!P62","v":58812},95,0.16153166020540025,{"$f":"'3 Steuerung'!H61","v":2661},{"$f":"'3 Steuerung'!Q62","v":2653},8,0.3015454202789295,{"$f":"'3 Steuerung'!I61","v":1817},{"$f":"'3 Steuerung'!R62","v":1813},4,0.22062879205736349,{"$f":"'3 Steuerung'!J61","v":844},{"$f":"'3 Steuerung'!S62","v":840},4,0.47619047619047616]
["      62 DL der Informationstechnologie",{"$f":"'3 Steuerung'!G62","v":615024},{"$f":"'3 Steuerung'!P63","v":613613},1411,0.22994949585487923,{"$f":"'3 Steuerung'!H62","v":47333},{"$f":"'3 Steuerung'!Q63","v":47236},97,0.20535185028368194,{"$f":"'3 Steuerung'!I62","v":28724},{"$f":"'3 Steuerung'!R63","v":28705},19,6.6190559136039023E-2,{"$f":"'3 Steuerung'!J62","v":18609},{"$f":"'3 Steuerung'!S63","v":18531},78,0.4209163024121742]
["      63 Informationsdienstleistungen",{"$f":"'3 Steuerung'!G63","v":61961},{"$f":"'3 Steuerung'!P64","v":61866},95,0.15355768919923707,{"$f":"'3 Steuerung'!H63","v":13675},{"$f":"'3 Steuerung'!Q64","v":13671},4,2.925901543413064E-2,{"$f":"'3 Steuerung'!I63","v":8315},{"$f":"'3 Steuerung'!R64","v":8315},0,0,{"$f":"'3 Steuerung'!J63","v":5360},{"$f":"'3 Steuerung'!S64","v":5356},4,7.468259895444361E-2]
["      64 Erbringung von Finanzdienstleistungen",{"$f":"'3 Steuerung'!G64","v":642498},{"$f":"'3 Steuerung'!P65","v":639425},3073,0.48058802830668179,{"$f":"'3 Steuerung'!H64","v":19326},{"$f":"'3 Steuerung'!Q65","v":19313},13,6.731217314762078E-2,{"$f":"'3 Steuerung'!I64","v":12965},{"$f":"'3 Steuerung'!R65","v":12983},-18,-0.13864284063775706,{"$f":"'3 Steuerung'!J64","v":6361},{"$f":"'3 Steuerung'!S65","v":6330},31,0.48973143759873616]
["      65 Versicherungen u.Pensionskassen",{"$f":"'3 Steuerung'!G65","v":171908},{"$f":"'3 Steuerung'!P66","v":171717},191,0.11122952299422888,{"$f":"'3 Steuerung'!H65","v":2188},{"$f":"'3 Steuerung'!Q66","v":2188},0,0,{"$f":"'3 Steuerung'!I65","v":1534},{"$f":"'3 Steuerung'!R66","v":1533},1,6.5231572080887146E-2,{"$f":"'3 Steuerung'!J65","v":654},{"$f":"'3 Steuerung'!S66","v":655},-1,-0.15267175572519084]
["      66 M.Finanz-u.Versicherungs-DL verb.Tätigk.",{"$f":"'3 Steuerung'!G66","v":177944},{"$f":"'3 Steuerung'!P67","v":177077},867,0.48961751102627671,{"$f":"'3 Steuerung'!H66","v":51723},{"$f":"'3 Steuerung'!Q67","v":51551},172,0.33365017167465227,{"$f":"'3 Steuerung'!I66","v":30391},{"$f":"'3 Steuerung'!R67","v":30332},59,0.19451404457338783,{"$f":"'3 Steuerung'!J66","v":21332},{"$f":"'3 Steuerung'!S67","v":21219},113,0.53254159008435831]
["      68 Grundstücks- und Wohnungswesen",{"$f":"'3 Steuerung'!G67","v":248364},{"$f":"'3 Steuerung'!P68","v":247923},441,0.17787780883580789,{"$f":"'3 Steuerung'!H67","v":259694},{"$f":"'3 Steuerung'!Q68","v":258870},824,0.31830648588094412,{"$f":"'3 Steuerung'!I67","v":144312},{"$f":"'3 Steuerung'!R68","v":144153},159,0.11029947347609831,{"$f":"'3 Steuerung'!J67","v":115382},{"$f":"'3 Steuerung'!S68","v":114717},665,0.5796874046566769]
["      69 Rechts-,Steuerberatung, Wirtsch.-prüfung",{"$f":"'3 Steuerung'!G68","v":448142},{"$f":"'3 Steuerung'!P69","v":446777},1365,0.30552154654335384,{"$f":"'3 Steuerung'!H68","v":123661},{"$f":"'3 Steuerung'!Q69","v":123148},513,0.41657192971059215,{"$f":"'3 Steuerung'!I68","v":74746},{"$f":"'3 Steuerung'!R69","v":74476},270,0.36253289650357162,{"$f":"'3 Steuerung'!J68","v":48915},{"$f":"'3 Steuerung'!S69","v":48672},243,0.49926035502958582]
["      70 Verw.u.Führ. v.Untern.u.Betr.;Unt.berat.",{"$f":"'3 Steuerung'!G69","v":631423},{"$f":"'3 Steuerung'!P70","v":630039},1384,0.21966894112904123,{"$f":"'3 Steuerung'!H69","v":85072},{"$f":"'3 Steuerung'!Q70","v":84940},132,0.15540381445726395,{"$f":"'3 Steuerung'!I69","v":52987},{"$f":"'3 Steuerung'!R70","v":52963},24,4.5314653626116343E-2,{"$f":"'3 Steuerung'!J69","v":32085},{"$f":"'3 Steuerung'!S70","v":31977},108,0.33774275260343373]
["      71 Architektur-, Ingenieurbüros; Labore",{"$f":"'3 Steuerung'!G70","v":537934},{"$f":"'3 Steuerung'!P71","v":536311},1623,0.30262291841860411,{"$f":"'3 Steuerung'!H70","v":89011},{"$f":"'3 Steuerung'!Q71","v":88679},332,0.37438401425365647,{"$f":"'3 Steuerung'!I70","v":57202},{"$f":"'3 Steuerung'!R71","v":57027},175,0.30687218335174565,{"$f":"'3 Steuerung'!J70","v":31809},{"$f":"'3 Steuerung'!S71","v":31652},157,0.49601920889675216]
["      72 Forschung und Entwicklung",{"$f":"'3 Steuerung'!G71","v":205545},{"$f":"'3 Steuerung'!P72","v":205147},398,0.19400722408809293,{"$f":"'3 Steuerung'!H71","v":19884},{"$f":"'3 Steuerung'!Q72","v":19869},15,7.5494488902310128E-2,{"$f":"'3 Steuerung'!I71","v":15400},{"$f":"'3 Steuerung'!R72","v":15390},10,6.4977257959714096E-2,{"$f":"'3 Steuerung'!J71","v":4484},{"$f":"'3 Steuerung'!S72","v":4479},5,0.11163206072784104]
["      73 Werbung und Marktforschung",{"$f":"'3 Steuerung'!G72","v":136848},{"$f":"'3 Steuerung'!P73","v":136584},{"$f":"IFERROR(B78-C78,\"x\")","v":264},{"$f":"IFERROR((D78*100)/C78,\"x\")","v":0.19328764716218591},{"$f":"'3 Steuerung'!H72","v":107155},{"$f":"'3 Steuerung'!Q73","v":107087},{"$f":"IFERROR(F78-G78,\"x\")","v":68},{"$f":"IFERROR((H78*100)/G78,\"x\")","v":6.34997712140596E-2},{"$f":"'3 Steuerung'!I72","v":78776},{"$f":"'3 Steuerung'!R73","v":78797},{"$f":"IFERROR(J78-K78,\"x\")","v":-21},{"$f":"IFERROR((L78*100)/K78,\"x\")","v":-2.6650760815767099E-2},{"$f":"'3 Steuerung'!J72","v":28379},{"$f":"'3 Steuerung'!S73","v":28290},{"$f":"IFERROR(N78-O78,\"x\")","v":89},{"$f":"IFERROR((P78*100)/O78,\"x\")","v":0.31459879816189468}]
["      74 Sonst.freiberufl., wiss.u.techn. Tätigk.",{"$f":"'3 Steuerung'!G73","v":61864},{"$f":"'3 Steuerung'!P74","v":61734},130,0.21058087925616353,{"$f":"'3 Steuerung'!H73","v":28175},{"$f":"'3 Steuerung'!Q74","v":28161},14,4.9714143673875215E-2,{"$f":"'3 Steuerung'!I73","v":17060},{"$f":"'3 Steuerung'!R74","v":17070},-10,-5.8582308142940832E-2,{"$f":"'3 Steuerung'!J73","v":11115},{"$f":"'3 Steuerung'!S74","v":11091},24,0.21639166892074654]
["      75 Veterinärwesen",{"$f":"'3 Steuerung'!G74","v":28927},{"$f":"'3 Steuerung'!P75","v":28863},64,0.22173717215812633,{"$f":"'3 Steuerung'!H74","v":9314},{"$f":"'3 Steuerung'!Q75","v":9276},38,0.40965933592065545,{"$f":"'3 Steuerung'!I74","v":6256},{"$f":"'3 Steuerung'!R75","v":6228},28,0.449582530507386,{"$f":"'3 Steuerung'!J74","v":3058},{"$f":"'3 Steuerung'!S75","v":3048},10,0.32808398950131235]
["      77 Vermietung von beweglichen Sachen",{"$f":"'3 Steuerung'!G75","v":79282},{"$f":"'3 Steuerung'!P76","v":79103},179,0.22628724574289219,{"$f":"'3 Steuerung'!H75","v":39456},{"$f":"'3 Steuerung'!Q76","v":39401},55,0.1395903657267582,{"$f":"'3 Steuerung'!I75","v":22833},{"$f":"'3 Steuerung'!R76","v":22840},-7,-3.0647985989492119E-2,{"$f":"'3 Steuerung'!J75","v":16623},{"$f":"'3 Steuerung'!S76","v":16561},62,0.37437352816858888]
["      78 Vermittl. u.Überlassung v.Arbeitskräften",{"$f":"'3 Steuerung'!G76","v":868914},{"$f":"'3 Steuerung'!P77","v":868234},680,7.83198999348102E-2,{"$f":"'3 Steuerung'!H76","v":103791},{"$f":"'3 Steuerung'!Q77","v":103798},-7,-6.7438678972619893E-3,{"$f":"'3 Steuerung'!I76","v":67075},{"$f":"'3 Steuerung'!R77","v":67119},-44,-6.5555207914301458E-2,{"$f":"'3 Steuerung'!J76","v":36716},{"$f":"'3 Steuerung'!S77","v":36679},37,0.10087516017339622]
["      79 Reisebüros,-veranst.u.son.Reservier.-DL",{"$f":"'3 Steuerung'!G77","v":80343},{"$f":"'3 Steuerung'!P78","v":80078},265,0.33092734583780814,{"$f":"'3 Steuerung'!H77","v":21436},{"$f":"'3 Steuerung'!Q78","v":21411},25,0.11676241184437906,{"$f":"'3 Steuerung'!I77","v":14366},{"$f":"'3 Steuerung'!R78","v":14369},-3,-2.0878279629758509E-2,{"$f":"'3 Steuerung'!J77","v":7070},{"$f":"'3 Steuerung'!S78","v":7042},28,0.39761431411530818]
["      80 Wach- u.Sicherh.dienste sowie Detekteien",{"$f":"'3 Steuerung'!G78","v":178883},{"$f":"'3 Steuerung'!P79","v":178753},130,7.2726052150173706E-2,{"$f":"'3 Steuerung'!H78","v":78738},{"$f":"'3 Steuerung'!Q79","v":78758},-20,-2.5394245663932554E-2,{"$f":"'3 Steuerung'!I78","v":40775},{"$f":"'3 Steuerung'!R79","v":40864},-89,-0.2177956147220047,{"$f":"'3 Steuerung'!J78","v":37963},{"$f":"'3 Steuerung'!S79","v":37894},69,0.18208687391143716]
["      81 Gebäudebetreuung;Garten-u.Landschaftsbau",{"$f":"'3 Steuerung'!G79","v":729315},{"$f":"'3 Steuerung'!P80","v":728801},514,7.0526796752474266E-2,{"$f":"'3 Steuerung'!H79","v":590307},{"$f":"'3 Steuerung'!Q80","v":590188},119,2.0163066683836339E-2,{"$f":"'3 Steuerung'!I79","v":339751},{"$f":"'3 Steuerung'!R80","v":340219},-468,-0.13755845499516489,{"$f":"'3 Steuerung'!J79","v":250556},{"$f":"'3 Steuerung'!S80","v":249969},587,0.23482911881073254]
["      82 Dienstleistg.f.Untern.u.Privatpers.ang",{"$f":"'3 Steuerung'!G80","v":336553},{"$f":"'3 Steuerung'!P81","v":335765},788,0.23468795139457657,{"$f":"'3 Steuerung'!H80","v":126376},{"$f":"'3 Steuerung'!Q81","v":126402},-26,-2.0569294789639404E-2,{"$f":"'3 Steuerung'!I80","v":80223},{"$f":"'3 Steuerung'!R81","v":80346},-123,-0.15308789485475319,{"$f":"'3 Steuerung'!J80","v":46153},{"$f":"'3 Steuerung'!S81","v":46056},97,0.21061316657981588]
["      84 Öffentl. Verwalt.,Verteidigung;Soz.vers.",{"$f":"'3 Steuerung'!G81","v":1733340},{"$f":"'3 Steuerung'!P82","v":1728944},4396,0.25425924726306925,{"$f":"'3 Steuerung'!H81","v":124940},{"$f":"'3 Steuerung'!Q82","v":124953},-13,-1.0403911870863444E-2,{"$f":"'3 Steuerung'!I81","v":88505},{"$f":"'3 Steuerung'!R82","v":88581},-76,-8.5797179982163213E-2,{"$f":"'3 Steuerung'!J81","v":36435},{"$f":"'3 Steuerung'!S82","v":36372},63,0.17321016166281755]
["      85 Erziehung und Unterricht",{"$f":"'3 Steuerung'!G82","v":1205178},{"$f":"'3 Steuerung'!P83","v":1203517},1661,0.13801217598089599,{"$f":"'3 Steuerung'!H82","v":247836},{"$f":"'3 Steuerung'!Q83","v":247671},165,6.662063786232543E-2,{"$f":"'3 Steuerung'!I82","v":191513},{"$f":"'3 Steuerung'!R83","v":191463},50,2.6114706235669555E-2,{"$f":"'3 Steuerung'!J82","v":56323},{"$f":"'3 Steuerung'!S83","v":56208},115,0.20459721036151438]
["      86 Gesundheitswesen",{"$f":"'3 Steuerung'!G83","v":2347188},{"$f":"'3 Steuerung'!P84","v":2342589},4599,0.19632124969424855,{"$f":"'3 Steuerung'!H83","v":434861},{"$f":"'3 Steuerung'!Q84","v":433265},1596,0.36836578075773485,{"$f":"'3 Steuerung'!I83","v":272104},{"$f":"'3 Steuerung'!R84","v":271168},936,0.34517347179608215,{"$f":"'3 Steuerung'!J83","v":162757},{"$f":"'3 Steuerung'!S84","v":162097},660,0.40716361191138639]
["      87 Heime (ohne Erholungs- und Ferienheime)",{"$f":"'3 Steuerung'!G84","v":993326},{"$f":"'3 Steuerung'!P85","v":991071},2255,0.22753162992358772,{"$f":"'3 Steuerung'!H84","v":108962},{"$f":"'3 Steuerung'!Q85","v":108863},99,9.0939988793253906E-2,{"$f":"'3 Steuerung'!I84","v":75995},{"$f":"'3 Steuerung'!R85","v":75969},26,3.4224486303623847E-2,{"$f":"'3 Steuerung'!J84","v":32967},{"$f":"'3 Steuerung'!S85","v":32894},73,0.22192497111935308]
["      88 Sozialwesen (ohne Heime)",{"$f":"'3 Steuerung'!G85","v":1201007},{"$f":"'3 Steuerung'!P86","v":1198791},2216,0.18485290596943088,{"$f":"'3 Steuerung'!H85","v":204150},{"$f":"'3 Steuerung'!Q86","v":204018},132,6.4700173514101691E-2,{"$f":"'3 Steuerung'!I85","v":127483},{"$f":"'3 Steuerung'!R86","v":127507},-24,-1.8822496019826364E-2,{"$f":"'3 Steuerung'!J85","v":76667},{"$f":"'3 Steuerung'!S86","v":76511},156,0.20389225078746848]
["      90 Kreative, künstler.u.unterhalt. Tätigk.",{"$f":"'3 Steuerung'!G86","v":67179},{"$f":"'3 Steuerung'!P87","v":67068},111,0.16550366791912685,{"$f":"'3 Steuerung'!H86","v":23512},{"$f":"'3 Steuerung'!Q87","v":23500},12,5.106382978723404E-2,{"$f":"'3 Steuerung'!I86","v":14521},{"$f":"'3 Steuerung'!R87","v":14531},-10,-6.8818388273346645E-2,{"$f":"'3 Steuerung'!J86","v":8991},{"$f":"'3 Steuerung'!S87","v":8969},22,0.24528932991414873]
["      91 Bibl.,Archive,Museen,zoolog.u.ä.Gärten",{"$f":"'3 Steuerung'!G87","v":36086},{"$f":"'3 Steuerung'!P88","v":36028},58,0.1609858998556678,{"$f":"'3 Steuerung'!H87","v":8329},{"$f":"'3 Steuerung'!Q88","v":8322},7,8.4114395577986056E-2,{"$f":"'3 Steuerung'!I87","v":6544},{"$f":"'3 Steuerung'!R88","v":6538},6,9.177118384827164E-2,{"$f":"'3 Steuerung'!J87","v":1785},{"$f":"'3 Steuerung'!S88","v":1784},1,5.6053811659192827E-2]
["      92 Spiel-, Wett- und Lotteriewesen",{"$f":"'3 Steuerung'!G88","v":56588},{"$f":"'3 Steuerung'!P89","v":56467},121,0.21428444932438415,{"$f":"'3 Steuerung'!H88","v":26295},{"$f":"'3 Steuerung'!Q89","v":26257},38,0.1447233118787371,{"$f":"'3 Steuerung'!I88","v":16553},{"$f":"'3 Steuerung'!R89","v":16536},17,0.10280599903241412,{"$f":"'3 Steuerung'!J88","v":9742},{"$f":"'3 Steuerung'!S89","v":9721},21,0.21602715769982511]
["      93 DL d.Sports,d.Unterhaltg.u.d.Erholung",{"$f":"'3 Steuerung'!G89","v":116934},{"$f":"'3 Steuerung'!P90","v":116760},174,0.14902363823227133,{"$f":"'3 Steuerung'!H89","v":172118},{"$f":"'3 Steuerung'!Q90","v":172000},118,6.86046511627907E-2,{"$f":"'3 Steuerung'!I89","v":95679},{"$f":"'3 Steuerung'!R90","v":95756},-77,-8.041271565228289E-2,{"$f":"'3 Steuerung'!J89","v":76439},{"$f":"'3 Steuerung'!S90","v":76244},195,0.25575783012433767]
["      94 Interessenvertr.,kirchl.u.sonst.Verein",{"$f":"'3 Steuerung'!G90","v":466489},{"$f":"'3 Steuerung'!P91","v":465732},757,0.16253982977334605,{"$f":"'3 Steuerung'!H90","v":162460},{"$f":"'3 Steuerung'!Q91","v":162364},96,5.9126407331674506E-2,{"$f":"'3 Steuerung'!I90","v":108630},{"$f":"'3 Steuerung'!R91","v":108690},-60,-5.5202870549268562E-2,{"$f":"'3 Steuerung'!J90","v":53830},{"$f":"'3 Steuerung'!S91","v":53674},156,0.29064351455080673]
["      95 Reparatur v.DV-Geräten u.Gebrauchsgütern",{"$f":"'3 Steuerung'!G91","v":33084},{"$f":"'3 Steuerung'!P92","v":32984},100,0.30317729808391947,{"$f":"'3 Steuerung'!H91","v":11039},{"$f":"'3 Steuerung'!Q92","v":11020},19,0.17241379310344829,{"$f":"'3 Steuerung'!I91","v":7894},{"$f":"'3 Steuerung'!R92","v":7879},15,0.19037948978296737,{"$f":"'3 Steuerung'!J91","v":3145},{"$f":"'3 Steuerung'!S92","v":3141},4,0.12734797835084369]
["      96 Sonstige überwieg. persönliche DL",{"$f":"'3 Steuerung'!G92","v":316810},{"$f":"'3 Steuerung'!P93","v":316226},584,0.18467804671342647,{"$f":"'3 Steuerung'!H92","v":189756},{"$f":"'3 Steuerung'!Q93","v":189480},276,0.14566181127295758,{"$f":"'3 Steuerung'!I92","v":138085},{"$f":"'3 Steuerung'!R93","v":137933},152,0.11019842967237717,{"$f":"'3 Steuerung'!J92","v":51671},{"$f":"'3 Steuerung'!S93","v":51547},124,0.24055716142549519]
["      97 Private Haushalte mit Hauspersonal",{"$f":"'3 Steuerung'!G93","v":47525},{"$f":"'3 Steuerung'!P94","v":47489},36,7.5807028996188588E-2,{"$f":"'3 Steuerung'!H93","v":283550},{"$f":"'3 Steuerung'!Q94","v":284283},-733,-0.25784165778467233,{"$f":"'3 Steuerung'!I93","v":199156},{"$f":"'3 Steuerung'!R94","v":200069},-913,-0.45634256181617344,{"$f":"'3 Steuerung'!J93","v":84394},{"$f":"'3 Steuerung'!S94","v":84214},180,0.21374118317619398]
["      98 H.v.Waren,Dienstl.d.priv. Haushalte oaS",{"$f":"'3 Steuerung'!G94","v":680},{"$f":"'3 Steuerung'!P95","v":675},5,0.7407407407407407,{"$f":"'3 Steuerung'!H94","v":1174},{"$f":"'3 Steuerung'!Q95","v":1177},-3,-0.25488530161427359,{"$f":"'3 Steuerung'!I94","v":602},{"$f":"'3 Steuerung'!R95","v":605},-3,-0.49586776859504134,{"$f":"'3 Steuerung'!J94","v":572},{"$f":"'3 Steuerung'!S95","v":572},0,0]
["      99 Exterritoriale Organisat. u. Körpersch.",{"$f":"'3 Steuerung'!G95","v":19572},{"$f":"'3 Steuerung'!P96","v":19567},5,2.5553227372617161E-2,{"$f":"'3 Steuerung'!H95","v":90},{"$f":"'3 Steuerung'!Q96","v":89},1,1.1235955056179776,{"$f":"'3 Steuerung'!I95","v":76},{"$f":"'3 Steuerung'!R96","v":74},2,2.7027027027027026,{"$f":"'3 Steuerung'!J95","v":14},{"$f":"'3 Steuerung'!S96","v":15},-1,-6.666666666666667]
["x) Anzeige nicht sinnvoll",null,null,null,null,null,null,null,null,null,null,null,null,null,null,null,"© Statistik der Bundesagentur für Arbeit"]

{"sheet":"3 Roh-Daten","index":15,"n_rows":204,"n_cols":73,"rows_kept":204,"cut":false,"hidden":true,"merged":[[112,5,112,21],[112,22,112,38],[112,39,112,55],[112,56,112,72],[2,2,5,7],[102,2,105,7],[111,56,111,72],[111,22,111,38],[111,39,111,55]]}
[]
[]
[null,null,"VOR REV"]
[]
[]
[]
[]
[null,null,null,null,"SvB","SvB","SvB","SvB","SvB","SvB","SvB","SvB","SvB","SvB","SvB","SvB","SvB","SvB","SvB","SvB","SvB","GB","GB","GB","GB","GB","GB","GB","GB","GB","GB","GB","GB","GB","GB","GB","GB","GB","GB_ausschl.","GB_ausschl.","GB_ausschl.","GB_ausschl.","GB_ausschl.","GB_ausschl.","GB_ausschl.","GB_ausschl.","GB_ausschl.","GB_ausschl.","GB_ausschl.","GB_ausschl.","GB_ausschl.","GB_ausschl.","GB_ausschl.","GB_ausschl.","GB_ausschl.","GB_im_NJ","GB_im_NJ","GB_im_NJ","GB_im_NJ","GB_im_NJ","GB_im_NJ","GB_im_NJ","GB_im_NJ","GB_im_NJ","GB_im_NJ","GB_im_NJ","GB_im_NJ","GB_im_NJ","GB_im_NJ","GB_im_NJ","GB_im_NJ","GB_im_NJ"]
[null,null,null,null,"Deutschland","Schleswig-Holstein,01","Hamburg,02","Niedersachsen,03","Bremen,04","Nordrhein-Westfalen,05","Hessen,06","Rheinland-Pfalz,07","Baden-Württemberg,08","Bayern,09","Saarland,10","Berlin,11","Brandenburg,12","Mecklenburg-Vorpommern,13","Sachsen,14","Sachsen-Anhalt,15","Thüringen,16","Deutschland","Schleswig-Holstein,01","Hamburg,02","Niedersachsen,03","Bremen,04","Nordrhein-Westfalen,05","Hessen,06","Rheinland-Pfalz,07","Baden-Württemberg,08","Bayern,09","Saarland,10","Berlin,11","Brandenburg,12","Mecklenburg-Vorpommern,13","Sachsen,14","Sachsen-Anhalt,15","Thüringen,16","Deutschland","Schleswig-Holstein,01","Hamburg,02","Niedersachsen,03","Bremen,04","Nordrhein-Westfalen,05","Hessen,06","Rheinland-Pfalz,07","Baden-Württemberg,08","Bayern,09","Saarland,10","Berlin,11","Brandenburg,12","Mecklenburg-Vorpommern,13","Sachsen,14","Sachsen-Anhalt,15","Thüringen,16","Deutschland","Schleswig-Holstein,01","Hamburg,02","Niedersachsen,03","Bremen,04","Nordrhein-Westfalen,05","Hessen,06","Rheinland-Pfalz,07","Baden-Württemberg,08","Bayern,09","Saarland,10","Berlin,11","Brandenburg,12","Mecklenburg-Vorpommern,13","Sachsen,14","Sachsen-Anhalt,15","Thüringen,16"]
[null,1,"Gesamt",null,31373691,939248,932219,2820257,319041,6532721,2457858,1361894,4451187,5308747,378477,1365639,816778,559531,1553509,782541,792509,7756094,275183,174175,792020,71170,1833161,602198,417486,1222120,1357589,98330,217838,134078,93120,233364,110006,122399,5141164,186447,106889,545652,47675,1272081,394583,282736,746390,819989,69948,152822,99115,71538,172106,83919,88028,2614930,88736,67286,246368,23495,561080,207615,134750,475730,537600,28382,65016,34963,21582,61258,26087,34371]
[null,2,"01","Landwirtsch., Jagd u.damit verb. Tätigk.",224614,12940,959,35887,164,30055,7708,12114,16290,24878,695,370,19731,15238,19239,14469,13845,183966,11212,590,38235,136,33596,9287,16366,24819,25952,601,118,6817,5257,4337,3814,2825,143456,8415,452,29005,87,25839,7642,13757,19373,18544,434,98,6012,4577,3710,3107,2401,40510,2797,138,9230,49,7757,1645,2609,5446,7408,167,20,805,680,627,707,424]
[null,3,"02","Forstwirtschaft und Holzeinschlag",19004,565,"*",1442,"*",2352,1534,1166,2254,4299,195,19,1455,609,1151,1281,673,7185,160,"*",879,"*",1268,502,505,1257,1594,78,9,254,131,221,129,193,4211,96,"*",597,"*",740,309,269,666,824,43,"*",185,91,175,92,115,2974,64,"",282,"*",528,193,236,591,770,35,"*",69,40,46,37,78]
[null,4,"03","Fischerei und Aquakultur",2479,264,"*",435,"*",109,97,46,114,313,"*","*",205,533,161,54,72,1192,97,"",127,"*",137,86,56,117,294,"*","*",52,117,49,22,33,801,69,"",86,"*",77,46,42,81,170,"*","*",44,102,39,14,"*",391,28,"",41,"",60,40,14,36,124,"*","",8,15,10,8,"*"]
[null,5,"05","Kohlenbergbau",15881,null,null,"*",null,9585,"*",null,"*",null,"*","*","*",null,"*","*","*",215,"","","","",200,"*","","","","*","","*","","*","*","*",170,"","","","",160,"*","","","","*","","*","","*","*","",45,"","","","",40,"*","","","","*","","","","","","*"]
[null,6,"06","Gewinnung von Erdöl und Erdgas",3045,"*","*",1903,null,"*","*","*","*","*",null,"*","*","*",null,"*","*",11,"","","*","","","*","*","","*","","*","","","","*","",7,"","","*","","","*","*","","","","*","","","","*","",4,"","","","","","*","","","*","","","","","","",""]
[null,7,"07","Erzbergbau",860,null,null,"*",null,"*",null,"*","*","*",null,null,null,null,72,null,"*",31,"","","*","","*","*","*","*","","","","","",4,"","",22,"","","*","","*","*","*","","","","","","","*","","",9,"","","","","*","","*","*","","","","","","*","",""]
[null,8,"08","Gewinn. v.Steinen u.Erden,sonst.Bergbau",37982,785,"*",3404,"*",4411,5831,2799,4165,7767,257,39,393,573,1829,3782,1833,4158,137,"*",561,"*",516,331,351,612,1226,27,3,35,42,123,95,96,2825,92,"*",374,"",386,208,247,387,792,19,"*",24,"*",97,83,76,1333,45,"*",187,"*",130,123,104,225,434,8,"*",11,"*",26,12,20]
[null,9,"09","DL f.Bergbau u.Gew.v.Steine u.Erden",13306,"*","*",4337,"*",4516,"*","*","*",623,"*","*","*",null,"*","*","*",327,"*","*",84,"",39,"*","*","*",80,"","*","*","","*","*","*",207,"","",57,"","*","*","*","*",54,"","*","*","","*","*","*",120,"*","*",27,"","*","","*","*",26,"","","*","","*","*","*"]
[null,10,"10","Hrst. von Nahrungs- und Futtermitteln",613216,21525,7710,84086,6351,121288,35441,27038,75755,111333,7838,11275,15673,16401,30775,21190,19537,143752,3998,1252,15057,607,28202,10678,9845,28185,32121,2557,1410,2007,1169,3839,1116,1709,108232,3165,942,11424,440,22112,8307,7651,19673,23152,2003,1176,1699,958,3162,936,1432,35520,833,310,3633,167,6090,2371,2194,8512,8969,554,234,308,211,677,180,277]
[null,11,"11","Getränkeherstellung",67519,1119,750,4319,"*",9686,5851,8882,9909,16639,"*",824,1426,776,2336,1932,1405,13901,84,27,618,"*",971,1235,2324,3061,4773,"*",33,45,56,295,166,142,9647,57,19,446,"*",745,805,1707,2080,3165,"*",24,36,50,241,118,105,4254,27,8,172,"*",226,430,617,981,1608,"*",9,9,6,54,48,37]
[null,12,"12","Tabakverarbeitung",9646,"*","*","*","*",714,"*","*","*","*",null,"*","*","*","*",null,"*",144,"*","*","*","*",47,"*","*","*","*","","*","","*","","","*",107,"*","*","*","*",39,"*","*","*","*","","*","","*","","","",37,"*","","*","*",8,"*","","*","*","","","","","","","*"]
[null,13,"13","Herstellung von Textilien",71313,848,287,4587,550,18476,3196,1457,14787,13995,108,604,267,770,8575,782,2024,10349,252,89,847,102,2687,576,362,2306,1949,39,93,36,89,616,99,207,7490,177,63,636,82,2043,418,249,1560,1342,25,68,23,70,488,87,159,2859,75,26,211,20,644,158,113,746,607,14,25,13,19,128,12,48]
[null,14,"14","Herstellung von Bekleidung",36312,246,171,2110,"*",6453,1088,688,6793,15835,"*",419,191,105,1427,66,336,6173,68,93,487,"*",1355,317,166,1120,2051,"*",104,43,19,218,24,57,4730,51,59,370,"*",1046,262,129,837,1547,"*",82,40,16,183,16,47,1443,17,34,117,"*",309,55,37,283,504,"*",22,3,3,35,8,10]
[null,15,"15","Herstellung v.Leder,Lederwaren u.Schuhen",16480,68,52,1299,"*",2835,1362,2710,1928,3900,"*",131,260,40,1332,104,446,3156,26,28,116,"*",388,212,263,469,1416,"*",28,22,8,91,17,54,2153,16,24,83,"*",306,160,180,292,903,"*",17,"*",8,74,12,46,1003,10,4,33,"*",82,52,83,177,513,"",11,"*","",17,5,8]
[null,16,"16","Hrst.v.Holz-,Korb-,Korkwaren(ohne Möbel)",107070,1675,210,7070,244,21731,6481,6711,17625,24053,1027,460,4150,3006,5694,2538,4395,16840,308,44,1124,25,3401,1272,1200,3735,4098,155,53,192,116,572,190,355,11286,195,27,834,20,2287,878,821,2304,2637,115,37,145,98,445,157,286,5554,113,17,290,5,1114,394,379,1431,1461,40,16,47,18,127,33,69]
[null,17,"17","Hrst. v. Papier, Pappe u. Waren daraus",123649,4145,365,13981,"*",27652,7931,8719,21780,20615,"*",744,3334,701,6661,2832,3817,8416,215,27,1223,"*",2181,525,580,1284,1452,"*",59,218,47,337,67,165,5833,139,16,712,"*",1583,369,417,879,972,"*",44,142,38,305,53,141,2583,76,11,511,"*",598,156,163,405,480,"*",15,76,9,32,14,24]
[null,18,"18","Druckgewerbe u. Vervielältigung",138108,5489,2381,11296,558,30272,8387,5464,22392,28371,791,6160,1810,2139,6773,2254,3571,44931,1767,661,4365,161,8473,4010,1638,12440,7763,395,543,407,216,1119,367,606,31924,1254,420,3238,93,6243,2932,1138,8766,5097,290,378,310,171,879,274,441,13007,513,241,1127,68,2230,1078,500,3674,2666,105,165,97,45,240,93,165]
[null,19,"19","Kokerei und Mineralölverarbeitung",24993,877,3274,1577,null,10026,408,"*",2899,2489,"*","*","*",164,169,1209,26,385,37,7,27,"",98,34,"*",62,42,"*","*","*",5,38,3,"*",254,9,"*","*","",69,21,"*",45,28,"*","*","*",5,29,3,"*",131,28,"*","*","",29,13,"*",17,14,"*","*","","",9,"",""]
[null,20,"20","Herstellung von chemischen Erzeugnissen",321060,6960,7516,23672,1114,96029,27446,48707,31284,45374,489,2493,5155,1366,7477,11905,4073,9977,366,83,847,92,2689,724,749,1766,1740,69,85,128,45,218,175,201,7120,251,53,634,57,1977,548,533,1164,1153,53,72,100,27,180,142,176,2857,115,30,213,35,712,176,216,602,587,16,13,28,18,38,33,25]
[null,21,"21","Herstellung v. pharmazeut. Erzeugnissen",152857,6886,1429,5701,"*",16688,31227,11512,35351,20421,1245,10337,1132,"*",3162,5124,1928,2237,68,11,303,"*",339,288,111,405,345,64,81,19,"*",82,45,63,1605,52,"*",235,"*",215,235,74,299,219,48,58,13,"*",62,41,36,632,16,"*",68,"*",124,53,37,106,126,16,23,6,"",20,4,27]
[null,22,"22","Herstellung v. Gummi- u. Kunststoffwaren",383198,5969,2686,44823,351,83248,35036,20007,62200,74496,3293,2225,7557,2128,14294,8749,16136,28860,550,58,2904,39,7291,2320,1298,6670,5157,296,123,244,138,635,326,811,19523,323,38,2050,31,5195,1527,927,4045,3361,196,102,202,117,496,272,641,9337,227,20,854,8,2096,793,371,2625,1796,100,21,42,21,139,54,170]
[null,23,"23","Hrst.v.Glas,Keramik,Verarb.Steine+Erden",198680,4137,656,19146,595,29930,9957,15306,22553,49695,3544,2083,6426,2750,12645,8785,10472,16876,382,84,1580,62,2881,1094,1502,2833,3951,283,117,347,138,627,351,644,11674,275,52,1146,45,2061,774,1034,1696,2548,205,93,280,111,511,304,539,5202,107,32,434,17,820,320,468,1137,1403,78,24,67,27,116,47,105]
[null,24,"24","Metallerzeugung und -bearbeitung",289698,1446,4712,23495,3755,117873,16921,10029,33631,25627,14402,1338,7225,2052,12956,7713,6523,9576,111,27,469,48,3445,592,489,2164,1313,104,36,103,44,313,123,195,6562,44,18,339,38,2385,450,305,1407,817,84,27,79,37,277,99,156,3014,67,9,130,10,1060,142,184,757,496,20,9,24,7,36,24,39]
[null,25,"25","Herstellung von Metallerzeugnissen",793344,11644,3597,54713,3283,202698,46272,34077,173211,117164,13098,9998,15501,8754,49099,20177,30058,104400,1877,453,6921,401,28080,6585,5022,28443,15652,1264,617,1214,686,3524,1354,2307,64594,1166,291,4562,266,18068,4194,3097,15798,8897,826,462,917,524,2813,1015,1698,39806,711,162,2359,135,10012,2391,1925,12645,6755,438,155,297,162,711,339,609]
[null,26,"26","Hrst. v.DV-Gerät., elektr.u.opt.Erzeugn.",410188,10891,9133,23388,3026,53351,29685,7139,97101,113837,1411,10232,4571,2133,21930,4218,18142,19046,519,199,1028,102,3496,1731,587,4868,4088,132,413,266,149,599,145,724,13102,352,125,698,62,2452,1192,414,3229,2680,95,316,200,115,483,113,576,5944,167,74,330,40,1044,539,173,1639,1408,37,97,66,34,116,32,148]
[null,27,"27","Herstellung v. elektrischen Ausrüstungen",352008,4308,2045,16638,1718,79319,19254,7791,83464,84355,2365,17420,2961,2789,16963,3892,6726,15669,221,68,993,89,3590,1244,635,3999,3321,136,166,112,83,566,142,304,10492,156,45,707,64,2466,811,438,2430,2207,108,116,84,71,446,109,234,5177,65,23,286,25,1124,433,197,1569,1114,28,50,28,12,120,33,70]
[null,28,"28","Maschinenbau",1020187,22037,12700,64123,5465,215209,47883,41044,275646,219971,14474,6759,8916,6387,39402,16134,24037,44792,853,185,3570,141,11006,3118,2251,11597,7957,561,248,299,211,1496,480,819,30184,601,132,2429,103,7534,2072,1527,7440,5050,408,204,242,178,1229,383,652,14608,252,53,1141,38,3472,1046,724,4157,2907,153,44,57,33,267,97,167]
[null,29,"29","Hrst. v. Kraftwagen u. Kraftwagenteilen",907272,3614,3222,137608,"*",88153,63114,34017,215050,248543,25952,4350,4639,"*",37023,3989,18204,10153,111,64,901,"*",1548,384,646,2461,2523,135,47,74,"*",440,98,224,7917,90,52,694,"*",1166,315,511,1851,2000,106,36,57,"*",322,81,179,2236,21,12,207,"*",382,69,135,610,523,29,11,17,"*",118,17,45]
[null,30,"30","Sonstiger Fahrzeugbau",155468,7640,25455,19051,5321,12433,8583,3120,12363,36446,188,3853,7270,3848,6020,2801,1076,2606,150,121,210,45,624,102,152,437,468,14,21,54,58,68,35,47,1788,106,91,159,38,423,67,93,270,305,7,17,42,50,57,24,39,818,44,30,51,7,201,35,59,167,163,7,4,12,8,11,11,8]
[null,31,"31","Herstellung von Möbeln",114043,2058,753,10790,288,34184,5419,3471,18376,22221,674,1116,1801,1428,5706,2593,3165,13045,285,137,1277,68,3820,681,474,2192,2727,120,149,154,111,423,184,243,8874,185,85,924,51,2679,474,316,1372,1727,97,106,119,84,327,149,179,4171,100,52,353,17,1141,207,158,820,1000,23,43,35,27,96,35,64]
[null,32,"32","Herstellung von sonstigen Waren",242074,10154,5964,13892,1618,31783,19544,10038,57495,47581,3126,9671,5077,3534,11097,3461,8039,39722,1179,749,3033,263,8908,2854,2530,8370,7355,448,790,490,372,1152,456,773,27076,867,503,2155,192,6235,1952,1725,5303,4813,329,525,365,281,899,337,595,12646,312,246,878,71,2673,902,805,3067,2542,119,265,125,91,253,119,178]
[null,33,"33","Rep. u.Install. v. Masch. u.Ausrüstungen",161264,5537,3592,17066,3131,32254,12901,5583,24315,23794,1835,2676,6700,3289,8491,4885,5215,26760,771,341,2610,248,6018,1886,1292,5215,4930,368,339,477,274,955,389,647,14527,494,190,1571,162,3350,913,737,2472,2294,259,225,325,197,630,293,415,12233,277,151,1039,86,2668,973,555,2743,2636,109,114,152,77,325,96,232]
[null,34,"35","Energieversorgung",226365,8419,7204,21632,2097,52641,16109,8899,26883,35260,3168,7675,8361,4856,11804,6492,4865,12048,727,80,1692,32,1632,943,404,1952,3186,86,69,240,209,366,244,186,6359,363,51,828,20,909,521,223,1062,1525,51,55,138,101,253,134,125,5689,364,29,864,12,723,422,181,890,1661,35,14,102,108,113,110,61]
[null,35,"36","Wasserversorgung",36951,443,"*",2590,null,8222,1683,1511,3755,2681,297,"*",1837,1479,2957,2070,2079,2079,95,"*",159,"",453,89,135,465,443,16,"*",29,23,47,18,83,1342,44,"*",109,"",286,60,101,273,262,9,"*","*","*",37,18,72,737,51,"",50,"",167,29,34,192,181,7,"","*","*",10,"",11]
[null,36,"37","Abwasserentsorgung",30622,1297,"*",2830,525,6827,2261,1302,2685,4519,704,"*",1072,590,1984,1159,1185,3202,160,"*",202,20,577,361,141,571,669,40,"*",84,55,89,63,94,1875,75,"*",118,17,336,202,88,319,376,24,"*",63,51,56,50,62,1327,85,"*",84,3,241,159,53,252,293,16,"*",21,4,33,13,32]
[null,37,"38","Sammlung,Abfallbeseitigung,Rückgewinnung",166544,5074,5461,16434,2376,39524,12160,7706,14262,20504,1651,8811,6883,3768,9794,7344,4792,16008,436,200,1571,171,3175,1027,934,2744,3328,236,251,433,184,612,412,294,10246,264,115,1055,121,2096,599,552,1541,2011,146,215,336,144,498,334,219,5762,172,85,516,50,1079,428,382,1203,1317,90,36,97,40,114,78,75]
[null,38,"39","Beseitig. v.UW-Verschm. u.sonst.Entsorg.",3251,66,200,206,"*",862,118,36,118,168,"*",99,367,37,705,142,89,304,5,23,21,"*",80,29,6,26,42,"*",6,17,5,12,9,13,194,"*",7,13,"*",60,20,"*",12,18,"*","*",12,"*","*","*",10,110,"*",16,8,"",20,9,"*",14,24,"*","*",5,"*","*","*",3]
[null,39,"41","Hochbau",282897,9060,4548,30960,1578,41464,20681,11651,38697,64032,2434,9076,9757,6347,15960,8503,8149,38195,1123,327,4575,219,7430,2474,1939,6248,8120,514,924,908,556,1498,740,600,24447,754,226,3110,169,4880,1595,1203,3546,4878,348,671,645,395,1079,528,420,13748,369,101,1465,50,2550,879,736,2702,3242,166,253,263,161,419,212,180]
[null,40,"42","Tiefbau",204184,7037,2816,23704,1709,34111,11516,11320,23693,29552,2885,5299,10774,5158,15550,10543,8517,15146,493,113,1612,101,3226,1013,1075,2177,2481,251,214,618,264,670,454,384,10130,334,76,1125,60,2189,639,725,1374,1517,181,167,415,189,514,336,289,5016,159,37,487,41,1037,374,350,803,964,70,47,203,75,156,118,95]
[null,41,"43","Vorber.Baust.arb.,Bauinst.,so.Ausbaugew.",1259635,47137,23933,123379,9178,242325,87256,62146,168478,208584,14306,46473,43979,30012,73047,40089,39313,254728,8319,3159,24017,1532,55336,17385,14466,42921,46731,3755,6476,6538,3558,10301,4803,5431,161368,5439,2008,16035,1096,37574,11250,8981,24184,26134,2638,4646,4510,2527,7272,3474,3600,93360,2880,1151,7982,436,17762,6135,5485,18737,20597,1117,1830,2028,1031,3029,1329,1831]
[null,42,"45","Handel m. Kfz; Inst.halt. u. Rep. v. Kfz",628658,22236,14680,61464,4982,124817,48269,33889,84047,110295,7260,18670,18890,11816,34041,16125,17177,123920,4535,1686,13417,782,28127,8872,7980,20231,23071,1684,1805,2201,1387,4030,1971,2141,83252,3194,1138,9531,581,20090,5911,5506,12035,13839,1218,1336,1651,1081,3029,1560,1552,40668,1341,548,3886,201,8037,2961,2474,8196,9232,466,469,550,306,1001,411,589]
[null,43,"46","Großhandel (ohne Handel mit Kfz)",1346743,53547,55875,116222,14266,337772,120424,51618,202852,222839,15396,33959,22840,14423,44524,20658,19528,242118,8037,5530,23453,1918,63638,18567,13447,41358,41741,2693,3312,3577,2951,7230,2072,2594,161949,5298,3585,16210,1316,44192,12636,9562,25415,25804,1919,2320,2607,2435,5329,1533,1788,80169,2739,1945,7243,602,19446,5931,3885,15943,15937,774,992,970,516,1901,539,806]
[null,44,"47","Einzelhandel (ohne Handel mit Kfz)",2328210,89411,67085,226201,20203,485496,167461,104643,298907,387934,30694,112057,63844,45054,109960,61155,58105,901456,38477,23356,95543,7839,225870,72690,44440,125598,151689,11702,26774,14384,11315,24462,13140,14177,677646,30213,17135,75363,6071,176873,54489,33179,86166,104274,9209,21542,11622,9524,19509,11083,11394,223810,8264,6221,20180,1768,48997,18201,11261,39432,47415,2493,5232,2762,1791,4953,2057,2783]
[null,45,"49","Landverkehr u.Transp.i.Rohrfernleitungen",616460,21502,20404,53864,6596,131018,44697,25657,70863,89870,6431,37884,21873,12207,37457,20361,15776,201971,6015,2474,22211,1511,55454,16008,10305,28314,34118,3341,4236,3377,1903,5976,3535,3193,130555,3716,1256,14382,1098,38880,10315,6426,16014,19417,2528,3051,2498,1483,4327,2879,2285,71416,2299,1218,7829,413,16574,5693,3879,12300,14701,813,1185,879,420,1649,656,908]
[null,46,"50","Schifffahrt",23346,2453,8571,3909,1639,951,347,507,670,1005,8,564,366,1968,153,218,17,2963,392,218,466,127,435,119,267,146,441,14,85,81,127,13,29,3,1934,273,130,303,89,281,78,181,98,245,"*",57,52,103,"*",20,3,1029,119,88,163,38,154,41,86,48,196,"*",28,29,24,"*",9,""]
[null,47,"51","Luftfahrt",63832,"*",1937,2118,"*",6797,32783,22,1721,10667,"*",5469,862,9,1164,"*","*",696,"*",46,73,"*",92,71,23,151,113,"*",15,14,5,8,"*","*",366,"*",37,27,"",55,36,13,69,61,"",12,9,"*",5,"*","*",330,"*",9,46,"*",37,35,10,82,52,"*",3,5,"*",3,"*","*"]
[null,48,"52","Lagerei u. Erbr.v. sonst. DL f.d.Verkehr",688290,15624,43972,65599,23585,147272,68686,24526,77146,101921,5805,13060,25438,10701,31717,17858,15380,87136,2693,2569,9696,1759,22296,7564,3556,13718,15108,964,892,1335,1024,1712,874,1376,52211,1661,1572,6071,1193,14609,4191,1976,7043,8133,625,610,915,781,1234,624,973,34925,1032,997,3625,566,7687,3373,1580,6675,6975,339,282,420,243,478,250,403]
[null,49,"53","Post-, Kurier- und Expressdienste",263312,8303,7188,22233,2913,57210,23047,12320,32980,36935,3528,10479,10286,6234,14615,8648,6393,182647,7225,1713,20136,1463,38123,11720,13291,31014,25092,1538,4110,4073,4157,12058,4995,1939,128899,5107,1059,14652,884,27693,7750,9041,20598,16736,1126,3156,3217,3095,9471,3889,1425,53748,2118,654,5484,579,10430,3970,4250,10416,8356,412,954,856,1062,2587,1106,514]
[null,50,"55","Beherbergung",298468,13625,8982,25440,1995,35481,20706,14549,36395,65368,1899,18058,9345,20154,13599,6462,6410,150693,6825,2189,18082,841,24025,9587,11165,21941,34945,1189,3027,2940,4605,4361,2330,2641,99019,4481,1288,12181,604,16369,6532,7702,13729,20741,851,2236,2193,3451,3132,1681,1848,51674,2344,901,5901,237,7656,3055,3463,8212,14204,338,791,747,1154,1229,649,793]
[null,51,"56","Gastronomie",727903,26577,28637,58419,7749,133804,60185,30255,92206,121602,7579,53823,20064,16526,38414,16216,15847,821054,30816,23339,85033,9534,189039,54451,42526,127551,145128,11107,32918,12247,9169,24548,11606,12042,522815,20427,14290,55109,6440,128916,35721,28309,73309,77831,7753,24920,8964,6864,17228,8561,8173,298239,10389,9049,29924,3094,60123,18730,14217,54242,67297,3354,7998,3283,2305,7320,3045,3869]
[null,52,"58","Verlagswesen",138051,2820,9388,9593,1515,22682,12593,4100,23004,30024,689,12578,1169,1223,3578,1063,2032,71732,3996,573,8865,1882,15609,6009,6052,8957,13258,301,624,967,354,450,872,2963,52827,3308,378,6763,1532,11441,4298,4734,5799,9855,206,421,683,289,337,621,2162,18905,688,195,2102,350,4168,1711,1318,3158,3403,95,203,284,65,113,251,801]
[null,53,"59","Film, TV, Kino u. Tonstudio",42139,582,4109,1496,249,10117,2143,746,2776,8962,196,7472,925,187,1200,475,504,20745,650,656,1911,234,3909,1364,1007,2871,4428,220,1618,310,279,738,212,338,13335,448,413,1306,143,2567,862,690,1591,2732,137,1103,205,212,502,162,262,7410,202,243,605,91,1342,502,317,1280,1696,83,515,105,67,236,50,76]
[null,54,"60","Rundfunkveranstalter",58802,592,4982,1010,644,11742,2696,7058,6496,12741,"*",4475,815,502,3041,620,"*",2437,71,66,56,16,333,90,299,378,403,"*",217,19,103,112,80,"*",1768,49,50,38,9,268,74,231,222,239,"*",180,13,88,73,74,"*",669,22,16,18,7,65,16,68,156,164,"*",37,6,15,39,6,"*"]
[null,55,"61","Telekommunikation",58812,2343,2054,4210,680,14606,5341,2187,5008,9664,486,3132,1876,620,3407,1200,1998,2653,126,120,187,34,604,255,127,256,453,38,276,30,24,57,38,28,1813,80,80,117,28,427,156,103,169,267,34,234,17,17,39,32,13,840,46,40,70,6,177,99,24,87,186,4,42,13,7,18,6,15]
[null,56,"62","DL der Informationstechnologie",613613,10626,32840,33794,6027,127041,59467,15959,106646,124359,5775,42685,5972,4359,24150,6464,7449,47236,1537,1702,3251,451,10628,4200,1914,8303,9107,620,2070,653,385,1450,388,577,28705,1022,1014,2046,282,6785,2528,1151,4788,5065,404,1334,422,249,989,251,375,18531,515,688,1205,169,3843,1672,763,3515,4042,216,736,231,136,461,137,202]
[null,57,"63","Informationsdienstleistungen",61866,862,4227,1972,235,11422,6913,1255,6138,9798,200,11691,931,393,3107,975,1747,13671,569,497,845,62,2852,1119,553,2052,2775,142,610,320,130,618,289,238,8315,362,289,501,43,1767,660,332,1222,1532,91,391,236,96,440,197,156,5356,207,208,344,19,1085,459,221,830,1243,51,219,84,34,178,92,82]
[null,58,"64","Erbringung von Finanzdienstleistungen",639425,17784,23221,52677,4875,133447,98484,26869,93002,112618,7373,19794,8867,5557,17037,8565,9255,19313,611,255,1921,90,3526,1437,915,3422,5785,254,330,124,97,220,169,157,12983,404,142,1364,55,2510,1040,642,2125,3809,186,183,72,72,149,128,102,6330,207,113,557,35,1016,397,273,1297,1976,68,147,52,25,71,41,55]
[null,59,"65","Versicherungen u.Pensionskassen",171717,2242,13625,12781,1150,44996,17086,4792,21654,40875,2588,3526,959,717,2869,929,928,2188,125,114,221,27,624,162,40,258,370,54,48,29,8,65,31,12,1533,84,74,152,24,443,119,34,171,250,42,27,24,5,48,27,9,655,41,40,69,3,181,43,6,87,120,12,21,5,3,17,4,3]
[null,60,"66","M.Finanz-u.Versicherungs-DL verb.Tätigk.",177077,4214,10088,12996,2098,37581,23511,4684,19301,33360,2038,10658,2703,1824,6871,2556,2594,51551,1798,1189,4814,387,12232,4120,2479,7763,10427,745,1034,853,516,1531,781,882,30332,1052,657,3008,232,7732,2478,1485,4167,5664,490,624,515,322,915,486,505,21219,746,532,1806,155,4500,1642,994,3596,4763,255,410,338,194,616,295,377]
[null,61,"68","Grundstücks- und Wohnungswesen",247923,8115,14016,16620,3962,46772,24272,6029,21957,32917,1551,28025,7964,6604,16191,6735,6193,258870,10420,7288,20660,2333,65533,18397,11790,42330,46460,2806,11640,3577,2587,7273,2907,2869,144153,6065,4080,12365,1438,38123,9953,6424,20133,23718,1704,7257,2374,1816,4782,2048,1873,114717,4355,3208,8295,895,27410,8444,5366,22197,22742,1102,4383,1203,771,2491,859,996]
[null,62,"69","Rechts-,Steuerberatung, Wirtsch.-prüfung",446777,13043,21096,36287,5004,99790,44312,16616,55239,78018,4628,27439,6991,5590,17971,7196,7557,123148,3591,3824,10128,1134,29662,10751,6088,16579,25388,1674,5176,1835,1024,3129,1503,1662,74476,2101,2273,6280,721,18834,6467,3651,9417,14956,1073,3168,1015,622,1909,939,1050,48672,1490,1551,3848,413,10828,4284,2437,7162,10432,601,2008,820,402,1220,564,612]
[null,63,"70","Verw.u.Führ. v.Untern.u.Betr.;Unt.berat.",630039,15830,34209,42555,6782,166817,68082,13759,99184,106503,5980,37133,5537,2525,13936,5788,5419,84940,2416,4128,5795,484,23379,6694,3678,14561,13405,765,3795,1106,548,2514,862,810,52963,1471,2468,3488,300,15048,4019,2272,9773,7737,461,2314,690,341,1579,553,449,31977,945,1660,2307,184,8331,2675,1406,4788,5668,304,1481,416,207,935,309,361]
[null,64,"71","Architektur-, Ingenieurbüros; Labore",536311,10536,22117,49727,7656,96343,42236,19398,94058,95312,5165,27764,11066,6692,29140,9258,9843,88679,2466,1809,7590,708,19870,7492,4582,15221,15039,1415,3199,1830,973,3555,1309,1621,57027,1632,1187,4965,480,13418,4842,2936,9144,9024,948,2208,1160,655,2493,883,1052,31652,834,622,2625,228,6452,2650,1646,6077,6015,467,991,670,318,1062,426,569]
[null,65,"72","Forschung und Entwicklung",205147,3515,5841,14205,3100,32563,15275,7786,38180,29549,2484,21712,6467,4320,11851,3786,4513,19869,386,461,1190,481,2397,1228,687,5522,2656,383,1091,446,614,1401,410,516,15390,299,313,898,405,1704,848,499,4646,1928,312,844,344,506,1111,329,404,4479,87,148,292,76,693,380,188,876,728,71,247,102,108,290,81,112]
[null,66,"73","Werbung und Marktforschung",136584,1956,15007,7610,1140,31308,14110,3742,14469,26127,798,11516,1643,1043,3873,908,1334,107087,1356,2370,5579,789,27846,12209,3557,18657,21322,353,1805,2613,780,3776,2769,1306,78797,940,1659,3936,471,21991,8338,2311,14284,15231,233,1287,1916,608,2581,2101,910,28290,416,711,1643,318,5855,3871,1246,4373,6091,120,518,697,172,1195,668,396]
[null,67,"74","Sonst.freiberufl., wiss.u.techn. Tätigk.",61734,1153,4187,4383,743,13140,4429,1688,8117,11738,342,4951,999,593,3406,931,934,28161,614,1632,2363,476,7219,1912,1226,3917,4667,254,1771,363,220,1010,270,247,17070,378,944,1399,309,4541,1226,723,2117,2640,182,1258,236,135,647,181,154,11091,236,688,964,167,2678,686,503,1800,2027,72,513,127,85,363,89,93]
[null,68,"75","Veterinärwesen",28863,1510,368,4365,233,6555,2135,1449,3200,4364,348,782,1038,505,973,515,523,9276,466,97,1331,34,1889,772,528,1092,1919,123,187,213,94,239,169,123,6228,311,77,901,23,1294,499,372,694,1270,96,127,139,64,164,120,77,3048,155,20,430,11,595,273,156,398,649,27,60,74,30,75,49,46]
[null,69,"77","Vermietung von beweglichen Sachen",79103,3115,4411,6501,683,16116,8272,2441,7888,13137,764,4484,2785,2228,3012,1909,1357,39401,1436,1795,3912,345,9038,3299,1717,5097,7088,534,1356,837,734,991,523,699,22840,865,1111,2390,206,5415,1893,985,2492,3664,323,911,563,530,662,388,442,16561,571,684,1522,139,3623,1406,732,2605,3424,211,445,274,204,329,135,257]
[null,70,"78","Vermittl. u.Überlassung v.Arbeitskräften",868234,18107,29707,88378,15184,199558,58963,33973,107912,135335,11618,33232,18150,10514,50910,24132,32561,103798,2246,4546,12172,1466,31681,6087,3562,9942,12451,1048,9297,1451,1097,4026,1140,1586,67119,1351,2408,8027,809,21994,3594,2294,6057,6728,777,6054,1003,896,3178,793,1156,36679,895,2138,4145,657,9687,2493,1268,3885,5723,271,3243,448,201,848,347,430]
[null,71,"79","Reisebüros,-veranst.u.son.Reservier.-DL",80078,2087,3638,6434,1123,17649,11014,2619,8048,13537,507,5203,1096,988,3486,1339,1310,21411,769,583,2046,145,5442,1622,1169,2818,3702,238,766,367,308,829,346,261,14369,551,405,1383,99,3935,1039,800,1691,2248,164,534,279,232,614,218,177,7042,218,178,663,46,1507,583,369,1127,1454,74,232,88,76,215,128,84]
[null,72,"80","Wach- u.Sicherh.dienste sowie Detekteien",178753,8609,8211,11506,2002,34623,21196,3539,16385,22638,1389,16402,7581,3873,11768,5419,3612,78758,2561,1890,6720,1381,18226,6629,3051,10607,12488,1100,4244,1822,1448,3574,1072,1945,40864,1346,1004,3416,616,9895,3421,1598,4370,4945,647,3000,1238,1041,2405,807,1115,37894,1215,886,3304,765,8331,3208,1453,6237,7543,453,1244,584,407,1169,265,830]
[null,73,"81","Gebäudebetreuung;Garten-u.Landschaftsbau",728801,24865,30700,60374,7083,153719,66333,24393,77790,110147,9595,45768,23638,14756,40651,22496,16493,590188,17057,18664,52757,7581,155510,56776,20730,92132,97575,8619,13673,8747,6164,16816,9156,8231,340219,9977,8896,32178,4413,97679,31027,12556,45202,46719,5935,8704,6373,4776,12726,7011,6047,249969,7080,9768,20579,3168,57831,25749,8174,46930,50856,2684,4969,2374,1388,4090,2145,2184]
[null,74,"82","Dienstleistg.f.Untern.u.Privatpers.ang",335765,10042,10694,22060,4240,80196,24431,10120,30807,36112,4245,28832,17697,14992,19017,15541,6739,126402,3954,2733,11784,1508,28082,11966,5662,22679,18062,1537,4701,5823,1091,3603,1784,1433,80346,2390,1625,7562,925,18363,7610,3718,13387,10846,837,3029,4523,758,2440,1384,949,46056,1564,1108,4222,583,9719,4356,1944,9292,7216,700,1672,1300,333,1163,400,484]
[null,75,"84","Öffentl. Verwalt.,Verteidigung;Soz.vers.",1728944,59594,40939,168436,13291,330781,132968,84381,231166,243700,23003,82014,70977,41034,93288,60842,52489,124953,5195,984,10312,285,11542,10987,12798,28100,29914,1594,919,1924,2242,3217,1840,3095,88581,3453,738,7501,236,8204,7841,8624,20021,20507,1139,686,1606,1736,2493,1499,2293,36372,1742,246,2811,49,3338,3146,4174,8079,9407,455,233,318,506,724,341,802]
[null,76,"85","Erziehung und Unterricht",1203517,30663,32448,103314,13074,243061,90301,57310,142627,178035,12814,90118,26576,28973,84006,37381,32810,247671,7064,7330,31019,2683,56784,20468,11622,37968,43680,2423,6205,3567,2948,7061,3422,3426,191463,5342,5345,24504,2187,45000,16087,8926,28595,31799,1927,4521,2918,2523,5934,2896,2958,56208,1722,1985,6515,496,11784,4381,2696,9373,11881,496,1684,649,425,1127,526,468]
[null,77,"86","Gesundheitswesen",2342589,72774,62159,217497,22314,509942,165841,112803,311629,386028,31325,101747,60559,48412,117538,61442,60579,433265,14966,10120,41569,3234,101946,34906,23507,65994,79091,6331,13089,6347,5070,14061,6281,6753,271168,9392,5494,27121,2023,66776,21117,14858,39179,46677,4345,7975,4063,3519,9629,4468,4532,162097,5574,4626,14448,1211,35170,13789,8649,26815,32414,1986,5114,2284,1551,4432,1813,2221]
[null,78,"87","Heime (ohne Erholungs- und Ferienheime)",991071,42112,18923,113282,6566,232750,62687,49038,122452,152939,13975,33906,26152,17822,44986,27837,25644,108863,6099,2547,15924,953,27445,8237,5616,15998,14855,1354,2577,1485,886,2204,1345,1338,75969,4124,1509,11358,607,20143,5331,3967,10456,9668,1083,1777,1143,744,1863,1121,1075,32894,1975,1038,4566,346,7302,2906,1649,5542,5187,271,800,342,142,341,224,263]
[null,79,"88","Sozialwesen (ohne Heime)",1198791,43360,28995,107643,14422,283396,86775,48750,121794,149059,14051,74581,46182,34450,71405,37100,36815,204018,7360,6365,20296,2639,55194,18127,8583,25210,31520,2784,9164,3852,2908,5029,2115,2872,127507,4861,3440,12854,1477,35655,11104,5304,15153,18404,2037,5022,2607,2218,3737,1640,1994,76511,2499,2925,7442,1162,19539,7023,3279,10057,13116,747,4142,1245,690,1292,475,878]
[null,80,"90","Kreative, künstler.u.unterhalt. Tätigk.",67068,1631,3976,3932,"*",12893,4588,1844,7548,8839,"*",7270,1500,1517,6134,1393,2484,23500,525,1266,1381,"*",5557,1710,843,3537,3736,"*",1503,417,318,1250,308,500,14531,355,764,861,"*",3374,1091,487,2033,2024,"*",1044,301,253,919,232,359,8969,170,502,520,"*",2183,619,356,1504,1712,"*",459,116,65,331,76,141]
[null,81,"91","Bibl.,Archive,Museen,zoolog.u.ä.Gärten",36028,1175,1509,3420,587,5325,2778,943,3815,4269,169,4605,1164,1350,3013,845,1061,8322,284,245,1399,187,1479,500,290,1159,1409,66,260,124,209,402,157,152,6538,213,188,1112,165,1128,374,221,893,1107,50,205,102,186,324,144,126,1784,71,57,287,22,351,126,69,266,302,16,55,22,23,78,13,26]
[null,82,"92","Spiel-, Wett- und Lotteriewesen",56467,1993,1895,5808,636,12989,4497,2750,8000,8008,1264,2862,1000,821,1483,1265,1196,26257,749,688,2378,304,8208,2037,1067,3895,3856,376,777,352,212,532,409,417,16536,455,442,1541,216,5892,1262,649,1787,2059,251,606,262,154,362,310,288,9721,294,246,837,88,2316,775,418,2108,1797,125,171,90,58,170,99,129]
[null,83,"93","DL d.Sports,d.Unterhaltg.u.d.Erholung",116760,4694,4353,11539,1611,24486,7898,5284,15422,17392,1221,6032,4044,2031,5874,2325,2554,172000,6810,3878,18524,1534,41012,12945,9951,27068,29420,2320,4373,3110,1779,4918,2202,2156,95756,4151,2221,10703,920,24102,6998,5602,13487,14655,1372,2837,1980,1129,3009,1354,1236,76244,2659,1657,7821,614,16910,5947,4349,13581,14765,948,1536,1130,650,1909,848,920]
[null,84,"94","Interessenvertr.,kirchl.u.sonst.Verein",465732,17426,12029,35884,7378,101748,38571,20662,55656,72761,3468,39325,11817,7462,23073,8160,10312,162364,5502,2567,16014,1632,36012,16871,10852,26348,28738,2048,4594,2138,1578,3804,1838,1827,108690,3521,1625,10894,1107,24881,11041,7048,16539,19078,1366,3273,1642,1249,2673,1428,1324,53674,1981,942,5120,525,11131,5830,3804,9809,9660,682,1321,496,329,1131,410,503]
[null,85,"95","Reparatur v.DV-Geräten u.Gebrauchsgütern",32984,1331,1203,3398,192,7128,2173,1547,2920,5479,501,1440,930,875,2287,651,929,11020,362,227,1223,103,2726,761,573,1503,1712,186,410,214,168,454,261,137,7879,248,165,903,76,2078,541,406,975,1104,138,336,148,136,331,196,98,3141,114,62,320,27,648,220,167,528,608,48,74,66,32,123,65,39]
[null,86,"96","Sonstige überwieg. persönliche DL",316226,10284,8445,30372,3185,65549,21871,16559,37251,47673,3566,15116,10409,7851,17642,10420,10031,189480,6621,2930,21399,1996,45662,13620,14277,24058,27222,4442,5893,4815,1673,5926,2139,6807,137933,4956,2044,16196,1232,35245,9996,10806,16319,17840,3351,4341,3632,1253,4422,1642,4658,51547,1665,886,5203,764,10417,3624,3471,7739,9382,1091,1552,1183,420,1504,497,2149]
[null,87,"97","Private Haushalte mit Hauspersonal",47489,1376,1736,3736,257,10883,3847,2922,7063,11121,436,1936,463,334,717,357,305,284283,12131,5557,31960,2143,76769,20657,18402,37568,50134,3732,7640,4173,2392,5553,2859,2613,200069,8486,3650,23104,1528,56993,14288,13070,24636,32783,2883,5644,3079,1773,4055,2195,1902,84214,3645,1907,8856,615,19776,6369,5332,12932,17351,849,1996,1094,619,1498,664,711]
[null,88,"98","H.v.Waren,Dienstl.d.priv. Haushalte oaS",675,27,5,51,"*",150,58,69,88,131,5,30,12,10,15,"*",12,1177,53,7,112,"*",309,93,126,184,200,8,9,10,14,16,"*",18,605,27,"*",68,"*",152,63,74,86,65,5,5,"*",9,10,"*",11,572,26,"*",44,"",157,30,52,98,135,3,4,"*",5,6,"*",7]
[null,89,"99","Exterritoriale Organisat. u. Körpersch.",19567,"*",141,33,"*",2347,1814,7061,815,5199,"*",2075,12,null,21,"*",null,89,"*",5,"","*","*",7,"",4,21,"",12,"","","","","",74,"","*","","*",34,"*","","*","*","","*","","","","","",15,"*","*","","*","*","*","","*","*","","*","","","","",""]
[null,90,"XX","Keine Zuordnung möglich",1680,5,6,16,"*",63,17,8,29,48,"*",9,7,"*","*",9,17,2103,14,9,34,"*",71,18,24,33,41,"*","*",4,"*","*",5,0,1393,7,5,19,"*",49,8,15,22,22,"*","*","*","*","*","*",0,710,7,4,15,"*",22,10,9,11,19,"*",0,"*","*","*","*",0]
[]
[]
[]
[null,null,"NACH REV"]
[]
[]
[]
[]
[]
[]
[]
[]
[]
[null,null,null,null,null,"SvB",null,null,null,null,null,null,null,null,null,null,null,null,null,null,null,null,"GB",null,null,null,null,null,null,null,null,null,null,null,null,null,null,null,null,"GB_ausschl.",null,null,null,null,null,null,null,null,null,null,null,null,null,null,null,null,"GB_im_NJ"]
[null,null,null,null,null,"Deutschland","Schleswig-Holstein,01","Hamburg,02","Niedersachsen,03","Bremen,04","Nordrhein-Westfalen,05","Hessen,06","Rheinland-Pfalz,07","Baden-Württemberg,08","Bayern,09","Saarland,10","Berlin,11","Brandenburg,12","Mecklenburg-Vorpommern,13","Sachsen,14","Sachsen-Anhalt,15","Thüringen,16","Deutschland","Schleswig-Holstein,01","Hamburg,02","Niedersachsen,03","Bremen,04","Nordrhein-Westfalen,05","Hessen,06","Rheinland-Pfalz,07","Baden-Württemberg,08","Bayern,09","Saarland,10","Berlin,11","Brandenburg,12","Mecklenburg-Vorpommern,13","Sachsen,14","Sachsen-Anhalt,15","Thüringen,16","Deutschland","Schleswig-Holstein,01","Hamburg,02","Niedersachsen,03","Bremen,04","Nordrhein-Westfalen,05","Hessen,06","Rheinland-Pfalz,07","Baden-Württemberg,08","Bayern,09","Saarland,10","Berlin,11","Brandenburg,12","Mecklenburg-Vorpommern,13","Sachsen,14","Sachsen-Anhalt,15","Thüringen,16","Deutschland","Schleswig-Holstein,01","Hamburg,02","Niedersachsen,03","Bremen,04","Nordrhein-Westfalen,05","Hessen,06","Rheinland-Pfalz,07","Baden-Württemberg,08","Bayern,09","Saarland,10","Berlin,11","Brandenburg,12","Mecklenburg-Vorpommern,13","Sachsen,14","Sachsen-Anhalt,15","Thüringen,16"]
[null,1,"Gesamt",null,null,31443318,940613,933846,2836091,319681,6549350,2462605,1364682,4458706,5317529,379591,1367680,818474,560372,1555300,783900,793363,7763218,275474,174263,792707,71241,1835199,602787,417903,1223207,1358722,98481,217952,134126,93184,233512,110120,122484,5141533,186563,106917,544874,47677,1272586,394720,282822,746314,820010,70006,152868,99132,71588,172186,83977,88050,2621685,88911,67346,247833,23564,562613,208067,135081,476893,538712,28475,65084,34994,21596,61326,26143,34434]
[null,2,"01","Landwirtsch., Jagd u.damit verb. Tätigk.",null,224953,12929,959,36035,165,30130,7718,12131,16302,24884,696,371,19748,15249,19256,14483,13865,184092,11234,585,38246,137,33648,9287,16375,24831,25964,603,118,6817,5262,4340,3816,2825,143443,8428,448,28954,88,25866,7642,13760,19367,18544,435,98,6013,4579,3710,3106,2402,40649,2806,137,9292,49,7782,1645,2615,5464,7420,168,20,804,683,630,710,423]
[null,3,"02","Forstwirtschaft und Holzeinschlag",null,19031,565,"*",1451,"*",2354,1537,1166,2255,4305,195,19,1455,611,1151,1283,675,7191,159,"*",878,"*",1269,503,505,1259,1595,80,9,255,132,221,129,192,4212,95,"*",597,"*",741,310,268,665,823,45,5,184,92,175,92,116,2979,64,"",281,"*",528,193,237,594,772,35,4,71,40,46,37,76]
[null,4,"03","Fischerei und Aquakultur",null,2483,264,"*",436,"*",109,97,46,114,313,"*","*",207,534,160,54,72,1194,98,"",127,"*",137,86,56,118,294,"*","*",52,117,49,22,33,802,70,"",86,"*",77,46,42,82,169,"*","*",44,102,39,14,27,392,28,"",41,"",60,40,14,36,125,"*","",8,15,10,8,6]
[null,5,"05","Kohlenbergbau",null,15881,null,null,"*",null,9585,"*",null,"*",null,"*","*","*",null,"*","*","*",215,"-","-","","-",200,"*","-","","-","*","","*","-","*","*","*",170,"-","-","","-",160,"*","-","","-","*","","*","-","*","*","",45,"-","-","","-",40,"*","-","","-","*","","","-","","","*"]
[null,6,"06","Gewinnung von Erdöl und Erdgas",null,3054,"*","*",1911,null,"*","*","*","*","*",null,"*","*","*",null,"*","*",11,"","","*","-","","*","*","","*","-","*","","","-","*","",7,"","","*","-","","*","*","","","-","*","","","-","*","",4,"","","","-","","*","","","*","-","","","","-","",""]
[null,7,"07","Erzbergbau",null,869,null,null,"*",null,"*",null,"*","*","*",null,null,null,null,72,null,"*",31,"-","-","*","-","*","*","*","*","","-","-","-","-","*","-","",22,"-","-","*","-","*","*","*","","","-","-","-","-","*","-","",9,"-","-","","-","*","","*","*","","-","-","-","-","*","-",""]
[null,8,"08","Gewinn. v.Steinen u.Erden,sonst.Bergbau",null,38051,786,"*",3435,"*",4416,5839,2807,4168,7775,257,39,393,573,1832,3782,1834,4160,137,"*",561,"*",518,331,351,612,1226,27,"*",35,42,123,95,96,2822,92,"*",372,"",387,208,247,386,791,19,"*",24,37,97,83,76,1338,45,"*",189,"*",131,123,104,226,435,8,"*",11,5,26,12,20]
[null,9,"09","DL f.Bergbau u.Gew.v.Steine u.Erden",null,13333,"*","*",4363,"*",4516,"*","*","*",623,"*","*","*",null,"*","*","*",327,"*","*",84,"",39,"*","*","*",80,"","*","*","-","*","*","*",207,"","",57,"","*","*","*","*",54,"","*","*","-","*","*","*",120,"*","*",27,"",20,"","*","*",26,"","","*","-","*","*","*"]
[null,10,"10","Hrst. von Nahrungs- und Futtermitteln",null,614467,21560,7732,84493,6363,121469,35509,27098,75856,111522,7864,11295,15689,16418,30798,21239,19562,143903,4003,1252,15052,608,28237,10705,9859,28218,32156,2561,1412,2003,1170,3843,1116,1708,108347,3169,943,11412,440,22129,8332,7665,19700,23178,2008,1177,1704,958,3164,936,1432,35556,834,309,3640,168,6108,2373,2194,8518,8978,553,235,299,212,679,180,276]
[null,11,"11","Getränkeherstellung",null,67632,1121,756,4332,"*",9704,5860,8891,9925,16666,"*",825,1427,778,2338,1933,1406,13915,86,27,619,"*",975,1237,2326,3060,4776,"*",33,45,56,296,166,142,9651,59,19,445,"*",749,807,1709,2076,3164,"*",24,36,50,241,118,105,4264,27,8,174,"*",226,430,617,984,1612,"*",9,9,6,55,48,37]
[null,12,"12","Tabakverarbeitung",null,9649,"*","*","*","*",714,"*","*","*","*",null,"*","*","*","*",null,"*",145,"*","*","*","*",47,"*","*","*","*","-","*","","*","","-","*",107,"*","*","*","*",39,"*","*","*","*","-","*","","*","","-","",38,"*","","*","*",8,"*","","*","*","-","","","","","-","*"]
[null,13,"13","Herstellung von Textilien",null,71428,846,288,4612,554,18502,3199,1460,14797,14020,110,605,267,770,8584,782,2032,10370,254,91,850,101,2696,576,364,2307,1950,39,93,36,90,617,99,207,7504,178,65,636,81,2050,418,251,1559,1344,25,68,23,71,489,87,159,2866,76,26,214,20,646,158,113,748,606,14,25,13,19,128,12,48]
[null,14,"14","Herstellung von Bekleidung",null,36387,246,170,2136,"*",6460,1090,688,6811,15856,"*",419,191,105,1429,66,336,6181,68,92,486,"*",1355,318,166,1120,2057,"*",105,43,19,219,24,58,4736,51,59,370,"*",1045,264,129,836,1551,"*",83,40,16,184,16,47,1445,17,33,116,"*",310,54,37,284,506,"*",22,3,3,35,8,11]
[null,15,"15","Herstellung v.Leder,Lederwaren u.Schuhen",null,16536,68,52,1318,"*",2834,1369,2717,1936,3903,"*",131,264,40,1337,105,449,3150,26,27,116,"*",388,209,263,468,1416,"*",28,21,8,91,17,54,2147,16,23,83,"*",306,158,180,292,900,"*",17,21,8,74,12,46,1003,10,4,33,"*",82,51,83,176,516,"",11,"","",17,5,8]
[null,16,"16","Hrst.v.Holz-,Korb-,Korkwaren(ohne Möbel)",null,107312,1675,209,7111,246,21784,6485,6722,17633,24111,1041,460,4173,3006,5702,2555,4399,16851,308,44,1126,25,3402,1275,1201,3737,4098,155,54,192,116,573,191,354,11290,195,27,834,20,2287,880,821,2302,2639,115,38,145,98,445,159,285,5561,113,17,292,5,1115,395,380,1435,1459,40,16,47,18,128,32,69]
[null,17,"17","Hrst. v. Papier, Pappe u. Waren daraus",null,123828,4150,365,14037,"*",27697,7941,8729,21800,20632,"*",745,3339,703,6664,2836,3818,8425,214,26,1232,"*",2180,525,579,1287,1453,"*",59,218,47,337,67,165,5831,138,16,712,"*",1581,369,417,881,973,"*",44,141,38,305,52,141,2594,76,10,520,"*",599,156,162,406,480,"*",15,77,9,32,15,24]
[null,18,"18","Druckgewerbe u. Vervielältigung",null,138366,5493,2385,11370,559,30325,8394,5484,22417,28412,799,6164,1818,2143,6777,2255,3571,44969,1767,663,4373,163,8481,4017,1642,12446,7770,392,545,407,216,1120,365,602,31913,1253,421,3230,94,6243,2938,1138,8759,5099,289,377,310,171,881,273,437,13056,514,242,1143,69,2238,1079,504,3687,2671,103,168,97,45,239,92,165]
[null,19,"19","Kokerei und Mineralölverarbeitung",null,25040,877,3281,1583,null,10045,414,"*",2906,2492,"*","*","*",164,169,1209,26,382,37,7,27,"-",98,34,"*",59,42,"*","*","*",5,38,3,"*",253,9,6,22,"-",69,21,"*",44,28,"*","*","*",5,29,3,"*",129,28,"*",5,"-",29,13,"*",15,14,"*","*","","",9,"",""]
[null,20,"20","Herstellung von chemischen Erzeugnissen",null,322064,6973,7535,23817,1114,96237,27534,48973,31349,45478,489,2493,5174,1366,7498,11954,4080,9991,366,83,848,91,2686,728,749,1765,1754,70,85,127,45,218,175,201,7119,251,53,632,56,1975,547,532,1162,1160,54,72,100,27,180,142,176,2872,115,30,216,35,711,181,217,603,594,16,13,27,18,38,33,25]
[null,21,"21","Herstellung v. pharmazeut. Erzeugnissen",null,153823,6889,1430,5781,"*",16700,31893,11517,35469,20481,1245,10344,1134,"*",3163,5134,1929,2234,69,11,304,"*",338,288,110,405,343,64,81,19,"*",82,44,63,1605,53,8,236,"*",215,235,73,299,219,48,58,13,"*",62,40,36,629,16,3,68,"*",123,53,37,106,124,16,23,6,"",20,4,27]
[null,22,"22","Herstellung v. Gummi- u. Kunststoffwaren",null,384150,5978,2690,45080,355,83472,35090,20036,62333,74658,3298,2236,7560,2133,14319,8760,16152,28868,550,58,2904,40,7291,2323,1298,6675,5157,297,124,246,138,633,324,810,19509,323,38,2044,32,5184,1530,927,4049,3358,197,102,203,117,494,271,640,9359,227,20,860,8,2107,793,371,2626,1799,100,22,43,21,139,53,170]
[null,23,"23","Hrst.v.Glas,Keramik,Verarb.Steine+Erden",null,199123,4150,656,19230,595,29973,9980,15343,22614,49756,3546,2087,6444,2756,12686,8815,10492,16889,383,84,1583,61,2887,1095,1503,2833,3950,284,117,348,139,628,350,644,11674,276,52,1146,45,2065,774,1032,1694,2545,205,93,281,112,513,303,538,5215,107,32,437,16,822,321,471,1139,1405,79,24,67,27,115,47,106]
[null,24,"24","Metallerzeugung und -bearbeitung",null,290819,1446,4727,23974,3768,118301,16930,10040,33700,25657,14411,1340,7227,2054,12996,7722,6526,9579,111,27,469,48,3450,590,487,2165,1314,104,36,103,44,313,123,195,6555,44,18,337,38,2384,450,304,1405,816,84,27,79,37,277,99,156,3024,67,9,132,10,1066,140,183,760,498,20,9,24,7,36,24,39]
[null,25,"25","Herstellung von Metallerzeugnissen",null,795178,11657,3605,55028,3295,203273,46357,34133,173471,117406,13135,10003,15552,8774,49135,20247,30107,104496,1876,452,6934,402,28099,6593,5026,28472,15663,1266,620,1214,685,3529,1356,2309,64564,1164,291,4549,266,18066,4192,3093,15787,8900,826,464,916,524,2816,1016,1694,39932,712,161,2385,136,10033,2401,1933,12685,6763,440,156,298,161,713,340,615]
[null,26,"26","Hrst. v.DV-Gerät., elektr.u.opt.Erzeugn.",null,410889,10907,9141,23498,3036,53571,29740,7154,97141,113975,1415,10243,4581,2141,21960,4240,18146,19064,519,198,1021,102,3501,1738,587,4880,4093,132,409,265,149,598,145,727,13109,352,125,691,62,2454,1197,414,3240,2676,95,315,199,115,482,113,579,5955,167,73,330,40,1047,541,173,1640,1417,37,94,66,34,116,32,148]
[null,27,"27","Herstellung v. elektrischen Ausrüstungen",null,352667,4314,2045,16750,1721,79520,19286,7795,83653,84423,2369,17423,2968,2795,16978,3899,6728,15706,221,68,995,88,3601,1252,637,4005,3329,135,167,112,83,567,142,304,10507,156,45,707,63,2471,814,440,2430,2213,107,117,84,71,447,108,234,5199,65,23,288,25,1130,438,197,1575,1116,28,50,28,12,120,34,70]
[null,28,"28","Maschinenbau",null,1022777,22078,12709,64677,5479,215969,47977,41125,276165,220276,14507,6770,8943,6414,39443,16168,24077,44833,856,187,3569,141,11021,3127,2254,11597,7968,563,248,299,211,1492,481,819,30186,602,134,2422,103,7536,2079,1532,7434,5054,409,203,240,178,1227,382,651,14647,254,53,1147,38,3485,1048,722,4163,2914,154,45,59,33,265,99,168]
[null,29,"29","Hrst. v. Kraftwagen u. Kraftwagenteilen",null,908896,3621,3227,137854,"*",88518,63158,34065,215379,248802,26169,4356,4646,"*",37038,4020,18223,10163,111,64,903,"*",1548,385,649,2465,2523,135,46,74,"*",440,98,224,7917,90,52,694,"*",1166,315,512,1847,2003,106,35,57,"*",322,81,179,2246,21,12,209,"*",382,70,137,618,520,29,11,17,"*",118,17,45]
[null,30,"30","Sonstiger Fahrzeugbau",null,155679,7647,25476,19107,5330,12446,8589,3120,12314,36549,189,3861,7291,3850,6028,2804,1078,2607,151,122,210,45,620,102,152,438,469,14,21,54,58,68,36,47,1788,106,91,159,38,422,67,93,270,305,7,17,42,50,57,25,39,819,45,31,51,7,198,35,59,168,164,7,4,12,8,11,11,8]
[null,31,"31","Herstellung von Möbeln",null,114257,2062,754,10863,290,34228,5421,3483,18397,22272,675,1116,1802,1428,5706,2594,3166,13064,285,137,1279,68,3831,682,474,2195,2728,121,149,154,111,423,184,243,8882,186,85,923,51,2686,475,315,1372,1730,98,106,118,84,327,149,177,4182,99,52,356,17,1145,207,159,823,998,23,43,36,27,96,35,66]
[null,32,"32","Herstellung von sonstigen Waren",null,242623,10177,5970,13978,1630,31878,19584,10061,57592,47661,3132,9704,5087,3544,11112,3471,8042,39864,1183,749,3047,267,8933,2862,2541,8398,7390,451,792,491,373,1153,459,775,27159,871,503,2168,196,6249,1951,1729,5319,4835,330,526,366,281,899,339,597,12705,312,246,879,71,2684,911,812,3079,2555,121,266,125,92,254,120,178]
[null,33,"33","Rep. u.Install. v. Masch. u.Ausrüstungen",null,161671,5546,3594,17182,3135,32358,12928,5593,24349,23855,1845,2681,6709,3291,8497,4890,5218,26795,771,341,2610,250,6022,1888,1295,5222,4942,369,339,477,275,955,391,648,14529,494,190,1566,163,3344,914,737,2478,2300,260,223,324,197,630,295,414,12266,277,151,1044,87,2678,974,558,2744,2642,109,116,153,78,325,96,234]
[null,34,"35","Energieversorgung",null,226726,8429,7220,21718,2099,52760,16134,8899,26903,35293,3187,7678,8373,4859,11808,6500,4866,12069,733,79,1695,32,1632,944,404,1955,3198,86,68,240,210,364,243,186,6358,365,51,829,20,906,522,223,1062,1525,51,55,137,101,252,135,124,5711,368,28,866,12,726,422,181,893,1673,35,13,103,109,112,108,62]
[null,35,"36","Wasserversorgung",null,37030,444,"*",2608,null,8242,1685,1511,3768,2689,297,"*",1844,1479,2957,2078,2079,2079,95,"*",158,"-",453,89,135,466,443,16,"*",29,23,47,18,83,1342,44,"*",109,"-",286,60,101,274,261,9,"*",25,22,37,18,72,737,51,"",49,"-",167,29,34,192,182,7,"",4,"*",10,"",11]
[null,36,"37","Abwasserentsorgung",null,30690,1302,"*",2864,526,6839,2264,1302,2690,4522,704,"*",1073,591,1985,1160,1185,3206,160,"*",203,20,579,361,142,570,670,40,"*",84,55,89,63,94,1877,75,"*",119,17,337,201,88,319,377,24,"*",63,51,56,50,62,1329,85,"*",84,3,242,160,54,251,293,16,"*",21,4,33,13,32]
[null,37,"38","Sammlung,Abfallbeseitigung,Rückgewinnung",null,166906,5075,5465,16519,2376,39679,12176,7715,14271,20537,1652,8817,6892,3776,9805,7355,4796,16014,436,200,1567,171,3179,1027,934,2749,3332,236,251,432,184,611,411,294,10247,264,115,1052,121,2100,598,551,1542,2015,146,215,336,144,496,334,218,5767,172,85,515,50,1079,429,383,1207,1317,90,36,96,40,115,77,76]
[null,38,"39","Beseitig. v.UW-Verschm. u.sonst.Entsorg.",null,3268,67,201,211,"*",868,118,36,118,169,"*",101,368,37,705,142,89,303,5,23,21,"*",79,29,6,26,42,"*",6,17,5,12,9,13,193,4,7,13,"*",59,20,4,12,18,"*",5,12,4,11,8,10,110,"*",16,8,"",20,9,"*",14,24,"*","*",5,"*","*","*",3]
[null,39,"41","Hochbau",null,283124,9064,4552,31013,1579,41493,20688,11663,38718,64093,2436,9077,9766,6350,15969,8510,8153,38212,1125,326,4577,220,7432,2475,1938,6254,8127,512,923,907,556,1499,741,600,24414,755,225,3102,169,4879,1593,1201,3544,4866,346,670,644,393,1079,528,420,13798,370,101,1475,51,2553,882,737,2710,3261,166,253,263,163,420,213,180]
[null,40,"42","Tiefbau",null,204279,7038,2816,23729,1710,34122,11521,11323,23701,29566,2886,5301,10775,5161,15556,10555,8519,15150,494,114,1612,102,3225,1013,1075,2178,2482,251,213,618,264,671,454,384,10119,333,76,1125,60,2184,638,724,1372,1516,181,167,415,188,515,336,289,5031,161,38,487,42,1041,375,351,806,966,70,46,203,76,156,118,95]
[null,41,"43","Vorber.Baust.arb.,Bauinst.,so.Ausbaugew.",null,1261404,47166,23955,123934,9201,242624,87355,62225,168632,208841,14343,46526,44022,30026,73077,40145,39332,254959,8333,3162,24043,1534,55386,17390,14489,42957,46784,3758,6483,6542,3562,10306,4800,5430,161375,5445,2012,16023,1095,37576,11247,8981,24180,26144,2631,4658,4510,2531,7275,3469,3598,93584,2888,1150,8020,439,17810,6143,5508,18777,20640,1127,1825,2032,1031,3031,1331,1832]
[null,42,"45","Handel m. Kfz; Inst.halt. u. Rep. v. Kfz",null,630351,22277,14694,61929,4999,125216,48359,33942,84230,110556,7271,18707,18926,11825,34068,16163,17189,124152,4553,1688,13452,781,28182,8896,7997,20255,23094,1697,1804,2206,1392,4036,1978,2141,83359,3211,1140,9539,579,20134,5915,5514,12033,13838,1230,1334,1654,1087,3034,1566,1551,40793,1342,548,3913,202,8048,2981,2483,8222,9256,467,470,552,305,1002,412,590]
[null,43,"46","Großhandel (ohne Handel mit Kfz)",null,1351083,53680,56021,117217,14327,338923,120780,51780,203287,223297,15441,34055,22918,14466,44606,20720,19565,242498,8051,5531,23483,1921,63726,18604,13478,41453,41794,2705,3315,3579,2946,7238,2077,2597,162099,5303,3584,16198,1314,44234,12652,9578,25449,25841,1926,2321,2608,2433,5335,1533,1790,80399,2748,1947,7285,607,19492,5952,3900,16004,15953,779,994,971,513,1903,544,807]
[null,44,"47","Einzelhandel (ohne Handel mit Kfz)",null,2336675,89626,67273,228201,20266,487884,168059,104965,299531,388776,30814,112393,64076,45174,110158,61279,58200,902538,38530,23365,95690,7857,226206,72781,44520,125724,151825,11729,26782,14396,11325,24463,13156,14189,678381,30254,17141,75412,6088,177141,54566,33250,86206,104351,9228,21557,11637,9541,19511,11101,11397,224157,8276,6224,20278,1769,49065,18215,11270,39518,47474,2501,5225,2759,1784,4952,2055,2792]
[null,45,"49","Landverkehr u.Transp.i.Rohrfernleitungen",null,617548,21536,20443,54202,6599,131250,44778,25692,70947,89965,6449,37897,21903,12223,37478,20385,15801,202065,6020,2479,22205,1514,55480,16012,10325,28320,34123,3341,4244,3376,1914,5981,3537,3194,130487,3712,1259,14337,1099,38867,10321,6423,15997,19398,2529,3055,2498,1491,4333,2881,2287,71578,2308,1220,7868,415,16613,5691,3902,12323,14725,812,1189,878,423,1648,656,907]
[null,46,"50","Schifffahrt",null,23390,2459,8586,3912,1641,954,347,507,671,1005,8,564,368,1979,153,219,17,2964,391,220,469,128,435,119,267,146,441,14,85,81,124,13,28,3,1934,272,131,306,89,281,78,181,98,244,12,56,52,102,9,20,3,1030,119,89,163,39,154,41,86,48,197,"*",29,29,22,4,8,""]
[null,47,"51","Luftfahrt",null,63890,"*",1950,2122,"*",6806,32806,22,1720,10669,"*",5476,861,9,1166,"*","*",697,"*",46,73,"*",92,71,23,151,114,"*",15,14,"*",8,"*","*",364,"*",37,26,"",54,36,13,69,61,"",12,9,"*",5,"*","*",333,"*",9,47,"*",38,35,10,82,53,"*",3,5,3,3,"*","*"]
[null,48,"52","Lagerei u. Erbr.v. sonst. DL f.d.Verkehr",null,689851,15656,44057,65984,23634,147629,68815,24586,77271,102033,5844,13077,25470,10712,31789,17891,15403,87192,2696,2573,9697,1759,22314,7560,3554,13725,15134,965,892,1334,1028,1712,874,1375,52169,1664,1572,6048,1190,14599,4179,1970,7039,8149,626,609,912,785,1233,622,972,35023,1032,1001,3649,569,7715,3381,1584,6686,6985,339,283,422,243,479,252,403]
[null,49,"53","Post-, Kurier- und Expressdienste",null,263456,8304,7189,22282,2915,57246,23050,12326,32988,36939,3533,10497,10287,6237,14617,8653,6393,182621,7220,1714,20146,1462,38123,11716,13279,31010,25088,1538,4108,4072,4158,12056,4992,1939,128771,5101,1058,14626,882,27671,7742,9028,20577,16720,1125,3155,3216,3096,9464,3887,1423,53850,2119,656,5520,580,10452,3974,4251,10433,8368,413,953,856,1062,2592,1105,516]
[null,50,"55","Beherbergung",null,299147,13632,9002,25600,1998,35564,20754,14577,36489,65504,1903,18077,9367,20178,13606,6478,6418,150747,6823,2189,18099,842,24046,9595,11167,21942,34963,1192,3026,2937,4596,4356,2333,2641,98978,4479,1288,12168,604,16376,6529,7700,13723,20727,853,2238,2188,3449,3129,1682,1845,51769,2344,901,5931,238,7670,3066,3467,8219,14236,339,788,749,1147,1227,651,796]
[null,51,"56","Gastronomie",null,728959,26607,28662,58773,7764,133984,60276,30293,92268,121698,7600,53864,20087,16538,38444,16237,15864,821002,30822,23333,85029,9531,189067,54463,42504,127535,145092,11116,32899,12244,9163,24550,11613,12041,522381,20428,14274,54974,6438,128870,35712,28274,73225,77729,7757,24909,8967,6864,17224,8564,8172,298621,10394,9059,30055,3093,60197,18751,14230,54310,67363,3359,7990,3277,2299,7326,3049,3869]
[null,52,"58","Verlagswesen",null,138332,2824,9398,9655,1515,22756,12613,4103,23027,30086,687,12592,1171,1227,3581,1065,2032,71741,3997,577,8866,1883,15613,6004,6047,8958,13263,301,626,966,355,450,873,2962,52792,3308,382,6752,1531,11439,4286,4728,5797,9855,206,420,682,289,336,621,2160,18949,689,195,2114,352,4174,1718,1319,3161,3408,95,206,284,66,114,252,802]
[null,53,"59","Film, TV, Kino u. Tonstudio",null,42206,584,4119,1497,250,10133,2149,746,2782,8971,196,7482,929,187,1200,477,504,20754,651,658,1910,234,3905,1365,1007,2877,4428,219,1620,311,279,739,213,338,13324,447,413,1301,142,2561,862,690,1592,2731,136,1105,206,212,502,162,262,7430,204,245,609,92,1344,503,317,1285,1697,83,515,105,67,237,51,76]
[null,54,"60","Rundfunkveranstalter",null,58842,595,4999,1018,644,11741,2700,7059,6497,12745,"*",4479,815,502,3041,619,"*",2440,71,66,56,16,333,91,299,378,405,"*",217,19,103,112,80,"*",1765,49,50,37,9,268,74,231,221,238,"*",180,13,88,73,74,"*",675,22,16,19,7,65,17,68,157,167,"*",37,6,15,39,6,"*"]
[null,55,"61","Telekommunikation",null,58907,2345,2058,4227,681,14638,5345,2191,5013,9678,489,3134,1877,621,3410,1201,1999,2661,126,121,190,34,608,255,128,256,452,38,276,30,24,57,38,28,1817,80,80,118,28,431,156,104,169,265,34,234,17,17,39,32,13,844,46,41,72,6,177,99,24,87,187,4,42,13,7,18,6,15]
[null,56,"62","DL der Informationstechnologie",null,615024,10648,32928,33986,6043,127409,59576,16014,106851,124554,5787,42767,5989,4370,24167,6475,7460,47333,1539,1708,3270,454,10659,4210,1911,8319,9122,621,2069,650,388,1447,390,576,28724,1023,1015,2052,285,6803,2533,1149,4781,5064,403,1333,419,250,989,252,373,18609,516,693,1218,169,3856,1677,762,3538,4058,218,736,231,138,458,138,203]
[null,57,"63","Informationsdienstleistungen",null,61961,863,4232,1980,235,11450,6922,1257,6142,9809,200,11706,933,394,3112,978,1748,13675,568,489,849,62,2855,1118,554,2055,2773,142,611,319,133,619,290,238,8315,362,288,502,43,1766,659,333,1224,1528,91,391,235,98,442,197,156,5360,206,201,347,19,1089,459,221,831,1245,51,220,84,35,177,93,82]
[null,58,"64","Erbringung von Finanzdienstleistungen",null,642498,17831,23231,53129,4896,134369,98718,27008,93347,113160,7470,19824,8947,5573,17057,8656,9282,19326,614,256,1923,90,3523,1438,916,3421,5786,258,333,125,98,219,169,157,12965,404,143,1359,55,2501,1041,641,2121,3805,186,185,72,73,149,128,102,6361,210,113,564,35,1022,397,275,1300,1981,72,148,53,25,70,41,55]
[null,59,"65","Versicherungen u.Pensionskassen",null,171908,2242,13638,12802,1150,45073,17109,4795,21679,40888,2587,3535,959,719,2873,930,929,2188,125,114,221,27,624,161,40,259,370,54,48,29,8,65,31,12,1534,84,74,154,24,443,118,34,172,249,42,27,24,5,48,27,9,654,41,40,67,3,181,43,6,87,121,12,21,5,3,17,4,3]
[null,60,"66","M.Finanz-u.Versicherungs-DL verb.Tätigk.",null,177944,4223,10163,13063,2097,37997,23548,4692,19349,33476,2049,10702,2710,1832,6883,2565,2595,51723,1805,1193,4824,391,12300,4133,2485,7790,10445,746,1036,854,517,1537,783,884,30391,1057,660,3006,234,7771,2480,1490,4174,5661,490,627,515,320,917,484,505,21332,748,533,1818,157,4529,1653,995,3616,4784,256,409,339,197,620,299,379]
[null,61,"68","Grundstücks- und Wohnungswesen",null,248364,8124,14050,16691,3965,46862,24312,6040,21991,32959,1548,28076,7982,6617,16209,6738,6200,259694,10454,7304,20734,2338,65750,18448,11815,42492,46578,2814,11693,3594,2593,7290,2913,2884,144312,6089,4081,12323,1437,38168,9960,6433,20163,23744,1703,7281,2385,1822,4788,2051,1884,115382,4365,3223,8411,901,27582,8488,5382,22329,22834,1111,4412,1209,771,2502,862,1000]
[null,62,"69","Rechts-,Steuerberatung, Wirtsch.-prüfung",null,448142,13082,21159,36548,5009,100069,44430,16664,55379,78186,4655,27515,7013,5619,18024,7223,7567,123661,3598,3826,10178,1140,29775,10814,6119,16643,25514,1674,5190,1837,1026,3147,1513,1667,74746,2108,2276,6295,727,18896,6503,3670,9457,15014,1073,3175,1013,623,1918,946,1052,48915,1490,1550,3883,413,10879,4311,2449,7186,10500,601,2015,824,403,1229,567,615]
[null,63,"70","Verw.u.Führ. v.Untern.u.Betr.;Unt.berat.",null,631423,15869,34266,42713,6796,167215,68186,13798,99400,106732,5996,37195,5552,2529,13955,5793,5428,85072,2423,4135,5809,486,23404,6692,3693,14587,13437,766,3798,1105,548,2511,865,813,52987,1477,2475,3487,302,15045,4019,2276,9775,7738,459,2316,690,341,1581,555,451,32085,946,1660,2322,184,8359,2673,1417,4812,5699,307,1482,415,207,930,310,362]
[null,64,"71","Architektur-, Ingenieurbüros; Labore",null,537934,10557,22158,50017,7668,96605,42304,19442,94566,95547,5176,27806,11085,6699,29175,9274,9855,89011,2475,1816,7611,713,19963,7516,4604,15276,15088,1425,3207,1835,972,3564,1315,1631,57202,1641,1194,4972,483,13462,4857,2953,9165,9052,956,2211,1161,654,2498,885,1058,31809,834,622,2639,230,6501,2659,1651,6111,6036,469,996,674,318,1066,430,573]
[null,65,"72","Forschung und Entwicklung",null,205545,3517,5857,14265,3106,32666,15308,7804,38236,29584,2500,21738,6479,4324,11857,3792,4512,19884,387,461,1189,480,2405,1231,686,5522,2660,383,1092,445,615,1401,410,517,15400,300,315,897,404,1707,850,499,4649,1931,312,843,343,506,1110,329,405,4484,87,146,292,76,698,381,187,873,729,71,249,102,109,291,81,112]
[null,66,"73","Werbung und Marktforschung",null,136848,1958,15037,7655,1140,31369,14132,3749,14505,26161,800,11528,1644,1044,3879,914,1333,107155,1359,2367,5584,789,27869,12213,3561,18676,21330,353,1806,2613,780,3778,2769,1308,78776,940,1658,3928,470,21992,8332,2313,14291,15222,231,1285,1914,607,2581,2101,911,28379,419,709,1656,319,5877,3881,1248,4385,6108,122,521,699,173,1197,668,397]
[null,67,"74","Sonst.freiberufl., wiss.u.techn. Tätigk.",null,61864,1155,4191,4425,744,13160,4433,1689,8135,11755,345,4957,1002,593,3410,931,939,28175,614,1618,2363,478,7219,1914,1229,3932,4677,255,1764,365,220,1009,271,247,17060,377,938,1392,310,4535,1223,725,2120,2647,181,1257,236,135,647,183,154,11115,237,680,971,168,2684,691,504,1812,2030,74,507,129,85,362,88,93]
[null,68,"75","Veterinärwesen",null,28927,1511,367,4383,232,6578,2136,1449,3207,4371,348,782,1038,507,978,517,523,9314,468,97,1334,35,1903,771,527,1100,1930,123,187,211,93,242,169,124,6256,313,77,902,24,1309,498,371,701,1273,96,127,139,63,165,120,78,3058,155,20,432,11,594,273,156,399,657,27,60,72,30,77,49,46]
[null,69,"77","Vermietung von beweglichen Sachen",null,79282,3112,4426,6544,685,16165,8294,2443,7902,13158,767,4485,2787,2229,3012,1915,1358,39456,1442,1795,3916,345,9050,3301,1719,5103,7107,535,1359,835,734,993,522,700,22833,869,1109,2383,206,5410,1895,987,2488,3667,323,912,562,531,663,387,441,16623,573,686,1533,139,3640,1406,732,2615,3440,212,447,273,203,330,135,259]
[null,70,"78","Vermittl. u.Überlassung v.Arbeitskräften",null,868914,18108,29723,88661,15205,199665,58986,33979,108005,135420,11619,33249,18154,10517,50924,24147,32552,103791,2247,4541,12176,1466,31674,6090,3565,9939,12448,1047,9296,1451,1097,4026,1141,1587,67075,1351,2402,8034,809,21978,3593,2292,6047,6718,775,6048,1003,897,3178,794,1156,36716,896,2139,4142,657,9696,2497,1273,3892,5730,272,3248,448,200,848,347,431]
[null,71,"79","Reisebüros,-veranst.u.son.Reservier.-DL",null,80343,2095,3645,6480,1128,17695,11069,2623,8064,13586,508,5215,1095,990,3492,1341,1317,21436,771,585,2051,144,5446,1628,1167,2822,3703,239,768,367,308,829,347,261,14366,553,405,1385,97,3933,1042,798,1688,2247,165,535,279,232,613,218,176,7070,218,180,666,47,1513,586,369,1134,1456,74,233,88,76,216,129,85]
[null,72,"80","Wach- u.Sicherh.dienste sowie Detekteien",null,178883,8609,8214,11515,2003,34634,21227,3539,16389,22644,1389,16407,7608,3873,11799,5422,3611,78738,2559,1888,6718,1381,18223,6629,3044,10609,12479,1100,4242,1824,1448,3576,1073,1945,40775,1343,1002,3403,616,9871,3417,1590,4355,4927,646,2998,1240,1041,2406,807,1113,37963,1216,886,3315,765,8352,3212,1454,6254,7552,454,1244,584,407,1170,266,832]
[null,73,"81","Gebäudebetreuung;Garten-u.Landschaftsbau",null,729315,24879,30713,60517,7089,153821,66372,24398,77824,110210,9596,45787,23657,14761,40669,22522,16500,590307,17061,18669,52770,7577,155550,56810,20732,92131,97593,8618,13674,8748,6164,16823,9157,8230,339751,9971,8889,32069,4398,97546,30999,12537,45125,46658,5930,8701,6368,4774,12735,7006,6045,250556,7090,9780,20701,3179,58004,25811,8195,47006,50935,2688,4973,2380,1390,4088,2151,2185]
[null,74,"82","Dienstleistg.f.Untern.u.Privatpers.ang",null,336553,10060,10720,22229,4243,80381,24462,10132,30885,36205,4259,28864,17730,15024,19039,15573,6747,126376,3950,2729,11781,1509,28094,11963,5661,22682,18050,1533,4689,5819,1091,3605,1787,1433,80223,2378,1625,7532,926,18347,7608,3710,13370,10817,831,3024,4521,758,2439,1387,950,46153,1572,1104,4249,583,9747,4355,1951,9312,7233,702,1665,1298,333,1166,400,483]
[null,75,"84","Öffentl. Verwalt.,Verteidigung;Soz.vers.",null,1733340,59687,41002,169286,13325,331745,133163,84638,231568,244235,23046,82278,71290,41132,93420,60910,52574,124940,5203,983,10318,284,11540,10986,12795,28090,29901,1594,920,1925,2241,3222,1839,3094,88505,3455,736,7491,236,8195,7835,8613,20001,20487,1137,687,1606,1736,2499,1497,2290,36435,1748,247,2827,48,3345,3151,4182,8089,9414,457,233,319,505,723,342,804]
[null,76,"85","Erziehung und Unterricht",null,1205178,30690,32508,103648,13070,243365,90370,57440,142895,178172,12857,90217,26604,29007,84069,37422,32838,247836,7070,7353,31028,2686,56818,20480,11624,37994,43703,2424,6211,3568,2949,7058,3442,3427,191513,5342,5362,24487,2191,45012,16090,8933,28601,31796,1928,4524,2919,2525,5933,2911,2958,56323,1728,1991,6541,495,11806,4390,2691,9393,11907,496,1687,649,424,1125,531,469]
[null,77,"86","Gesundheitswesen",null,2347188,72885,62266,218478,22341,510953,166069,113041,312207,386836,31368,101833,60657,48455,117664,61494,60641,434861,15015,10148,41724,3245,102372,35020,23620,66213,79390,6380,13116,6367,5086,14103,6294,6768,272104,9427,5511,27172,2027,67059,21180,14929,39294,46860,4378,7986,4071,3526,9663,4476,4545,162757,5588,4637,14552,1218,35313,13840,8691,26919,32530,2002,5130,2296,1560,4440,1818,2223]
[null,78,"87","Heime (ohne Erholungs- und Ferienheime)",null,993326,42178,18941,114170,6582,233154,62799,49096,122588,153202,13990,33972,26193,17859,45052,27878,25672,108962,6108,2547,15956,953,27465,8241,5621,16001,14868,1356,2578,1490,885,2205,1347,1341,75995,4129,1508,11375,607,20147,5335,3973,10441,9665,1083,1776,1147,744,1866,1121,1078,32967,1979,1039,4581,346,7318,2906,1648,5560,5203,273,802,343,141,339,226,263]
[null,79,"88","Sozialwesen (ohne Heime)",null,1201007,43403,29028,108320,14479,283927,86854,48819,121883,149275,14074,74634,46253,34494,71565,37148,36838,204150,7360,6370,20307,2643,55232,18145,8593,25213,31528,2787,9166,3850,2916,5034,2124,2882,127483,4859,3442,12830,1474,35654,11108,5303,15147,18392,2042,5020,2605,2222,3737,1647,2001,76667,2501,2928,7477,1169,19578,7037,3290,10066,13136,745,4146,1245,694,1297,477,881]
[null,80,"90","Kreative, künstler.u.unterhalt. Tätigk.",null,67179,1643,3977,3948,"*",12919,4589,1848,7574,8857,"*",7272,1501,1521,6129,1392,2489,23512,530,1261,1383,"*",5568,1709,842,3540,3732,"*",1501,417,317,1251,308,502,14521,356,762,858,"*",3376,1088,487,2035,2019,"*",1040,302,252,920,232,360,8991,174,499,525,"*",2192,621,355,1505,1713,"*",461,115,65,331,76,142]
[null,81,"91","Bibl.,Archive,Museen,zoolog.u.ä.Gärten",null,36086,1175,1509,3427,587,5337,2780,949,3826,4275,169,4607,1164,1354,3021,845,1061,8329,286,245,1398,187,1483,500,291,1158,1410,66,260,124,210,402,157,152,6544,214,188,1112,165,1132,374,222,893,1107,50,205,102,186,324,144,126,1785,72,57,286,22,351,126,69,265,303,16,55,22,24,78,13,26]
[null,82,"92","Spiel-, Wett- und Lotteriewesen",null,56588,1994,1897,5839,639,13023,4504,2756,8017,8020,1265,2866,998,821,1486,1267,1196,26295,749,689,2381,307,8231,2038,1067,3901,3857,375,773,355,212,532,409,419,16553,455,443,1536,217,5909,1261,648,1792,2057,250,605,266,154,361,309,290,9742,294,246,845,90,2322,777,419,2109,1800,125,168,89,58,171,100,129]
[null,83,"93","DL d.Sports,d.Unterhaltg.u.d.Erholung",null,116934,4698,4359,11565,1617,24535,7907,5286,15441,17412,1223,6044,4053,2031,5880,2326,2557,172118,6820,3881,18535,1528,41054,12944,9967,27087,29435,2323,4373,3107,1781,4927,2201,2155,95679,4153,2221,10663,914,24105,6989,5603,13475,14642,1371,2832,1978,1129,3013,1355,1236,76439,2667,1660,7872,614,16949,5955,4364,13612,14793,952,1541,1129,652,1914,846,919]
[null,84,"94","Interessenvertr.,kirchl.u.sonst.Verein",null,466489,17434,12050,36025,7389,101940,38595,20689,55706,72875,3472,39389,11834,7471,23110,8172,10338,162460,5503,2573,16024,1636,36065,16878,10863,26359,28717,2047,4597,2138,1582,3808,1837,1832,108630,3519,1627,10871,1110,24894,11038,7039,16526,19046,1364,3276,1641,1250,2675,1427,1326,53830,1984,946,5153,526,11171,5840,3824,9833,9671,683,1321,497,332,1133,410,506]
[null,85,"95","Reparatur v.DV-Geräten u.Gebrauchsgütern",null,33084,1332,1205,3408,193,7159,2179,1553,2920,5490,504,1442,946,877,2293,652,931,11039,364,226,1221,103,2725,764,576,1510,1718,185,412,213,168,454,262,138,7894,250,165,900,76,2080,543,409,978,1107,138,338,148,136,330,197,99,3145,114,61,321,27,645,221,167,532,611,47,74,65,32,124,65,39]
[null,86,"96","Sonstige überwieg. persönliche DL",null,316810,10288,8465,30560,3187,65674,21905,16583,37290,47715,3586,15143,10421,7854,17657,10437,10043,189756,6629,2931,21410,1999,45765,13638,14297,24098,27274,4449,5900,4815,1675,5926,2145,6805,138085,4957,2042,16169,1232,35326,10009,10819,16342,17878,3357,4350,3631,1253,4419,1648,4653,51671,1672,889,5241,767,10439,3629,3478,7756,9396,1092,1550,1184,422,1507,497,2152]
[null,87,"97","Private Haushalte mit Hauspersonal",null,47525,1379,1740,3734,257,10890,3854,2921,7068,11125,438,1935,467,335,719,358,305,283550,12086,5547,31858,2134,76569,20605,18355,37478,50014,3716,7630,4170,2386,5543,2848,2611,199156,8434,3644,22930,1518,56747,14228,13010,24538,32636,2866,5632,3076,1767,4045,2184,1901,84394,3652,1903,8928,616,19822,6377,5345,12940,17378,850,1998,1094,619,1498,664,710]
[null,88,"98","H.v.Waren,Dienstl.d.priv. Haushalte oaS",null,680,27,5,52,"*",151,58,69,91,131,5,30,12,10,15,"*",12,1174,53,7,112,"*",310,92,125,181,200,9,9,10,14,16,"*",18,602,26,5,67,"*",153,63,73,86,64,6,5,7,9,10,"*",11,572,27,"*",45,"",157,29,52,95,136,3,4,3,5,6,"*",7]
[null,89,"99","Exterritoriale Organisat. u. Körpersch.",null,19572,"*",141,33,"*",2348,1813,7063,815,5200,"*",2077,12,null,21,"*",null,90,"*",5,"","*","*",7,"","*",21,"",12,"","-","","","-",76,"",4,"","*",35,5,"","*",17,"",12,"","-","","","-",14,"*","*","","*",3,"*","","*",4,"","","","-","","","-"]
[null,90,"XX","Keine Zuordnung möglich",null,1680,5,6,16,"*",63,17,8,29,48,"*",9,7,"*","*",9,17,2102,14,9,34,0,70,18,24,34,41,"*","*",4,0,"*",5,0,1389,7,5,19,0,48,8,15,22,22,"*","*","*",0,"*",4,0,713,7,4,15,0,22,10,9,12,19,0,0,3,0,0,1,0]

{"sheet":"3 Steuerung","index":16,"n_rows":103,"n_cols":24,"rows_kept":103,"cut":false,"hidden":true,"merged":[[8,23,10,23],[4,5,5,5],[5,14,6,14],[1,4,3,4],[1,13,3,13]]}
[]
[null,null,null,null,"NACH REV",null,"SvB","GB","GB_ausschl.","GB_im_NJ",null,null,null,"VOR REF"]
[null,null,null,null,null,"1. Vergleich",{"$f":"MATCH(G2,'3 Roh-Daten'!$F$113:$BU$113,0)","v":1},{"$f":"MATCH(H2,'3 Roh-Daten'!$F$113:$BU$113,0)","v":18},{"$f":"MATCH(I2,'3 Roh-Daten'!$F$113:$BU$113,0)","v":35},{"$f":"MATCH(J2,'3 Roh-Daten'!$F$113:$BU$113,0)","v":52},null,null,null,null,null,"SvB","GB","GB_ausschl.","GB_im_NJ"]
[null,null,null,null,null,"2. Vergleich",{"$f":"MATCH(C6,'3 Roh-Daten'!F114:BU114,0)","v":1},null,null,null,null,null,null,null,"1. Vergleich",{"$f":"MATCH(P3:S3,'3 Roh-Daten'!E8:BT8,0)","v":1},{"$f":"MATCH(P3:S3,'3 Roh-Daten'!E8:BT8,0)","v":18},{"$f":"MATCH(P3:S3,'3 Roh-Daten'!E8:BT8,0)","v":35},{"$f":"MATCH(P3:S3,'3 Roh-Daten'!E8:BT8,0)","v":52}]
[null,"Zuweis.1 Refnm.",null,null,"Stichtag: 30.06.2013","Zeilennum.","mit PG",null,null,null,null,null,null,null,"2. Vergleich",{"$f":"MATCH(C6,'3 Roh-Daten'!E9:BT9,0)","v":1}]
[null,{"$f":"INDEX($B$8:$B$24,B7,1)","v":"Deutschland"},{"$f":"INDEX(C8:C24,C7,1)","v":"Deutschland"},null,null,null,{"$f":"G3+G4-1","v":1},{"$f":"H3+G4-1","v":18},{"$f":"I3+G4-1","v":35},{"$f":"J3+G4-1","v":52},null,null,null,"Stichtag: 30.06.2013","Zeilennum."]
[null,1,{"$f":"B7","v":1},1,"Insgesamt",1,{"$f":"INDEX('3 Roh-Daten'!$F$115:$BU$204,'3 Steuerung'!$F7,G$6)","v":31443318},{"$f":"INDEX('3 Roh-Daten'!$F$115:$BU$204,'3 Steuerung'!$F7,H$6)","v":7763218},{"$f":"INDEX('3 Roh-Daten'!$F$115:$BU$204,'3 Steuerung'!$F7,I$6)","v":5141533},{"$f":"INDEX('3 Roh-Daten'!$F$115:$BU$204,'3 Steuerung'!$F7,J$6)","v":2621685},null,null,null,null,null,{"$f":"P4+P5-1","v":1},{"$f":"Q4+P5-1","v":18},{"$f":"R4+P5-1","v":35},{"$f":"S4+P5-1","v":52}]
[null,"Deutschland","Deutschland",2,"      01 Landwirtsch., Jagd u.damit verb. Tätigk.",2,{"$f":"INDEX('3 Roh-Daten'!$F$115:$BU$204,'3 Steuerung'!$F8,G$6)","v":224953},{"$f":"INDEX('3 Roh-Daten'!$F$115:$BU$204,'3 Steuerung'!$F8,H$6)","v":184092},{"$f":"INDEX('3 Roh-Daten'!$F$115:$BU$204,'3 Steuerung'!$F8,I$6)","v":143443},{"$f":"INDEX('3 Roh-Daten'!$F$115:$BU$204,'3 Steuerung'!$F8,J$6)","v":40649},null,null,null,"Insgesamt",1,{"$f":"INDEX('3 Roh-Daten'!$E$10:$BT$99,$O8,'3 Steuerung'!P$7)","v":31373691},{"$f":"INDEX('3 Roh-Daten'!$E$10:$BT$99,$O8,'3 Steuerung'!Q$7)","v":7756094},{"$f":"INDEX('3 Roh-Daten'!$E$10:$BT$99,$O8,'3 Steuerung'!R$7)","v":5141164},{"$f":"INDEX('3 Roh-Daten'!$E$10:$BT$99,$O8,'3 Steuerung'!S$7)","v":2614930},null,null,null,null,8]
[null,"Schleswig-Holstein","Schleswig-Holstein,01",3,"      02 Forstwirtschaft und Holzeinschlag",3,{"$f":"INDEX('3 Roh-Daten'!$F$115:$BU$204,'3 Steuerung'!$F9,G$6)","v":19031},{"$f":"INDEX('3 Roh-Daten'!$F$115:$BU$204,'3 Steuerung'!$F9,H$6)","v":7191},{"$f":"INDEX('3 Roh-Daten'!$F$115:$BU$204,'3 Steuerung'!$F9,I$6)","v":4212},{"$f":"INDEX('3 Roh-Daten'!$F$115:$BU$204,'3 Steuerung'!$F9,J$6)","v":2979},null,null,null,"      01 Landwirtsch., Jagd u.damit verb. Tätigk.",2,{"$f":"INDEX('3 Roh-Daten'!$E$10:$BT$99,$O9,'3 Steuerung'!P$7)","v":224614},{"$f":"INDEX('3 Roh-Daten'!$E$10:$BT$99,$O9,'3 Steuerung'!Q$7)","v":183966},{"$f":"INDEX('3 Roh-Daten'!$E$10:$BT$99,$O9,'3 Steuerung'!R$7)","v":143456},{"$f":"INDEX('3 Roh-Daten'!$E$10:$BT$99,$O9,'3 Steuerung'!S$7)","v":40510},null,null,null,null,"nach Revision neue PG"]
[null,"Hamburg","Hamburg,02",4,"      03 Fischerei und Aquakultur",4,{"$f":"INDEX('3 Roh-Daten'!$F$115:$BU$204,'3 Steuerung'!$F10,G$6)","v":2483},{"$f":"INDEX('3 Roh-Daten'!$F$115:$BU$204,'3 Steuerung'!$F10,H$6)","v":1194},{"$f":"INDEX('3 Roh-Daten'!$F$115:$BU$204,'3 Steuerung'!$F10,I$6)","v":802},{"$f":"INDEX('3 Roh-Daten'!$F$115:$BU$204,'3 Steuerung'!$F10,J$6)","v":392},null,null,null,"      02 Forstwirtschaft und Holzeinschlag",3,{"$f":"INDEX('3 Roh-Daten'!$E$10:$BT$99,$O10,'3 Steuerung'!P$7)","v":19004},{"$f":"INDEX('3 Roh-Daten'!$E$10:$BT$99,$O10,'3 Steuerung'!Q$7)","v":7185},{"$f":"INDEX('3 Roh-Daten'!$E$10:$BT$99,$O10,'3 Steuerung'!R$7)","v":4211},{"$f":"INDEX('3 Roh-Daten'!$E$10:$BT$99,$O10,'3 Steuerung'!S$7)","v":2974}]
[null,"Niedersachsen","Niedersachsen,03",5,"      05 Kohlenbergbau",5,{"$f":"INDEX('3 Roh-Daten'!$F$115:$BU$204,'3 Steuerung'!$F11,G$6)","v":15881},{"$f":"INDEX('3 Roh-Daten'!$F$115:$BU$204,'3 Steuerung'!$F11,H$6)","v":215},{"$f":"INDEX('3 Roh-Daten'!$F$115:$BU$204,'3 Steuerung'!$F11,I$6)","v":170},{"$f":"INDEX('3 Roh-Daten'!$F$115:$BU$204,'3 Steuerung'!$F11,J$6)","v":45},null,null,null,"      03 Fischerei und Aquakultur",4,{"$f":"INDEX('3 Roh-Daten'!$E$10:$BT$99,$O11,'3 Steuerung'!P$7)","v":2479},{"$f":"INDEX('3 Roh-Daten'!$E$10:$BT$99,$O11,'3 Steuerung'!Q$7)","v":1192},{"$f":"INDEX('3 Roh-Daten'!$E$10:$BT$99,$O11,'3 Steuerung'!R$7)","v":801},{"$f":"INDEX('3 Roh-Daten'!$E$10:$BT$99,$O11,'3 Steuerung'!S$7)","v":391}]
[null,"Bremen","Bremen,04",6,"      06 Gewinnung von Erdöl und Erdgas",6,{"$f":"INDEX('3 Roh-Daten'!$F$115:$BU$204,'3 Steuerung'!$F12,G$6)","v":3054},{"$f":"INDEX('3 Roh-Daten'!$F$115:$BU$204,'3 Steuerung'!$F12,H$6)","v":11},{"$f":"INDEX('3 Roh-Daten'!$F$115:$BU$204,'3 Steuerung'!$F12,I$6)","v":7},{"$f":"INDEX('3 Roh-Daten'!$F$115:$BU$204,'3 Steuerung'!$F12,J$6)","v":4},null,null,null,"      05 Kohlenbergbau",5,{"$f":"INDEX('3 Roh-Daten'!$E$10:$BT$99,$O12,'3 Steuerung'!P$7)","v":15881},{"$f":"INDEX('3 Roh-Daten'!$E$10:$BT$99,$O12,'3 Steuerung'!Q$7)","v":215},{"$f":"INDEX('3 Roh-Daten'!$E$10:$BT$99,$O12,'3 Steuerung'!R$7)","v":170},{"$f":"INDEX('3 Roh-Daten'!$E$10:$BT$99,$O12,'3 Steuerung'!S$7)","v":45}]
[null,"Nordrhein-Westfalen","Nordrhein-Westfalen,05",7,"      07 Erzbergbau",7,{"$f":"INDEX('3 Roh-Daten'!$F$115:$BU$204,'3 Steuerung'!$F13,G$6)","v":869},{"$f":"INDEX('3 Roh-Daten'!$F$115:$BU$204,'3 Steuerung'!$F13,H$6)","v":31},{"$f":"INDEX('3 Roh-Daten'!$F$115:$BU$204,'3 Steuerung'!$F13,I$6)","v":22},{"$f":"INDEX('3 Roh-Daten'!$F$115:$BU$204,'3 Steuerung'!$F13,J$6)","v":9},null,null,null,"      06 Gewinnung von Erdöl und Erdgas",6,{"$f":"INDEX('3 Roh-Daten'!$E$10:$BT$99,$O13,'3 Steuerung'!P$7)","v":3045},{"$f":"INDEX('3 Roh-Daten'!$E$10:$BT$99,$O13,'3 Steuerung'!Q$7)","v":11},{"$f":"INDEX('3 Roh-Daten'!$E$10:$BT$99,$O13,'3 Steuerung'!R$7)","v":7},{"$f":"INDEX('3 Roh-Daten'!$E$10:$BT$99,$O13,'3 Steuerung'!S$7)","v":4}]
[null,"Hessen","Hessen,06",8,"      08 Gewinn. v.Steinen u.Erden,sonst.Bergbau",8,{"$f":"INDEX('3 Roh-Daten'!$F$115:$BU$204,'3 Steuerung'!$F14,G$6)","v":38051},{"$f":"INDEX('3 Roh-Daten'!$F$115:$BU$204,'3 Steuerung'!$F14,H$6)","v":4160},{"$f":"INDEX('3 Roh-Daten'!$F$115:$BU$204,'3 Steuerung'!$F14,I$6)","v":2822},{"$f":"INDEX('3 Roh-Daten'!$F$115:$BU$204,'3 Steuerung'!$F14,J$6)","v":1338},null,null,null,"      07 Erzbergbau",7,{"$f":"INDEX('3 Roh-Daten'!$E$10:$BT$99,$O14,'3 Steuerung'!P$7)","v":860},{"$f":"INDEX('3 Roh-Daten'!$E$10:$BT$99,$O14,'3 Steuerung'!Q$7)","v":31},{"$f":"INDEX('3 Roh-Daten'!$E$10:$BT$99,$O14,'3 Steuerung'!R$7)","v":22},{"$f":"INDEX('3 Roh-Daten'!$E$10:$BT$99,$O14,'3 Steuerung'!S$7)","v":9},null,null,null,1,{"$f":"IF('3'!#REF!=1,\"*\",IF('3'!#REF!=2,\"*\",'3'!B12-'3'!#REF!))","v":{"$error":"#REF!"}}]
[null,"Rheinland-Pfalz","Rheinland-Pfalz,07",9,"      09 DL f.Bergbau u.Gew.v.Steine u.Erden",9,{"$f":"INDEX('3 Roh-Daten'!$F$115:$BU$204,'3 Steuerung'!$F15,G$6)","v":13333},{"$f":"INDEX('3 Roh-Daten'!$F$115:$BU$204,'3 Steuerung'!$F15,H$6)","v":327},{"$f":"INDEX('3 Roh-Daten'!$F$115:$BU$204,'3 Steuerung'!$F15,I$6)","v":207},{"$f":"INDEX('3 Roh-Daten'!$F$115:$BU$204,'3 Steuerung'!$F15,J$6)","v":120},null,null,null,"      08 Gewinn. v.Steinen u.Erden,sonst.Bergbau",8,{"$f":"INDEX('3 Roh-Daten'!$E$10:$BT$99,$O15,'3 Steuerung'!P$7)","v":37982},{"$f":"INDEX('3 Roh-Daten'!$E$10:$BT$99,$O15,'3 Steuerung'!Q$7)","v":4158},{"$f":"INDEX('3 Roh-Daten'!$E$10:$BT$99,$O15,'3 Steuerung'!R$7)","v":2825},{"$f":"INDEX('3 Roh-Daten'!$E$10:$BT$99,$O15,'3 Steuerung'!S$7)","v":1333},null,null,null,2,{"$f":"IF('3'!#REF!=1,\"*\",IF('3'!#REF!=2,\"*\",'3'!B13-'3'!#REF!))","v":{"$error":"#REF!"}}]
[null,"Baden-Württemberg","Baden-Württemberg,08",10,"      10 Hrst. von Nahrungs- und Futtermitteln",10,{"$f":"INDEX('3 Roh-Daten'!$F$115:$BU$204,'3 Steuerung'!$F16,G$6)","v":614467},{"$f":"INDEX('3 Roh-Daten'!$F$115:$BU$204,'3 Steuerung'!$F16,H$6)","v":143903},{"$f":"INDEX('3 Roh-Daten'!$F$115:$BU$204,'3 Steuerung'!$F16,I$6)","v":108347},{"$f":"INDEX('3 Roh-Daten'!$F$115:$BU$204,'3 Steuerung'!$F16,J$6)","v":35556},null,null,null,"      09 DL f.Bergbau u.Gew.v.Steine u.Erden",9,{"$f":"INDEX('3 Roh-Daten'!$E$10:$BT$99,$O16,'3 Steuerung'!P$7)","v":13306},{"$f":"INDEX('3 Roh-Daten'!$E$10:$BT$99,$O16,'3 Steuerung'!Q$7)","v":327},{"$f":"INDEX('3 Roh-Daten'!$E$10:$BT$99,$O16,'3 Steuerung'!R$7)","v":207},{"$f":"INDEX('3 Roh-Daten'!$E$10:$BT$99,$O16,'3 Steuerung'!S$7)","v":120},null,null,null,3,{"$f":"IF('3'!#REF!=1,\"*\",IF('3'!#REF!=2,\"*\",'3'!B14-'3'!#REF!))","v":{"$error":"#REF!"}}]
[null,"Bayern","Bayern,09",11,"      11 Getränkeherstellung",11,{"$f":"INDEX('3 Roh-Daten'!$F$115:$BU$204,'3 Steuerung'!$F17,G$6)","v":67632},{"$f":"INDEX('3 Roh-Daten'!$F$115:$BU$204,'3 Steuerung'!$F17,H$6)","v":13915},{"$f":"INDEX('3 Roh-Daten'!$F$115:$BU$204,'3 Steuerung'!$F17,I$6)","v":9651},{"$f":"INDEX('3 Roh-Daten'!$F$115:$BU$204,'3 Steuerung'!$F17,J$6)","v":4264},null,null,null,"      10 Hrst. von Nahrungs- und Futtermitteln",10,{"$f":"INDEX('3 Roh-Daten'!$E$10:$BT$99,$O17,'3 Steuerung'!P$7)","v":613216},{"$f":"INDEX('3 Roh-Daten'!$E$10:$BT$99,$O17,'3 Steuerung'!Q$7)","v":143752},{"$f":"INDEX('3 Roh-Daten'!$E$10:$BT$99,$O17,'3 Steuerung'!R$7)","v":108232},{"$f":"INDEX('3 Roh-Daten'!$E$10:$BT$99,$O17,'3 Steuerung'!S$7)","v":35520},null,null,null,4,{"$f":"IF('3'!#REF!=1,\"*\",IF('3'!#REF!=2,\"*\",'3'!B15-'3'!#REF!))","v":{"$error":"#REF!"}}]
[null,"Saarland","Saarland,10",12,"      12 Tabakverarbeitung",12,{"$f":"INDEX('3 Roh-Daten'!$F$115:$BU$204,'3 Steuerung'!$F18,G$6)","v":9649},{"$f":"INDEX('3 Roh-Daten'!$F$115:$BU$204,'3 Steuerung'!$F18,H$6)","v":145},{"$f":"INDEX('3 Roh-Daten'!$F$115:$BU$204,'3 Steuerung'!$F18,I$6)","v":107},{"$f":"INDEX('3 Roh-Daten'!$F$115:$BU$204,'3 Steuerung'!$F18,J$6)","v":38},null,null,null,"      11 Getränkeherstellung",11,{"$f":"INDEX('3 Roh-Daten'!$E$10:$BT$99,$O18,'3 Steuerung'!P$7)","v":67519},{"$f":"INDEX('3 Roh-Daten'!$E$10:$BT$99,$O18,'3 Steuerung'!Q$7)","v":13901},{"$f":"INDEX('3 Roh-Daten'!$E$10:$BT$99,$O18,'3 Steuerung'!R$7)","v":9647},{"$f":"INDEX('3 Roh-Daten'!$E$10:$BT$99,$O18,'3 Steuerung'!S$7)","v":4254},null,null,null,5,{"$f":"IF('3'!#REF!=1,\"*\",IF('3'!#REF!=2,\"*\",'3'!B16-'3'!#REF!))","v":{"$error":"#REF!"}}]
[null,"Berlin","Berlin,11",13,"      13 Herstellung von Textilien",13,{"$f":"INDEX('3 Roh-Daten'!$F$115:$BU$204,'3 Steuerung'!$F19,G$6)","v":71428},{"$f":"INDEX('3 Roh-Daten'!$F$115:$BU$204,'3 Steuerung'!$F19,H$6)","v":10370},{"$f":"INDEX('3 Roh-Daten'!$F$115:$BU$204,'3 Steuerung'!$F19,I$6)","v":7504},{"$f":"INDEX('3 Roh-Daten'!$F$115:$BU$204,'3 Steuerung'!$F19,J$6)","v":2866},null,null,null,"      12 Tabakverarbeitung",12,{"$f":"INDEX('3 Roh-Daten'!$E$10:$BT$99,$O19,'3 Steuerung'!P$7)","v":9646},{"$f":"INDEX('3 Roh-Daten'!$E$10:$BT$99,$O19,'3 Steuerung'!Q$7)","v":144},{"$f":"INDEX('3 Roh-Daten'!$E$10:$BT$99,$O19,'3 Steuerung'!R$7)","v":107},{"$f":"INDEX('3 Roh-Daten'!$E$10:$BT$99,$O19,'3 Steuerung'!S$7)","v":37},null,null,null,6,{"$f":"IF('3'!#REF!=1,\"*\",IF('3'!#REF!=2,\"*\",'3'!B17-'3'!#REF!))","v":{"$error":"#REF!"}}]
[null,"Brandenburg","Brandenburg,12",14,"      14 Herstellung von Bekleidung",14,{"$f":"INDEX('3 Roh-Daten'!$F$115:$BU$204,'3 Steuerung'!$F20,G$6)","v":36387},{"$f":"INDEX('3 Roh-Daten'!$F$115:$BU$204,'3 Steuerung'!$F20,H$6)","v":6181},{"$f":"INDEX('3 Roh-Daten'!$F$115:$BU$204,'3 Steuerung'!$F20,I$6)","v":4736},{"$f":"INDEX('3 Roh-Daten'!$F$115:$BU$204,'3 Steuerung'!$F20,J$6)","v":1445},null,null,null,"      13 Herstellung von Textilien",13,{"$f":"INDEX('3 Roh-Daten'!$E$10:$BT$99,$O20,'3 Steuerung'!P$7)","v":71313},{"$f":"INDEX('3 Roh-Daten'!$E$10:$BT$99,$O20,'3 Steuerung'!Q$7)","v":10349},{"$f":"INDEX('3 Roh-Daten'!$E$10:$BT$99,$O20,'3 Steuerung'!R$7)","v":7490},{"$f":"INDEX('3 Roh-Daten'!$E$10:$BT$99,$O20,'3 Steuerung'!S$7)","v":2859},null,null,null,7,{"$f":"IF('3'!#REF!=1,\"*\",IF('3'!#REF!=2,\"*\",'3'!B18-'3'!#REF!))","v":{"$error":"#REF!"}}]
[null,"Mecklenburg-Vorpommern","Mecklenburg-Vorpommern,13",15,"      15 Herstellung v.Leder,Lederwaren u.Schuhen",15,{"$f":"INDEX('3 Roh-Daten'!$F$115:$BU$204,'3 Steuerung'!$F21,G$6)","v":16536},{"$f":"INDEX('3 Roh-Daten'!$F$115:$BU$204,'3 Steuerung'!$F21,H$6)","v":3150},{"$f":"INDEX('3 Roh-Daten'!$F$115:$BU$204,'3 Steuerung'!$F21,I$6)","v":2147},{"$f":"INDEX('3 Roh-Daten'!$F$115:$BU$204,'3 Steuerung'!$F21,J$6)","v":1003},null,null,null,"      14 Herstellung von Bekleidung",14,{"$f":"INDEX('3 Roh-Daten'!$E$10:$BT$99,$O21,'3 Steuerung'!P$7)","v":36312},{"$f":"INDEX('3 Roh-Daten'!$E$10:$BT$99,$O21,'3 Steuerung'!Q$7)","v":6173},{"$f":"INDEX('3 Roh-Daten'!$E$10:$BT$99,$O21,'3 Steuerung'!R$7)","v":4730},{"$f":"INDEX('3 Roh-Daten'!$E$10:$BT$99,$O21,'3 Steuerung'!S$7)","v":1443},null,null,null,8,{"$f":"IF('3'!#REF!=1,\"*\",IF('3'!#REF!=2,\"*\",'3'!B19-'3'!#REF!))","v":{"$error":"#REF!"}}]
[null,"Sachsen","Sachsen,14",16,"      16 Hrst.v.Holz-,Korb-,Korkwaren(ohne Möbel)",16,{"$f":"INDEX('3 Roh-Daten'!$F$115:$BU$204,'3 Steuerung'!$F22,G$6)","v":107312},{"$f":"INDEX('3 Roh-Daten'!$F$115:$BU$204,'3 Steuerung'!$F22,H$6)","v":16851},{"$f":"INDEX('3 Roh-Daten'!$F$115:$BU$204,'3 Steuerung'!$F22,I$6)","v":11290},{"$f":"INDEX('3 Roh-Daten'!$F$115:$BU$204,'3 Steuerung'!$F22,J$6)","v":5561},null,null,null,"      15 Herstellung v.Leder,Lederwaren u.Schuhen",15,{"$f":"INDEX('3 Roh-Daten'!$E$10:$BT$99,$O22,'3 Steuerung'!P$7)","v":16480},{"$f":"INDEX('3 Roh-Daten'!$E$10:$BT$99,$O22,'3 Steuerung'!Q$7)","v":3156},{"$f":"INDEX('3 Roh-Daten'!$E$10:$BT$99,$O22,'3 Steuerung'!R$7)","v":2153},{"$f":"INDEX('3 Roh-Daten'!$E$10:$BT$99,$O22,'3 Steuerung'!S$7)","v":1003},null,null,null,9,{"$f":"IF('3'!#REF!=1,\"*\",IF('3'!#REF!=2,\"*\",'3'!B20-'3'!#REF!))","v":{"$error":"#REF!"}}]
[null,"Sachsen-Anhalt","Sachsen-Anhalt,15",17,"      17 Hrst. v. Papier, Pappe u. Waren daraus",17,{"$f":"INDEX('3 Roh-Daten'!$F$115:$BU$204,'3 Steuerung'!$F23,G$6)","v":123828},{"$f":"INDEX('3 Roh-Daten'!$F$115:$BU$204,'3 Steuerung'!$F23,H$6)","v":8425},{"$f":"INDEX('3 Roh-Daten'!$F$115:$BU$204,'3 Steuerung'!$F23,I$6)","v":5831},{"$f":"INDEX('3 Roh-Daten'!$F$115:$BU$204,'3 Steuerung'!$F23,J$6)","v":2594},null,null,null,"      16 Hrst.v.Holz-,Korb-,Korkwaren(ohne Möbel)",16,{"$f":"INDEX('3 Roh-Daten'!$E$10:$BT$99,$O23,'3 Steuerung'!P$7)","v":107070},{"$f":"INDEX('3 Roh-Daten'!$E$10:$BT$99,$O23,'3 Steuerung'!Q$7)","v":16840},{"$f":"INDEX('3 Roh-Daten'!$E$10:$BT$99,$O23,'3 Steuerung'!R$7)","v":11286},{"$f":"INDEX('3 Roh-Daten'!$E$10:$BT$99,$O23,'3 Steuerung'!S$7)","v":5554},null,null,null,10,{"$f":"IF('3'!#REF!=1,\"*\",IF('3'!#REF!=2,\"*\",'3'!B21-'3'!#REF!))","v":{"$error":"#REF!"}}]
[null,"Thüringen","Thüringen,16",18,"      18 Druckgewerbe u. Vervielältigung",18,{"$f":"INDEX('3 Roh-Daten'!$F$115:$BU$204,'3 Steuerung'!$F24,G$6)","v":138366},{"$f":"INDEX('3 Roh-Daten'!$F$115:$BU$204,'3 Steuerung'!$F24,H$6)","v":44969},{"$f":"INDEX('3 Roh-Daten'!$F$115:$BU$204,'3 Steuerung'!$F24,I$6)","v":31913},{"$f":"INDEX('3 Roh-Daten'!$F$115:$BU$204,'3 Steuerung'!$F24,J$6)","v":13056},null,null,null,"      17 Hrst. v. Papier, Pappe u. Waren daraus",17,{"$f":"INDEX('3 Roh-Daten'!$E$10:$BT$99,$O24,'3 Steuerung'!P$7)","v":123649},{"$f":"INDEX('3 Roh-Daten'!$E$10:$BT$99,$O24,'3 Steuerung'!Q$7)","v":8416},{"$f":"INDEX('3 Roh-Daten'!$E$10:$BT$99,$O24,'3 Steuerung'!R$7)","v":5833},{"$f":"INDEX('3 Roh-Daten'!$E$10:$BT$99,$O24,'3 Steuerung'!S$7)","v":2583},null,null,null,11,{"$f":"IF('3'!#REF!=1,\"*\",IF('3'!#REF!=2,\"*\",'3'!B22-'3'!#REF!))","v":{"$error":"#REF!"}}]
[null,null,null,19,"      19 Kokerei und Mineralölverarbeitung",19,{"$f":"INDEX('3 Roh-Daten'!$F$115:$BU$204,'3 Steuerung'!$F25,G$6)","v":25040},{"$f":"INDEX('3 Roh-Daten'!$F$115:$BU$204,'3 Steuerung'!$F25,H$6)","v":382},{"$f":"INDEX('3 Roh-Daten'!$F$115:$BU$204,'3 Steuerung'!$F25,I$6)","v":253},{"$f":"INDEX('3 Roh-Daten'!$F$115:$BU$204,'3 Steuerung'!$F25,J$6)","v":129},null,null,null,"      18 Druckgewerbe u. Vervielältigung",18,{"$f":"INDEX('3 Roh-Daten'!$E$10:$BT$99,$O25,'3 Steuerung'!P$7)","v":138108},{"$f":"INDEX('3 Roh-Daten'!$E$10:$BT$99,$O25,'3 Steuerung'!Q$7)","v":44931},{"$f":"INDEX('3 Roh-Daten'!$E$10:$BT$99,$O25,'3 Steuerung'!R$7)","v":31924},{"$f":"INDEX('3 Roh-Daten'!$E$10:$BT$99,$O25,'3 Steuerung'!S$7)","v":13007},null,null,null,12,{"$f":"IF('3'!#REF!=1,\"*\",IF('3'!#REF!=2,\"*\",'3'!B23-'3'!#REF!))","v":{"$error":"#REF!"}}]
[null,null,null,20,"      20 Herstellung von chemischen Erzeugnissen",20,{"$f":"INDEX('3 Roh-Daten'!$F$115:$BU$204,'3 Steuerung'!$F26,G$6)","v":322064},{"$f":"INDEX('3 Roh-Daten'!$F$115:$BU$204,'3 Steuerung'!$F26,H$6)","v":9991},{"$f":"INDEX('3 Roh-Daten'!$F$115:$BU$204,'3 Steuerung'!$F26,I$6)","v":7119},{"$f":"INDEX('3 Roh-Daten'!$F$115:$BU$204,'3 Steuerung'!$F26,J$6)","v":2872},null,null,null,"      19 Kokerei und Mineralölverarbeitung",19,{"$f":"INDEX('3 Roh-Daten'!$E$10:$BT$99,$O26,'3 Steuerung'!P$7)","v":24993},{"$f":"INDEX('3 Roh-Daten'!$E$10:$BT$99,$O26,'3 Steuerung'!Q$7)","v":385},{"$f":"INDEX('3 Roh-Daten'!$E$10:$BT$99,$O26,'3 Steuerung'!R$7)","v":254},{"$f":"INDEX('3 Roh-Daten'!$E$10:$BT$99,$O26,'3 Steuerung'!S$7)","v":131},null,null,null,13,{"$f":"IF('3'!#REF!=1,\"*\",IF('3'!#REF!=2,\"*\",'3'!B24-'3'!#REF!))","v":{"$error":"#REF!"}}]
[null,null,null,21,"      21 Herstellung v. pharmazeut. Erzeugnissen",21,{"$f":"INDEX('3 Roh-Daten'!$F$115:$BU$204,'3 Steuerung'!$F27,G$6)","v":153823},{"$f":"INDEX('3 Roh-Daten'!$F$115:$BU$204,'3 Steuerung'!$F27,H$6)","v":2234},{"$f":"INDEX('3 Roh-Daten'!$F$115:$BU$204,'3 Steuerung'!$F27,I$6)","v":1605},{"$f":"INDEX('3 Roh-Daten'!$F$115:$BU$204,'3 Steuerung'!$F27,J$6)","v":629},null,null,null,"      20 Herstellung von chemischen Erzeugnissen",20,{"$f":"INDEX('3 Roh-Daten'!$E$10:$BT$99,$O27,'3 Steuerung'!P$7)","v":321060},{"$f":"INDEX('3 Roh-Daten'!$E$10:$BT$99,$O27,'3 Steuerung'!Q$7)","v":9977},{"$f":"INDEX('3 Roh-Daten'!$E$10:$BT$99,$O27,'3 Steuerung'!R$7)","v":7120},{"$f":"INDEX('3 Roh-Daten'!$E$10:$BT$99,$O27,'3 Steuerung'!S$7)","v":2857},null,null,null,14,{"$f":"IF('3'!#REF!=1,\"*\",IF('3'!#REF!=2,\"*\",'3'!B25-'3'!#REF!))","v":{"$error":"#REF!"}}]
[null,null,null,22,"      22 Herstellung v. Gummi- u. Kunststoffwaren",22,{"$f":"INDEX('3 Roh-Daten'!$F$115:$BU$204,'3 Steuerung'!$F28,G$6)","v":384150},{"$f":"INDEX('3 Roh-Daten'!$F$115:$BU$204,'3 Steuerung'!$F28,H$6)","v":28868},{"$f":"INDEX('3 Roh-Daten'!$F$115:$BU$204,'3 Steuerung'!$F28,I$6)","v":19509},{"$f":"INDEX('3 Roh-Daten'!$F$115:$BU$204,'3 Steuerung'!$F28,J$6)","v":9359},null,null,null,"      21 Herstellung v. pharmazeut. Erzeugnissen",21,{"$f":"INDEX('3 Roh-Daten'!$E$10:$BT$99,$O28,'3 Steuerung'!P$7)","v":152857},{"$f":"INDEX('3 Roh-Daten'!$E$10:$BT$99,$O28,'3 Steuerung'!Q$7)","v":2237},{"$f":"INDEX('3 Roh-Daten'!$E$10:$BT$99,$O28,'3 Steuerung'!R$7)","v":1605},{"$f":"INDEX('3 Roh-Daten'!$E$10:$BT$99,$O28,'3 Steuerung'!S$7)","v":632},null,null,null,15,{"$f":"IF('3'!#REF!=1,\"*\",IF('3'!#REF!=2,\"*\",'3'!B26-'3'!#REF!))","v":{"$error":"#REF!"}}]
[null,null,null,23,"      23 Hrst.v.Glas,Keramik,Verarb.Steine+Erden",23,{"$f":"INDEX('3 Roh-Daten'!$F$115:$BU$204,'3 Steuerung'!$F29,G$6)","v":199123},{"$f":"INDEX('3 Roh-Daten'!$F$115:$BU$204,'3 Steuerung'!$F29,H$6)","v":16889},{"$f":"INDEX('3 Roh-Daten'!$F$115:$BU$204,'3 Steuerung'!$F29,I$6)","v":11674},{"$f":"INDEX('3 Roh-Daten'!$F$115:$BU$204,'3 Steuerung'!$F29,J$6)","v":5215},null,null,null,"      22 Herstellung v. Gummi- u. Kunststoffwaren",22,{"$f":"INDEX('3 Roh-Daten'!$E$10:$BT$99,$O29,'3 Steuerung'!P$7)","v":383198},{"$f":"INDEX('3 Roh-Daten'!$E$10:$BT$99,$O29,'3 Steuerung'!Q$7)","v":28860},{"$f":"INDEX('3 Roh-Daten'!$E$10:$BT$99,$O29,'3 Steuerung'!R$7)","v":19523},{"$f":"INDEX('3 Roh-Daten'!$E$10:$BT$99,$O29,'3 Steuerung'!S$7)","v":9337},null,null,null,16,{"$f":"IF('3'!#REF!=1,\"*\",IF('3'!#REF!=2,\"*\",'3'!B27-'3'!#REF!))","v":{"$error":"#REF!"}}]
[null,null,null,24,"      24 Metallerzeugung und -bearbeitung",24,{"$f":"INDEX('3 Roh-Daten'!$F$115:$BU$204,'3 Steuerung'!$F30,G$6)","v":290819},{"$f":"INDEX('3 Roh-Daten'!$F$115:$BU$204,'3 Steuerung'!$F30,H$6)","v":9579},{"$f":"INDEX('3 Roh-Daten'!$F$115:$BU$204,'3 Steuerung'!$F30,I$6)","v":6555},{"$f":"INDEX('3 Roh-Daten'!$F$115:$BU$204,'3 Steuerung'!$F30,J$6)","v":3024},null,null,null,"      23 Hrst.v.Glas,Keramik,Verarb.Steine+Erden",23,{"$f":"INDEX('3 Roh-Daten'!$E$10:$BT$99,$O30,'3 Steuerung'!P$7)","v":198680},{"$f":"INDEX('3 Roh-Daten'!$E$10:$BT$99,$O30,'3 Steuerung'!Q$7)","v":16876},{"$f":"INDEX('3 Roh-Daten'!$E$10:$BT$99,$O30,'3 Steuerung'!R$7)","v":11674},{"$f":"INDEX('3 Roh-Daten'!$E$10:$BT$99,$O30,'3 Steuerung'!S$7)","v":5202},null,null,null,17,{"$f":"IF('3'!#REF!=1,\"*\",IF('3'!#REF!=2,\"*\",'3'!B28-'3'!#REF!))","v":{"$error":"#REF!"}}]
[null,null,null,25,"      25 Herstellung von Metallerzeugnissen",25,{"$f":"INDEX('3 Roh-Daten'!$F$115:$BU$204,'3 Steuerung'!$F31,G$6)","v":795178},{"$f":"INDEX('3 Roh-Daten'!$F$115:$BU$204,'3 Steuerung'!$F31,H$6)","v":104496},{"$f":"INDEX('3 Roh-Daten'!$F$115:$BU$204,'3 Steuerung'!$F31,I$6)","v":64564},{"$f":"INDEX('3 Roh-Daten'!$F$115:$BU$204,'3 Steuerung'!$F31,J$6)","v":39932},null,null,null,"      24 Metallerzeugung und -bearbeitung",24,{"$f":"INDEX('3 Roh-Daten'!$E$10:$BT$99,$O31,'3 Steuerung'!P$7)","v":289698},{"$f":"INDEX('3 Roh-Daten'!$E$10:$BT$99,$O31,'3 Steuerung'!Q$7)","v":9576},{"$f":"INDEX('3 Roh-Daten'!$E$10:$BT$99,$O31,'3 Steuerung'!R$7)","v":6562},{"$f":"INDEX('3 Roh-Daten'!$E$10:$BT$99,$O31,'3 Steuerung'!S$7)","v":3014},null,null,null,18,{"$f":"IF('3'!#REF!=1,\"*\",IF('3'!#REF!=2,\"*\",'3'!B29-'3'!#REF!))","v":{"$error":"#REF!"}}]
[null,null,null,26,"      26 Hrst. v.DV-Gerät., elektr.u.opt.Erzeugn.",26,{"$f":"INDEX('3 Roh-Daten'!$F$115:$BU$204,'3 Steuerung'!$F32,G$6)","v":410889},{"$f":"INDEX('3 Roh-Daten'!$F$115:$BU$204,'3 Steuerung'!$F32,H$6)","v":19064},{"$f":"INDEX('3 Roh-Daten'!$F$115:$BU$204,'3 Steuerung'!$F32,I$6)","v":13109},{"$f":"INDEX('3 Roh-Daten'!$F$115:$BU$204,'3 Steuerung'!$F32,J$6)","v":5955},null,null,null,"      25 Herstellung von Metallerzeugnissen",25,{"$f":"INDEX('3 Roh-Daten'!$E$10:$BT$99,$O32,'3 Steuerung'!P$7)","v":793344},{"$f":"INDEX('3 Roh-Daten'!$E$10:$BT$99,$O32,'3 Steuerung'!Q$7)","v":104400},{"$f":"INDEX('3 Roh-Daten'!$E$10:$BT$99,$O32,'3 Steuerung'!R$7)","v":64594},{"$f":"INDEX('3 Roh-Daten'!$E$10:$BT$99,$O32,'3 Steuerung'!S$7)","v":39806},null,null,null,19,{"$f":"IF('3'!#REF!=1,\"*\",IF('3'!#REF!=2,\"*\",'3'!B30-'3'!#REF!))","v":{"$error":"#REF!"}}]
[null,null,null,27,"      27 Herstellung v. elektrischen Ausrüstungen",27,{"$f":"INDEX('3 Roh-Daten'!$F$115:$BU$204,'3 Steuerung'!$F33,G$6)","v":352667},{"$f":"INDEX('3 Roh-Daten'!$F$115:$BU$204,'3 Steuerung'!$F33,H$6)","v":15706},{"$f":"INDEX('3 Roh-Daten'!$F$115:$BU$204,'3 Steuerung'!$F33,I$6)","v":10507},{"$f":"INDEX('3 Roh-Daten'!$F$115:$BU$204,'3 Steuerung'!$F33,J$6)","v":5199},null,null,null,"      26 Hrst. v.DV-Gerät., elektr.u.opt.Erzeugn.",26,{"$f":"INDEX('3 Roh-Daten'!$E$10:$BT$99,$O33,'3 Steuerung'!P$7)","v":410188},{"$f":"INDEX('3 Roh-Daten'!$E$10:$BT$99,$O33,'3 Steuerung'!Q$7)","v":19046},{"$f":"INDEX('3 Roh-Daten'!$E$10:$BT$99,$O33,'3 Steuerung'!R$7)","v":13102},{"$f":"INDEX('3 Roh-Daten'!$E$10:$BT$99,$O33,'3 Steuerung'!S$7)","v":5944},null,null,null,20,{"$f":"IF('3'!#REF!=1,\"*\",IF('3'!#REF!=2,\"*\",'3'!B31-'3'!#REF!))","v":{"$error":"#REF!"}}]
[null,null,null,28,"      28 Maschinenbau",28,{"$f":"INDEX('3 Roh-Daten'!$F$115:$BU$204,'3 Steuerung'!$F34,G$6)","v":1022777},{"$f":"INDEX('3 Roh-Daten'!$F$115:$BU$204,'3 Steuerung'!$F34,H$6)","v":44833},{"$f":"INDEX('3 Roh-Daten'!$F$115:$BU$204,'3 Steuerung'!$F34,I$6)","v":30186},{"$f":"INDEX('3 Roh-Daten'!$F$115:$BU$204,'3 Steuerung'!$F34,J$6)","v":14647},null,null,null,"      27 Herstellung v. elektrischen Ausrüstungen",27,{"$f":"INDEX('3 Roh-Daten'!$E$10:$BT$99,$O34,'3 Steuerung'!P$7)","v":352008},{"$f":"INDEX('3 Roh-Daten'!$E$10:$BT$99,$O34,'3 Steuerung'!Q$7)","v":15669},{"$f":"INDEX('3 Roh-Daten'!$E$10:$BT$99,$O34,'3 Steuerung'!R$7)","v":10492},{"$f":"INDEX('3 Roh-Daten'!$E$10:$BT$99,$O34,'3 Steuerung'!S$7)","v":5177},null,null,null,21,{"$f":"IF('3'!#REF!=1,\"*\",IF('3'!#REF!=2,\"*\",'3'!B32-'3'!#REF!))","v":{"$error":"#REF!"}}]
[null,null,null,29,"      29 Hrst. v. Kraftwagen u. Kraftwagenteilen",29,{"$f":"INDEX('3 Roh-Daten'!$F$115:$BU$204,'3 Steuerung'!$F35,G$6)","v":908896},{"$f":"INDEX('3 Roh-Daten'!$F$115:$BU$204,'3 Steuerung'!$F35,H$6)","v":10163},{"$f":"INDEX('3 Roh-Daten'!$F$115:$BU$204,'3 Steuerung'!$F35,I$6)","v":7917},{"$f":"INDEX('3 Roh-Daten'!$F$115:$BU$204,'3 Steuerung'!$F35,J$6)","v":2246},null,null,null,"      28 Maschinenbau",28,{"$f":"INDEX('3 Roh-Daten'!$E$10:$BT$99,$O35,'3 Steuerung'!P$7)","v":1020187},{"$f":"INDEX('3 Roh-Daten'!$E$10:$BT$99,$O35,'3 Steuerung'!Q$7)","v":44792},{"$f":"INDEX('3 Roh-Daten'!$E$10:$BT$99,$O35,'3 Steuerung'!R$7)","v":30184},{"$f":"INDEX('3 Roh-Daten'!$E$10:$BT$99,$O35,'3 Steuerung'!S$7)","v":14608},null,null,null,22,{"$f":"IF('3'!#REF!=1,\"*\",IF('3'!#REF!=2,\"*\",'3'!B33-'3'!#REF!))","v":{"$error":"#REF!"}}]
[null,null,null,30,"      30 Sonstiger Fahrzeugbau",30,{"$f":"INDEX('3 Roh-Daten'!$F$115:$BU$204,'3 Steuerung'!$F36,G$6)","v":155679},{"$f":"INDEX('3 Roh-Daten'!$F$115:$BU$204,'3 Steuerung'!$F36,H$6)","v":2607},{"$f":"INDEX('3 Roh-Daten'!$F$115:$BU$204,'3 Steuerung'!$F36,I$6)","v":1788},{"$f":"INDEX('3 Roh-Daten'!$F$115:$BU$204,'3 Steuerung'!$F36,J$6)","v":819},null,null,null,"      29 Hrst. v. Kraftwagen u. Kraftwagenteilen",29,{"$f":"INDEX('3 Roh-Daten'!$E$10:$BT$99,$O36,'3 Steuerung'!P$7)","v":907272},{"$f":"INDEX('3 Roh-Daten'!$E$10:$BT$99,$O36,'3 Steuerung'!Q$7)","v":10153},{"$f":"INDEX('3 Roh-Daten'!$E$10:$BT$99,$O36,'3 Steuerung'!R$7)","v":7917},{"$f":"INDEX('3 Roh-Daten'!$E$10:$BT$99,$O36,'3 Steuerung'!S$7)","v":2236},null,null,null,23,{"$f":"IF('3'!#REF!=1,\"*\",IF('3'!#REF!=2,\"*\",'3'!B34-'3'!#REF!))","v":{"$error":"#REF!"}}]
[null,null,null,31,"      31 Herstellung von Möbeln",31,{"$f":"INDEX('3 Roh-Daten'!$F$115:$BU$204,'3 Steuerung'!$F37,G$6)","v":114257},{"$f":"INDEX('3 Roh-Daten'!$F$115:$BU$204,'3 Steuerung'!$F37,H$6)","v":13064},{"$f":"INDEX('3 Roh-Daten'!$F$115:$BU$204,'3 Steuerung'!$F37,I$6)","v":8882},{"$f":"INDEX('3 Roh-Daten'!$F$115:$BU$204,'3 Steuerung'!$F37,J$6)","v":4182},null,null,null,"      30 Sonstiger Fahrzeugbau",30,{"$f":"INDEX('3 Roh-Daten'!$E$10:$BT$99,$O37,'3 Steuerung'!P$7)","v":155468},{"$f":"INDEX('3 Roh-Daten'!$E$10:$BT$99,$O37,'3 Steuerung'!Q$7)","v":2606},{"$f":"INDEX('3 Roh-Daten'!$E$10:$BT$99,$O37,'3 Steuerung'!R$7)","v":1788},{"$f":"INDEX('3 Roh-Daten'!$E$10:$BT$99,$O37,'3 Steuerung'!S$7)","v":818},null,null,null,24,{"$f":"IF('3'!#REF!=1,\"*\",IF('3'!#REF!=2,\"*\",'3'!B35-'3'!#REF!))","v":{"$error":"#REF!"}}]
[null,null,null,32,"      32 Herstellung von sonstigen Waren",32,{"$f":"INDEX('3 Roh-Daten'!$F$115:$BU$204,'3 Steuerung'!$F38,G$6)","v":242623},{"$f":"INDEX('3 Roh-Daten'!$F$115:$BU$204,'3 Steuerung'!$F38,H$6)","v":39864},{"$f":"INDEX('3 Roh-Daten'!$F$115:$BU$204,'3 Steuerung'!$F38,I$6)","v":27159},{"$f":"INDEX('3 Roh-Daten'!$F$115:$BU$204,'3 Steuerung'!$F38,J$6)","v":12705},null,null,null,"      31 Herstellung von Möbeln",31,{"$f":"INDEX('3 Roh-Daten'!$E$10:$BT$99,$O38,'3 Steuerung'!P$7)","v":114043},{"$f":"INDEX('3 Roh-Daten'!$E$10:$BT$99,$O38,'3 Steuerung'!Q$7)","v":13045},{"$f":"INDEX('3 Roh-Daten'!$E$10:$BT$99,$O38,'3 Steuerung'!R$7)","v":8874},{"$f":"INDEX('3 Roh-Daten'!$E$10:$BT$99,$O38,'3 Steuerung'!S$7)","v":4171},null,null,null,25,{"$f":"IF('3'!#REF!=1,\"*\",IF('3'!#REF!=2,\"*\",'3'!B36-'3'!#REF!))","v":{"$error":"#REF!"}}]
[null,null,null,33,"      33 Rep. u.Install. v. Masch. u.Ausrüstungen",33,{"$f":"INDEX('3 Roh-Daten'!$F$115:$BU$204,'3 Steuerung'!$F39,G$6)","v":161671},{"$f":"INDEX('3 Roh-Daten'!$F$115:$BU$204,'3 Steuerung'!$F39,H$6)","v":26795},{"$f":"INDEX('3 Roh-Daten'!$F$115:$BU$204,'3 Steuerung'!$F39,I$6)","v":14529},{"$f":"INDEX('3 Roh-Daten'!$F$115:$BU$204,'3 Steuerung'!$F39,J$6)","v":12266},null,null,null,"      32 Herstellung von sonstigen Waren",32,{"$f":"INDEX('3 Roh-Daten'!$E$10:$BT$99,$O39,'3 Steuerung'!P$7)","v":242074},{"$f":"INDEX('3 Roh-Daten'!$E$10:$BT$99,$O39,'3 Steuerung'!Q$7)","v":39722},{"$f":"INDEX('3 Roh-Daten'!$E$10:$BT$99,$O39,'3 Steuerung'!R$7)","v":27076},{"$f":"INDEX('3 Roh-Daten'!$E$10:$BT$99,$O39,'3 Steuerung'!S$7)","v":12646},null,null,null,26,{"$f":"IF('3'!#REF!=1,\"*\",IF('3'!#REF!=2,\"*\",'3'!B37-'3'!#REF!))","v":{"$error":"#REF!"}}]
[null,null,null,34,"      35 Energieversorgung",34,{"$f":"INDEX('3 Roh-Daten'!$F$115:$BU$204,'3 Steuerung'!$F40,G$6)","v":226726},{"$f":"INDEX('3 Roh-Daten'!$F$115:$BU$204,'3 Steuerung'!$F40,H$6)","v":12069},{"$f":"INDEX('3 Roh-Daten'!$F$115:$BU$204,'3 Steuerung'!$F40,I$6)","v":6358},{"$f":"INDEX('3 Roh-Daten'!$F$115:$BU$204,'3 Steuerung'!$F40,J$6)","v":5711},null,null,null,"      33 Rep. u.Install. v. Masch. u.Ausrüstungen",33,{"$f":"INDEX('3 Roh-Daten'!$E$10:$BT$99,$O40,'3 Steuerung'!P$7)","v":161264},{"$f":"INDEX('3 Roh-Daten'!$E$10:$BT$99,$O40,'3 Steuerung'!Q$7)","v":26760},{"$f":"INDEX('3 Roh-Daten'!$E$10:$BT$99,$O40,'3 Steuerung'!R$7)","v":14527},{"$f":"INDEX('3 Roh-Daten'!$E$10:$BT$99,$O40,'3 Steuerung'!S$7)","v":12233},null,null,null,27,{"$f":"IF('3'!#REF!=1,\"*\",IF('3'!#REF!=2,\"*\",'3'!B38-'3'!#REF!))","v":{"$error":"#REF!"}}]
[null,null,null,35,"      36 Wasserversorgung",35,{"$f":"INDEX('3 Roh-Daten'!$F$115:$BU$204,'3 Steuerung'!$F41,G$6)","v":37030},{"$f":"INDEX('3 Roh-Daten'!$F$115:$BU$204,'3 Steuerung'!$F41,H$6)","v":2079},{"$f":"INDEX('3 Roh-Daten'!$F$115:$BU$204,'3 Steuerung'!$F41,I$6)","v":1342},{"$f":"INDEX('3 Roh-Daten'!$F$115:$BU$204,'3 Steuerung'!$F41,J$6)","v":737},null,null,null,"      35 Energieversorgung",34,{"$f":"INDEX('3 Roh-Daten'!$E$10:$BT$99,$O41,'3 Steuerung'!P$7)","v":226365},{"$f":"INDEX('3 Roh-Daten'!$E$10:$BT$99,$O41,'3 Steuerung'!Q$7)","v":12048},{"$f":"INDEX('3 Roh-Daten'!$E$10:$BT$99,$O41,'3 Steuerung'!R$7)","v":6359},{"$f":"INDEX('3 Roh-Daten'!$E$10:$BT$99,$O41,'3 Steuerung'!S$7)","v":5689},null,null,null,28,{"$f":"IF('3'!#REF!=1,\"*\",IF('3'!#REF!=2,\"*\",'3'!B39-'3'!#REF!))","v":{"$error":"#REF!"}}]
[null,null,null,36,"      37 Abwasserentsorgung",36,{"$f":"INDEX('3 Roh-Daten'!$F$115:$BU$204,'3 Steuerung'!$F42,G$6)","v":30690},{"$f":"INDEX('3 Roh-Daten'!$F$115:$BU$204,'3 Steuerung'!$F42,H$6)","v":3206},{"$f":"INDEX('3 Roh-Daten'!$F$115:$BU$204,'3 Steuerung'!$F42,I$6)","v":1877},{"$f":"INDEX('3 Roh-Daten'!$F$115:$BU$204,'3 Steuerung'!$F42,J$6)","v":1329},null,null,null,"      36 Wasserversorgung",35,{"$f":"INDEX('3 Roh-Daten'!$E$10:$BT$99,$O42,'3 Steuerung'!P$7)","v":36951},{"$f":"INDEX('3 Roh-Daten'!$E$10:$BT$99,$O42,'3 Steuerung'!Q$7)","v":2079},{"$f":"INDEX('3 Roh-Daten'!$E$10:$BT$99,$O42,'3 Steuerung'!R$7)","v":1342},{"$f":"INDEX('3 Roh-Daten'!$E$10:$BT$99,$O42,'3 Steuerung'!S$7)","v":737},null,null,null,29,{"$f":"IF('3'!#REF!=1,\"*\",IF('3'!#REF!=2,\"*\",'3'!B40-'3'!#REF!))","v":{"$error":"#REF!"}}]
[null,null,null,37,"      38 Sammlung,Abfallbeseitigung,Rückgewinnung",37,{"$f":"INDEX('3 Roh-Daten'!$F$115:$BU$204,'3 Steuerung'!$F43,G$6)","v":166906},{"$f":"INDEX('3 Roh-Daten'!$F$115:$BU$204,'3 Steuerung'!$F43,H$6)","v":16014},{"$f":"INDEX('3 Roh-Daten'!$F$115:$BU$204,'3 Steuerung'!$F43,I$6)","v":10247},{"$f":"INDEX('3 Roh-Daten'!$F$115:$BU$204,'3 Steuerung'!$F43,J$6)","v":5767},null,null,null,"      37 Abwasserentsorgung",36,{"$f":"INDEX('3 Roh-Daten'!$E$10:$BT$99,$O43,'3 Steuerung'!P$7)","v":30622},{"$f":"INDEX('3 Roh-Daten'!$E$10:$BT$99,$O43,'3 Steuerung'!Q$7)","v":3202},{"$f":"INDEX('3 Roh-Daten'!$E$10:$BT$99,$O43,'3 Steuerung'!R$7)","v":1875},{"$f":"INDEX('3 Roh-Daten'!$E$10:$BT$99,$O43,'3 Steuerung'!S$7)","v":1327},null,null,null,30,{"$f":"IF('3'!#REF!=1,\"*\",IF('3'!#REF!=2,\"*\",'3'!B41-'3'!#REF!))","v":{"$error":"#REF!"}}]
[null,null,null,38,"      39 Beseitig. v.UW-Verschm. u.sonst.Entsorg.",38,{"$f":"INDEX('3 Roh-Daten'!$F$115:$BU$204,'3 Steuerung'!$F44,G$6)","v":3268},{"$f":"INDEX('3 Roh-Daten'!$F$115:$BU$204,'3 Steuerung'!$F44,H$6)","v":303},{"$f":"INDEX('3 Roh-Daten'!$F$115:$BU$204,'3 Steuerung'!$F44,I$6)","v":193},{"$f":"INDEX('3 Roh-Daten'!$F$115:$BU$204,'3 Steuerung'!$F44,J$6)","v":110},null,null,null,"      38 Sammlung,Abfallbeseitigung,Rückgewinnung",37,{"$f":"INDEX('3 Roh-Daten'!$E$10:$BT$99,$O44,'3 Steuerung'!P$7)","v":166544},{"$f":"INDEX('3 Roh-Daten'!$E$10:$BT$99,$O44,'3 Steuerung'!Q$7)","v":16008},{"$f":"INDEX('3 Roh-Daten'!$E$10:$BT$99,$O44,'3 Steuerung'!R$7)","v":10246},{"$f":"INDEX('3 Roh-Daten'!$E$10:$BT$99,$O44,'3 Steuerung'!S$7)","v":5762},null,null,null,31,{"$f":"IF('3'!#REF!=1,\"*\",IF('3'!#REF!=2,\"*\",'3'!B42-'3'!#REF!))","v":{"$error":"#REF!"}}]
[null,null,null,39,"      41 Hochbau",39,{"$f":"INDEX('3 Roh-Daten'!$F$115:$BU$204,'3 Steuerung'!$F45,G$6)","v":283124},{"$f":"INDEX('3 Roh-Daten'!$F$115:$BU$204,'3 Steuerung'!$F45,H$6)","v":38212},{"$f":"INDEX('3 Roh-Daten'!$F$115:$BU$204,'3 Steuerung'!$F45,I$6)","v":24414},{"$f":"INDEX('3 Roh-Daten'!$F$115:$BU$204,'3 Steuerung'!$F45,J$6)","v":13798},null,null,null,"      39 Beseitig. v.UW-Verschm. u.sonst.Entsorg.",38,{"$f":"INDEX('3 Roh-Daten'!$E$10:$BT$99,$O45,'3 Steuerung'!P$7)","v":3251},{"$f":"INDEX('3 Roh-Daten'!$E$10:$BT$99,$O45,'3 Steuerung'!Q$7)","v":304},{"$f":"INDEX('3 Roh-Daten'!$E$10:$BT$99,$O45,'3 Steuerung'!R$7)","v":194},{"$f":"INDEX('3 Roh-Daten'!$E$10:$BT$99,$O45,'3 Steuerung'!S$7)","v":110},null,null,null,32,{"$f":"IF('3'!#REF!=1,\"*\",IF('3'!#REF!=2,\"*\",'3'!B43-'3'!#REF!))","v":{"$error":"#REF!"}}]
[null,null,null,40,"      42 Tiefbau",40,{"$f":"INDEX('3 Roh-Daten'!$F$115:$BU$204,'3 Steuerung'!$F46,G$6)","v":204279},{"$f":"INDEX('3 Roh-Daten'!$F$115:$BU$204,'3 Steuerung'!$F46,H$6)","v":15150},{"$f":"INDEX('3 Roh-Daten'!$F$115:$BU$204,'3 Steuerung'!$F46,I$6)","v":10119},{"$f":"INDEX('3 Roh-Daten'!$F$115:$BU$204,'3 Steuerung'!$F46,J$6)","v":5031},null,null,null,"      41 Hochbau",39,{"$f":"INDEX('3 Roh-Daten'!$E$10:$BT$99,$O46,'3 Steuerung'!P$7)","v":282897},{"$f":"INDEX('3 Roh-Daten'!$E$10:$BT$99,$O46,'3 Steuerung'!Q$7)","v":38195},{"$f":"INDEX('3 Roh-Daten'!$E$10:$BT$99,$O46,'3 Steuerung'!R$7)","v":24447},{"$f":"INDEX('3 Roh-Daten'!$E$10:$BT$99,$O46,'3 Steuerung'!S$7)","v":13748},null,null,null,33,{"$f":"IF('3'!#REF!=1,\"*\",IF('3'!#REF!=2,\"*\",'3'!B44-'3'!#REF!))","v":{"$error":"#REF!"}}]
[null,null,null,41,"      43 Vorber.Baust.arb.,Bauinst.,so.Ausbaugew.",41,{"$f":"INDEX('3 Roh-Daten'!$F$115:$BU$204,'3 Steuerung'!$F47,G$6)","v":1261404},{"$f":"INDEX('3 Roh-Daten'!$F$115:$BU$204,'3 Steuerung'!$F47,H$6)","v":254959},{"$f":"INDEX('3 Roh-Daten'!$F$115:$BU$204,'3 Steuerung'!$F47,I$6)","v":161375},{"$f":"INDEX('3 Roh-Daten'!$F$115:$BU$204,'3 Steuerung'!$F47,J$6)","v":93584},null,null,null,"      42 Tiefbau",40,{"$f":"INDEX('3 Roh-Daten'!$E$10:$BT$99,$O47,'3 Steuerung'!P$7)","v":204184},{"$f":"INDEX('3 Roh-Daten'!$E$10:$BT$99,$O47,'3 Steuerung'!Q$7)","v":15146},{"$f":"INDEX('3 Roh-Daten'!$E$10:$BT$99,$O47,'3 Steuerung'!R$7)","v":10130},{"$f":"INDEX('3 Roh-Daten'!$E$10:$BT$99,$O47,'3 Steuerung'!S$7)","v":5016},null,null,null,34,{"$f":"IF('3'!#REF!=1,\"*\",IF('3'!#REF!=2,\"*\",'3'!B45-'3'!#REF!))","v":{"$error":"#REF!"}}]
[null,null,null,42,"      45 Handel m. Kfz; Inst.halt. u. Rep. v. Kfz",42,{"$f":"INDEX('3 Roh-Daten'!$F$115:$BU$204,'3 Steuerung'!$F48,G$6)","v":630351},{"$f":"INDEX('3 Roh-Daten'!$F$115:$BU$204,'3 Steuerung'!$F48,H$6)","v":124152},{"$f":"INDEX('3 Roh-Daten'!$F$115:$BU$204,'3 Steuerung'!$F48,I$6)","v":83359},{"$f":"INDEX('3 Roh-Daten'!$F$115:$BU$204,'3 Steuerung'!$F48,J$6)","v":40793},null,null,null,"      43 Vorber.Baust.arb.,Bauinst.,so.Ausbaugew.",41,{"$f":"INDEX('3 Roh-Daten'!$E$10:$BT$99,$O48,'3 Steuerung'!P$7)","v":1259635},{"$f":"INDEX('3 Roh-Daten'!$E$10:$BT$99,$O48,'3 Steuerung'!Q$7)","v":254728},{"$f":"INDEX('3 Roh-Daten'!$E$10:$BT$99,$O48,'3 Steuerung'!R$7)","v":161368},{"$f":"INDEX('3 Roh-Daten'!$E$10:$BT$99,$O48,'3 Steuerung'!S$7)","v":93360},null,null,null,35,{"$f":"IF('3'!#REF!=1,\"*\",IF('3'!#REF!=2,\"*\",'3'!B46-'3'!#REF!))","v":{"$error":"#REF!"}}]
[null,null,null,43,"      46 Großhandel (ohne Handel mit Kfz)",43,{"$f":"INDEX('3 Roh-Daten'!$F$115:$BU$204,'3 Steuerung'!$F49,G$6)","v":1351083},{"$f":"INDEX('3 Roh-Daten'!$F$115:$BU$204,'3 Steuerung'!$F49,H$6)","v":242498},{"$f":"INDEX('3 Roh-Daten'!$F$115:$BU$204,'3 Steuerung'!$F49,I$6)","v":162099},{"$f":"INDEX('3 Roh-Daten'!$F$115:$BU$204,'3 Steuerung'!$F49,J$6)","v":80399},null,null,null,"      45 Handel m. Kfz; Inst.halt. u. Rep. v. Kfz",42,{"$f":"INDEX('3 Roh-Daten'!$E$10:$BT$99,$O49,'3 Steuerung'!P$7)","v":628658},{"$f":"INDEX('3 Roh-Daten'!$E$10:$BT$99,$O49,'3 Steuerung'!Q$7)","v":123920},{"$f":"INDEX('3 Roh-Daten'!$E$10:$BT$99,$O49,'3 Steuerung'!R$7)","v":83252},{"$f":"INDEX('3 Roh-Daten'!$E$10:$BT$99,$O49,'3 Steuerung'!S$7)","v":40668},null,null,null,36,{"$f":"IF('3'!#REF!=1,\"*\",IF('3'!#REF!=2,\"*\",'3'!B47-'3'!#REF!))","v":{"$error":"#REF!"}}]
[null,null,null,44,"      47 Einzelhandel (ohne Handel mit Kfz)",44,{"$f":"INDEX('3 Roh-Daten'!$F$115:$BU$204,'3 Steuerung'!$F50,G$6)","v":2336675},{"$f":"INDEX('3 Roh-Daten'!$F$115:$BU$204,'3 Steuerung'!$F50,H$6)","v":902538},{"$f":"INDEX('3 Roh-Daten'!$F$115:$BU$204,'3 Steuerung'!$F50,I$6)","v":678381},{"$f":"INDEX('3 Roh-Daten'!$F$115:$BU$204,'3 Steuerung'!$F50,J$6)","v":224157},null,null,null,"      46 Großhandel (ohne Handel mit Kfz)",43,{"$f":"INDEX('3 Roh-Daten'!$E$10:$BT$99,$O50,'3 Steuerung'!P$7)","v":1346743},{"$f":"INDEX('3 Roh-Daten'!$E$10:$BT$99,$O50,'3 Steuerung'!Q$7)","v":242118},{"$f":"INDEX('3 Roh-Daten'!$E$10:$BT$99,$O50,'3 Steuerung'!R$7)","v":161949},{"$f":"INDEX('3 Roh-Daten'!$E$10:$BT$99,$O50,'3 Steuerung'!S$7)","v":80169},null,null,null,37,{"$f":"IF('3'!#REF!=1,\"*\",IF('3'!#REF!=2,\"*\",'3'!B48-'3'!#REF!))","v":{"$error":"#REF!"}}]
[null,null,null,45,"      49 Landverkehr u.Transp.i.Rohrfernleitungen",45,{"$f":"INDEX('3 Roh-Daten'!$F$115:$BU$204,'3 Steuerung'!$F51,G$6)","v":617548},{"$f":"INDEX('3 Roh-Daten'!$F$115:$BU$204,'3 Steuerung'!$F51,H$6)","v":202065},{"$f":"INDEX('3 Roh-Daten'!$F$115:$BU$204,'3 Steuerung'!$F51,I$6)","v":130487},{"$f":"INDEX('3 Roh-Daten'!$F$115:$BU$204,'3 Steuerung'!$F51,J$6)","v":71578},null,null,null,"      47 Einzelhandel (ohne Handel mit Kfz)",44,{"$f":"INDEX('3 Roh-Daten'!$E$10:$BT$99,$O51,'3 Steuerung'!P$7)","v":2328210},{"$f":"INDEX('3 Roh-Daten'!$E$10:$BT$99,$O51,'3 Steuerung'!Q$7)","v":901456},{"$f":"INDEX('3 Roh-Daten'!$E$10:$BT$99,$O51,'3 Steuerung'!R$7)","v":677646},{"$f":"INDEX('3 Roh-Daten'!$E$10:$BT$99,$O51,'3 Steuerung'!S$7)","v":223810},null,null,null,38,{"$f":"IF('3'!#REF!=1,\"*\",IF('3'!#REF!=2,\"*\",'3'!B49-'3'!#REF!))","v":{"$error":"#REF!"}}]
[null,null,null,46,"      50 Schifffahrt",46,{"$f":"INDEX('3 Roh-Daten'!$F$115:$BU$204,'3 Steuerung'!$F52,G$6)","v":23390},{"$f":"INDEX('3 Roh-Daten'!$F$115:$BU$204,'3 Steuerung'!$F52,H$6)","v":2964},{"$f":"INDEX('3 Roh-Daten'!$F$115:$BU$204,'3 Steuerung'!$F52,I$6)","v":1934},{"$f":"INDEX('3 Roh-Daten'!$F$115:$BU$204,'3 Steuerung'!$F52,J$6)","v":1030},null,null,null,"      49 Landverkehr u.Transp.i.Rohrfernleitungen",45,{"$f":"INDEX('3 Roh-Daten'!$E$10:$BT$99,$O52,'3 Steuerung'!P$7)","v":616460},{"$f":"INDEX('3 Roh-Daten'!$E$10:$BT$99,$O52,'3 Steuerung'!Q$7)","v":201971},{"$f":"INDEX('3 Roh-Daten'!$E$10:$BT$99,$O52,'3 Steuerung'!R$7)","v":130555},{"$f":"INDEX('3 Roh-Daten'!$E$10:$BT$99,$O52,'3 Steuerung'!S$7)","v":71416},null,null,null,39,{"$f":"IF('3'!#REF!=1,\"*\",IF('3'!#REF!=2,\"*\",'3'!B50-'3'!#REF!))","v":{"$error":"#REF!"}}]
[null,null,null,47,"      51 Luftfahrt",47,{"$f":"INDEX('3 Roh-Daten'!$F$115:$BU$204,'3 Steuerung'!$F53,G$6)","v":63890},{"$f":"INDEX('3 Roh-Daten'!$F$115:$BU$204,'3 Steuerung'!$F53,H$6)","v":697},{"$f":"INDEX('3 Roh-Daten'!$F$115:$BU$204,'3 Steuerung'!$F53,I$6)","v":364},{"$f":"INDEX('3 Roh-Daten'!$F$115:$BU$204,'3 Steuerung'!$F53,J$6)","v":333},null,null,null,"      50 Schifffahrt",46,{"$f":"INDEX('3 Roh-Daten'!$E$10:$BT$99,$O53,'3 Steuerung'!P$7)","v":23346},{"$f":"INDEX('3 Roh-Daten'!$E$10:$BT$99,$O53,'3 Steuerung'!Q$7)","v":2963},{"$f":"INDEX('3 Roh-Daten'!$E$10:$BT$99,$O53,'3 Steuerung'!R$7)","v":1934},{"$f":"INDEX('3 Roh-Daten'!$E$10:$BT$99,$O53,'3 Steuerung'!S$7)","v":1029},null,null,null,40,{"$f":"IF('3'!#REF!=1,\"*\",IF('3'!#REF!=2,\"*\",'3'!B51-'3'!#REF!))","v":{"$error":"#REF!"}}]
[null,null,null,48,"      52 Lagerei u. Erbr.v. sonst. DL f.d.Verkehr",48,{"$f":"INDEX('3 Roh-Daten'!$F$115:$BU$204,'3 Steuerung'!$F54,G$6)","v":689851},{"$f":"INDEX('3 Roh-Daten'!$F$115:$BU$204,'3 Steuerung'!$F54,H$6)","v":87192},{"$f":"INDEX('3 Roh-Daten'!$F$115:$BU$204,'3 Steuerung'!$F54,I$6)","v":52169},{"$f":"INDEX('3 Roh-Daten'!$F$115:$BU$204,'3 Steuerung'!$F54,J$6)","v":35023},null,null,null,"      51 Luftfahrt",47,{"$f":"INDEX('3 Roh-Daten'!$E$10:$BT$99,$O54,'3 Steuerung'!P$7)","v":63832},{"$f":"INDEX('3 Roh-Daten'!$E$10:$BT$99,$O54,'3 Steuerung'!Q$7)","v":696},{"$f":"INDEX('3 Roh-Daten'!$E$10:$BT$99,$O54,'3 Steuerung'!R$7)","v":366},{"$f":"INDEX('3 Roh-Daten'!$E$10:$BT$99,$O54,'3 Steuerung'!S$7)","v":330},null,null,null,41,{"$f":"IF('3'!#REF!=1,\"*\",IF('3'!#REF!=2,\"*\",'3'!B52-'3'!#REF!))","v":{"$error":"#REF!"}}]
[null,null,null,49,"      53 Post-, Kurier- und Expressdienste",49,{"$f":"INDEX('3 Roh-Daten'!$F$115:$BU$204,'3 Steuerung'!$F55,G$6)","v":263456},{"$f":"INDEX('3 Roh-Daten'!$F$115:$BU$204,'3 Steuerung'!$F55,H$6)","v":182621},{"$f":"INDEX('3 Roh-Daten'!$F$115:$BU$204,'3 Steuerung'!$F55,I$6)","v":128771},{"$f":"INDEX('3 Roh-Daten'!$F$115:$BU$204,'3 Steuerung'!$F55,J$6)","v":53850},null,null,null,"      52 Lagerei u. Erbr.v. sonst. DL f.d.Verkehr",48,{"$f":"INDEX('3 Roh-Daten'!$E$10:$BT$99,$O55,'3 Steuerung'!P$7)","v":688290},{"$f":"INDEX('3 Roh-Daten'!$E$10:$BT$99,$O55,'3 Steuerung'!Q$7)","v":87136},{"$f":"INDEX('3 Roh-Daten'!$E$10:$BT$99,$O55,'3 Steuerung'!R$7)","v":52211},{"$f":"INDEX('3 Roh-Daten'!$E$10:$BT$99,$O55,'3 Steuerung'!S$7)","v":34925},null,null,null,42,{"$f":"IF('3'!#REF!=1,\"*\",IF('3'!#REF!=2,\"*\",'3'!B53-'3'!#REF!))","v":{"$error":"#REF!"}}]
[null,null,null,50,"      55 Beherbergung",50,{"$f":"INDEX('3 Roh-Daten'!$F$115:$BU$204,'3 Steuerung'!$F56,G$6)","v":299147},{"$f":"INDEX('3 Roh-Daten'!$F$115:$BU$204,'3 Steuerung'!$F56,H$6)","v":150747},{"$f":"INDEX('3 Roh-Daten'!$F$115:$BU$204,'3 Steuerung'!$F56,I$6)","v":98978},{"$f":"INDEX('3 Roh-Daten'!$F$115:$BU$204,'3 Steuerung'!$F56,J$6)","v":51769},null,null,null,"      53 Post-, Kurier- und Expressdienste",49,{"$f":"INDEX('3 Roh-Daten'!$E$10:$BT$99,$O56,'3 Steuerung'!P$7)","v":263312},{"$f":"INDEX('3 Roh-Daten'!$E$10:$BT$99,$O56,'3 Steuerung'!Q$7)","v":182647},{"$f":"INDEX('3 Roh-Daten'!$E$10:$BT$99,$O56,'3 Steuerung'!R$7)","v":128899},{"$f":"INDEX('3 Roh-Daten'!$E$10:$BT$99,$O56,'3 Steuerung'!S$7)","v":53748},null,null,null,43,{"$f":"IF('3'!#REF!=1,\"*\",IF('3'!#REF!=2,\"*\",'3'!B54-'3'!#REF!))","v":{"$error":"#REF!"}}]
[null,null,null,51,"      56 Gastronomie",51,{"$f":"INDEX('3 Roh-Daten'!$F$115:$BU$204,'3 Steuerung'!$F57,G$6)","v":728959},{"$f":"INDEX('3 Roh-Daten'!$F$115:$BU$204,'3 Steuerung'!$F57,H$6)","v":821002},{"$f":"INDEX('3 Roh-Daten'!$F$115:$BU$204,'3 Steuerung'!$F57,I$6)","v":522381},{"$f":"INDEX('3 Roh-Daten'!$F$115:$BU$204,'3 Steuerung'!$F57,J$6)","v":298621},null,null,null,"      55 Beherbergung",50,{"$f":"INDEX('3 Roh-Daten'!$E$10:$BT$99,$O57,'3 Steuerung'!P$7)","v":298468},{"$f":"INDEX('3 Roh-Daten'!$E$10:$BT$99,$O57,'3 Steuerung'!Q$7)","v":150693},{"$f":"INDEX('3 Roh-Daten'!$E$10:$BT$99,$O57,'3 Steuerung'!R$7)","v":99019},{"$f":"INDEX('3 Roh-Daten'!$E$10:$BT$99,$O57,'3 Steuerung'!S$7)","v":51674},null,null,null,44,{"$f":"IF('3'!#REF!=1,\"*\",IF('3'!#REF!=2,\"*\",'3'!B55-'3'!#REF!))","v":{"$error":"#REF!"}}]
[null,null,null,52,"      58 Verlagswesen",52,{"$f":"INDEX('3 Roh-Daten'!$F$115:$BU$204,'3 Steuerung'!$F58,G$6)","v":138332},{"$f":"INDEX('3 Roh-Daten'!$F$115:$BU$204,'3 Steuerung'!$F58,H$6)","v":71741},{"$f":"INDEX('3 Roh-Daten'!$F$115:$BU$204,'3 Steuerung'!$F58,I$6)","v":52792},{"$f":"INDEX('3 Roh-Daten'!$F$115:$BU$204,'3 Steuerung'!$F58,J$6)","v":18949},null,null,null,"      56 Gastronomie",51,{"$f":"INDEX('3 Roh-Daten'!$E$10:$BT$99,$O58,'3 Steuerung'!P$7)","v":727903},{"$f":"INDEX('3 Roh-Daten'!$E$10:$BT$99,$O58,'3 Steuerung'!Q$7)","v":821054},{"$f":"INDEX('3 Roh-Daten'!$E$10:$BT$99,$O58,'3 Steuerung'!R$7)","v":522815},{"$f":"INDEX('3 Roh-Daten'!$E$10:$BT$99,$O58,'3 Steuerung'!S$7)","v":298239},null,null,null,45,{"$f":"IF('3'!#REF!=1,\"*\",IF('3'!#REF!=2,\"*\",'3'!B56-'3'!#REF!))","v":{"$error":"#REF!"}}]
[null,null,null,53,"      59 Film, TV, Kino u. Tonstudio",53,{"$f":"INDEX('3 Roh-Daten'!$F$115:$BU$204,'3 Steuerung'!$F59,G$6)","v":42206},{"$f":"INDEX('3 Roh-Daten'!$F$115:$BU$204,'3 Steuerung'!$F59,H$6)","v":20754},{"$f":"INDEX('3 Roh-Daten'!$F$115:$BU$204,'3 Steuerung'!$F59,I$6)","v":13324},{"$f":"INDEX('3 Roh-Daten'!$F$115:$BU$204,'3 Steuerung'!$F59,J$6)","v":7430},null,null,null,"      58 Verlagswesen",52,{"$f":"INDEX('3 Roh-Daten'!$E$10:$BT$99,$O59,'3 Steuerung'!P$7)","v":138051},{"$f":"INDEX('3 Roh-Daten'!$E$10:$BT$99,$O59,'3 Steuerung'!Q$7)","v":71732},{"$f":"INDEX('3 Roh-Daten'!$E$10:$BT$99,$O59,'3 Steuerung'!R$7)","v":52827},{"$f":"INDEX('3 Roh-Daten'!$E$10:$BT$99,$O59,'3 Steuerung'!S$7)","v":18905},null,null,null,46,{"$f":"IF('3'!#REF!=1,\"*\",IF('3'!#REF!=2,\"*\",'3'!B57-'3'!#REF!))","v":{"$error":"#REF!"}}]
[null,null,null,54,"      60 Rundfunkveranstalter",54,{"$f":"INDEX('3 Roh-Daten'!$F$115:$BU$204,'3 Steuerung'!$F60,G$6)","v":58842},{"$f":"INDEX('3 Roh-Daten'!$F$115:$BU$204,'3 Steuerung'!$F60,H$6)","v":2440},{"$f":"INDEX('3 Roh-Daten'!$F$115:$BU$204,'3 Steuerung'!$F60,I$6)","v":1765},{"$f":"INDEX('3 Roh-Daten'!$F$115:$BU$204,'3 Steuerung'!$F60,J$6)","v":675},null,null,null,"      59 Film, TV, Kino u. Tonstudio",53,{"$f":"INDEX('3 Roh-Daten'!$E$10:$BT$99,$O60,'3 Steuerung'!P$7)","v":42139},{"$f":"INDEX('3 Roh-Daten'!$E$10:$BT$99,$O60,'3 Steuerung'!Q$7)","v":20745},{"$f":"INDEX('3 Roh-Daten'!$E$10:$BT$99,$O60,'3 Steuerung'!R$7)","v":13335},{"$f":"INDEX('3 Roh-Daten'!$E$10:$BT$99,$O60,'3 Steuerung'!S$7)","v":7410},null,null,null,47,{"$f":"IF('3'!#REF!=1,\"*\",IF('3'!#REF!=2,\"*\",'3'!B58-'3'!#REF!))","v":{"$error":"#REF!"}}]
[null,null,null,55,"      61 Telekommunikation",55,{"$f":"INDEX('3 Roh-Daten'!$F$115:$BU$204,'3 Steuerung'!$F61,G$6)","v":58907},{"$f":"INDEX('3 Roh-Daten'!$F$115:$BU$204,'3 Steuerung'!$F61,H$6)","v":2661},{"$f":"INDEX('3 Roh-Daten'!$F$115:$BU$204,'3 Steuerung'!$F61,I$6)","v":1817},{"$f":"INDEX('3 Roh-Daten'!$F$115:$BU$204,'3 Steuerung'!$F61,J$6)","v":844},null,null,null,"      60 Rundfunkveranstalter",54,{"$f":"INDEX('3 Roh-Daten'!$E$10:$BT$99,$O61,'3 Steuerung'!P$7)","v":58802},{"$f":"INDEX('3 Roh-Daten'!$E$10:$BT$99,$O61,'3 Steuerung'!Q$7)","v":2437},{"$f":"INDEX('3 Roh-Daten'!$E$10:$BT$99,$O61,'3 Steuerung'!R$7)","v":1768},{"$f":"INDEX('3 Roh-Daten'!$E$10:$BT$99,$O61,'3 Steuerung'!S$7)","v":669},null,null,null,48,{"$f":"IF('3'!#REF!=1,\"*\",IF('3'!#REF!=2,\"*\",'3'!B59-'3'!#REF!))","v":{"$error":"#REF!"}}]
[null,null,null,56,"      62 DL der Informationstechnologie",56,{"$f":"INDEX('3 Roh-Daten'!$F$115:$BU$204,'3 Steuerung'!$F62,G$6)","v":615024},{"$f":"INDEX('3 Roh-Daten'!$F$115:$BU$204,'3 Steuerung'!$F62,H$6)","v":47333},{"$f":"INDEX('3 Roh-Daten'!$F$115:$BU$204,'3 Steuerung'!$F62,I$6)","v":28724},{"$f":"INDEX('3 Roh-Daten'!$F$115:$BU$204,'3 Steuerung'!$F62,J$6)","v":18609},null,null,null,"      61 Telekommunikation",55,{"$f":"INDEX('3 Roh-Daten'!$E$10:$BT$99,$O62,'3 Steuerung'!P$7)","v":58812},{"$f":"INDEX('3 Roh-Daten'!$E$10:$BT$99,$O62,'3 Steuerung'!Q$7)","v":2653},{"$f":"INDEX('3 Roh-Daten'!$E$10:$BT$99,$O62,'3 Steuerung'!R$7)","v":1813},{"$f":"INDEX('3 Roh-Daten'!$E$10:$BT$99,$O62,'3 Steuerung'!S$7)","v":840},null,null,null,49,{"$f":"IF('3'!#REF!=1,\"*\",IF('3'!#REF!=2,\"*\",'3'!B60-'3'!#REF!))","v":{"$error":"#REF!"}}]
[null,null,null,57,"      63 Informationsdienstleistungen",57,{"$f":"INDEX('3 Roh-Daten'!$F$115:$BU$204,'3 Steuerung'!$F63,G$6)","v":61961},{"$f":"INDEX('3 Roh-Daten'!$F$115:$BU$204,'3 Steuerung'!$F63,H$6)","v":13675},{"$f":"INDEX('3 Roh-Daten'!$F$115:$BU$204,'3 Steuerung'!$F63,I$6)","v":8315},{"$f":"INDEX('3 Roh-Daten'!$F$115:$BU$204,'3 Steuerung'!$F63,J$6)","v":5360},null,null,null,"      62 DL der Informationstechnologie",56,{"$f":"INDEX('3 Roh-Daten'!$E$10:$BT$99,$O63,'3 Steuerung'!P$7)","v":613613},{"$f":"INDEX('3 Roh-Daten'!$E$10:$BT$99,$O63,'3 Steuerung'!Q$7)","v":47236},{"$f":"INDEX('3 Roh-Daten'!$E$10:$BT$99,$O63,'3 Steuerung'!R$7)","v":28705},{"$f":"INDEX('3 Roh-Daten'!$E$10:$BT$99,$O63,'3 Steuerung'!S$7)","v":18531},null,null,null,50,{"$f":"IF('3'!#REF!=1,\"*\",IF('3'!#REF!=2,\"*\",'3'!B61-'3'!#REF!))","v":{"$error":"#REF!"}}]
[null,null,null,58,"      64 Erbringung von Finanzdienstleistungen",58,{"$f":"INDEX('3 Roh-Daten'!$F$115:$BU$204,'3 Steuerung'!$F64,G$6)","v":642498},{"$f":"INDEX('3 Roh-Daten'!$F$115:$BU$204,'3 Steuerung'!$F64,H$6)","v":19326},{"$f":"INDEX('3 Roh-Daten'!$F$115:$BU$204,'3 Steuerung'!$F64,I$6)","v":12965},{"$f":"INDEX('3 Roh-Daten'!$F$115:$BU$204,'3 Steuerung'!$F64,J$6)","v":6361},null,null,null,"      63 Informationsdienstleistungen",57,{"$f":"INDEX('3 Roh-Daten'!$E$10:$BT$99,$O64,'3 Steuerung'!P$7)","v":61866},{"$f":"INDEX('3 Roh-Daten'!$E$10:$BT$99,$O64,'3 Steuerung'!Q$7)","v":13671},{"$f":"INDEX('3 Roh-Daten'!$E$10:$BT$99,$O64,'3 Steuerung'!R$7)","v":8315},{"$f":"INDEX('3 Roh-Daten'!$E$10:$BT$99,$O64,'3 Steuerung'!S$7)","v":5356},null,null,null,51,{"$f":"IF('3'!#REF!=1,\"*\",IF('3'!#REF!=2,\"*\",'3'!B62-'3'!#REF!))","v":{"$error":"#REF!"}}]
[null,null,null,59,"      65 Versicherungen u.Pensionskassen",59,{"$f":"INDEX('3 Roh-Daten'!$F$115:$BU$204,'3 Steuerung'!$F65,G$6)","v":171908},{"$f":"INDEX('3 Roh-Daten'!$F$115:$BU$204,'3 Steuerung'!$F65,H$6)","v":2188},{"$f":"INDEX('3 Roh-Daten'!$F$115:$BU$204,'3 Steuerung'!$F65,I$6)","v":1534},{"$f":"INDEX('3 Roh-Daten'!$F$115:$BU$204,'3 Steuerung'!$F65,J$6)","v":654},null,null,null,"      64 Erbringung von Finanzdienstleistungen",58,{"$f":"INDEX('3 Roh-Daten'!$E$10:$BT$99,$O65,'3 Steuerung'!P$7)","v":639425},{"$f":"INDEX('3 Roh-Daten'!$E$10:$BT$99,$O65,'3 Steuerung'!Q$7)","v":19313},{"$f":"INDEX('3 Roh-Daten'!$E$10:$BT$99,$O65,'3 Steuerung'!R$7)","v":12983},{"$f":"INDEX('3 Roh-Daten'!$E$10:$BT$99,$O65,'3 Steuerung'!S$7)","v":6330},null,null,null,52,{"$f":"IF('3'!#REF!=1,\"*\",IF('3'!#REF!=2,\"*\",'3'!B63-'3'!#REF!))","v":{"$error":"#REF!"}}]
[null,null,null,60,"      66 M.Finanz-u.Versicherungs-DL verb.Tätigk.",60,{"$f":"INDEX('3 Roh-Daten'!$F$115:$BU$204,'3 Steuerung'!$F66,G$6)","v":177944},{"$f":"INDEX('3 Roh-Daten'!$F$115:$BU$204,'3 Steuerung'!$F66,H$6)","v":51723},{"$f":"INDEX('3 Roh-Daten'!$F$115:$BU$204,'3 Steuerung'!$F66,I$6)","v":30391},{"$f":"INDEX('3 Roh-Daten'!$F$115:$BU$204,'3 Steuerung'!$F66,J$6)","v":21332},null,null,null,"      65 Versicherungen u.Pensionskassen",59,{"$f":"INDEX('3 Roh-Daten'!$E$10:$BT$99,$O66,'3 Steuerung'!P$7)","v":171717},{"$f":"INDEX('3 Roh-Daten'!$E$10:$BT$99,$O66,'3 Steuerung'!Q$7)","v":2188},{"$f":"INDEX('3 Roh-Daten'!$E$10:$BT$99,$O66,'3 Steuerung'!R$7)","v":1533},{"$f":"INDEX('3 Roh-Daten'!$E$10:$BT$99,$O66,'3 Steuerung'!S$7)","v":655},null,null,null,53,{"$f":"IF('3'!#REF!=1,\"*\",IF('3'!#REF!=2,\"*\",'3'!B64-'3'!#REF!))","v":{"$error":"#REF!"}}]
[null,null,null,61,"      68 Grundstücks- und Wohnungswesen",61,{"$f":"INDEX('3 Roh-Daten'!$F$115:$BU$204,'3 Steuerung'!$F67,G$6)","v":248364},{"$f":"INDEX('3 Roh-Daten'!$F$115:$BU$204,'3 Steuerung'!$F67,H$6)","v":259694},{"$f":"INDEX('3 Roh-Daten'!$F$115:$BU$204,'3 Steuerung'!$F67,I$6)","v":144312},{"$f":"INDEX('3 Roh-Daten'!$F$115:$BU$204,'3 Steuerung'!$F67,J$6)","v":115382},null,null,null,"      66 M.Finanz-u.Versicherungs-DL verb.Tätigk.",60,{"$f":"INDEX('3 Roh-Daten'!$E$10:$BT$99,$O67,'3 Steuerung'!P$7)","v":177077},{"$f":"INDEX('3 Roh-Daten'!$E$10:$BT$99,$O67,'3 Steuerung'!Q$7)","v":51551},{"$f":"INDEX('3 Roh-Daten'!$E$10:$BT$99,$O67,'3 Steuerung'!R$7)","v":30332},{"$f":"INDEX('3 Roh-Daten'!$E$10:$BT$99,$O67,'3 Steuerung'!S$7)","v":21219},null,null,null,54,{"$f":"IF('3'!#REF!=1,\"*\",IF('3'!#REF!=2,\"*\",'3'!B65-'3'!#REF!))","v":{"$error":"#REF!"}}]
[null,null,null,62,"      69 Rechts-,Steuerberatung, Wirtsch.-prüfung",62,{"$f":"INDEX('3 Roh-Daten'!$F$115:$BU$204,'3 Steuerung'!$F68,G$6)","v":448142},{"$f":"INDEX('3 Roh-Daten'!$F$115:$BU$204,'3 Steuerung'!$F68,H$6)","v":123661},{"$f":"INDEX('3 Roh-Daten'!$F$115:$BU$204,'3 Steuerung'!$F68,I$6)","v":74746},{"$f":"INDEX('3 Roh-Daten'!$F$115:$BU$204,'3 Steuerung'!$F68,J$6)","v":48915},null,null,null,"      68 Grundstücks- und Wohnungswesen",61,{"$f":"INDEX('3 Roh-Daten'!$E$10:$BT$99,$O68,'3 Steuerung'!P$7)","v":247923},{"$f":"INDEX('3 Roh-Daten'!$E$10:$BT$99,$O68,'3 Steuerung'!Q$7)","v":258870},{"$f":"INDEX('3 Roh-Daten'!$E$10:$BT$99,$O68,'3 Steuerung'!R$7)","v":144153},{"$f":"INDEX('3 Roh-Daten'!$E$10:$BT$99,$O68,'3 Steuerung'!S$7)","v":114717},null,null,null,55,{"$f":"IF('3'!#REF!=1,\"*\",IF('3'!#REF!=2,\"*\",'3'!B66-'3'!#REF!))","v":{"$error":"#REF!"}}]
[null,null,null,63,"      70 Verw.u.Führ. v.Untern.u.Betr.;Unt.berat.",63,{"$f":"INDEX('3 Roh-Daten'!$F$115:$BU$204,'3 Steuerung'!$F69,G$6)","v":631423},{"$f":"INDEX('3 Roh-Daten'!$F$115:$BU$204,'3 Steuerung'!$F69,H$6)","v":85072},{"$f":"INDEX('3 Roh-Daten'!$F$115:$BU$204,'3 Steuerung'!$F69,I$6)","v":52987},{"$f":"INDEX('3 Roh-Daten'!$F$115:$BU$204,'3 Steuerung'!$F69,J$6)","v":32085},null,null,null,"      69 Rechts-,Steuerberatung, Wirtsch.-prüfung",62,{"$f":"INDEX('3 Roh-Daten'!$E$10:$BT$99,$O69,'3 Steuerung'!P$7)","v":446777},{"$f":"INDEX('3 Roh-Daten'!$E$10:$BT$99,$O69,'3 Steuerung'!Q$7)","v":123148},{"$f":"INDEX('3 Roh-Daten'!$E$10:$BT$99,$O69,'3 Steuerung'!R$7)","v":74476},{"$f":"INDEX('3 Roh-Daten'!$E$10:$BT$99,$O69,'3 Steuerung'!S$7)","v":48672},null,null,null,56,{"$f":"IF('3'!#REF!=1,\"*\",IF('3'!#REF!=2,\"*\",'3'!B67-'3'!#REF!))","v":{"$error":"#REF!"}}]
[null,null,null,64,"      71 Architektur-, Ingenieurbüros; Labore",64,{"$f":"INDEX('3 Roh-Daten'!$F$115:$BU$204,'3 Steuerung'!$F70,G$6)","v":537934},{"$f":"INDEX('3 Roh-Daten'!$F$115:$BU$204,'3 Steuerung'!$F70,H$6)","v":89011},{"$f":"INDEX('3 Roh-Daten'!$F$115:$BU$204,'3 Steuerung'!$F70,I$6)","v":57202},{"$f":"INDEX('3 Roh-Daten'!$F$115:$BU$204,'3 Steuerung'!$F70,J$6)","v":31809},null,null,null,"      70 Verw.u.Führ. v.Untern.u.Betr.;Unt.berat.",63,{"$f":"INDEX('3 Roh-Daten'!$E$10:$BT$99,$O70,'3 Steuerung'!P$7)","v":630039},{"$f":"INDEX('3 Roh-Daten'!$E$10:$BT$99,$O70,'3 Steuerung'!Q$7)","v":84940},{"$f":"INDEX('3 Roh-Daten'!$E$10:$BT$99,$O70,'3 Steuerung'!R$7)","v":52963},{"$f":"INDEX('3 Roh-Daten'!$E$10:$BT$99,$O70,'3 Steuerung'!S$7)","v":31977},null,null,null,57,{"$f":"IF('3'!#REF!=1,\"*\",IF('3'!#REF!=2,\"*\",'3'!B68-'3'!#REF!))","v":{"$error":"#REF!"}}]
[null,null,null,65,"      72 Forschung und Entwicklung",65,{"$f":"INDEX('3 Roh-Daten'!$F$115:$BU$204,'3 Steuerung'!$F71,G$6)","v":205545},{"$f":"INDEX('3 Roh-Daten'!$F$115:$BU$204,'3 Steuerung'!$F71,H$6)","v":19884},{"$f":"INDEX('3 Roh-Daten'!$F$115:$BU$204,'3 Steuerung'!$F71,I$6)","v":15400},{"$f":"INDEX('3 Roh-Daten'!$F$115:$BU$204,'3 Steuerung'!$F71,J$6)","v":4484},null,null,null,"      71 Architektur-, Ingenieurbüros; Labore",64,{"$f":"INDEX('3 Roh-Daten'!$E$10:$BT$99,$O71,'3 Steuerung'!P$7)","v":536311},{"$f":"INDEX('3 Roh-Daten'!$E$10:$BT$99,$O71,'3 Steuerung'!Q$7)","v":88679},{"$f":"INDEX('3 Roh-Daten'!$E$10:$BT$99,$O71,'3 Steuerung'!R$7)","v":57027},{"$f":"INDEX('3 Roh-Daten'!$E$10:$BT$99,$O71,'3 Steuerung'!S$7)","v":31652},null,null,null,58,{"$f":"IF('3'!#REF!=1,\"*\",IF('3'!#REF!=2,\"*\",'3'!B69-'3'!#REF!))","v":{"$error":"#REF!"}}]
[null,null,null,66,"      73 Werbung und Marktforschung",66,{"$f":"INDEX('3 Roh-Daten'!$F$115:$BU$204,'3 Steuerung'!$F72,G$6)","v":136848},{"$f":"INDEX('3 Roh-Daten'!$F$115:$BU$204,'3 Steuerung'!$F72,H$6)","v":107155},{"$f":"INDEX('3 Roh-Daten'!$F$115:$BU$204,'3 Steuerung'!$F72,I$6)","v":78776},{"$f":"INDEX('3 Roh-Daten'!$F$115:$BU$204,'3 Steuerung'!$F72,J$6)","v":28379},null,null,null,"      72 Forschung und Entwicklung",65,{"$f":"INDEX('3 Roh-Daten'!$E$10:$BT$99,$O72,'3 Steuerung'!P$7)","v":205147},{"$f":"INDEX('3 Roh-Daten'!$E$10:$BT$99,$O72,'3 Steuerung'!Q$7)","v":19869},{"$f":"INDEX('3 Roh-Daten'!$E$10:$BT$99,$O72,'3 Steuerung'!R$7)","v":15390},{"$f":"INDEX('3 Roh-Daten'!$E$10:$BT$99,$O72,'3 Steuerung'!S$7)","v":4479},null,null,null,59,{"$f":"IF('3'!#REF!=1,\"*\",IF('3'!#REF!=2,\"*\",'3'!B70-'3'!#REF!))","v":{"$error":"#REF!"}}]
[null,null,null,67,"      74 Sonst.freiberufl., wiss.u.techn. Tätigk.",67,{"$f":"INDEX('3 Roh-Daten'!$F$115:$BU$204,'3 Steuerung'!$F73,G$6)","v":61864},{"$f":"INDEX('3 Roh-Daten'!$F$115:$BU$204,'3 Steuerung'!$F73,H$6)","v":28175},{"$f":"INDEX('3 Roh-Daten'!$F$115:$BU$204,'3 Steuerung'!$F73,I$6)","v":17060},{"$f":"INDEX('3 Roh-Daten'!$F$115:$BU$204,'3 Steuerung'!$F73,J$6)","v":11115},null,null,null,"      73 Werbung und Marktforschung",66,{"$f":"INDEX('3 Roh-Daten'!$E$10:$BT$99,$O73,'3 Steuerung'!P$7)","v":136584},{"$f":"INDEX('3 Roh-Daten'!$E$10:$BT$99,$O73,'3 Steuerung'!Q$7)","v":107087},{"$f":"INDEX('3 Roh-Daten'!$E$10:$BT$99,$O73,'3 Steuerung'!R$7)","v":78797},{"$f":"INDEX('3 Roh-Daten'!$E$10:$BT$99,$O73,'3 Steuerung'!S$7)","v":28290},null,null,null,60,{"$f":"IF('3'!#REF!=1,\"*\",IF('3'!#REF!=2,\"*\",'3'!B71-'3'!#REF!))","v":{"$error":"#REF!"}}]
[null,null,null,68,"      75 Veterinärwesen",68,{"$f":"INDEX('3 Roh-Daten'!$F$115:$BU$204,'3 Steuerung'!$F74,G$6)","v":28927},{"$f":"INDEX('3 Roh-Daten'!$F$115:$BU$204,'3 Steuerung'!$F74,H$6)","v":9314},{"$f":"INDEX('3 Roh-Daten'!$F$115:$BU$204,'3 Steuerung'!$F74,I$6)","v":6256},{"$f":"INDEX('3 Roh-Daten'!$F$115:$BU$204,'3 Steuerung'!$F74,J$6)","v":3058},null,null,null,"      74 Sonst.freiberufl., wiss.u.techn. Tätigk.",67,{"$f":"INDEX('3 Roh-Daten'!$E$10:$BT$99,$O74,'3 Steuerung'!P$7)","v":61734},{"$f":"INDEX('3 Roh-Daten'!$E$10:$BT$99,$O74,'3 Steuerung'!Q$7)","v":28161},{"$f":"INDEX('3 Roh-Daten'!$E$10:$BT$99,$O74,'3 Steuerung'!R$7)","v":17070},{"$f":"INDEX('3 Roh-Daten'!$E$10:$BT$99,$O74,'3 Steuerung'!S$7)","v":11091},null,null,null,61,{"$f":"IF('3'!#REF!=1,\"*\",IF('3'!#REF!=2,\"*\",'3'!B72-'3'!#REF!))","v":{"$error":"#REF!"}}]
[null,null,null,69,"      77 Vermietung von beweglichen Sachen",69,{"$f":"INDEX('3 Roh-Daten'!$F$115:$BU$204,'3 Steuerung'!$F75,G$6)","v":79282},{"$f":"INDEX('3 Roh-Daten'!$F$115:$BU$204,'3 Steuerung'!$F75,H$6)","v":39456},{"$f":"INDEX('3 Roh-Daten'!$F$115:$BU$204,'3 Steuerung'!$F75,I$6)","v":22833},{"$f":"INDEX('3 Roh-Daten'!$F$115:$BU$204,'3 Steuerung'!$F75,J$6)","v":16623},null,null,null,"      75 Veterinärwesen",68,{"$f":"INDEX('3 Roh-Daten'!$E$10:$BT$99,$O75,'3 Steuerung'!P$7)","v":28863},{"$f":"INDEX('3 Roh-Daten'!$E$10:$BT$99,$O75,'3 Steuerung'!Q$7)","v":9276},{"$f":"INDEX('3 Roh-Daten'!$E$10:$BT$99,$O75,'3 Steuerung'!R$7)","v":6228},{"$f":"INDEX('3 Roh-Daten'!$E$10:$BT$99,$O75,'3 Steuerung'!S$7)","v":3048},null,null,null,62,{"$f":"IF('3'!#REF!=1,\"*\",IF('3'!#REF!=2,\"*\",'3'!B73-'3'!#REF!))","v":{"$error":"#REF!"}}]
[null,null,null,70,"      78 Vermittl. u.Überlassung v.Arbeitskräften",70,{"$f":"INDEX('3 Roh-Daten'!$F$115:$BU$204,'3 Steuerung'!$F76,G$6)","v":868914},{"$f":"INDEX('3 Roh-Daten'!$F$115:$BU$204,'3 Steuerung'!$F76,H$6)","v":103791},{"$f":"INDEX('3 Roh-Daten'!$F$115:$BU$204,'3 Steuerung'!$F76,I$6)","v":67075},{"$f":"INDEX('3 Roh-Daten'!$F$115:$BU$204,'3 Steuerung'!$F76,J$6)","v":36716},null,null,null,"      77 Vermietung von beweglichen Sachen",69,{"$f":"INDEX('3 Roh-Daten'!$E$10:$BT$99,$O76,'3 Steuerung'!P$7)","v":79103},{"$f":"INDEX('3 Roh-Daten'!$E$10:$BT$99,$O76,'3 Steuerung'!Q$7)","v":39401},{"$f":"INDEX('3 Roh-Daten'!$E$10:$BT$99,$O76,'3 Steuerung'!R$7)","v":22840},{"$f":"INDEX('3 Roh-Daten'!$E$10:$BT$99,$O76,'3 Steuerung'!S$7)","v":16561},null,null,null,63,{"$f":"IF('3'!#REF!=1,\"*\",IF('3'!#REF!=2,\"*\",'3'!B74-'3'!#REF!))","v":{"$error":"#REF!"}}]
[null,null,null,71,"      79 Reisebüros,-veranst.u.son.Reservier.-DL",71,{"$f":"INDEX('3 Roh-Daten'!$F$115:$BU$204,'3 Steuerung'!$F77,G$6)","v":80343},{"$f":"INDEX('3 Roh-Daten'!$F$115:$BU$204,'3 Steuerung'!$F77,H$6)","v":21436},{"$f":"INDEX('3 Roh-Daten'!$F$115:$BU$204,'3 Steuerung'!$F77,I$6)","v":14366},{"$f":"INDEX('3 Roh-Daten'!$F$115:$BU$204,'3 Steuerung'!$F77,J$6)","v":7070},null,null,null,"      78 Vermittl. u.Überlassung v.Arbeitskräften",70,{"$f":"INDEX('3 Roh-Daten'!$E$10:$BT$99,$O77,'3 Steuerung'!P$7)","v":868234},{"$f":"INDEX('3 Roh-Daten'!$E$10:$BT$99,$O77,'3 Steuerung'!Q$7)","v":103798},{"$f":"INDEX('3 Roh-Daten'!$E$10:$BT$99,$O77,'3 Steuerung'!R$7)","v":67119},{"$f":"INDEX('3 Roh-Daten'!$E$10:$BT$99,$O77,'3 Steuerung'!S$7)","v":36679},null,null,null,64,{"$f":"IF('3'!#REF!=1,\"*\",IF('3'!#REF!=2,\"*\",'3'!B75-'3'!#REF!))","v":{"$error":"#REF!"}}]
[null,null,null,72,"      80 Wach- u.Sicherh.dienste sowie Detekteien",72,{"$f":"INDEX('3 Roh-Daten'!$F$115:$BU$204,'3 Steuerung'!$F78,G$6)","v":178883},{"$f":"INDEX('3 Roh-Daten'!$F$115:$BU$204,'3 Steuerung'!$F78,H$6)","v":78738},{"$f":"INDEX('3 Roh-Daten'!$F$115:$BU$204,'3 Steuerung'!$F78,I$6)","v":40775},{"$f":"INDEX('3 Roh-Daten'!$F$115:$BU$204,'3 Steuerung'!$F78,J$6)","v":37963},null,null,null,"      79 Reisebüros,-veranst.u.son.Reservier.-DL",71,{"$f":"INDEX('3 Roh-Daten'!$E$10:$BT$99,$O78,'3 Steuerung'!P$7)","v":80078},{"$f":"INDEX('3 Roh-Daten'!$E$10:$BT$99,$O78,'3 Steuerung'!Q$7)","v":21411},{"$f":"INDEX('3 Roh-Daten'!$E$10:$BT$99,$O78,'3 Steuerung'!R$7)","v":14369},{"$f":"INDEX('3 Roh-Daten'!$E$10:$BT$99,$O78,'3 Steuerung'!S$7)","v":7042},null,null,null,65,{"$f":"IF('3'!#REF!=1,\"*\",IF('3'!#REF!=2,\"*\",'3'!B76-'3'!#REF!))","v":{"$error":"#REF!"}}]
[null,null,null,73,"      81 Gebäudebetreuung;Garten-u.Landschaftsbau",73,{"$f":"INDEX('3 Roh-Daten'!$F$115:$BU$204,'3 Steuerung'!$F79,G$6)","v":729315},{"$f":"INDEX('3 Roh-Daten'!$F$115:$BU$204,'3 Steuerung'!$F79,H$6)","v":590307},{"$f":"INDEX('3 Roh-Daten'!$F$115:$BU$204,'3 Steuerung'!$F79,I$6)","v":339751},{"$f":"INDEX('3 Roh-Daten'!$F$115:$BU$204,'3 Steuerung'!$F79,J$6)","v":250556},null,null,null,"      80 Wach- u.Sicherh.dienste sowie Detekteien",72,{"$f":"INDEX('3 Roh-Daten'!$E$10:$BT$99,$O79,'3 Steuerung'!P$7)","v":178753},{"$f":"INDEX('3 Roh-Daten'!$E$10:$BT$99,$O79,'3 Steuerung'!Q$7)","v":78758},{"$f":"INDEX('3 Roh-Daten'!$E$10:$BT$99,$O79,'3 Steuerung'!R$7)","v":40864},{"$f":"INDEX('3 Roh-Daten'!$E$10:$BT$99,$O79,'3 Steuerung'!S$7)","v":37894},null,null,null,66,{"$f":"IF('3'!#REF!=1,\"*\",IF('3'!#REF!=2,\"*\",'3'!B77-'3'!#REF!))","v":{"$error":"#REF!"}}]
[null,null,null,74,"      82 Dienstleistg.f.Untern.u.Privatpers.ang",74,{"$f":"INDEX('3 Roh-Daten'!$F$115:$BU$204,'3 Steuerung'!$F80,G$6)","v":336553},{"$f":"INDEX('3 Roh-Daten'!$F$115:$BU$204,'3 Steuerung'!$F80,H$6)","v":126376},{"$f":"INDEX('3 Roh-Daten'!$F$115:$BU$204,'3 Steuerung'!$F80,I$6)","v":80223},{"$f":"INDEX('3 Roh-Daten'!$F$115:$BU$204,'3 Steuerung'!$F80,J$6)","v":46153},null,null,null,"      81 Gebäudebetreuung;Garten-u.Landschaftsbau",73,{"$f":"INDEX('3 Roh-Daten'!$E$10:$BT$99,$O80,'3 Steuerung'!P$7)","v":728801},{"$f":"INDEX('3 Roh-Daten'!$E$10:$BT$99,$O80,'3 Steuerung'!Q$7)","v":590188},{"$f":"INDEX('3 Roh-Daten'!$E$10:$BT$99,$O80,'3 Steuerung'!R$7)","v":340219},{"$f":"INDEX('3 Roh-Daten'!$E$10:$BT$99,$O80,'3 Steuerung'!S$7)","v":249969},null,null,null,67,{"$f":"IF('3'!#REF!=1,\"*\",IF('3'!#REF!=2,\"*\",'3'!B78-'3'!#REF!))","v":{"$error":"#REF!"}}]
[null,null,null,75,"      84 Öffentl. Verwalt.,Verteidigung;Soz.vers.",75,{"$f":"INDEX('3 Roh-Daten'!$F$115:$BU$204,'3 Steuerung'!$F81,G$6)","v":1733340},{"$f":"INDEX('3 Roh-Daten'!$F$115:$BU$204,'3 Steuerung'!$F81,H$6)","v":124940},{"$f":"INDEX('3 Roh-Daten'!$F$115:$BU$204,'3 Steuerung'!$F81,I$6)","v":88505},{"$f":"INDEX('3 Roh-Daten'!$F$115:$BU$204,'3 Steuerung'!$F81,J$6)","v":36435},null,null,null,"      82 Dienstleistg.f.Untern.u.Privatpers.ang",74,{"$f":"INDEX('3 Roh-Daten'!$E$10:$BT$99,$O81,'3 Steuerung'!P$7)","v":335765},{"$f":"INDEX('3 Roh-Daten'!$E$10:$BT$99,$O81,'3 Steuerung'!Q$7)","v":126402},{"$f":"INDEX('3 Roh-Daten'!$E$10:$BT$99,$O81,'3 Steuerung'!R$7)","v":80346},{"$f":"INDEX('3 Roh-Daten'!$E$10:$BT$99,$O81,'3 Steuerung'!S$7)","v":46056},null,null,null,68,{"$f":"IF('3'!#REF!=1,\"*\",IF('3'!#REF!=2,\"*\",'3'!B79-'3'!#REF!))","v":{"$error":"#REF!"}}]
[null,null,null,76,"      85 Erziehung und Unterricht",76,{"$f":"INDEX('3 Roh-Daten'!$F$115:$BU$204,'3 Steuerung'!$F82,G$6)","v":1205178},{"$f":"INDEX('3 Roh-Daten'!$F$115:$BU$204,'3 Steuerung'!$F82,H$6)","v":247836},{"$f":"INDEX('3 Roh-Daten'!$F$115:$BU$204,'3 Steuerung'!$F82,I$6)","v":191513},{"$f":"INDEX('3 Roh-Daten'!$F$115:$BU$204,'3 Steuerung'!$F82,J$6)","v":56323},null,null,null,"      84 Öffentl. Verwalt.,Verteidigung;Soz.vers.",75,{"$f":"INDEX('3 Roh-Daten'!$E$10:$BT$99,$O82,'3 Steuerung'!P$7)","v":1728944},{"$f":"INDEX('3 Roh-Daten'!$E$10:$BT$99,$O82,'3 Steuerung'!Q$7)","v":124953},{"$f":"INDEX('3 Roh-Daten'!$E$10:$BT$99,$O82,'3 Steuerung'!R$7)","v":88581},{"$f":"INDEX('3 Roh-Daten'!$E$10:$BT$99,$O82,'3 Steuerung'!S$7)","v":36372},null,null,null,69,{"$f":"IF('3'!#REF!=1,\"*\",IF('3'!#REF!=2,\"*\",'3'!B80-'3'!#REF!))","v":{"$error":"#REF!"}}]
[null,null,null,77,"      86 Gesundheitswesen",77,{"$f":"INDEX('3 Roh-Daten'!$F$115:$BU$204,'3 Steuerung'!$F83,G$6)","v":2347188},{"$f":"INDEX('3 Roh-Daten'!$F$115:$BU$204,'3 Steuerung'!$F83,H$6)","v":434861},{"$f":"INDEX('3 Roh-Daten'!$F$115:$BU$204,'3 Steuerung'!$F83,I$6)","v":272104},{"$f":"INDEX('3 Roh-Daten'!$F$115:$BU$204,'3 Steuerung'!$F83,J$6)","v":162757},null,null,null,"      85 Erziehung und Unterricht",76,{"$f":"INDEX('3 Roh-Daten'!$E$10:$BT$99,$O83,'3 Steuerung'!P$7)","v":1203517},{"$f":"INDEX('3 Roh-Daten'!$E$10:$BT$99,$O83,'3 Steuerung'!Q$7)","v":247671},{"$f":"INDEX('3 Roh-Daten'!$E$10:$BT$99,$O83,'3 Steuerung'!R$7)","v":191463},{"$f":"INDEX('3 Roh-Daten'!$E$10:$BT$99,$O83,'3 Steuerung'!S$7)","v":56208},null,null,null,70,{"$f":"IF('3'!#REF!=1,\"*\",IF('3'!#REF!=2,\"*\",'3'!B81-'3'!#REF!))","v":{"$error":"#REF!"}}]
[null,null,null,78,"      87 Heime (ohne Erholungs- und Ferienheime)",78,{"$f":"INDEX('3 Roh-Daten'!$F$115:$BU$204,'3 Steuerung'!$F84,G$6)","v":993326},{"$f":"INDEX('3 Roh-Daten'!$F$115:$BU$204,'3 Steuerung'!$F84,H$6)","v":108962},{"$f":"INDEX('3 Roh-Daten'!$F$115:$BU$204,'3 Steuerung'!$F84,I$6)","v":75995},{"$f":"INDEX('3 Roh-Daten'!$F$115:$BU$204,'3 Steuerung'!$F84,J$6)","v":32967},null,null,null,"      86 Gesundheitswesen",77,{"$f":"INDEX('3 Roh-Daten'!$E$10:$BT$99,$O84,'3 Steuerung'!P$7)","v":2342589},{"$f":"INDEX('3 Roh-Daten'!$E$10:$BT$99,$O84,'3 Steuerung'!Q$7)","v":433265},{"$f":"INDEX('3 Roh-Daten'!$E$10:$BT$99,$O84,'3 Steuerung'!R$7)","v":271168},{"$f":"INDEX('3 Roh-Daten'!$E$10:$BT$99,$O84,'3 Steuerung'!S$7)","v":162097},null,null,null,71,{"$f":"IF('3'!#REF!=1,\"*\",IF('3'!#REF!=2,\"*\",'3'!B82-'3'!#REF!))","v":{"$error":"#REF!"}}]
[null,null,null,79,"      88 Sozialwesen (ohne Heime)",79,{"$f":"INDEX('3 Roh-Daten'!$F$115:$BU$204,'3 Steuerung'!$F85,G$6)","v":1201007},{"$f":"INDEX('3 Roh-Daten'!$F$115:$BU$204,'3 Steuerung'!$F85,H$6)","v":204150},{"$f":"INDEX('3 Roh-Daten'!$F$115:$BU$204,'3 Steuerung'!$F85,I$6)","v":127483},{"$f":"INDEX('3 Roh-Daten'!$F$115:$BU$204,'3 Steuerung'!$F85,J$6)","v":76667},null,null,null,"      87 Heime (ohne Erholungs- und Ferienheime)",78,{"$f":"INDEX('3 Roh-Daten'!$E$10:$BT$99,$O85,'3 Steuerung'!P$7)","v":991071},{"$f":"INDEX('3 Roh-Daten'!$E$10:$BT$99,$O85,'3 Steuerung'!Q$7)","v":108863},{"$f":"INDEX('3 Roh-Daten'!$E$10:$BT$99,$O85,'3 Steuerung'!R$7)","v":75969},{"$f":"INDEX('3 Roh-Daten'!$E$10:$BT$99,$O85,'3 Steuerung'!S$7)","v":32894},null,null,null,72,{"$f":"IF('3'!#REF!=1,\"*\",IF('3'!#REF!=2,\"*\",'3'!B83-'3'!#REF!))","v":{"$error":"#REF!"}}]
[null,null,null,80,"      90 Kreative, künstler.u.unterhalt. Tätigk.",80,{"$f":"INDEX('3 Roh-Daten'!$F$115:$BU$204,'3 Steuerung'!$F86,G$6)","v":67179},{"$f":"INDEX('3 Roh-Daten'!$F$115:$BU$204,'3 Steuerung'!$F86,H$6)","v":23512},{"$f":"INDEX('3 Roh-Daten'!$F$115:$BU$204,'3 Steuerung'!$F86,I$6)","v":14521},{"$f":"INDEX('3 Roh-Daten'!$F$115:$BU$204,'3 Steuerung'!$F86,J$6)","v":8991},null,null,null,"      88 Sozialwesen (ohne Heime)",79,{"$f":"INDEX('3 Roh-Daten'!$E$10:$BT$99,$O86,'3 Steuerung'!P$7)","v":1198791},{"$f":"INDEX('3 Roh-Daten'!$E$10:$BT$99,$O86,'3 Steuerung'!Q$7)","v":204018},{"$f":"INDEX('3 Roh-Daten'!$E$10:$BT$99,$O86,'3 Steuerung'!R$7)","v":127507},{"$f":"INDEX('3 Roh-Daten'!$E$10:$BT$99,$O86,'3 Steuerung'!S$7)","v":76511},null,null,null,73,{"$f":"IF('3'!#REF!=1,\"*\",IF('3'!#REF!=2,\"*\",'3'!B84-'3'!#REF!))","v":{"$error":"#REF!"}}]
[null,null,null,81,"      91 Bibl.,Archive,Museen,zoolog.u.ä.Gärten",81,{"$f":"INDEX('3 Roh-Daten'!$F$115:$BU$204,'3 Steuerung'!$F87,G$6)","v":36086},{"$f":"INDEX('3 Roh-Daten'!$F$115:$BU$204,'3 Steuerung'!$F87,H$6)","v":8329},{"$f":"INDEX('3 Roh-Daten'!$F$115:$BU$204,'3 Steuerung'!$F87,I$6)","v":6544},{"$f":"INDEX('3 Roh-Daten'!$F$115:$BU$204,'3 Steuerung'!$F87,J$6)","v":1785},null,null,null,"      90 Kreative, künstler.u.unterhalt. Tätigk.",80,{"$f":"INDEX('3 Roh-Daten'!$E$10:$BT$99,$O87,'3 Steuerung'!P$7)","v":67068},{"$f":"INDEX('3 Roh-Daten'!$E$10:$BT$99,$O87,'3 Steuerung'!Q$7)","v":23500},{"$f":"INDEX('3 Roh-Daten'!$E$10:$BT$99,$O87,'3 Steuerung'!R$7)","v":14531},{"$f":"INDEX('3 Roh-Daten'!$E$10:$BT$99,$O87,'3 Steuerung'!S$7)","v":8969},null,null,null,74,{"$f":"IF('3'!#REF!=1,\"*\",IF('3'!#REF!=2,\"*\",'3'!B85-'3'!#REF!))","v":{"$error":"#REF!"}}]
[null,null,null,82,"      92 Spiel-, Wett- und Lotteriewesen",82,{"$f":"INDEX('3 Roh-Daten'!$F$115:$BU$204,'3 Steuerung'!$F88,G$6)","v":56588},{"$f":"INDEX('3 Roh-Daten'!$F$115:$BU$204,'3 Steuerung'!$F88,H$6)","v":26295},{"$f":"INDEX('3 Roh-Daten'!$F$115:$BU$204,'3 Steuerung'!$F88,I$6)","v":16553},{"$f":"INDEX('3 Roh-Daten'!$F$115:$BU$204,'3 Steuerung'!$F88,J$6)","v":9742},null,null,null,"      91 Bibl.,Archive,Museen,zoolog.u.ä.Gärten",81,{"$f":"INDEX('3 Roh-Daten'!$E$10:$BT$99,$O88,'3 Steuerung'!P$7)","v":36028},{"$f":"INDEX('3 Roh-Daten'!$E$10:$BT$99,$O88,'3 Steuerung'!Q$7)","v":8322},{"$f":"INDEX('3 Roh-Daten'!$E$10:$BT$99,$O88,'3 Steuerung'!R$7)","v":6538},{"$f":"INDEX('3 Roh-Daten'!$E$10:$BT$99,$O88,'3 Steuerung'!S$7)","v":1784},null,null,null,75,{"$f":"IF('3'!#REF!=1,\"*\",IF('3'!#REF!=2,\"*\",'3'!B86-'3'!#REF!))","v":{"$error":"#REF!"}}]
[null,null,null,83,"      93 DL d.Sports,d.Unterhaltg.u.d.Erholung",83,{"$f":"INDEX('3 Roh-Daten'!$F$115:$BU$204,'3 Steuerung'!$F89,G$6)","v":116934},{"$f":"INDEX('3 Roh-Daten'!$F$115:$BU$204,'3 Steuerung'!$F89,H$6)","v":172118},{"$f":"INDEX('3 Roh-Daten'!$F$115:$BU$204,'3 Steuerung'!$F89,I$6)","v":95679},{"$f":"INDEX('3 Roh-Daten'!$F$115:$BU$204,'3 Steuerung'!$F89,J$6)","v":76439},null,null,null,"      92 Spiel-, Wett- und Lotteriewesen",82,{"$f":"INDEX('3 Roh-Daten'!$E$10:$BT$99,$O89,'3 Steuerung'!P$7)","v":56467},{"$f":"INDEX('3 Roh-Daten'!$E$10:$BT$99,$O89,'3 Steuerung'!Q$7)","v":26257},{"$f":"INDEX('3 Roh-Daten'!$E$10:$BT$99,$O89,'3 Steuerung'!R$7)","v":16536},{"$f":"INDEX('3 Roh-Daten'!$E$10:$BT$99,$O89,'3 Steuerung'!S$7)","v":9721},null,null,null,76,{"$f":"IF('3'!#REF!=1,\"*\",IF('3'!#REF!=2,\"*\",'3'!B87-'3'!#REF!))","v":{"$error":"#REF!"}}]
[null,null,null,84,"      94 Interessenvertr.,kirchl.u.sonst.Verein",84,{"$f":"INDEX('3 Roh-Daten'!$F$115:$BU$204,'3 Steuerung'!$F90,G$6)","v":466489},{"$f":"INDEX('3 Roh-Daten'!$F$115:$BU$204,'3 Steuerung'!$F90,H$6)","v":162460},{"$f":"INDEX('3 Roh-Daten'!$F$115:$BU$204,'3 Steuerung'!$F90,I$6)","v":108630},{"$f":"INDEX('3 Roh-Daten'!$F$115:$BU$204,'3 Steuerung'!$F90,J$6)","v":53830},null,null,null,"      93 DL d.Sports,d.Unterhaltg.u.d.Erholung",83,{"$f":"INDEX('3 Roh-Daten'!$E$10:$BT$99,$O90,'3 Steuerung'!P$7)","v":116760},{"$f":"INDEX('3 Roh-Daten'!$E$10:$BT$99,$O90,'3 Steuerung'!Q$7)","v":172000},{"$f":"INDEX('3 Roh-Daten'!$E$10:$BT$99,$O90,'3 Steuerung'!R$7)","v":95756},{"$f":"INDEX('3 Roh-Daten'!$E$10:$BT$99,$O90,'3 Steuerung'!S$7)","v":76244},null,null,null,77,{"$f":"IF('3'!#REF!=1,\"*\",IF('3'!#REF!=2,\"*\",'3'!B88-'3'!#REF!))","v":{"$error":"#REF!"}}]
[null,null,null,85,"      95 Reparatur v.DV-Geräten u.Gebrauchsgütern",85,{"$f":"INDEX('3 Roh-Daten'!$F$115:$BU$204,'3 Steuerung'!$F91,G$6)","v":33084},{"$f":"INDEX('3 Roh-Daten'!$F$115:$BU$204,'3 Steuerung'!$F91,H$6)","v":11039},{"$f":"INDEX('3 Roh-Daten'!$F$115:$BU$204,'3 Steuerung'!$F91,I$6)","v":7894},{"$f":"INDEX('3 Roh-Daten'!$F$115:$BU$204,'3 Steuerung'!$F91,J$6)","v":3145},null,null,null,"      94 Interessenvertr.,kirchl.u.sonst.Verein",84,{"$f":"INDEX('3 Roh-Daten'!$E$10:$BT$99,$O91,'3 Steuerung'!P$7)","v":465732},{"$f":"INDEX('3 Roh-Daten'!$E$10:$BT$99,$O91,'3 Steuerung'!Q$7)","v":162364},{"$f":"INDEX('3 Roh-Daten'!$E$10:$BT$99,$O91,'3 Steuerung'!R$7)","v":108690},{"$f":"INDEX('3 Roh-Daten'!$E$10:$BT$99,$O91,'3 Steuerung'!S$7)","v":53674},null,null,null,78,{"$f":"IF('3'!#REF!=1,\"*\",IF('3'!#REF!=2,\"*\",'3'!B89-'3'!#REF!))","v":{"$error":"#REF!"}}]
[null,null,null,86,"      96 Sonstige überwieg. persönliche DL",86,{"$f":"INDEX('3 Roh-Daten'!$F$115:$BU$204,'3 Steuerung'!$F92,G$6)","v":316810},{"$f":"INDEX('3 Roh-Daten'!$F$115:$BU$204,'3 Steuerung'!$F92,H$6)","v":189756},{"$f":"INDEX('3 Roh-Daten'!$F$115:$BU$204,'3 Steuerung'!$F92,I$6)","v":138085},{"$f":"INDEX('3 Roh-Daten'!$F$115:$BU$204,'3 Steuerung'!$F92,J$6)","v":51671},null,null,null,"      95 Reparatur v.DV-Geräten u.Gebrauchsgütern",85,{"$f":"INDEX('3 Roh-Daten'!$E$10:$BT$99,$O92,'3 Steuerung'!P$7)","v":32984},{"$f":"INDEX('3 Roh-Daten'!$E$10:$BT$99,$O92,'3 Steuerung'!Q$7)","v":11020},{"$f":"INDEX('3 Roh-Daten'!$E$10:$BT$99,$O92,'3 Steuerung'!R$7)","v":7879},{"$f":"INDEX('3 Roh-Daten'!$E$10:$BT$99,$O92,'3 Steuerung'!S$7)","v":3141},null,null,null,79,{"$f":"IF('3'!#REF!=1,\"*\",IF('3'!#REF!=2,\"*\",'3'!B90-'3'!#REF!))","v":{"$error":"#REF!"}}]
[null,null,null,87,"      97 Private Haushalte mit Hauspersonal",87,{"$f":"INDEX('3 Roh-Daten'!$F$115:$BU$204,'3 Steuerung'!$F93,G$6)","v":47525},{"$f":"INDEX('3 Roh-Daten'!$F$115:$BU$204,'3 Steuerung'!$F93,H$6)","v":283550},{"$f":"INDEX('3 Roh-Daten'!$F$115:$BU$204,'3 Steuerung'!$F93,I$6)","v":199156},{"$f":"INDEX('3 Roh-Daten'!$F$115:$BU$204,'3 Steuerung'!$F93,J$6)","v":84394},null,null,null,"      96 Sonstige überwieg. persönliche DL",86,{"$f":"INDEX('3 Roh-Daten'!$E$10:$BT$99,$O93,'3 Steuerung'!P$7)","v":316226},{"$f":"INDEX('3 Roh-Daten'!$E$10:$BT$99,$O93,'3 Steuerung'!Q$7)","v":189480},{"$f":"INDEX('3 Roh-Daten'!$E$10:$BT$99,$O93,'3 Steuerung'!R$7)","v":137933},{"$f":"INDEX('3 Roh-Daten'!$E$10:$BT$99,$O93,'3 Steuerung'!S$7)","v":51547},null,null,null,80,{"$f":"IF('3'!#REF!=1,\"*\",IF('3'!#REF!=2,\"*\",'3'!B91-'3'!#REF!))","v":{"$error":"#REF!"}}]
[null,null,null,88,"      98 H.v.Waren,Dienstl.d.priv. Haushalte oaS",88,{"$f":"INDEX('3 Roh-Daten'!$F$115:$BU$204,'3 Steuerung'!$F94,G$6)","v":680},{"$f":"INDEX('3 Roh-Daten'!$F$115:$BU$204,'3 Steuerung'!$F94,H$6)","v":1174},{"$f":"INDEX('3 Roh-Daten'!$F$115:$BU$204,'3 Steuerung'!$F94,I$6)","v":602},{"$f":"INDEX('3 Roh-Daten'!$F$115:$BU$204,'3 Steuerung'!$F94,J$6)","v":572},null,null,null,"      97 Private Haushalte mit Hauspersonal",87,{"$f":"INDEX('3 Roh-Daten'!$E$10:$BT$99,$O94,'3 Steuerung'!P$7)","v":47489},{"$f":"INDEX('3 Roh-Daten'!$E$10:$BT$99,$O94,'3 Steuerung'!Q$7)","v":284283},{"$f":"INDEX('3 Roh-Daten'!$E$10:$BT$99,$O94,'3 Steuerung'!R$7)","v":200069},{"$f":"INDEX('3 Roh-Daten'!$E$10:$BT$99,$O94,'3 Steuerung'!S$7)","v":84214},null,null,null,81,{"$f":"IF('3'!#REF!=1,\"*\",IF('3'!#REF!=2,\"*\",'3'!B92-'3'!#REF!))","v":{"$error":"#REF!"}}]
[null,null,null,89,"      99 Exterritoriale Organisat. u. Körpersch.",89,{"$f":"INDEX('3 Roh-Daten'!$F$115:$BU$204,'3 Steuerung'!$F95,G$6)","v":19572},{"$f":"INDEX('3 Roh-Daten'!$F$115:$BU$204,'3 Steuerung'!$F95,H$6)","v":90},{"$f":"INDEX('3 Roh-Daten'!$F$115:$BU$204,'3 Steuerung'!$F95,I$6)","v":76},{"$f":"INDEX('3 Roh-Daten'!$F$115:$BU$204,'3 Steuerung'!$F95,J$6)","v":14},null,null,null,"      98 H.v.Waren,Dienstl.d.priv. Haushalte oaS",88,{"$f":"INDEX('3 Roh-Daten'!$E$10:$BT$99,$O95,'3 Steuerung'!P$7)","v":675},{"$f":"INDEX('3 Roh-Daten'!$E$10:$BT$99,$O95,'3 Steuerung'!Q$7)","v":1177},{"$f":"INDEX('3 Roh-Daten'!$E$10:$BT$99,$O95,'3 Steuerung'!R$7)","v":605},{"$f":"INDEX('3 Roh-Daten'!$E$10:$BT$99,$O95,'3 Steuerung'!S$7)","v":572},null,null,null,82,{"$f":"IF('3'!#REF!=1,\"*\",IF('3'!#REF!=2,\"*\",'3'!B93-'3'!#REF!))","v":{"$error":"#REF!"}}]
[null,null,null,90,"      XX Keine Zuordnung möglich",90,{"$f":"INDEX('3 Roh-Daten'!$F$115:$BU$204,'3 Steuerung'!$F96,G$6)","v":1680},{"$f":"INDEX('3 Roh-Daten'!$F$115:$BU$204,'3 Steuerung'!$F96,H$6)","v":2102},{"$f":"INDEX('3 Roh-Daten'!$F$115:$BU$204,'3 Steuerung'!$F96,I$6)","v":1389},{"$f":"INDEX('3 Roh-Daten'!$F$115:$BU$204,'3 Steuerung'!$F96,J$6)","v":713},null,null,null,"      99 Exterritoriale Organisat. u. Körpersch.",89,{"$f":"INDEX('3 Roh-Daten'!$E$10:$BT$99,$O96,'3 Steuerung'!P$7)","v":19567},{"$f":"INDEX('3 Roh-Daten'!$E$10:$BT$99,$O96,'3 Steuerung'!Q$7)","v":89},{"$f":"INDEX('3 Roh-Daten'!$E$10:$BT$99,$O96,'3 Steuerung'!R$7)","v":74},{"$f":"INDEX('3 Roh-Daten'!$E$10:$BT$99,$O96,'3 Steuerung'!S$7)","v":15},null,null,null,83,{"$f":"IF('3'!#REF!=1,\"*\",IF('3'!#REF!=2,\"*\",'3'!B94-'3'!#REF!))","v":{"$error":"#REF!"}}]
[null,null,null,91,"keine Angabe",91,{"$f":"INDEX('3 Roh-Daten'!$F$115:$BU$204,'3 Steuerung'!$F97,G$6)","v":{"$error":"#REF!"}},{"$f":"INDEX('3 Roh-Daten'!$F$115:$BU$204,'3 Steuerung'!$F97,H$6)","v":{"$error":"#REF!"}},{"$f":"INDEX('3 Roh-Daten'!$F$115:$BU$204,'3 Steuerung'!$F97,I$6)","v":{"$error":"#REF!"}},{"$f":"INDEX('3 Roh-Daten'!$F$115:$BU$204,'3 Steuerung'!$F97,J$6)","v":{"$error":"#REF!"}},null,null,null,"      XX Keine Zuordnung möglich",90,{"$f":"INDEX('3 Roh-Daten'!$E$10:$BT$99,$O97,'3 Steuerung'!P$7)","v":1680},{"$f":"INDEX('3 Roh-Daten'!$E$10:$BT$99,$O97,'3 Steuerung'!Q$7)","v":2103},{"$f":"INDEX('3 Roh-Daten'!$E$10:$BT$99,$O97,'3 Steuerung'!R$7)","v":1393},{"$f":"INDEX('3 Roh-Daten'!$E$10:$BT$99,$O97,'3 Steuerung'!S$7)","v":710},null,null,null,84,{"$f":"IF('3'!#REF!=1,\"*\",IF('3'!#REF!=2,\"*\",'3'!B95-'3'!#REF!))","v":{"$error":"#REF!"}}]
[null,null,null,null,null,null,null,null,null,null,null,null,null,null,null,null,null,null,null,null,null,null,85,{"$f":"IF('3'!#REF!=1,\"*\",IF('3'!#REF!=2,\"*\",'3'!B96-'3'!#REF!))","v":{"$error":"#REF!"}}]
[null,null,null,null,null,null,null,null,null,null,null,null,null,null,null,null,null,null,null,null,null,null,86,{"$f":"IF('3'!#REF!=1,\"*\",IF('3'!#REF!=2,\"*\",'3'!B97-'3'!#REF!))","v":{"$error":"#REF!"}}]
[null,null,null,null,null,null,null,null,null,null,null,null,null,null,null,null,null,null,null,null,null,null,87,{"$f":"IF('3'!#REF!=1,\"*\",IF('3'!#REF!=2,\"*\",'3'!B98-'3'!#REF!))","v":{"$error":"#REF!"}}]
[null,null,null,null,null,null,null,null,null,null,null,null,null,null,null,null,null,null,null,null,null,null,88,{"$f":"IF('3'!#REF!=1,\"*\",IF('3'!#REF!=2,\"*\",'3'!B99-'3'!#REF!))","v":{"$error":"#REF!"}}]
[null,null,null,null,null,null,null,null,null,null,null,null,null,null,null,null,null,null,null,null,null,null,89,{"$f":"IF('3'!#REF!=1,\"*\",IF('3'!#REF!=2,\"*\",'3'!B100-'3'!#REF!))","v":{"$error":"#REF!"}}]
[null,null,null,null,null,null,null,null,null,null,null,null,null,null,null,null,null,null,null,null,null,null,90,{"$f":"IF('3'!#REF!=1,\"*\",IF('3'!#REF!=2,\"*\",'3'!B101-'3'!#REF!))","v":{"$error":"#REF!"}}]

{"sheet":"4_Grafik","index":17,"n_rows":56,"n_cols":5,"rows_kept":56,"cut":false,"hidden":false,"merged":[[2,0,2,4],[6,0,9,0],[6,1,7,1],[6,2,7,2],[6,3,6,4],[8,1,8,4]]}
[null,null,null,null,"Beschäftigungsstatistik"]
[]
["Sozialversicherungspflichtig Beschäftigte und geringfügig Beschäftigte nach der ausgeübten Tätigkeit (KldB 2010) und dem Anforderungsniveau - \nVeränderung in %"]
[null,"(Arbeitsort)"]
["Stichtag: 30.06.2016"]
[]
["Anforderungsniveau \nund Berufshauptgruppen (KldB 2010)","sozialversicherungspflichtig \nBeschäftigte","geringfügig Beschäftigte (GB)","davon"]
[null,null,null,"ausschließlich GB","im Nebenjob GB"]
[null,"Daten vor und nach der Revision Veränderung in %"]
[null,1,2,3,4]
["Insgesamt",{"$f":"'4'!E12","v":0.22192798418267076},{"$f":"'4'!I12","v":9.1850356635698335E-2},{"$f":"'4'!M12","v":7.177362947379232E-3},{"$f":"'4'!Q12","v":0.25832431460880406}]
["davon nach dem Anforderungsniveau"]
["       Helfer",{"$f":"'4'!E14","v":0.17602581209338791},{"$f":"'4'!I14","v":9.3662289139260307E-2},{"$f":"'4'!M14","v":1.092458243702416E-2},{"$f":"'4'!Q14","v":0.26986874202448624}]
["       Fachkraft",{"$f":"'4'!E15","v":0.23156121117273903},{"$f":"'4'!I15","v":0.11253407482897325},{"$f":"'4'!M15","v":4.1693210722337205E-2},{"$f":"'4'!Q15","v":0.24242600448594998}]
["       Spezialist",{"$f":"'4'!E16","v":0.25518466339167956},{"$f":"'4'!I16","v":0.15632674253799414},{"$f":"'4'!M16","v":2.2594331333316595E-2},{"$f":"'4'!Q16","v":0.32582410589283439}]
["       Experte",{"$f":"'4'!E17","v":0.20786848836879038},{"$f":"'4'!I17","v":9.9250187628446576E-2},{"$f":"'4'!M17","v":4.4679681055815233E-2},{"$f":"'4'!Q17","v":0.23568114305354382}]
[]
["davon nach der ausgeübten Tätigkeit"]
["    11 Land-, Tier-, Forstwirtschaftsberufe",{"$f":"'4'!E20","v":0.13655220846103494},{"$f":"'4'!I20","v":5.7567416842067391E-2},{"$f":"'4'!M20","v":-2.5271476926375765E-2},{"$f":"'4'!Q20","v":0.35656043561181899}]
["    12 Gartenbauberufe, Floristik",{"$f":"'4'!E21","v":0.14715805766613421},{"$f":"'4'!I21","v":9.0831374225261802E-2},{"$f":"'4'!M21","v":8.9963115122799649E-3},{"$f":"'4'!Q21","v":0.29383322175109722}]
["    21 Rohstoffgewinn,Glas-,Keramikverarbeitung",{"$f":"'4'!E22","v":0.1569909267295167},{"$f":"'4'!I22","v":6.2344139650872821E-2},{"$f":"'4'!M22","v":6.1443932411674347E-2},{"$f":"'4'!Q22","v":6.4226075786769435E-2}]
["    22 Kunststoff- u. Holzherst.,-verarbeitung",{"$f":"'4'!E23","v":0.2079945473201486},{"$f":"'4'!I23","v":6.8711854815892648E-2},{"$f":"'4'!M23","v":0},{"$f":"'4'!Q23","v":0.19991768095490092}]
["    23 Papier-,Druckberufe, tech.Mediengestalt.",{"$f":"'4'!E24","v":0.20007902582707712},{"$f":"'4'!I24","v":4.6695029573518732E-2},{"$f":"'4'!M24","v":-6.8370874007672736E-2},{"$f":"'4'!Q24","v":0.2945749120366582}]
["    24 Metallerzeugung,-bearbeitung, Metallbau",{"$f":"'4'!E25","v":0.20937889100228399},{"$f":"'4'!I25","v":1.1093607863149254E-2},{"$f":"'4'!M25","v":-7.2916856554313944E-2},{"$f":"'4'!Q25","v":0.14170327334561428}]
["    25 Maschinen- und Fahrzeugtechnikberufe",{"$f":"'4'!E26","v":0.23886318086606984},{"$f":"'4'!I26","v":0.10145784081954294},{"$f":"'4'!M26","v":-1.9617138840300141E-2},{"$f":"'4'!Q26","v":0.28501325931249843}]
["    26 Mechatronik-, Energie- u. Elektroberufe",{"$f":"'4'!E27","v":0.19077103877778623},{"$f":"'4'!I27","v":6.3988145354123865E-2},{"$f":"'4'!M27","v":2.9970302155137182E-2},{"$f":"'4'!Q27","v":0.11903187409072874}]
["    27 Techn.Entwickl.Konstr.Produktionssteuer.",{"$f":"'4'!E28","v":0.24134457953249033},{"$f":"'4'!I28","v":0.14497756299620296},{"$f":"'4'!M28","v":2.6410310585252481E-2},{"$f":"'4'!Q28","v":0.36859932257421796}]
["    28 Textil- und Lederberufe",{"$f":"'4'!E29","v":0.17562264444185413},{"$f":"'4'!I29","v":9.9202704192232802E-2},{"$f":"'4'!M29","v":0.10245901639344263},{"$f":"'4'!Q29","v":8.9272429697961619E-2}]
["    29 Lebensmittelherstellung u. -verarbeitung",{"$f":"'4'!E30","v":0.17875571951602556},{"$f":"'4'!I30","v":1.7681290887985177E-2},{"$f":"'4'!M30","v":-4.4008273555428421E-3},{"$f":"'4'!Q30","v":6.8896884329786426E-2}]
["    31 Bauplanung,Architektur,Vermessungsberufe",{"$f":"'4'!E31","v":0.14582068943044393},{"$f":"'4'!I31","v":0.14216886501856094},{"$f":"'4'!M31","v":0.12307003803982994},{"$f":"'4'!Q31","v":0.18802041364491001}]
["    32 Hoch- und Tiefbauberufe",{"$f":"'4'!E32","v":5.2663295980093984E-2},{"$f":"'4'!I32","v":-5.0385086014539698E-2},{"$f":"'4'!M32","v":-7.4351021795470956E-2},{"$f":"'4'!Q32","v":0}]
["    33 (Innen-)Ausbauberufe",{"$f":"'4'!E33","v":0.10659921648233327},{"$f":"'4'!I33","v":1.2879627006001907E-2},{"$f":"'4'!M33","v":-1.9081056327278276E-2},{"$f":"'4'!Q33","v":7.9258143774272802E-2}]
["    34 Gebäude- u. versorgungstechnische Berufe",{"$f":"'4'!E34","v":0.2067413377996441},{"$f":"'4'!I34","v":0.23970606534937486},{"$f":"'4'!M34","v":0.11156443519830983},{"$f":"'4'!Q34","v":0.43811701479583748}]
["    41 Mathematik-Biologie-Chemie-,Physikberufe",{"$f":"'4'!E35","v":0.29217019812631095},{"$f":"'4'!I35","v":0.21537658269155463},{"$f":"'4'!M35","v":0.23707085784528931},{"$f":"'4'!Q35","v":0.15255530129672007}]
["    42 Geologie-,Geografie-,Umweltschutzberufe",{"$f":"'4'!E36","v":0.17869382159992167},{"$f":"'4'!I36","v":0.15634771732332708},{"$f":"'4'!M36","v":0.17769880053309639},{"$f":"'4'!Q36","v":0.10559662090813093}]
["    43 Informatik- und andere IKT-Berufe",{"$f":"'4'!E37","v":0.24896566843023166},{"$f":"'4'!I37","v":0.21540518457995989},{"$f":"'4'!M37","v":-0.11174016686531585},{"$f":"'4'!Q37","v":0.54066064286772331}]
["    51 Verkehr, Logistik (außer Fahrzeugführ.)",{"$f":"'4'!E38","v":0.21135512481164559},{"$f":"'4'!I38","v":1.7048029705152248E-2},{"$f":"'4'!M38","v":-5.453366066286143E-2},{"$f":"'4'!Q38","v":0.20515089652953067}]
["    52 Führer von Fahrzeug- u. Transportgeräten",{"$f":"'4'!E39","v":0.22346150701325346},{"$f":"'4'!I39","v":5.2895685182985125E-2},{"$f":"'4'!M39","v":-1.3270959822169139E-2},{"$f":"'4'!Q39","v":0.19484332461431697}]
["    53 Schutz-,Sicherheits-, Überwachungsberufe",{"$f":"'4'!E40","v":0.13792547417280709},{"$f":"'4'!I40","v":2.4405650625933157E-2},{"$f":"'4'!M40","v":-0.10573352633897665},{"$f":"'4'!Q40","v":0.19710357960144989}]
["    54 Reinigungsberufe",{"$f":"'4'!E41","v":0.14888210390775894},{"$f":"'4'!I41","v":0.19435373433055936},{"$f":"'4'!M41","v":8.811609510797809E-2},{"$f":"'4'!Q41","v":0.36170289724020688}]
["    61 Einkaufs-, Vertriebs- und Handelsberufe",{"$f":"'4'!E42","v":0.27809288794278619},{"$f":"'4'!I42","v":0.18221648956861783},{"$f":"'4'!M42","v":7.2204432724304643E-2},{"$f":"'4'!Q42","v":0.38848666784389901}]
["    62 Verkaufsberufe",{"$f":"'4'!E43","v":0.34539496638691453},{"$f":"'4'!I43","v":4.8383027694675451E-2},{"$f":"'4'!M43","v":5.1436151493001979E-2},{"$f":"'4'!Q43","v":3.8391305845814606E-2}]
["    63 Tourismus-, Hotel- und Gaststättenberufe",{"$f":"'4'!E44","v":0.17382354022360744},{"$f":"'4'!I44","v":-4.5070669591793728E-3},{"$f":"'4'!M44","v":-9.1139378847077096E-2},{"$f":"'4'!Q44","v":0.13937011191744103}]
["    71 Berufe Unternehmensführung,-organisation",{"$f":"'4'!E45","v":0.23754592372288313},{"$f":"'4'!I45","v":0.23836618014897887},{"$f":"'4'!M45","v":0.11421220306608984},{"$f":"'4'!Q45","v":0.43842900579691002}]
["    72 Finanzdienstl.Rechnungsw.,Steuerberatung",{"$f":"'4'!E46","v":0.40238730431738334},{"$f":"'4'!I46","v":0.27525340789933589},{"$f":"'4'!M46","v":3.8678900659690138E-2},{"$f":"'4'!Q46","v":0.51982672442519162}]
["    73 Berufe in Recht und Verwaltung",{"$f":"'4'!E47","v":0.26585749205452014},{"$f":"'4'!I47","v":0.20240486971123572},{"$f":"'4'!M47","v":0.11930103628155045},{"$f":"'4'!Q47","v":0.3507453338343981}]
["    81 Medizinische Gesundheitsberufe",{"$f":"'4'!E48","v":0.19382148157507476},{"$f":"'4'!I48","v":0.17515650233483618},{"$f":"'4'!M48","v":0.13130087909064764},{"$f":"'4'!Q48","v":0.23103703762716996}]
["    82 Nichtmed.Gesundheit,Körperpfl.,Medizint.",{"$f":"'4'!E49","v":0.22414942052015713},{"$f":"'4'!I49","v":0.15730831054996083},{"$f":"'4'!M49","v":0.14705289875508643},{"$f":"'4'!Q49","v":0.17930438539641391}]
["    83 Erziehung,soz.,hauswirt.Berufe,Theologie",{"$f":"'4'!E50","v":0.15126702292708155},{"$f":"'4'!I50","v":6.9683038954754417E-2},{"$f":"'4'!M50","v":2.8453917587107788E-2},{"$f":"'4'!Q50","v":0.19225593109547429}]
["    84 Lehrende und ausbildende Berufe",{"$f":"'4'!E51","v":0.11862703788934625},{"$f":"'4'!I51","v":4.6758982794947779E-2},{"$f":"'4'!M51","v":7.6478326042399584E-4},{"$f":"'4'!Q51","v":0.17540106951871659}]
["    91 Geistes-Gesellschafts-Wirtschaftswissen.",{"$f":"'4'!E52","v":0.17583582233355816},{"$f":"'4'!I52","v":-4.6076882569773568E-2},{"$f":"'4'!M52","v":-0.15748031496062992},{"$f":"'4'!Q52","v":0.29239766081871343}]
["    92 Werbung,Marketing,kaufm,red.Medienberufe",{"$f":"'4'!E53","v":0.22129170514763241},{"$f":"'4'!I53","v":4.7576568539994056E-2},{"$f":"'4'!M53","v":-5.8440098898628903E-2},{"$f":"'4'!Q53","v":0.25472112428634169}]
["    93 Produktdesign, Kunsthandwerk",{"$f":"'4'!E54","v":0.2241798490732847},{"$f":"'4'!I54","v":5.2290315833507635E-2},{"$f":"'4'!M54","v":-0.11947431302270012},{"$f":"'4'!Q54","v":0.45359385903698535}]
["    94 Darstellende, unterhaltende Berufe",{"$f":"'4'!E55","v":0.10041022296218739},{"$f":"'4'!I55","v":-1.23902942694889E-2},{"$f":"'4'!M55","v":-7.3769627990304565E-2},{"$f":"'4'!Q55","v":7.5157831446036674E-2}]
["    01 Angehörige der regulären Streitkräfte",{"$f":"'4'!E56","v":3.9777247414478918E-2},{"$f":"'4'!I56","v":0},{"$f":"'4'!M56","v":0},{"$f":"'4'!Q56","v":0}]
[null,null,null,null,"© Statistik der Bundesagentur für Arbeit"]

{"sheet":"4","index":18,"n_rows":58,"n_cols":17,"rows_kept":58,"cut":false,"hidden":false,"merged":[[8,2,9,2],[8,3,8,4],[8,15,8,16],[8,7,8,8],[8,5,9,5],[8,6,9,6],[2,0,2,16],[6,0,10,0],[6,1,7,4],[6,5,7,8],[6,9,6,16],[7,9,7,12],[7,13,7,16],[8,9,9,9],[8,10,9,10],[8,11,8,12],[8,13,9,13],[8,14,9,14],[8,1,9,1]]}
[null,null,null,null,null,null,null,null,null,null,null,null,null,null,null,null,"Beschäftigungsstatistik"]
[]
["Sozialversicherungspflichtig Beschäftigte und geringfügig Beschäftigte nach der ausgeübten Tätigkeit (KldB 2010) und dem Anforderungsniveau"]
[null,"(Arbeitsort)"]
["Stichtag: 30.06.2016"]
[]
["Anforderungsniveau \nund Berufshauptgruppen (KldB 2010)","sozialversicherungspflichtig Beschäftigte",null,null,null,"geringfügig Beschäftigte (GB)",null,null,null,"davon"]
[null,null,null,null,null,null,null,null,null,"ausschließlich GB",null,null,null,"im Nebenjob GB"]
[null," nach Revision"," vor Revision","Veränderung (Spalte 1 zu 2)",null," nach Revision"," vor Revision","Veränderung (Spalte 5 zu 6)",null," nach Revision"," vor Revision","Veränderung (Spalte 9 zu 10)",null," nach Revision"," vor Revision","Veränderung (Spalte 13 zu 14)"]
[null,null,null,"absolut","in %",null,null,"absolut","in %",null,null,"absolut","in %",null,null,"absolut","in %"]
[null,1,2,3,4,5,6,7,8,9,10,11,12,13,14,15,16]
["Insgesamt",{"$f":"'4 Steuerung'!$H10","v":31443318},{"$f":"'4 Steuerung'!G67","v":31373691},{"$f":"IFERROR(B12-C12,\"x\")","v":69627},{"$f":"IFERROR((D12*100)/C12,\"x\")","v":0.22192798418267076},{"$f":"'4 Steuerung'!I10","v":7763218},{"$f":"'4 Steuerung'!J67","v":7756094},{"$f":"IFERROR(F12-G12,\"x\")","v":7124},{"$f":"IFERROR((H12*100)/G12,\"x\")","v":9.1850356635698335E-2},{"$f":"'4 Steuerung'!J10","v":5141533},{"$f":"'4 Steuerung'!K67","v":5141164},{"$f":"IFERROR(J12-K12,\"x\")","v":369},{"$f":"IFERROR((L12*100)/K12,\"x\")","v":7.177362947379232E-3},{"$f":"'4 Steuerung'!K10","v":2621685},{"$f":"'4 Steuerung'!L67","v":2614930},{"$f":"IFERROR(N12-O12,\"x\")","v":6755},{"$f":"IFERROR((P12*100)/O12,\"x\")","v":0.25832431460880406}]
["davon nach dem Anforderungsniveau"]
["       Helfer",{"$f":"'4 Steuerung'!$H11","v":4783842},{"$f":"'4 Steuerung'!G68","v":4775436},{"$f":"IFERROR(B14-C14,\"x\")","v":8406},{"$f":"IFERROR((D14*100)/C14,\"x\")","v":0.17602581209338791},{"$f":"'4 Steuerung'!I11","v":3527665},{"$f":"'4 Steuerung'!J68","v":3524364},{"$f":"IFERROR(F14-G14,\"x\")","v":3301},{"$f":"IFERROR((H14*100)/G14,\"x\")","v":9.3662289139260307E-2},{"$f":"'4 Steuerung'!J11","v":2398523},{"$f":"'4 Steuerung'!K68","v":2398261},{"$f":"IFERROR(J14-K14,\"x\")","v":262},{"$f":"IFERROR((L14*100)/K14,\"x\")","v":1.092458243702416E-2},{"$f":"'4 Steuerung'!K11","v":1129142},{"$f":"'4 Steuerung'!L68","v":1126103},{"$f":"IFERROR(N14-O14,\"x\")","v":3039},{"$f":"IFERROR((P14*100)/O14,\"x\")","v":0.26986874202448624}]
["       Fachkraft",{"$f":"'4 Steuerung'!$H12","v":18499197},{"$f":"'4 Steuerung'!G69","v":18456459},{"$f":"IFERROR(B15-C15,\"x\")","v":42738},{"$f":"IFERROR((D15*100)/C15,\"x\")","v":0.23156121117273903},{"$f":"'4 Steuerung'!I12","v":3317392},{"$f":"'4 Steuerung'!J69","v":3313663},{"$f":"IFERROR(F15-G15,\"x\")","v":3729},{"$f":"IFERROR((H15*100)/G15,\"x\")","v":0.11253407482897325},{"$f":"'4 Steuerung'!J12","v":2145128},{"$f":"'4 Steuerung'!K69","v":2144234},{"$f":"IFERROR(J15-K15,\"x\")","v":894},{"$f":"IFERROR((L15*100)/K15,\"x\")","v":4.1693210722337205E-2},{"$f":"'4 Steuerung'!K12","v":1172264},{"$f":"'4 Steuerung'!L69","v":1169429},{"$f":"IFERROR(N15-O15,\"x\")","v":2835},{"$f":"IFERROR((P15*100)/O15,\"x\")","v":0.24242600448594998}]
["       Spezialist",{"$f":"'4 Steuerung'!$H13","v":3990019},{"$f":"'4 Steuerung'!G70","v":3979863},{"$f":"IFERROR(B16-C16,\"x\")","v":10156},{"$f":"IFERROR((D16*100)/C16,\"x\")","v":0.25518466339167956},{"$f":"'4 Steuerung'!I13","v":356862},{"$f":"'4 Steuerung'!J70","v":356305},{"$f":"IFERROR(F16-G16,\"x\")","v":557},{"$f":"IFERROR((H16*100)/G16,\"x\")","v":0.15632674253799414},{"$f":"'4 Steuerung'!J13","v":199210},{"$f":"'4 Steuerung'!K70","v":199165},{"$f":"IFERROR(J16-K16,\"x\")","v":45},{"$f":"IFERROR((L16*100)/K16,\"x\")","v":2.2594331333316595E-2},{"$f":"'4 Steuerung'!K13","v":157652},{"$f":"'4 Steuerung'!L70","v":157140},{"$f":"IFERROR(N16-O16,\"x\")","v":512},{"$f":"IFERROR((P16*100)/O16,\"x\")","v":0.32582410589283439}]
["       Experte",{"$f":"'4 Steuerung'!$H14","v":3986747},{"$f":"'4 Steuerung'!G71","v":3978477},{"$f":"IFERROR(B17-C17,\"x\")","v":8270},{"$f":"IFERROR((D17*100)/C17,\"x\")","v":0.20786848836879038},{"$f":"'4 Steuerung'!I14","v":285421},{"$f":"'4 Steuerung'!J71","v":285138},{"$f":"IFERROR(F17-G17,\"x\")","v":283},{"$f":"IFERROR((H17*100)/G17,\"x\")","v":9.9250187628446576E-2},{"$f":"'4 Steuerung'!J14","v":203763},{"$f":"'4 Steuerung'!K71","v":203672},{"$f":"IFERROR(J17-K17,\"x\")","v":91},{"$f":"IFERROR((L17*100)/K17,\"x\")","v":4.4679681055815233E-2},{"$f":"'4 Steuerung'!K14","v":81658},{"$f":"'4 Steuerung'!L71","v":81466},{"$f":"IFERROR(N17-O17,\"x\")","v":192},{"$f":"IFERROR((P17*100)/O17,\"x\")","v":0.23568114305354382}]
[]
["davon nach der ausgeübten Tätigkeit"]
["    11 Land-, Tier-, Forstwirtschaftsberufe",{"$f":"'4 Steuerung'!$H15","v":230996},{"$f":"'4 Steuerung'!G72","v":230681},{"$f":"IFERROR(B20-C20,\"x\")","v":315},{"$f":"IFERROR((D20*100)/C20,\"x\")","v":0.13655220846103494},{"$f":"'4 Steuerung'!I15","v":166857},{"$f":"'4 Steuerung'!J72","v":166761},{"$f":"IFERROR(F20-G20,\"x\")","v":96},{"$f":"IFERROR((H20*100)/G20,\"x\")","v":5.7567416842067391E-2},{"$f":"'4 Steuerung'!J15","v":130549},{"$f":"'4 Steuerung'!K72","v":130582},{"$f":"IFERROR(J20-K20,\"x\")","v":-33},{"$f":"IFERROR((L20*100)/K20,\"x\")","v":-2.5271476926375765E-2},{"$f":"'4 Steuerung'!K15","v":36308},{"$f":"'4 Steuerung'!L72","v":36179},{"$f":"IFERROR(N20-O20,\"x\")","v":129},{"$f":"IFERROR((P20*100)/O20,\"x\")","v":0.35656043561181899}]
["    12 Gartenbauberufe, Floristik",{"$f":"'4 Steuerung'!$H16","v":262689},{"$f":"'4 Steuerung'!G73","v":262303},386,0.14715805766613421,{"$f":"'4 Steuerung'!I16","v":93665},{"$f":"'4 Steuerung'!J73","v":93580},85,9.0831374225261802E-2,{"$f":"'4 Steuerung'!J16","v":66700},{"$f":"'4 Steuerung'!K73","v":66694},6,8.9963115122799649E-3,{"$f":"'4 Steuerung'!K16","v":26965},{"$f":"'4 Steuerung'!L73","v":26886},79,0.29383322175109722]
["    21 Rohstoffgewinn,Glas-,Keramikverarbeitung",{"$f":"'4 Steuerung'!$H17","v":124406},{"$f":"'4 Steuerung'!G74","v":124211},195,0.1569909267295167,{"$f":"'4 Steuerung'!I17","v":9630},{"$f":"'4 Steuerung'!J74","v":9624},6,6.2344139650872821E-2,{"$f":"'4 Steuerung'!J17","v":6514},{"$f":"'4 Steuerung'!K74","v":6510},4,6.1443932411674347E-2,{"$f":"'4 Steuerung'!K17","v":3116},{"$f":"'4 Steuerung'!L74","v":3114},2,6.4226075786769435E-2]
["    22 Kunststoff- u. Holzherst.,-verarbeitung",{"$f":"'4 Steuerung'!$H18","v":541041},{"$f":"'4 Steuerung'!G75","v":539918},1123,0.2079945473201486,{"$f":"'4 Steuerung'!I18","v":49516},{"$f":"'4 Steuerung'!J75","v":49482},34,6.8711854815892648E-2,{"$f":"'4 Steuerung'!J18","v":32475},{"$f":"'4 Steuerung'!K75","v":32475},0,0,{"$f":"'4 Steuerung'!K18","v":17041},{"$f":"'4 Steuerung'!L75","v":17007},34,0.19991768095490092]
["    23 Papier-,Druckberufe, tech.Mediengestalt.",{"$f":"'4 Steuerung'!$H19","v":278947},{"$f":"'4 Steuerung'!G76","v":278390},557,0.20007902582707712,{"$f":"'4 Steuerung'!I19","v":38566},{"$f":"'4 Steuerung'!J76","v":38548},18,4.6695029573518732E-2,{"$f":"'4 Steuerung'!J19","v":26309},{"$f":"'4 Steuerung'!K76","v":26327},-18,-6.8370874007672736E-2,{"$f":"'4 Steuerung'!K19","v":12257},{"$f":"'4 Steuerung'!L76","v":12221},36,0.2945749120366582]
["    24 Metallerzeugung,-bearbeitung, Metallbau",{"$f":"'4 Steuerung'!$H20","v":1311851},{"$f":"'4 Steuerung'!G77","v":1309110},2741,0.20937889100228399,{"$f":"'4 Steuerung'!I20","v":90152},{"$f":"'4 Steuerung'!J77","v":90142},10,1.1093607863149254E-2,{"$f":"'4 Steuerung'!J20","v":54817},{"$f":"'4 Steuerung'!K77","v":54857},-40,-7.2916856554313944E-2,{"$f":"'4 Steuerung'!K20","v":35335},{"$f":"'4 Steuerung'!L77","v":35285},50,0.14170327334561428]
["    25 Maschinen- und Fahrzeugtechnikberufe",{"$f":"'4 Steuerung'!$H21","v":1773020},{"$f":"'4 Steuerung'!G78","v":1768795},4225,0.23886318086606984,{"$f":"'4 Steuerung'!I21","v":101623},{"$f":"'4 Steuerung'!J78","v":101520},103,0.10145784081954294,{"$f":"'4 Steuerung'!J21","v":61159},{"$f":"'4 Steuerung'!K78","v":61171},-12,-1.9617138840300141E-2,{"$f":"'4 Steuerung'!K21","v":40464},{"$f":"'4 Steuerung'!L78","v":40349},115,0.28501325931249843]
["    26 Mechatronik-, Energie- u. Elektroberufe",{"$f":"'4 Steuerung'!$H22","v":1002585},{"$f":"'4 Steuerung'!G79","v":1000676},1909,0.19077103877778623,{"$f":"'4 Steuerung'!I22","v":59424},{"$f":"'4 Steuerung'!J79","v":59386},38,6.3988145354123865E-2,{"$f":"'4 Steuerung'!J22","v":36714},{"$f":"'4 Steuerung'!K79","v":36703},11,2.9970302155137182E-2,{"$f":"'4 Steuerung'!K22","v":22710},{"$f":"'4 Steuerung'!L79","v":22683},27,0.11903187409072874]
["    27 Techn.Entwickl.Konstr.Produktionssteuer.",{"$f":"'4 Steuerung'!$H23","v":1049993},{"$f":"'4 Steuerung'!G80","v":1047465},2528,0.24134457953249033,{"$f":"'4 Steuerung'!I23","v":29012},{"$f":"'4 Steuerung'!J80","v":28970},42,0.14497756299620296,{"$f":"'4 Steuerung'!J23","v":18937},{"$f":"'4 Steuerung'!K80","v":18932},5,2.6410310585252481E-2,{"$f":"'4 Steuerung'!K23","v":10075},{"$f":"'4 Steuerung'!L80","v":10038},37,0.36859932257421796]
["    28 Textil- und Lederberufe",{"$f":"'4 Steuerung'!$H24","v":128911},{"$f":"'4 Steuerung'!G81","v":128685},226,0.17562264444185413,{"$f":"'4 Steuerung'!I24","v":27244},{"$f":"'4 Steuerung'!J81","v":27217},27,9.9202704192232802E-2,{"$f":"'4 Steuerung'!J24","v":20517},{"$f":"'4 Steuerung'!K81","v":20496},21,0.10245901639344263,{"$f":"'4 Steuerung'!K24","v":6727},{"$f":"'4 Steuerung'!L81","v":6721},6,8.9272429697961619E-2]
["    29 Lebensmittelherstellung u. -verarbeitung",{"$f":"'4 Steuerung'!$H25","v":826063},{"$f":"'4 Steuerung'!G82","v":824589},1474,0.17875571951602556,{"$f":"'4 Steuerung'!I25","v":260208},{"$f":"'4 Steuerung'!J82","v":260162},46,1.7681290887985177E-2,{"$f":"'4 Steuerung'!J25","v":181776},{"$f":"'4 Steuerung'!K82","v":181784},-8,-4.4008273555428421E-3,{"$f":"'4 Steuerung'!K25","v":78432},{"$f":"'4 Steuerung'!L82","v":78378},54,6.8896884329786426E-2]
["    31 Bauplanung,Architektur,Vermessungsberufe",{"$f":"'4 Steuerung'!$H26","v":245865},{"$f":"'4 Steuerung'!G83","v":245507},358,0.14582068943044393,{"$f":"'4 Steuerung'!I26","v":12679},{"$f":"'4 Steuerung'!J83","v":12661},18,0.14216886501856094,{"$f":"'4 Steuerung'!J26","v":8949},{"$f":"'4 Steuerung'!K83","v":8938},11,0.12307003803982994,{"$f":"'4 Steuerung'!K26","v":3730},{"$f":"'4 Steuerung'!L83","v":3723},7,0.18802041364491001]
["    32 Hoch- und Tiefbauberufe",{"$f":"'4 Steuerung'!$H27","v":566157},{"$f":"'4 Steuerung'!G84","v":565859},298,5.2663295980093984E-2,{"$f":"'4 Steuerung'!I27","v":69430},{"$f":"'4 Steuerung'!J84","v":69465},-35,-5.0385086014539698E-2,{"$f":"'4 Steuerung'!J27","v":47039},{"$f":"'4 Steuerung'!K84","v":47074},-35,-7.4351021795470956E-2,{"$f":"'4 Steuerung'!K27","v":22391},{"$f":"'4 Steuerung'!L84","v":22391},0,0]
["    33 (Innen-)Ausbauberufe",{"$f":"'4 Steuerung'!$H28","v":372820},{"$f":"'4 Steuerung'!G85","v":372423},397,0.10659921648233327,{"$f":"'4 Steuerung'!I28","v":38826},{"$f":"'4 Steuerung'!J85","v":38821},5,1.2879627006001907E-2,{"$f":"'4 Steuerung'!J28","v":26199},{"$f":"'4 Steuerung'!K85","v":26204},-5,-1.9081056327278276E-2,{"$f":"'4 Steuerung'!K28","v":12627},{"$f":"'4 Steuerung'!L85","v":12617},10,7.9258143774272802E-2]
["    34 Gebäude- u. versorgungstechnische Berufe",{"$f":"'4 Steuerung'!$H29","v":689238},{"$f":"'4 Steuerung'!G86","v":687816},1422,0.2067413377996441,{"$f":"'4 Steuerung'!I29","v":306106},{"$f":"'4 Steuerung'!J86","v":305374},732,0.23970606534937486,{"$f":"'4 Steuerung'!J29","v":185750},{"$f":"'4 Steuerung'!K86","v":185543},207,0.11156443519830983,{"$f":"'4 Steuerung'!K29","v":120356},{"$f":"'4 Steuerung'!L86","v":119831},525,0.43811701479583748]
["    41 Mathematik-Biologie-Chemie-,Physikberufe",{"$f":"'4 Steuerung'!$H30","v":390637},{"$f":"'4 Steuerung'!G87","v":389499},1138,0.29217019812631095,{"$f":"'4 Steuerung'!I30","v":15355},{"$f":"'4 Steuerung'!J87","v":15322},33,0.21537658269155463,{"$f":"'4 Steuerung'!J30","v":11416},{"$f":"'4 Steuerung'!K87","v":11389},27,0.23707085784528931,{"$f":"'4 Steuerung'!K30","v":3939},{"$f":"'4 Steuerung'!L87","v":3933},6,0.15255530129672007]
["    42 Geologie-,Geografie-,Umweltschutzberufe",{"$f":"'4 Steuerung'!$H31","v":40925},{"$f":"'4 Steuerung'!G88","v":40852},73,0.17869382159992167,{"$f":"'4 Steuerung'!I31","v":3203},{"$f":"'4 Steuerung'!J88","v":3198},5,0.15634771732332708,{"$f":"'4 Steuerung'!J31","v":2255},{"$f":"'4 Steuerung'!K88","v":2251},4,0.17769880053309639,{"$f":"'4 Steuerung'!K31","v":948},{"$f":"'4 Steuerung'!L88","v":947},1,0.10559662090813093]
["    43 Informatik- und andere IKT-Berufe",{"$f":"'4 Steuerung'!$H32","v":717946},{"$f":"'4 Steuerung'!G89","v":716163},1783,0.24896566843023166,{"$f":"'4 Steuerung'!I32","v":26984},{"$f":"'4 Steuerung'!J89","v":26926},58,0.21540518457995989,{"$f":"'4 Steuerung'!J32","v":13409},{"$f":"'4 Steuerung'!K89","v":13424},-15,-0.11174016686531585,{"$f":"'4 Steuerung'!K32","v":13575},{"$f":"'4 Steuerung'!L89","v":13502},73,0.54066064286772331]
["    51 Verkehr, Logistik (außer Fahrzeugführ.)",{"$f":"'4 Steuerung'!$H33","v":1912670},{"$f":"'4 Steuerung'!G90","v":1908636},4034,0.21135512481164559,{"$f":"'4 Steuerung'!I33","v":721614},{"$f":"'4 Steuerung'!J90","v":721491},123,1.7048029705152248E-2,{"$f":"'4 Steuerung'!J33","v":522328},{"$f":"'4 Steuerung'!K90","v":522613},-285,-5.453366066286143E-2,{"$f":"'4 Steuerung'!K33","v":199286},{"$f":"'4 Steuerung'!L90","v":198878},408,0.20515089652953067]
["    52 Führer von Fahrzeug- u. Transportgeräten",{"$f":"'4 Steuerung'!$H34","v":1078653},{"$f":"'4 Steuerung'!G91","v":1076248},2405,0.22346150701325346,{"$f":"'4 Steuerung'!I34","v":353713},{"$f":"'4 Steuerung'!J91","v":353526},187,5.2895685182985125E-2,{"$f":"'4 Steuerung'!J34","v":241096},{"$f":"'4 Steuerung'!K91","v":241128},-32,-1.3270959822169139E-2,{"$f":"'4 Steuerung'!K34","v":112617},{"$f":"'4 Steuerung'!L91","v":112398},219,0.19484332461431697]
["    53 Schutz-,Sicherheits-, Überwachungsberufe",{"$f":"'4 Steuerung'!$H35","v":347768},{"$f":"'4 Steuerung'!G92","v":347289},479,0.13792547417280709,{"$f":"'4 Steuerung'!I35","v":139346},{"$f":"'4 Steuerung'!J92","v":139312},34,2.4405650625933157E-2,{"$f":"'4 Steuerung'!J35","v":79361},{"$f":"'4 Steuerung'!K92","v":79445},-84,-0.10573352633897665,{"$f":"'4 Steuerung'!K35","v":59985},{"$f":"'4 Steuerung'!L92","v":59867},118,0.19710357960144989]
["    54 Reinigungsberufe",{"$f":"'4 Steuerung'!$H36","v":821333},{"$f":"'4 Steuerung'!G93","v":820112},1221,0.14888210390775894,{"$f":"'4 Steuerung'!I36","v":1141374},{"$f":"'4 Steuerung'!J93","v":1139160},2214,0.19435373433055936,{"$f":"'4 Steuerung'!J36","v":697422},{"$f":"'4 Steuerung'!K93","v":696808},614,8.811609510797809E-2,{"$f":"'4 Steuerung'!K36","v":443952},{"$f":"'4 Steuerung'!L93","v":442352},1600,0.36170289724020688]
["    61 Einkaufs-, Vertriebs- und Handelsberufe",{"$f":"'4 Steuerung'!$H37","v":937900},{"$f":"'4 Steuerung'!G94","v":935299},2601,0.27809288794278619,{"$f":"'4 Steuerung'!I37","v":48932},{"$f":"'4 Steuerung'!J94","v":48843},89,0.18221648956861783,{"$f":"'4 Steuerung'!J37","v":31877},{"$f":"'4 Steuerung'!K94","v":31854},23,7.2204432724304643E-2,{"$f":"'4 Steuerung'!K37","v":17055},{"$f":"'4 Steuerung'!L94","v":16989},66,0.38848666784389901]
["    62 Verkaufsberufe",{"$f":"'4 Steuerung'!$H38","v":2085088},{"$f":"'4 Steuerung'!G95","v":2077911},7177,0.34539496638691453,{"$f":"'4 Steuerung'!I38","v":868493},{"$f":"'4 Steuerung'!J95","v":868073},420,4.8383027694675451E-2,{"$f":"'4 Steuerung'!J38","v":665244},{"$f":"'4 Steuerung'!K95","v":664902},342,5.1436151493001979E-2,{"$f":"'4 Steuerung'!K38","v":203249},{"$f":"'4 Steuerung'!L95","v":203171},78,3.8391305845814606E-2]
["    63 Tourismus-, Hotel- und Gaststättenberufe",{"$f":"'4 Steuerung'!$H39","v":763016},{"$f":"'4 Steuerung'!G96","v":761692},1324,0.17382354022360744,{"$f":"'4 Steuerung'!I39","v":820896},{"$f":"'4 Steuerung'!J96","v":820933},-37,-4.5070669591793728E-3,{"$f":"'4 Steuerung'!J39","v":511935},{"$f":"'4 Steuerung'!K96","v":512402},-467,-9.1139378847077096E-2,{"$f":"'4 Steuerung'!K39","v":308961},{"$f":"'4 Steuerung'!L96","v":308531},430,0.13937011191744103]
["    71 Berufe Unternehmensführung,-organisation",{"$f":"'4 Steuerung'!$H40","v":4033623},{"$f":"'4 Steuerung'!G97","v":4024064},9559,0.23754592372288313,{"$f":"'4 Steuerung'!I40","v":911693},{"$f":"'4 Steuerung'!J97","v":909525},2168,0.23836618014897887,{"$f":"'4 Steuerung'!J40","v":561877},{"$f":"'4 Steuerung'!K97","v":561236},641,0.11421220306608984,{"$f":"'4 Steuerung'!K40","v":349816},{"$f":"'4 Steuerung'!L97","v":348289},1527,0.43842900579691002]
["    72 Finanzdienstl.Rechnungsw.,Steuerberatung",{"$f":"'4 Steuerung'!$H41","v":1382323},{"$f":"'4 Steuerung'!G98","v":1376783},5540,0.40238730431738334,{"$f":"'4 Steuerung'!I41","v":91804},{"$f":"'4 Steuerung'!J98","v":91552},252,0.27525340789933589,{"$f":"'4 Steuerung'!J41","v":46555},{"$f":"'4 Steuerung'!K98","v":46537},18,3.8678900659690138E-2,{"$f":"'4 Steuerung'!K41","v":45249},{"$f":"'4 Steuerung'!L98","v":45015},234,0.51982672442519162]
["    73 Berufe in Recht und Verwaltung",{"$f":"'4 Steuerung'!$H42","v":1011116},{"$f":"'4 Steuerung'!G99","v":1008435},2681,0.26585749205452014,{"$f":"'4 Steuerung'!I42","v":66833},{"$f":"'4 Steuerung'!J99","v":66698},135,0.20240486971123572,{"$f":"'4 Steuerung'!J42","v":42800},{"$f":"'4 Steuerung'!K99","v":42749},51,0.11930103628155045,{"$f":"'4 Steuerung'!K42","v":24033},{"$f":"'4 Steuerung'!L99","v":23949},84,0.3507453338343981]
["    81 Medizinische Gesundheitsberufe",{"$f":"'4 Steuerung'!$H43","v":2402731},{"$f":"'4 Steuerung'!G100","v":2398083},4648,0.19382148157507476,{"$f":"'4 Steuerung'!I43","v":285959},{"$f":"'4 Steuerung'!J100","v":285459},500,0.17515650233483618,{"$f":"'4 Steuerung'!J43","v":160148},{"$f":"'4 Steuerung'!K100","v":159938},210,0.13130087909064764,{"$f":"'4 Steuerung'!K43","v":125811},{"$f":"'4 Steuerung'!L100","v":125521},290,0.23103703762716996]
["    82 Nichtmed.Gesundheit,Körperpfl.,Medizint.",{"$f":"'4 Steuerung'!$H44","v":860280},{"$f":"'4 Steuerung'!G101","v":858356},1924,0.22414942052015713,{"$f":"'4 Steuerung'!I44","v":145803},{"$f":"'4 Steuerung'!J101","v":145574},229,0.15730831054996083,{"$f":"'4 Steuerung'!J44","v":99430},{"$f":"'4 Steuerung'!K101","v":99284},146,0.14705289875508643,{"$f":"'4 Steuerung'!K44","v":46373},{"$f":"'4 Steuerung'!L101","v":46290},83,0.17930438539641391]
["    83 Erziehung,soz.,hauswirt.Berufe,Theologie",{"$f":"'4 Steuerung'!$H45","v":1626737},{"$f":"'4 Steuerung'!G102","v":1624280},2457,0.15126702292708155,{"$f":"'4 Steuerung'!I45","v":206794},{"$f":"'4 Steuerung'!J102","v":206650},144,6.9683038954754417E-2,{"$f":"'4 Steuerung'!J45","v":154680},{"$f":"'4 Steuerung'!K102","v":154636},44,2.8453917587107788E-2,{"$f":"'4 Steuerung'!K45","v":52114},{"$f":"'4 Steuerung'!L102","v":52014},100,0.19225593109547429]
["    84 Lehrende und ausbildende Berufe",{"$f":"'4 Steuerung'!$H46","v":617792},{"$f":"'4 Steuerung'!G103","v":617060},732,0.11862703788934625,{"$f":"'4 Steuerung'!I46","v":177589},{"$f":"'4 Steuerung'!J103","v":177506},83,4.6758982794947779E-2,{"$f":"'4 Steuerung'!J46","v":130757},{"$f":"'4 Steuerung'!K103","v":130756},1,7.6478326042399584E-4,{"$f":"'4 Steuerung'!K46","v":46832},{"$f":"'4 Steuerung'!L103","v":46750},82,0.17540106951871659]
["    91 Geistes-Gesellschafts-Wirtschaftswissen.",{"$f":"'4 Steuerung'!$H47","v":83178},{"$f":"'4 Steuerung'!G104","v":83032},146,0.17583582233355816,{"$f":"'4 Steuerung'!I47","v":15185},{"$f":"'4 Steuerung'!J104","v":15192},-7,-4.6076882569773568E-2,{"$f":"'4 Steuerung'!J47","v":11412},{"$f":"'4 Steuerung'!K104","v":11430},-18,-0.15748031496062992,{"$f":"'4 Steuerung'!K47","v":3773},{"$f":"'4 Steuerung'!L104","v":3762},11,0.29239766081871343]
["    92 Werbung,Marketing,kaufm,red.Medienberufe",{"$f":"'4 Steuerung'!$H48","v":558869},{"$f":"'4 Steuerung'!G105","v":557635},1234,0.22129170514763241,{"$f":"'4 Steuerung'!I48","v":33646},{"$f":"'4 Steuerung'!J105","v":33630},16,4.7576568539994056E-2,{"$f":"'4 Steuerung'!J48","v":22232},{"$f":"'4 Steuerung'!K105","v":22245},-13,-5.8440098898628903E-2,{"$f":"'4 Steuerung'!K48","v":11414},{"$f":"'4 Steuerung'!L105","v":11385},29,0.25472112428634169]
["    93 Produktdesign, Kunsthandwerk",{"$f":"'4 Steuerung'!$H49","v":63484},{"$f":"'4 Steuerung'!G106","v":63342},142,0.2241798490732847,{"$f":"'4 Steuerung'!I49","v":9567},{"$f":"'4 Steuerung'!J106","v":9562},5,5.2290315833507635E-2,{"$f":"'4 Steuerung'!J49","v":6688},{"$f":"'4 Steuerung'!K106","v":6696},-8,-0.11947431302270012,{"$f":"'4 Steuerung'!K49","v":2879},{"$f":"'4 Steuerung'!L106","v":2866},13,0.45359385903698535]
["    94 Darstellende, unterhaltende Berufe",{"$f":"'4 Steuerung'!$H50","v":116639},{"$f":"'4 Steuerung'!G107","v":116522},117,0.10041022296218739,{"$f":"'4 Steuerung'!I50","v":48419},{"$f":"'4 Steuerung'!J107","v":48425},-6,-1.23902942694889E-2,{"$f":"'4 Steuerung'!J50","v":28446},{"$f":"'4 Steuerung'!K107","v":28467},-21,-7.3769627990304565E-2,{"$f":"'4 Steuerung'!K50","v":19973},{"$f":"'4 Steuerung'!L107","v":19958},15,7.5157831446036674E-2]
["    01 Angehörige der regulären Streitkräfte",{"$f":"'4 Steuerung'!$H51","v":2515},{"$f":"'4 Steuerung'!G108","v":2514},1,3.9777247414478918E-2,{"$f":"'4 Steuerung'!I51","v":1200},{"$f":"'4 Steuerung'!J108","v":1200},0,0,{"$f":"'4 Steuerung'!J51","v":852},{"$f":"'4 Steuerung'!K108","v":852},0,0,{"$f":"'4 Steuerung'!K51","v":348},{"$f":"'4 Steuerung'!L108","v":348},0,0]
["    XX Keine Zuordnung möglich",{"$f":"'4 Steuerung'!$H52","v":183513},{"$f":"'4 Steuerung'!G109","v":183456},57,3.1070120355834643E-2,{"$f":"'4 Steuerung'!I52","v":275878},{"$f":"'4 Steuerung'!J109","v":276624},-746,-0.2696801434438082,{"$f":"'4 Steuerung'!J52","v":194909},{"$f":"'4 Steuerung'!K109","v":195832},-923,-0.47132235793945831,{"$f":"'4 Steuerung'!K52","v":80969},{"$f":"'4 Steuerung'!L109","v":80792},177,0.21908109713833052]
[null,null,null,null,null,null,null,null,null,null,null,null,null,null,null,null,"© Statistik der Bundesagentur für Arbeit"]

{"sheet":"4 Roh-Daten","index":19,"n_rows":108,"n_cols":71,"rows_kept":108,"cut":false,"hidden":true,"merged":[[9,3,9,19],[9,20,9,36],[9,37,9,53],[9,54,9,70],[62,3,62,19],[62,20,62,36],[62,37,62,53],[62,54,62,70]]}
[]
[]
[]
[null,"NACH REV"]
[]
[]
[]
[]
[]
[null,null,"Metriken","SvB",null,null,null,null,null,null,null,null,null,null,null,null,null,null,null,null,"GB",null,null,null,null,null,null,null,null,null,null,null,null,null,null,null,null,"GB_ausschl.",null,null,null,null,null,null,null,null,null,null,null,null,null,null,null,null,"GB_im_NJ"]
[null,null,"D+Länder(AO)","Deutschland","Schleswig-Holstein,01","Hamburg,02","Niedersachsen,03","Bremen,04","Nordrhein-Westfalen,05","Hessen,06","Rheinland-Pfalz,07","Baden-Württemberg,08","Bayern,09","Saarland,10","Berlin,11","Brandenburg,12","Mecklenburg-Vorpommern,13","Sachsen,14","Sachsen-Anhalt,15","Thüringen,16","Deutschland","Schleswig-Holstein,01","Hamburg,02","Niedersachsen,03","Bremen,04","Nordrhein-Westfalen,05","Hessen,06","Rheinland-Pfalz,07","Baden-Württemberg,08","Bayern,09","Saarland,10","Berlin,11","Brandenburg,12","Mecklenburg-Vorpommern,13","Sachsen,14","Sachsen-Anhalt,15","Thüringen,16","Deutschland","Schleswig-Holstein,01","Hamburg,02","Niedersachsen,03","Bremen,04","Nordrhein-Westfalen,05","Hessen,06","Rheinland-Pfalz,07","Baden-Württemberg,08","Bayern,09","Saarland,10","Berlin,11","Brandenburg,12","Mecklenburg-Vorpommern,13","Sachsen,14","Sachsen-Anhalt,15","Thüringen,16","Deutschland","Schleswig-Holstein,01","Hamburg,02","Niedersachsen,03","Bremen,04","Nordrhein-Westfalen,05","Hessen,06","Rheinland-Pfalz,07","Baden-Württemberg,08","Bayern,09","Saarland,10","Berlin,11","Brandenburg,12","Mecklenburg-Vorpommern,13","Sachsen,14","Sachsen-Anhalt,15","Thüringen,16"]
[null,"KldB2010"]
[null,"Insgesamt",null,31443318,940613,933846,2836091,319681,6549350,2462605,1364682,4458706,5317529,379591,1367680,818474,560372,1555300,783900,793363,7763218,275474,174263,792707,71241,1835199,602787,417903,1223207,1358722,98481,217952,134126,93184,233512,110120,122484,5141533,186563,106917,544874,47677,1272586,394720,282822,746314,820010,70006,152868,99132,71588,172186,83977,88050,2621685,88911,67346,247833,23564,562613,208067,135081,476893,538712,28475,65084,34994,21596,61326,26143,34434]
[null,"1,Helfer",null,4783842,153440,110669,465078,54949,1036518,357930,234322,684363,796781,67009,169703,126079,77993,210414,114072,124191,3527665,123498,73513,379170,33269,839079,273398,193928,563987,610677,42843,86382,63466,41298,99829,48996,53885,2398523,85959,44819,270107,22353,594096,181555,136116,351697,379259,31228,63200,49219,33104,76714,38672,40116,1129142,37539,28694,109063,10916,244983,91843,57812,212290,231418,11615,23182,14247,8194,23115,10324,13769]
[null,"2,Fachkraft",null,18499197,587438,499181,1738852,179775,3859782,1402682,825400,2553718,3076540,236582,744318,508180,356675,942624,493432,493301,3317392,120609,77184,325410,28992,780578,255780,173688,518307,588072,44405,100645,54659,41343,104632,48239,54276,2145128,80677,47096,217039,19182,530740,164656,113591,305202,345361,31246,69773,38979,31240,75490,36241,38239,1172264,39932,30088,108371,9810,249838,91124,60097,213105,242711,13159,30872,15680,10103,29142,11998,16037]
[null,"3,Spezialist",null,3990019,99489,161544,300683,41229,804298,344931,159019,624220,706512,37881,205720,91673,56901,186166,82481,87022,356862,12552,9196,32364,3310,77098,28428,16977,57468,66305,3916,14012,6603,4645,12604,5114,6193,199210,7183,4962,18366,1867,44224,16194,9442,30471,34228,2135,8295,4056,3011,7776,3217,3737,157652,5369,4234,13998,1443,32874,12234,7535,26997,32077,1781,5717,2547,1634,4828,1897,2456]
[null,"4,Experte",null,3986747,94734,160578,308636,42632,806605,344851,138736,576222,713825,36231,241404,85247,62204,206596,85347,82675,285421,7037,8993,24551,3580,64858,25058,15353,46998,45200,3677,9565,5318,3580,11035,4973,5568,203763,4482,6502,16813,2787,48544,18344,10881,34955,29348,2585,6117,3853,2509,8230,3700,4078,81658,2555,2491,7738,793,16314,6714,4472,12043,15852,1092,3448,1465,1071,2805,1273,1490]
[null,"11,Land-, Tier-, Forstwirtschaftsberufe",null,230996,12177,1505,31720,483,30987,11700,13728,21351,29654,1141,2351,17582,15230,16474,13305,11572,166857,9380,421,33678,144,28811,9165,15927,23104,24271,656,316,6195,4841,3833,3481,2599,130549,7087,287,25774,84,21986,7501,13470,18128,17164,444,234,5579,4346,3284,2937,2224,36308,2293,134,7904,60,6825,1664,2457,4976,7107,212,82,616,495,549,544,375]
[null,"12,Gartenbauberufe, Floristik",null,262689,13261,5291,32310,1719,64108,17388,10393,31688,33470,3053,9452,9294,5713,12385,6833,6325,93665,3919,1283,14806,680,26328,5679,4632,12748,12294,1085,1496,2178,1297,2670,1387,1160,66700,2749,896,10839,530,18939,3919,3154,8091,8136,818,1221,1821,1109,2277,1184,1002,26965,1170,387,3967,150,7389,1760,1478,4657,4158,267,275,357,188,393,203,158]
[null,"21,Rohstoffgewinn,Glas-,Keramikverarbeitung",null,124406,1909,520,11390,562,28093,7087,6993,12808,24491,1374,1400,5714,1497,7472,6206,6890,9630,173,62,907,38,1968,585,993,1570,1813,131,180,197,66,369,181,396,6514,126,41,661,"*",1326,392,672,867,1124,92,142,165,"*",325,158,335,3116,47,21,246,"*",642,193,321,703,689,39,38,32,"*",44,23,61]
[null,"22,Kunststoff- u. Holzherst.,-verarbeitung",null,541041,12566,5629,56511,3391,115147,37132,28230,81067,107563,6544,7758,12174,7560,25372,13236,21157,49516,1102,246,4959,161,11696,3555,2710,10731,9168,536,433,570,307,1541,596,1200,32475,700,175,3420,114,8015,2295,1825,6123,5557,393,334,471,273,1306,516,956,17041,402,71,1539,47,3681,1260,885,4608,3611,143,99,99,34,235,80,244]
[null,"23,Papier-,Druckberufe, tech.Mediengestalt.",null,278947,8674,9312,23924,1920,60849,18890,11951,42804,51680,1865,13127,4891,2693,14681,4770,6852,38566,1253,684,3867,270,8994,2961,1824,6768,7317,396,911,644,213,1450,348,665,26309,836,418,2699,177,6345,2061,1208,4404,4646,284,660,456,170,1137,266,541,12257,417,266,1168,93,2649,900,616,2364,2671,112,251,188,43,313,82,124]
[null,"24,Metallerzeugung,-bearbeitung, Metallbau",null,1311851,22985,13482,110849,8849,312442,72297,54371,247681,213773,29095,16945,27584,15757,83133,34906,47693,90152,1376,475,7903,356,23149,5620,4575,23442,13851,1209,585,956,612,2927,1090,2015,54817,900,310,5276,243,14114,3447,2641,12588,7644,779,475,802,533,2513,919,1625,35335,476,165,2627,113,9035,2173,1934,10854,6207,430,110,154,79,414,171,390]
[null,"25,Maschinen- und Fahrzeugtechnikberufe",null,1773020,41610,36811,173926,24403,333010,119851,77482,326709,331400,28448,38683,40019,22086,88387,38560,51612,101623,2653,1031,8807,463,22146,7716,4813,22872,19061,1357,1303,1527,1006,3419,1366,2068,61159,1633,681,5557,309,14130,4595,2865,12266,9854,901,976,1185,810,2719,1086,1586,40464,1020,350,3250,154,8016,3121,1948,10606,9207,456,327,342,196,700,280,482]
[null,"26,Mechatronik-, Energie- u. Elektroberufe",null,1002585,28569,24507,97463,10089,212451,71632,37918,156164,174733,12337,32382,24600,14251,55128,22976,27371,59424,1538,741,4895,396,13132,4381,2975,11703,11548,838,1128,1137,574,2244,890,1300,36714,1005,460,3175,252,8475,2650,1799,6368,6192,557,829,856,461,1872,707,1053,22710,533,281,1720,144,4657,1731,1176,5335,5356,281,299,281,113,372,183,247]
[null,"27,Techn.Entwickl.Konstr.Produktionssteuer.",null,1049993,19442,22482,80095,9675,180475,74258,42577,229636,236019,11074,28444,16095,9431,48556,17843,23873,29012,841,518,2390,254,5879,1824,1497,6074,5140,281,950,513,325,1362,503,659,18937,556,327,1579,176,3935,1217,999,3690,3153,173,651,375,253,1007,381,463,10075,285,191,811,78,1944,607,498,2384,1987,108,299,138,72,355,122,196]
[null,"28,Textil- und Lederberufe",null,128911,2643,2186,10390,1146,27520,5958,5191,21886,28938,857,2841,1818,1446,10208,1522,4359,27244,723,446,2307,187,6607,1692,1261,4614,6742,272,488,218,194,870,223,399,20517,570,333,1836,158,5238,1291,957,3134,4769,222,404,187,166,728,192,331,6727,153,113,471,29,1369,401,304,1480,1973,50,84,31,28,142,31,68]
[null,"29,Lebensmittelherstellung u. -verarbeitung",null,826063,31689,18721,93257,8512,154529,57693,38232,99216,146080,10659,34135,22270,23966,40531,23805,22663,260208,8563,5179,25551,2266,57033,18889,14259,41930,49505,3378,7818,4562,3358,9222,4007,4643,181776,6180,3220,18614,1658,42648,13421,10093,26664,30190,2613,6161,3643,2685,7111,3212,3629,78432,2383,1959,6937,608,14385,5468,4166,15266,19315,765,1657,919,673,2111,795,1014]
[null,"31,Bauplanung,Architektur,Vermessungsberufe",null,245865,5821,9954,20882,2644,49040,20699,9793,36124,37500,2274,16067,6849,3857,12907,5544,5908,12679,354,256,1079,82,2620,888,622,2089,2004,138,626,391,255,646,291,335,8949,256,199,765,59,1860,607,411,1458,1365,86,468,271,185,500,218,238,3730,98,57,314,23,760,281,211,631,639,52,158,120,70,146,73,97]
[null,"32,Hoch- und Tiefbauberufe",null,566157,21743,7952,62136,3766,104613,40473,30623,63082,89314,6942,19492,24397,15246,35556,22018,18761,69430,2393,742,7382,509,16163,4527,5112,10144,10724,1230,2313,1941,1004,2630,1387,1218,47039,1692,443,5148,410,11759,3078,3306,5554,5887,884,1991,1626,866,2244,1153,991,22391,701,299,2234,99,4404,1449,1806,4590,4837,346,322,315,138,386,234,227]
[null,"33,(Innen-)Ausbauberufe",null,372820,15029,6419,35309,3276,66342,25497,17589,59110,66545,4470,12008,11188,9217,19826,10653,10321,38826,1149,378,3455,375,8582,2621,2195,7605,7284,547,931,889,466,1235,486,617,26199,802,271,2480,270,6259,1827,1402,4447,4169,411,771,741,401,1018,414,509,12627,347,107,975,105,2323,794,793,3158,3115,136,160,148,65,217,72,108]
[null,"34,Gebäude- u. versorgungstechnische Berufe",null,689238,23890,17587,66199,5454,129742,49584,31914,83010,114184,8683,30515,24756,17062,42030,22743,21844,306106,12397,6002,26423,1863,60572,22848,16159,49869,58685,3744,10086,6860,5588,12966,5940,5960,185750,7896,3578,17004,1222,36756,13167,9388,25407,32535,2476,6676,5438,4630,10094,4861,4539,120356,4501,2424,9419,641,23816,9681,6771,24462,26150,1268,3410,1422,958,2872,1079,1421]
[null,"41,Mathematik-Biologie-Chemie-,Physikberufe",null,390637,10053,9882,31350,2453,96241,42255,23865,54018,57610,3302,12182,7656,4278,14475,14293,6723,15355,384,256,1503,228,2942,1092,794,2480,3124,163,579,321,207,584,293,404,11416,264,191,1080,179,2191,795,596,1776,2258,107,480,273,168,472,248,337,3939,120,65,423,49,751,297,198,704,866,56,99,48,39,112,45,67]
[null,"42,Geologie-,Geografie-,Umweltschutzberufe",null,40925,1137,1112,4241,557,7705,3226,2033,5368,6698,474,1792,1745,709,2124,1097,906,3203,86,76,358,40,551,231,134,564,464,32,155,142,31,149,78,112,2255,58,58,258,16,398,140,79,384,333,18,106,"*","*",119,62,87,948,28,18,100,24,153,91,55,180,131,14,49,"*","*",30,16,25]
[null,"43,Informatik- und andere IKT-Berufe",null,717946,13895,36051,47233,7855,145594,72683,21431,127706,147790,7031,38942,7360,4756,23178,7421,8970,26984,876,798,2254,293,5763,2119,1035,4566,5152,360,1166,460,263,953,352,568,13409,410,392,1104,163,2985,1101,492,2145,2399,181,654,209,131,551,180,309,13575,466,406,1150,130,2778,1018,543,2421,2753,179,512,251,132,402,172,259]
[null,"51,Verkehr, Logistik (außer Fahrzeugführ.)",null,1912670,54862,68563,178508,31849,417794,168697,85973,257324,309292,22591,48551,55453,27437,86054,48088,51485,721614,25358,11319,73154,7278,172071,53840,45045,120826,114671,7670,10048,18753,9356,24874,12284,15013,522328,18863,7719,53586,5233,129307,37590,32713,83501,78361,5724,7368,14695,7435,19591,9692,10904,199286,6495,3600,19568,2045,42764,16250,12332,37325,36310,1946,2680,4058,1921,5283,2592,4109]
[null,"52,Führer von Fahrzeug- u. Transportgeräten",null,1078653,37566,26870,113928,12137,219889,76265,48584,124146,174081,12676,40435,40244,24076,60203,36550,30967,353713,12901,6206,41011,3294,87717,27407,19267,49650,61028,5400,7480,5863,4339,10291,6088,5746,241096,8921,3963,27631,2365,62378,18912,13245,30635,37461,4201,5663,4588,3604,7981,5017,4515,112617,3980,2243,13380,929,25339,8495,6022,19015,23567,1199,1817,1275,735,2310,1071,1231]
[null,"53,Schutz-,Sicherheits-, Überwachungsberufe",null,347768,13321,14495,27189,3716,73575,35417,13421,37467,45849,3750,26169,12210,6587,18502,9253,6843,139346,4739,3594,12488,1464,34069,10568,6263,19793,23714,1934,5893,2537,2401,5325,1837,2705,79361,2752,2013,7163,883,20210,5964,3616,9593,11280,1205,4155,1773,1817,3735,1426,1762,59985,1987,1581,5325,581,13859,4604,2647,10200,12434,729,1738,764,584,1590,411,943]
[null,"54,Reinigungsberufe",null,821333,31814,26904,82638,9509,164740,69946,36099,102778,136092,11753,37488,21303,16686,35404,20904,17240,1141374,36956,27608,115639,12854,287478,96118,53973,183588,207826,16295,22516,13638,11066,26465,14551,14685,697422,22731,13589,75454,7474,189394,56396,35066,98341,112133,11661,14640,10063,8463,19961,11326,10653,443952,14225,14019,40185,5380,98084,39722,18907,85247,95693,4634,7876,3575,2603,6504,3225,4032]
[null,"61,Einkaufs-, Vertriebs- und Handelsberufe",null,937900,27312,38718,72410,9622,215135,81536,33149,157252,169602,8065,36317,15115,9568,35558,13149,15312,48932,1759,1432,4289,439,11241,3706,2242,7446,8507,477,2355,911,711,1951,659,789,31877,1152,849,2857,310,7558,2411,1492,4587,5253,320,1565,645,530,1328,465,545,17055,607,583,1432,129,3683,1295,750,2859,3254,157,790,266,181,623,194,244]
[null,"62,Verkaufsberufe",null,2085088,76760,53627,202795,17859,436980,150262,96900,274948,340595,26505,92588,59179,42146,104361,56076,53404,868493,36860,21587,88861,7694,216729,70309,44237,129466,142262,10759,26237,14324,10372,24943,11547,12202,665244,29482,15943,71350,5807,172421,53113,34225,90384,101874,8772,21628,11542,8896,19785,9933,10000,203249,7378,5644,17511,1887,44308,17196,10012,39082,40388,1987,4609,2782,1476,5158,1614,2202]
[null,"63,Tourismus-, Hotel- und Gaststättenberufe",null,763016,25992,34232,61301,9871,129464,59405,32294,95786,137797,6485,59932,19962,23243,35785,16385,14982,820896,27611,22440,84513,9654,180155,56886,44182,130475,149156,9996,35957,12042,9968,24911,10656,12185,511935,18009,13701,53148,6401,118054,36632,28964,74690,80955,6658,26636,8454,7283,17055,7442,7765,308961,9602,8739,31365,3253,62101,20254,15218,55785,68201,3338,9321,3588,2685,7856,3214,4420]
[null,"71,Berufe Unternehmensführung,-organisation",null,4033623,99175,152324,326216,38648,871887,358380,159108,584517,715251,41556,215729,85091,53972,175546,74724,81212,911693,30771,24745,85356,6873,205700,73506,46203,134624,172122,11930,31952,16555,11217,30035,14264,15567,561877,18681,15169,55719,4408,130894,45421,27836,79625,103515,7506,20324,9503,6983,18303,8797,9041,349816,12090,9576,29637,2465,74806,28085,18367,54999,68607,4424,11628,7052,4234,11732,5467,6526]
[null,"72,Finanzdienstl.Rechnungsw.,Steuerberatung",null,1382323,37549,61134,115499,13647,296243,156117,52079,190155,252604,15148,58905,23102,15855,49260,21933,23051,91804,3363,2714,8717,823,19560,7182,4160,13658,18120,1007,3229,1872,1165,3175,1348,1701,46555,1664,1263,4394,461,10469,3793,2064,6889,8727,521,1521,907,613,1674,712,877,45249,1699,1451,4323,362,9091,3389,2096,6769,9393,486,1708,965,552,1501,636,824]
[null,"73,Berufe in Recht und Verwaltung",null,1011116,41463,35446,81962,11969,200711,84257,42689,124747,142762,13677,70980,34871,22834,45948,32044,24709,66833,4182,1709,5855,610,13702,5406,4527,9878,12486,834,2457,913,733,1863,713,951,42800,3223,1011,3907,405,8788,3457,2671,6184,7766,549,1422,591,504,1218,457,640,24033,959,698,1948,205,4914,1949,1856,3694,4720,285,1035,322,229,645,256,311]
[null,"81,Medizinische Gesundheitsberufe",null,2402731,83191,65913,225490,23193,521943,172933,118883,301670,378828,31391,116006,65425,49073,122489,63121,63154,285959,10484,8111,27018,2548,69908,24699,14408,42475,50647,3860,12389,3485,2585,6924,2786,3609,160148,5855,3708,15902,1319,41175,13156,8221,23497,26802,2274,6423,1941,1577,4248,1837,2205,125811,4629,4403,11116,1229,28733,11543,6187,18978,23845,1586,5966,1544,1008,2676,949,1404]
[null,"82,Nichtmed.Gesundheit,Körperpfl.,Medizint.",null,860280,30540,20457,86231,7640,184174,60485,37653,104757,123924,10499,36756,27363,20650,53843,29525,25759,145803,5211,3761,16472,1547,39086,12230,7246,20779,22032,1995,4900,2080,1319,3631,1685,1803,99430,3473,2026,11923,957,28224,7944,5089,13269,14255,1539,2988,1423,976,2700,1320,1306,46373,1738,1735,4549,590,10862,4286,2157,7510,7777,456,1912,657,343,931,365,497]
[null,"83,Erziehung,soz.,hauswirt.Berufe,Theologie",null,1626737,55236,41875,151334,16543,360351,119632,82282,218540,241319,20382,80708,49764,30044,76133,40501,42065,206794,7745,4995,21753,2015,53713,18460,11992,31840,32564,2656,5046,2949,2164,4463,1959,2469,154680,5538,3406,16032,1414,41901,13666,8999,23078,23345,2207,3658,2388,1814,3625,1634,1967,52114,2207,1589,5721,601,11812,4794,2993,8762,9219,449,1388,561,350,838,325,502]
[null,"84,Lehrende und ausbildende Berufe",null,617792,12865,15414,44420,7299,124115,42178,25612,69944,88626,6405,46156,16225,19113,57504,23055,18842,177589,3604,5377,12332,2651,43866,17619,9095,34238,28051,2304,2886,2806,1610,6109,2323,2697,130757,2288,4147,8219,2185,34121,13507,6759,25462,17891,1725,2046,2254,1199,4917,1871,2153,46832,1316,1230,4113,466,9745,4112,2336,8776,10160,579,840,552,411,1192,452,544]
[null,"91,Geistes-Gesellschafts-Wirtschaftswissen.",null,83178,3300,3493,9349,856,18120,7281,2482,7101,12691,515,8452,1538,885,2862,3042,1205,15185,271,911,3793,89,3321,1018,692,1227,1749,85,913,92,134,557,111,222,11412,193,756,2849,64,2489,753,492,923,1234,60,695,59,108,455,84,198,3773,78,155,944,25,832,265,200,304,515,25,218,33,26,102,27,24]
[null,"92,Werbung,Marketing,kaufm,red.Medienberufe",null,558869,12788,33687,33146,5319,117682,47668,17789,65037,93495,4855,51120,14572,14165,22733,15914,8812,33646,969,1332,2429,329,7471,2410,1787,4392,6257,409,2139,582,439,1463,773,456,22232,644,855,1613,219,5118,1590,1287,2776,3740,281,1534,383,329,955,588,317,11414,325,477,816,110,2353,820,500,1616,2517,128,605,199,110,508,185,139]
[null,"93,Produktdesign, Kunsthandwerk",null,63484,1636,2477,4997,594,11336,4378,3067,9238,15225,478,2458,998,656,3801,834,1308,9567,293,187,818,74,2062,601,622,1741,1837,133,285,135,105,398,93,180,6688,223,132,590,50,1439,426,431,1146,1200,103,217,108,81,320,72,147,2879,70,55,228,24,623,175,191,595,637,30,68,27,24,78,21,33]
[null,"94,Darstellende, unterhaltende Berufe",null,116639,2556,6901,6432,1549,23567,7125,5005,13308,17672,1335,13767,2691,1992,7294,2444,2997,48419,1435,1245,4402,305,10525,4242,2438,7522,8862,734,2423,800,561,1611,697,602,28446,871,835,2662,182,6082,2470,1468,4088,4878,442,1641,571,370,1051,422,402,19973,564,410,1740,123,4443,1772,970,3434,3984,292,782,229,191,560,275,200]
[null,"01,Angehörige der regulären Streitkräfte",null,2515,82,39,219,11,609,129,94,380,511,14,112,81,36,97,59,42,1200,24,19,71,5,303,64,50,269,216,10,35,8,14,41,49,22,852,18,14,57,"*",223,44,35,163,151,7,28,"*","*",31,41,18,348,6,5,14,"*",80,20,15,106,65,3,7,"*","*",10,8,4]
[null,"keine Angabe",null,183513,5512,1874,22842,1096,42147,12211,7205,20183,23871,1888,6535,7295,6599,9500,8568,6174,275878,11778,5377,31212,2090,73586,20123,17957,36447,48468,3640,7348,4080,2318,5412,2798,2562,194909,8262,3538,22549,1488,54982,13971,12792,23989,31814,2812,5483,3025,1724,3976,2147,1880,80969,3516,1839,8663,602,18604,6152,5165,12458,16654,828,1865,1055,594,1436,651,682]
[]
[]
[]
[]
[null,"vor Rev"]
[]
[]
[null,null,"Metriken","SvB",null,null,null,null,null,null,null,null,null,null,null,null,null,null,null,null,"GB",null,null,null,null,null,null,null,null,null,null,null,null,null,null,null,null,"GB_ausschl.",null,null,null,null,null,null,null,null,null,null,null,null,null,null,null,null,"GB_im_NJ"]
[null,null,"D+Länder(AO)","Deutschland","Schleswig-Holstein,01","Hamburg,02","Niedersachsen,03","Bremen,04","Nordrhein-Westfalen,05","Hessen,06","Rheinland-Pfalz,07","Baden-Württemberg,08","Bayern,09","Saarland,10","Berlin,11","Brandenburg,12","Mecklenburg-Vorpommern,13","Sachsen,14","Sachsen-Anhalt,15","Thüringen,16","Deutschland","Schleswig-Holstein,01","Hamburg,02","Niedersachsen,03","Bremen,04","Nordrhein-Westfalen,05","Hessen,06","Rheinland-Pfalz,07","Baden-Württemberg,08","Bayern,09","Saarland,10","Berlin,11","Brandenburg,12","Mecklenburg-Vorpommern,13","Sachsen,14","Sachsen-Anhalt,15","Thüringen,16","Deutschland","Schleswig-Holstein,01","Hamburg,02","Niedersachsen,03","Bremen,04","Nordrhein-Westfalen,05","Hessen,06","Rheinland-Pfalz,07","Baden-Württemberg,08","Bayern,09","Saarland,10","Berlin,11","Brandenburg,12","Mecklenburg-Vorpommern,13","Sachsen,14","Sachsen-Anhalt,15","Thüringen,16","Deutschland","Schleswig-Holstein,01","Hamburg,02","Niedersachsen,03","Bremen,04","Nordrhein-Westfalen,05","Hessen,06","Rheinland-Pfalz,07","Baden-Württemberg,08","Bayern,09","Saarland,10","Berlin,11","Brandenburg,12","Mecklenburg-Vorpommern,13","Sachsen,14","Sachsen-Anhalt,15","Thüringen,16"]
[null,"KldB2010"]
[1,"Insgesamt",null,31373691,939248,932219,2820257,319041,6532721,2457858,1361894,4451187,5308747,378477,1365639,816778,559531,1553509,782541,792509,7756094,275183,174175,792020,71170,1833161,602198,417486,1222120,1357589,98330,217838,134078,93120,233364,110006,122399,5141164,186447,106889,545652,47675,1272081,394583,282736,746390,819989,69948,152822,99115,71538,172106,83919,88028,2614930,88736,67286,246368,23495,561080,207615,134750,475730,537600,28382,65016,34963,21582,61258,26087,34371]
[2,"1,Helfer",null,4775436,153332,110561,462523,54861,1034615,357514,233813,683634,795878,66818,169533,125904,77929,210175,113928,124087,3524364,123356,73466,378821,33228,838126,273110,193753,563523,610135,42761,86351,63454,41261,99766,48946,53860,2398261,85881,44809,270438,22343,593892,181480,136092,351720,379190,31188,63174,49227,33081,76682,38640,40115,1126103,37475,28657,108383,10885,244234,91630,57661,211803,230945,11573,23177,14227,8180,23084,10306,13745]
[3,"2,Fachkraft",null,18456459,586537,498286,1728675,179393,3849447,1399912,823685,2549406,3071345,235903,743196,506961,356158,941554,492526,492758,3313663,120454,77161,325070,28956,779493,255483,173443,517717,587494,44323,100572,54630,41317,104561,48187,54229,2144234,80600,47099,217281,19178,530253,164547,113487,305165,345258,31202,69744,38958,31210,75437,36215,38222,1169429,39854,30062,107789,9778,249240,90936,59956,212552,242236,13121,30828,15672,10107,29124,11972,16007]
[4,"3,Spezialist",null,3979863,99310,161182,299022,41135,801854,344097,158536,622936,705014,37768,205308,91502,56764,185946,82315,86924,356305,12524,9182,32291,3312,76966,28383,16948,57386,66199,3911,13998,6594,4643,12596,5109,6186,199165,7179,4948,18383,1869,44197,16183,9433,30476,34223,2139,8298,4051,3010,7780,3219,3731,157140,5345,4234,13908,1443,32769,12200,7515,26910,31976,1772,5700,2543,1633,4816,1890,2455]
[5,"4,Experte",null,3978477,94569,160316,307290,42561,804796,344133,138413,575041,712626,36100,241066,85114,62084,206367,85210,82567,285138,7027,8982,24525,3575,64779,25048,15338,46955,45166,3678,9560,5317,3576,11019,4955,5561,203672,4474,6491,16828,2787,48506,18342,10873,34940,29351,2589,6111,3851,2507,8221,3687,4079,81466,2553,2491,7697,788,16273,6706,4465,12015,15815,1089,3449,1466,1069,2798,1268,1482]
[6,"11,Land-, Tier-, Forstwirtschaftsberufe",null,230681,12173,1509,31599,483,30960,11694,13687,21332,29631,1136,2349,17562,15222,16460,13296,11552,166761,9359,426,33672,144,28776,9160,15919,23093,24267,655,315,6193,4838,3832,3479,2598,130582,7079,291,25824,84,21977,7501,13462,18130,17173,444,233,5580,4346,3283,2934,2221,36179,2280,135,7848,60,6799,1659,2457,4963,7094,211,82,613,492,549,545,377]
[7,"12,Gartenbauberufe, Floristik",null,262303,13255,5287,32189,1719,63971,17383,10380,31652,33447,3049,9449,9288,5705,12380,6823,6320,93580,3922,1283,14795,677,26297,5666,4633,12738,12278,1083,1493,2177,1297,2673,1381,1164,66694,2753,895,10852,527,18932,3913,3157,8089,8129,816,1220,1822,1109,2281,1179,1005,26886,1169,388,3943,150,7365,1753,1476,4649,4149,267,273,355,188,392,202,159]
[8,"21,Rohstoffgewinn,Glas-,Keramikverarbeitung",null,124211,1908,519,11334,561,28073,7076,6977,12791,24472,1371,1393,5711,1495,7451,6200,6879,9624,172,62,907,38,1964,586,991,1572,1811,131,180,197,65,370,181,396,6510,125,41,664,"*",1321,392,670,868,1123,92,142,165,"*",326,158,336,3114,47,21,243,"*",643,194,321,704,688,39,38,32,"*",44,23,60]
[9,"22,Kunststoff- u. Holzherst.,-verarbeitung",null,539918,12550,5622,56144,3385,114891,37082,28169,80969,107433,6531,7743,12140,7548,25352,13210,21145,49482,1101,244,4950,161,11683,3552,2712,10728,9164,535,430,570,307,1541,597,1202,32475,699,174,3428,113,8010,2291,1830,6128,5550,392,333,471,273,1307,516,958,17007,402,70,1522,48,3673,1261,882,4600,3614,143,97,99,34,234,81,244]
[10,"23,Papier-,Druckberufe, tech.Mediengestalt.",null,278390,8664,9296,23761,1914,60736,18860,11923,42749,51616,1859,13106,4878,2688,14667,4761,6848,38548,1253,681,3863,269,8993,2960,1821,6762,7318,399,907,644,213,1450,349,665,26327,836,417,2707,178,6344,2060,1207,4409,4650,286,663,457,170,1135,266,541,12221,417,264,1156,91,2649,900,614,2353,2668,113,244,187,43,315,83,124]
[11,"24,Metallerzeugung,-bearbeitung, Metallbau",null,1309110,22957,13457,110241,8832,311595,72198,54282,247291,213503,28965,16928,27542,15728,83083,34847,47652,90142,1370,479,7906,355,23156,5619,4577,23423,13852,1209,586,956,612,2928,1091,2012,54857,896,314,5290,242,14125,3448,2645,12602,7646,779,475,802,532,2511,919,1623,35285,474,165,2616,113,9031,2171,1932,10821,6206,430,111,154,80,417,172,389]
[12,"25,Maschinen- und Fahrzeugtechnikberufe",null,1768795,41569,36775,172899,24349,332073,119733,77130,326113,330824,28377,38638,39943,22046,88274,38461,51568,101520,2653,1033,8795,467,22108,7700,4803,22853,19038,1355,1302,1530,1006,3426,1365,2071,61171,1633,684,5563,312,14126,4593,2860,12266,9859,903,975,1189,809,2720,1084,1589,40349,1020,349,3232,155,7982,3107,1943,10587,9179,452,327,341,197,706,281,482]
[13,"26,Mechatronik-, Energie- u. Elektroberufe",null,1000676,28537,24474,96997,10067,212010,71520,37859,155902,174487,12293,32352,24558,14240,55080,22927,27359,59386,1535,743,4896,395,13134,4375,2973,11690,11537,837,1125,1136,573,2243,890,1300,36703,1003,461,3172,253,8475,2649,1795,6370,6194,558,828,852,460,1870,707,1053,22683,532,282,1724,142,4659,1726,1178,5320,5343,279,297,284,113,373,183,247]
[14,"27,Techn.Entwickl.Konstr.Produktionssteuer.",null,1047465,19406,22442,79628,9646,179937,74076,42440,229175,235662,11031,28414,16069,9416,48490,17776,23839,28970,836,517,2389,255,5865,1818,1496,6066,5131,282,950,513,325,1364,503,658,18932,552,325,1585,176,3940,1212,1000,3686,3147,174,651,375,255,1007,381,464,10038,284,192,804,79,1925,606,496,2380,1984,108,299,138,70,357,122,194]
[15,"28,Textil- und Lederberufe",null,128685,2643,2183,10329,1139,27471,5949,5186,21852,28910,854,2843,1810,1444,10197,1520,4353,27217,722,451,2300,187,6603,1693,1256,4610,6734,271,485,220,194,868,223,399,20496,569,335,1830,158,5235,1289,953,3135,4767,221,401,187,165,727,192,331,6721,153,116,470,29,1368,404,303,1475,1967,50,84,33,29,141,31,68]
[16,"29,Lebensmittelherstellung u. -verarbeitung",null,824589,31652,18694,92745,8502,154322,57591,38175,99110,145901,10632,34086,22237,23953,40498,23769,22617,260162,8565,5183,25545,2267,57002,18868,14251,41933,49514,3372,7829,4561,3363,9217,4002,4645,181784,6178,3227,18638,1654,42622,13401,10091,26684,30208,2612,6163,3640,2687,7105,3209,3631,78378,2387,1956,6907,613,14380,5467,4160,15249,19306,760,1666,921,676,2112,793,1014]
[17,"31,Bauplanung,Architektur,Vermessungsberufe",null,245507,5810,9945,20837,2640,48952,20682,9770,36076,37443,2272,16049,6837,3853,12893,5541,5905,12661,355,254,1081,83,2618,888,619,2086,1994,139,626,388,255,646,291,335,8938,258,197,766,59,1859,607,408,1456,1358,88,468,272,184,499,218,238,3723,97,57,315,24,759,281,211,630,636,51,158,116,71,147,73,97]
[18,"32,Hoch- und Tiefbauberufe",null,565859,21736,7951,62043,3765,104560,40473,30597,63072,89256,6934,19487,24390,15242,35551,22001,18758,69465,2392,742,7391,509,16168,4538,5112,10151,10727,1230,2311,1942,1004,2630,1389,1218,47074,1693,442,5167,411,11761,3087,3305,5558,5892,882,1987,1628,867,2243,1154,990,22391,699,300,2224,98,4407,1451,1807,4593,4835,348,324,314,137,387,235,228]
[19,"33,(Innen-)Ausbauberufe",null,372423,15024,6415,35199,3268,66282,25483,17578,59059,66469,4459,12008,11172,9212,19822,10642,10310,38821,1148,378,3454,374,8579,2623,2197,7609,7281,546,930,887,465,1235,486,618,26204,799,271,2478,269,6262,1825,1406,4451,4175,411,769,739,400,1018,415,509,12617,349,107,976,105,2317,798,791,3158,3106,135,161,148,65,217,71,109]
[20,"34,Gebäude- u. versorgungstechnische Berufe",null,687816,23871,17563,65771,5444,129419,49525,31868,82906,114021,8653,30473,24707,17040,41994,22693,21827,305374,12355,5990,26346,1860,60412,22789,16126,49738,58582,3735,10042,6852,5579,12941,5933,5950,185543,7874,3573,17021,1224,36712,13150,9374,25388,32510,2473,6654,5432,4623,10070,4851,4530,119831,4481,2417,9325,636,23700,9639,6752,24350,26072,1262,3388,1420,956,2871,1082,1420]
[21,"41,Mathematik-Biologie-Chemie-,Physikberufe",null,389499,10041,9854,31160,2442,96080,41943,23783,53891,57489,3291,12173,7651,4275,14451,14258,6716,15322,379,255,1500,228,2936,1089,797,2473,3117,160,579,321,207,583,293,404,11389,261,190,1081,179,2185,796,597,1770,2251,104,478,273,168,471,247,337,3933,118,65,419,49,751,293,200,703,866,56,101,48,39,112,46,67]
[22,"42,Geologie-,Geografie-,Umweltschutzberufe",null,40852,1137,1112,4228,557,7689,3217,2027,5360,6684,475,1786,1744,709,2124,1096,906,3198,86,75,357,41,549,229,134,565,464,31,155,142,31,148,79,112,2251,58,57,257,17,396,139,80,385,333,18,106,"*","*",117,62,87,947,28,18,100,24,153,90,54,180,131,13,49,"*","*",31,17,25]
[23,"43,Informatik- und andere IKT-Berufe",null,716163,13860,35970,46939,7841,145119,72536,21379,127410,147547,7014,38872,7352,4748,23160,7408,8958,26926,875,799,2249,290,5741,2116,1029,4554,5144,360,1169,458,264,953,352,567,13424,413,393,1109,163,2979,1101,488,2152,2402,182,655,210,131,554,180,309,13502,462,406,1140,127,2762,1015,541,2402,2742,178,514,248,133,399,172,258]
[24,"51,Verkehr, Logistik (außer Fahrzeugführ.)",null,1908636,54804,68433,177425,31787,416724,168420,85813,256967,308838,22525,48493,55382,27413,85965,48042,51456,721491,25342,11317,73128,7276,172033,53826,45041,120804,114666,7661,10053,18756,9359,24876,12282,15017,522613,18853,7722,53685,5231,129351,37605,32726,83551,78403,5722,7370,14707,7435,19595,9695,10916,198878,6489,3595,19443,2045,42682,16221,12315,37253,36263,1939,2683,4049,1924,5281,2587,4101]
[25,"52,Führer von Fahrzeug- u. Transportgeräten",null,1076248,37502,26815,113141,12118,219353,76121,48506,123973,173874,12636,40391,40182,24051,60127,36501,30921,353526,12897,6203,41006,3291,87682,27396,19237,49618,61003,5397,7471,5865,4332,10276,6083,5744,241128,8926,3962,27694,2369,62381,18905,13235,30649,37461,4196,5656,4587,3597,7970,5014,4510,112398,3971,2241,13312,922,25301,8491,6002,18969,23542,1201,1815,1278,735,2306,1069,1234]
[26,"53,Schutz-,Sicherheits-, Überwachungsberufe",null,347289,13317,14487,27087,3712,73460,35361,13400,37428,45804,3746,26159,12184,6584,18472,9246,6838,139312,4739,3591,12485,1462,34064,10569,6265,19775,23715,1933,5896,2530,2402,5324,1836,2704,79445,2753,2015,7189,881,20234,5968,3620,9598,11301,1205,4158,1766,1817,3738,1425,1763,59867,1986,1576,5296,581,13830,4601,2645,10177,12414,728,1738,764,585,1586,411,941]
[27,"54,Reinigungsberufe",null,820112,31797,26896,82142,9497,164471,69898,36069,102714,135956,11745,37458,21277,16677,35384,20868,17228,1139160,36864,27559,115419,12836,286847,95909,53872,183303,207411,16252,22483,13624,11041,26435,14521,14666,696808,22668,13576,75541,7486,189203,56322,35034,98293,111971,11627,14621,10060,8441,19935,11310,10643,442352,14196,13983,39878,5350,97644,39587,18838,85010,95440,4625,7862,3564,2600,6500,3211,4023]
[28,"61,Einkaufs-, Vertriebs- und Handelsberufe",null,935299,27241,38649,71985,9587,214450,81316,33053,156912,169224,8040,36245,15070,9544,35500,13118,15285,48843,1753,1428,4284,439,11213,3704,2237,7434,8493,476,2351,910,712,1947,656,788,31854,1151,846,2856,310,7539,2411,1491,4590,5256,320,1565,643,530,1328,463,545,16989,602,582,1428,129,3674,1293,746,2844,3237,156,786,267,182,619,193,243]
[29,"62,Verkaufsberufe",null,2077911,76577,53455,201081,17793,435142,149715,96659,274373,339850,26395,92307,58959,42033,104189,55968,53312,868073,36847,21580,88824,7696,216522,70290,44197,129416,142218,10761,26249,14322,10372,24937,11542,12196,664902,29471,15938,71361,5806,172239,53082,34190,90384,101830,8771,21627,11529,8886,19777,9926,9995,203171,7376,5642,17463,1890,44283,17208,10007,39032,40388,1990,4622,2793,1486,5160,1616,2201]
[30,"63,Tourismus-, Hotel- und Gaststättenberufe",null,761692,25954,34192,60970,9856,129211,59290,32251,95642,137626,6472,59890,19933,23217,35766,16365,14957,820933,27608,22473,84511,9644,180133,56896,44187,130463,149184,9982,35967,12047,9975,24907,10661,12186,512402,18011,13717,53270,6400,118125,36658,28987,74759,81069,6657,26640,8462,7286,17058,7448,7767,308531,9597,8756,31241,3244,62008,20238,15200,55704,68115,3325,9327,3585,2689,7849,3213,4419]
[31,"71,Berufe Unternehmensführung,-organisation",null,4024064,98964,152004,324555,38559,869575,357581,158680,583378,713985,41441,215352,84915,53837,175317,74532,81102,909525,30707,24709,85134,6844,205145,73325,46081,134274,171773,11878,31910,16545,11184,29986,14226,15531,561236,18655,15144,55720,4394,130690,45361,27804,79509,103421,7484,20312,9504,6969,18284,8790,9043,348289,12052,9565,29414,2450,74455,27964,18277,54765,68352,4394,11598,7041,4215,11702,5436,6488]
[32,"72,Finanzdienstl.Rechnungsw.,Steuerberatung",null,1376783,37454,60975,114692,13617,294578,155691,51864,189607,251733,15022,58761,22981,15794,49166,21798,23008,91552,3349,2705,8696,823,19507,7157,4143,13627,18066,1005,3223,1870,1162,3168,1344,1697,46537,1663,1259,4403,461,10457,3788,2061,6886,8727,522,1520,907,612,1677,712,876,45015,1686,1446,4293,362,9050,3369,2082,6741,9339,483,1703,963,550,1491,632,821]
[33,"73,Berufe in Recht und Verwaltung",null,1008435,41406,35366,81586,11947,200169,84103,42569,124437,142411,13649,70746,34618,22789,45867,32057,24668,66698,4175,1710,5838,612,13683,5393,4525,9854,12450,830,2452,911,732,1859,711,949,42749,3220,1010,3910,405,8780,3452,2671,6181,7744,547,1418,590,504,1216,455,639,23949,955,700,1928,207,4903,1941,1854,3673,4706,283,1034,321,228,643,256,310]
[34,"81,Medizinische Gesundheitsberufe",null,2398083,83100,65823,224431,23160,520882,172668,118654,301197,378075,31336,115903,65321,49016,122349,63051,63089,285459,10476,8104,26977,2541,69752,24673,14365,42417,50529,3847,12386,3484,2587,6914,2781,3603,159938,5853,3709,15904,1316,41080,13149,8195,23473,26759,2267,6427,1943,1582,4242,1831,2200,125521,4623,4395,11073,1225,28672,11524,6170,18944,23770,1580,5959,1541,1005,2672,950,1403]
[35,"82,Nichtmed.Gesundheit,Körperpfl.,Medizint.",null,858356,30501,20439,85594,7632,183804,60392,37588,104612,123701,10466,36682,27306,20628,53772,29473,25742,145574,5197,3759,16450,1544,39024,12207,7228,20761,21996,1986,4895,2076,1317,3628,1680,1800,99284,3464,2027,11915,954,28166,7929,5081,13263,14228,1533,2991,1420,974,2699,1319,1303,46290,1733,1732,4535,590,10858,4278,2147,7498,7768,453,1904,656,343,929,361,497]
[36,"83,Erziehung,soz.,hauswirt.Berufe,Theologie",null,1624280,55168,41825,150585,16516,359824,119526,82234,218363,241027,20357,80636,49709,29995,76016,40442,42029,206650,7739,4990,21735,2010,53655,18446,11983,31824,32572,2659,5045,2946,2161,4459,1954,2461,154636,5533,3402,16039,1412,41865,13661,9000,23077,23360,2211,3654,2384,1813,3623,1632,1962,52014,2206,1588,5696,598,11790,4785,2983,8747,9212,448,1391,562,348,836,322,499]
[37,"84,Lehrende und ausbildende Berufe",null,617060,12860,15401,44311,7301,123998,42126,25522,69797,88568,6371,46118,16218,19100,57475,23037,18838,177506,3600,5366,12318,2651,43853,17615,9089,34224,28041,2305,2885,2806,1609,6109,2314,2700,130756,2285,4136,8231,2185,34122,13513,6754,25462,17898,1726,2046,2252,1199,4918,1863,2153,46750,1315,1230,4087,466,9731,4102,2335,8762,10143,579,839,554,410,1191,451,547]
[38,"91,Geistes-Gesellschafts-Wirtschaftswissen.",null,83032,3295,3490,9307,855,18089,7274,2476,7093,12670,515,8442,1534,882,2861,3042,1201,15192,271,912,3795,88,3320,1024,692,1227,1750,85,913,92,134,557,110,222,11430,193,758,2856,63,2489,758,493,924,1235,60,698,59,108,455,83,198,3762,78,154,939,25,831,266,199,303,515,25,215,33,26,102,27,24]
[39,"92,Werbung,Marketing,kaufm,red.Medienberufe",null,557635,12756,33622,32970,5307,117387,47527,17753,64914,93350,4849,51055,14538,14132,22704,15876,8808,33630,967,1338,2421,330,7466,2411,1787,4385,6256,409,2138,582,440,1463,773,455,22245,642,858,1612,221,5123,1592,1284,2772,3750,281,1532,383,330,958,588,316,11385,325,480,809,109,2343,819,503,1613,2506,128,606,199,110,505,185,139]
[40,"93,Produktdesign, Kunsthandwerk",null,63342,1632,2467,4969,593,11308,4371,3049,9229,15207,479,2451,996,653,3796,832,1307,9562,293,187,816,72,2059,604,623,1738,1837,133,286,135,105,398,93,180,6696,223,133,590,49,1442,428,431,1144,1202,103,218,108,82,321,72,147,2866,70,54,226,23,617,176,192,594,635,30,68,27,23,77,21,33]
[41,"94,Darstellende, unterhaltende Berufe",null,116522,2545,6899,6416,1548,23539,7122,5004,13292,17661,1335,13753,2686,1990,7292,2443,2993,48425,1435,1246,4403,306,10519,4246,2434,7525,8866,733,2429,799,561,1610,697,601,28467,873,834,2665,183,6078,2472,1465,4096,4890,443,1645,568,370,1051,422,401,19958,562,412,1738,123,4441,1774,969,3429,3976,290,784,231,191,559,275,200]
[42,"01,Angehörige der regulären Streitkräfte",null,2514,82,39,220,11,608,133,93,379,508,14,112,81,36,97,59,42,1200,24,19,71,6,303,64,50,268,215,11,35,8,14,41,49,22,852,18,14,57,"*",223,44,35,163,150,8,28,"*","*",31,41,18,348,6,5,14,"*",80,20,15,105,65,3,7,"*","*",10,8,4]
[43,"keine Angabe",null,183456,5500,1874,22747,1091,42009,12202,7447,20170,23884,1888,6536,7297,6596,9467,8562,6173,276624,11822,5384,31313,2099,73797,20174,18004,36539,48595,3657,7357,4083,2323,5422,2809,2563,195832,8313,3542,22722,1498,55233,14031,12851,24089,31967,2830,5495,3028,1730,3986,2158,1881,80792,3509,1842,8591,601,18564,6143,5153,12450,16628,827,1862,1055,593,1436,651,682]

{"sheet":"4 Steuerung","index":20,"n_rows":109,"n_cols":12,"rows_kept":109,"cut":false,"hidden":true,"merged":[[4,6,4,7],[7,5,8,5],[64,5,65,5]]}
[]
[]
[]
[]
[null,"Zuweis.1 Refnm.",null,null,null,null,"SvB",null,"GB","GB_ausschl.","GB_im_NJ"]
[null,{"$f":"INDEX($B$8:$B$24,B7,1)","v":"Deutschland"},{"$f":"INDEX(C8:C24,C7,1)","v":"Deutschland"},null,"NACH REV","1. Vergleich",{"$f":"MATCH(G5,'4 Roh-Daten'!D63:T63,0)","v":1},{"$f":"MATCH(G5,'4 Roh-Daten'!D10:BS10,0)","v":1},{"$f":"MATCH('4 Steuerung'!I5,'4 Roh-Daten'!D10:BS10,0)","v":18},{"$f":"MATCH(J5,'4 Roh-Daten'!D10:BS10,0)","v":35},{"$f":"MATCH(K5,'4 Roh-Daten'!D10:BS10,0)","v":52}]
[null,1,{"$f":"B7","v":1},null,null,"2. Vergleich",{"$f":"MATCH(C6,'4 Roh-Daten'!D64:T64,0)","v":1},{"$f":"MATCH(C6,'4 Roh-Daten'!D11:BS11,0)","v":1}]
[null,"Deutschland","Deutschland",null,null,"Zeilennum.","ohne PG","mit PG "]
[null,"Schleswig-Holstein","Schleswig-Holstein,01",null,null,null,{"$f":"G6+G7-1","v":1},{"$f":"H6+H7-1","v":1},{"$f":"I6+G7-1","v":18},{"$f":"J6+G7-1","v":35},{"$f":"K6+G7-1","v":52}]
[null,"Hamburg","Hamburg,02",1,"Insgesamt",1,{"$f":"INDEX('4 Roh-Daten'!$D$66:$T$108,'4 Steuerung'!$F10,'4 Steuerung'!G$9)","v":31373691},{"$f":"INDEX('4 Roh-Daten'!$D$13:$BS$55,'4 Steuerung'!$F10,'4 Steuerung'!H$9)","v":31443318},{"$f":"INDEX('4 Roh-Daten'!$D$13:$BS$55,'4 Steuerung'!$F10,'4 Steuerung'!I$9)","v":7763218},{"$f":"INDEX('4 Roh-Daten'!$D$13:$BS$55,'4 Steuerung'!$F10,'4 Steuerung'!J$9)","v":5141533},{"$f":"INDEX('4 Roh-Daten'!$D$13:$BS$55,'4 Steuerung'!$F10,'4 Steuerung'!K$9)","v":2621685}]
[null,"Niedersachsen","Niedersachsen,03",2,"1,Helfer",2,{"$f":"INDEX('4 Roh-Daten'!$D$66:$T$108,'4 Steuerung'!$F11,'4 Steuerung'!G$9)","v":4775436},{"$f":"INDEX('4 Roh-Daten'!$D$13:$BS$55,'4 Steuerung'!$F11,'4 Steuerung'!H$9)","v":4783842},{"$f":"INDEX('4 Roh-Daten'!$D$13:$BS$55,'4 Steuerung'!$F11,'4 Steuerung'!I$9)","v":3527665},{"$f":"INDEX('4 Roh-Daten'!$D$13:$BS$55,'4 Steuerung'!$F11,'4 Steuerung'!J$9)","v":2398523},{"$f":"INDEX('4 Roh-Daten'!$D$13:$BS$55,'4 Steuerung'!$F11,'4 Steuerung'!K$9)","v":1129142}]
[null,"Bremen","Bremen,04",3,"2,Fachkraft",3,{"$f":"INDEX('4 Roh-Daten'!$D$66:$T$108,'4 Steuerung'!$F12,'4 Steuerung'!G$9)","v":18456459},{"$f":"INDEX('4 Roh-Daten'!$D$13:$BS$55,'4 Steuerung'!$F12,'4 Steuerung'!H$9)","v":18499197},{"$f":"INDEX('4 Roh-Daten'!$D$13:$BS$55,'4 Steuerung'!$F12,'4 Steuerung'!I$9)","v":3317392},{"$f":"INDEX('4 Roh-Daten'!$D$13:$BS$55,'4 Steuerung'!$F12,'4 Steuerung'!J$9)","v":2145128},{"$f":"INDEX('4 Roh-Daten'!$D$13:$BS$55,'4 Steuerung'!$F12,'4 Steuerung'!K$9)","v":1172264}]
[null,"Nordrhein-Westfalen","Nordrhein-Westfalen,05",4,"3,Spezialist",4,{"$f":"INDEX('4 Roh-Daten'!$D$66:$T$108,'4 Steuerung'!$F13,'4 Steuerung'!G$9)","v":3979863},{"$f":"INDEX('4 Roh-Daten'!$D$13:$BS$55,'4 Steuerung'!$F13,'4 Steuerung'!H$9)","v":3990019},{"$f":"INDEX('4 Roh-Daten'!$D$13:$BS$55,'4 Steuerung'!$F13,'4 Steuerung'!I$9)","v":356862},{"$f":"INDEX('4 Roh-Daten'!$D$13:$BS$55,'4 Steuerung'!$F13,'4 Steuerung'!J$9)","v":199210},{"$f":"INDEX('4 Roh-Daten'!$D$13:$BS$55,'4 Steuerung'!$F13,'4 Steuerung'!K$9)","v":157652}]
[null,"Hessen","Hessen,06",5,"4,Experte",5,{"$f":"INDEX('4 Roh-Daten'!$D$66:$T$108,'4 Steuerung'!$F14,'4 Steuerung'!G$9)","v":3978477},{"$f":"INDEX('4 Roh-Daten'!$D$13:$BS$55,'4 Steuerung'!$F14,'4 Steuerung'!H$9)","v":3986747},{"$f":"INDEX('4 Roh-Daten'!$D$13:$BS$55,'4 Steuerung'!$F14,'4 Steuerung'!I$9)","v":285421},{"$f":"INDEX('4 Roh-Daten'!$D$13:$BS$55,'4 Steuerung'!$F14,'4 Steuerung'!J$9)","v":203763},{"$f":"INDEX('4 Roh-Daten'!$D$13:$BS$55,'4 Steuerung'!$F14,'4 Steuerung'!K$9)","v":81658}]
[null,"Rheinland-Pfalz","Rheinland-Pfalz,07",6,"11,Land-, Tier-, Forstwirtschaftsberufe",6,{"$f":"INDEX('4 Roh-Daten'!$D$66:$T$108,'4 Steuerung'!$F15,'4 Steuerung'!G$9)","v":230681},{"$f":"INDEX('4 Roh-Daten'!$D$13:$BS$55,'4 Steuerung'!$F15,'4 Steuerung'!H$9)","v":230996},{"$f":"INDEX('4 Roh-Daten'!$D$13:$BS$55,'4 Steuerung'!$F15,'4 Steuerung'!I$9)","v":166857},{"$f":"INDEX('4 Roh-Daten'!$D$13:$BS$55,'4 Steuerung'!$F15,'4 Steuerung'!J$9)","v":130549},{"$f":"INDEX('4 Roh-Daten'!$D$13:$BS$55,'4 Steuerung'!$F15,'4 Steuerung'!K$9)","v":36308}]
[null,"Baden-Württemberg","Baden-Württemberg,08",7,"12,Gartenbauberufe, Floristik",7,{"$f":"INDEX('4 Roh-Daten'!$D$66:$T$108,'4 Steuerung'!$F16,'4 Steuerung'!G$9)","v":262303},{"$f":"INDEX('4 Roh-Daten'!$D$13:$BS$55,'4 Steuerung'!$F16,'4 Steuerung'!H$9)","v":262689},{"$f":"INDEX('4 Roh-Daten'!$D$13:$BS$55,'4 Steuerung'!$F16,'4 Steuerung'!I$9)","v":93665},{"$f":"INDEX('4 Roh-Daten'!$D$13:$BS$55,'4 Steuerung'!$F16,'4 Steuerung'!J$9)","v":66700},{"$f":"INDEX('4 Roh-Daten'!$D$13:$BS$55,'4 Steuerung'!$F16,'4 Steuerung'!K$9)","v":26965}]
[null,"Bayern","Bayern,09",8,"21,Rohstoffgewinn,Glas-,Keramikverarbeitung",8,{"$f":"INDEX('4 Roh-Daten'!$D$66:$T$108,'4 Steuerung'!$F17,'4 Steuerung'!G$9)","v":124211},{"$f":"INDEX('4 Roh-Daten'!$D$13:$BS$55,'4 Steuerung'!$F17,'4 Steuerung'!H$9)","v":124406},{"$f":"INDEX('4 Roh-Daten'!$D$13:$BS$55,'4 Steuerung'!$F17,'4 Steuerung'!I$9)","v":9630},{"$f":"INDEX('4 Roh-Daten'!$D$13:$BS$55,'4 Steuerung'!$F17,'4 Steuerung'!J$9)","v":6514},{"$f":"INDEX('4 Roh-Daten'!$D$13:$BS$55,'4 Steuerung'!$F17,'4 Steuerung'!K$9)","v":3116}]
[null,"Saarland","Saarland,10",9,"22,Kunststoff- u. Holzherst.,-verarbeitung",9,{"$f":"INDEX('4 Roh-Daten'!$D$66:$T$108,'4 Steuerung'!$F18,'4 Steuerung'!G$9)","v":539918},{"$f":"INDEX('4 Roh-Daten'!$D$13:$BS$55,'4 Steuerung'!$F18,'4 Steuerung'!H$9)","v":541041},{"$f":"INDEX('4 Roh-Daten'!$D$13:$BS$55,'4 Steuerung'!$F18,'4 Steuerung'!I$9)","v":49516},{"$f":"INDEX('4 Roh-Daten'!$D$13:$BS$55,'4 Steuerung'!$F18,'4 Steuerung'!J$9)","v":32475},{"$f":"INDEX('4 Roh-Daten'!$D$13:$BS$55,'4 Steuerung'!$F18,'4 Steuerung'!K$9)","v":17041}]
[null,"Berlin","Berlin,11",10,"23,Papier-,Druckberufe, tech.Mediengestalt.",10,{"$f":"INDEX('4 Roh-Daten'!$D$66:$T$108,'4 Steuerung'!$F19,'4 Steuerung'!G$9)","v":278390},{"$f":"INDEX('4 Roh-Daten'!$D$13:$BS$55,'4 Steuerung'!$F19,'4 Steuerung'!H$9)","v":278947},{"$f":"INDEX('4 Roh-Daten'!$D$13:$BS$55,'4 Steuerung'!$F19,'4 Steuerung'!I$9)","v":38566},{"$f":"INDEX('4 Roh-Daten'!$D$13:$BS$55,'4 Steuerung'!$F19,'4 Steuerung'!J$9)","v":26309},{"$f":"INDEX('4 Roh-Daten'!$D$13:$BS$55,'4 Steuerung'!$F19,'4 Steuerung'!K$9)","v":12257}]
[null,"Brandenburg","Brandenburg,12",11,"24,Metallerzeugung,-bearbeitung, Metallbau",11,{"$f":"INDEX('4 Roh-Daten'!$D$66:$T$108,'4 Steuerung'!$F20,'4 Steuerung'!G$9)","v":1309110},{"$f":"INDEX('4 Roh-Daten'!$D$13:$BS$55,'4 Steuerung'!$F20,'4 Steuerung'!H$9)","v":1311851},{"$f":"INDEX('4 Roh-Daten'!$D$13:$BS$55,'4 Steuerung'!$F20,'4 Steuerung'!I$9)","v":90152},{"$f":"INDEX('4 Roh-Daten'!$D$13:$BS$55,'4 Steuerung'!$F20,'4 Steuerung'!J$9)","v":54817},{"$f":"INDEX('4 Roh-Daten'!$D$13:$BS$55,'4 Steuerung'!$F20,'4 Steuerung'!K$9)","v":35335}]
[null,"Mecklenburg-Vorpommern","Mecklenburg-Vorpommern,13",12,"25,Maschinen- und Fahrzeugtechnikberufe",12,{"$f":"INDEX('4 Roh-Daten'!$D$66:$T$108,'4 Steuerung'!$F21,'4 Steuerung'!G$9)","v":1768795},{"$f":"INDEX('4 Roh-Daten'!$D$13:$BS$55,'4 Steuerung'!$F21,'4 Steuerung'!H$9)","v":1773020},{"$f":"INDEX('4 Roh-Daten'!$D$13:$BS$55,'4 Steuerung'!$F21,'4 Steuerung'!I$9)","v":101623},{"$f":"INDEX('4 Roh-Daten'!$D$13:$BS$55,'4 Steuerung'!$F21,'4 Steuerung'!J$9)","v":61159},{"$f":"INDEX('4 Roh-Daten'!$D$13:$BS$55,'4 Steuerung'!$F21,'4 Steuerung'!K$9)","v":40464}]
[null,"Sachsen","Sachsen,14",13,"26,Mechatronik-, Energie- u. Elektroberufe",13,{"$f":"INDEX('4 Roh-Daten'!$D$66:$T$108,'4 Steuerung'!$F22,'4 Steuerung'!G$9)","v":1000676},{"$f":"INDEX('4 Roh-Daten'!$D$13:$BS$55,'4 Steuerung'!$F22,'4 Steuerung'!H$9)","v":1002585},{"$f":"INDEX('4 Roh-Daten'!$D$13:$BS$55,'4 Steuerung'!$F22,'4 Steuerung'!I$9)","v":59424},{"$f":"INDEX('4 Roh-Daten'!$D$13:$BS$55,'4 Steuerung'!$F22,'4 Steuerung'!J$9)","v":36714},{"$f":"INDEX('4 Roh-Daten'!$D$13:$BS$55,'4 Steuerung'!$F22,'4 Steuerung'!K$9)","v":22710}]
[null,"Sachsen-Anhalt","Sachsen-Anhalt,15",14,"27,Techn.Entwickl.Konstr.Produktionssteuer.",14,{"$f":"INDEX('4 Roh-Daten'!$D$66:$T$108,'4 Steuerung'!$F23,'4 Steuerung'!G$9)","v":1047465},{"$f":"INDEX('4 Roh-Daten'!$D$13:$BS$55,'4 Steuerung'!$F23,'4 Steuerung'!H$9)","v":1049993},{"$f":"INDEX('4 Roh-Daten'!$D$13:$BS$55,'4 Steuerung'!$F23,'4 Steuerung'!I$9)","v":29012},{"$f":"INDEX('4 Roh-Daten'!$D$13:$BS$55,'4 Steuerung'!$F23,'4 Steuerung'!J$9)","v":18937},{"$f":"INDEX('4 Roh-Daten'!$D$13:$BS$55,'4 Steuerung'!$F23,'4 Steuerung'!K$9)","v":10075}]
[null,"Thüringen","Thüringen,16",15,"28,Textil- und Lederberufe",15,{"$f":"INDEX('4 Roh-Daten'!$D$66:$T$108,'4 Steuerung'!$F24,'4 Steuerung'!G$9)","v":128685},{"$f":"INDEX('4 Roh-Daten'!$D$13:$BS$55,'4 Steuerung'!$F24,'4 Steuerung'!H$9)","v":128911},{"$f":"INDEX('4 Roh-Daten'!$D$13:$BS$55,'4 Steuerung'!$F24,'4 Steuerung'!I$9)","v":27244},{"$f":"INDEX('4 Roh-Daten'!$D$13:$BS$55,'4 Steuerung'!$F24,'4 Steuerung'!J$9)","v":20517},{"$f":"INDEX('4 Roh-Daten'!$D$13:$BS$55,'4 Steuerung'!$F24,'4 Steuerung'!K$9)","v":6727}]
[null,null,null,16,"29,Lebensmittelherstellung u. -verarbeitung",16,{"$f":"INDEX('4 Roh-Daten'!$D$66:$T$108,'4 Steuerung'!$F25,'4 Steuerung'!G$9)","v":824589},{"$f":"INDEX('4 Roh-Daten'!$D$13:$BS$55,'4 Steuerung'!$F25,'4 Steuerung'!H$9)","v":826063},{"$f":"INDEX('4 Roh-Daten'!$D$13:$BS$55,'4 Steuerung'!$F25,'4 Steuerung'!I$9)","v":260208},{"$f":"INDEX('4 Roh-Daten'!$D$13:$BS$55,'4 Steuerung'!$F25,'4 Steuerung'!J$9)","v":181776},{"$f":"INDEX('4 Roh-Daten'!$D$13:$BS$55,'4 Steuerung'!$F25,'4 Steuerung'!K$9)","v":78432}]
[null,null,null,17,"31,Bauplanung,Architektur,Vermessungsberufe",17,{"$f":"INDEX('4 Roh-Daten'!$D$66:$T$108,'4 Steuerung'!$F26,'4 Steuerung'!G$9)","v":245507},{"$f":"INDEX('4 Roh-Daten'!$D$13:$BS$55,'4 Steuerung'!$F26,'4 Steuerung'!H$9)","v":245865},{"$f":"INDEX('4 Roh-Daten'!$D$13:$BS$55,'4 Steuerung'!$F26,'4 Steuerung'!I$9)","v":12679},{"$f":"INDEX('4 Roh-Daten'!$D$13:$BS$55,'4 Steuerung'!$F26,'4 Steuerung'!J$9)","v":8949},{"$f":"INDEX('4 Roh-Daten'!$D$13:$BS$55,'4 Steuerung'!$F26,'4 Steuerung'!K$9)","v":3730}]
[null,null,null,18,"32,Hoch- und Tiefbauberufe",18,{"$f":"INDEX('4 Roh-Daten'!$D$66:$T$108,'4 Steuerung'!$F27,'4 Steuerung'!G$9)","v":565859},{"$f":"INDEX('4 Roh-Daten'!$D$13:$BS$55,'4 Steuerung'!$F27,'4 Steuerung'!H$9)","v":566157},{"$f":"INDEX('4 Roh-Daten'!$D$13:$BS$55,'4 Steuerung'!$F27,'4 Steuerung'!I$9)","v":69430},{"$f":"INDEX('4 Roh-Daten'!$D$13:$BS$55,'4 Steuerung'!$F27,'4 Steuerung'!J$9)","v":47039},{"$f":"INDEX('4 Roh-Daten'!$D$13:$BS$55,'4 Steuerung'!$F27,'4 Steuerung'!K$9)","v":22391}]
[null,null,null,19,"33,(Innen-)Ausbauberufe",19,{"$f":"INDEX('4 Roh-Daten'!$D$66:$T$108,'4 Steuerung'!$F28,'4 Steuerung'!G$9)","v":372423},{"$f":"INDEX('4 Roh-Daten'!$D$13:$BS$55,'4 Steuerung'!$F28,'4 Steuerung'!H$9)","v":372820},{"$f":"INDEX('4 Roh-Daten'!$D$13:$BS$55,'4 Steuerung'!$F28,'4 Steuerung'!I$9)","v":38826},{"$f":"INDEX('4 Roh-Daten'!$D$13:$BS$55,'4 Steuerung'!$F28,'4 Steuerung'!J$9)","v":26199},{"$f":"INDEX('4 Roh-Daten'!$D$13:$BS$55,'4 Steuerung'!$F28,'4 Steuerung'!K$9)","v":12627}]
[null,null,null,20,"34,Gebäude- u. versorgungstechnische Berufe",20,{"$f":"INDEX('4 Roh-Daten'!$D$66:$T$108,'4 Steuerung'!$F29,'4 Steuerung'!G$9)","v":687816},{"$f":"INDEX('4 Roh-Daten'!$D$13:$BS$55,'4 Steuerung'!$F29,'4 Steuerung'!H$9)","v":689238},{"$f":"INDEX('4 Roh-Daten'!$D$13:$BS$55,'4 Steuerung'!$F29,'4 Steuerung'!I$9)","v":306106},{"$f":"INDEX('4 Roh-Daten'!$D$13:$BS$55,'4 Steuerung'!$F29,'4 Steuerung'!J$9)","v":185750},{"$f":"INDEX('4 Roh-Daten'!$D$13:$BS$55,'4 Steuerung'!$F29,'4 Steuerung'!K$9)","v":120356}]
[null,null,null,21,"41,Mathematik-Biologie-Chemie-,Physikberufe",21,{"$f":"INDEX('4 Roh-Daten'!$D$66:$T$108,'4 Steuerung'!$F30,'4 Steuerung'!G$9)","v":389499},{"$f":"INDEX('4 Roh-Daten'!$D$13:$BS$55,'4 Steuerung'!$F30,'4 Steuerung'!H$9)","v":390637},{"$f":"INDEX('4 Roh-Daten'!$D$13:$BS$55,'4 Steuerung'!$F30,'4 Steuerung'!I$9)","v":15355},{"$f":"INDEX('4 Roh-Daten'!$D$13:$BS$55,'4 Steuerung'!$F30,'4 Steuerung'!J$9)","v":11416},{"$f":"INDEX('4 Roh-Daten'!$D$13:$BS$55,'4 Steuerung'!$F30,'4 Steuerung'!K$9)","v":3939}]
[null,null,null,22,"42,Geologie-,Geografie-,Umweltschutzberufe",22,{"$f":"INDEX('4 Roh-Daten'!$D$66:$T$108,'4 Steuerung'!$F31,'4 Steuerung'!G$9)","v":40852},{"$f":"INDEX('4 Roh-Daten'!$D$13:$BS$55,'4 Steuerung'!$F31,'4 Steuerung'!H$9)","v":40925},{"$f":"INDEX('4 Roh-Daten'!$D$13:$BS$55,'4 Steuerung'!$F31,'4 Steuerung'!I$9)","v":3203},{"$f":"INDEX('4 Roh-Daten'!$D$13:$BS$55,'4 Steuerung'!$F31,'4 Steuerung'!J$9)","v":2255},{"$f":"INDEX('4 Roh-Daten'!$D$13:$BS$55,'4 Steuerung'!$F31,'4 Steuerung'!K$9)","v":948}]
[null,null,null,23,"43,Informatik- und andere IKT-Berufe",23,{"$f":"INDEX('4 Roh-Daten'!$D$66:$T$108,'4 Steuerung'!$F32,'4 Steuerung'!G$9)","v":716163},{"$f":"INDEX('4 Roh-Daten'!$D$13:$BS$55,'4 Steuerung'!$F32,'4 Steuerung'!H$9)","v":717946},{"$f":"INDEX('4 Roh-Daten'!$D$13:$BS$55,'4 Steuerung'!$F32,'4 Steuerung'!I$9)","v":26984},{"$f":"INDEX('4 Roh-Daten'!$D$13:$BS$55,'4 Steuerung'!$F32,'4 Steuerung'!J$9)","v":13409},{"$f":"INDEX('4 Roh-Daten'!$D$13:$BS$55,'4 Steuerung'!$F32,'4 Steuerung'!K$9)","v":13575}]
[null,null,null,24,"51,Verkehr, Logistik (außer Fahrzeugführ.)",24,{"$f":"INDEX('4 Roh-Daten'!$D$66:$T$108,'4 Steuerung'!$F33,'4 Steuerung'!G$9)","v":1908636},{"$f":"INDEX('4 Roh-Daten'!$D$13:$BS$55,'4 Steuerung'!$F33,'4 Steuerung'!H$9)","v":1912670},{"$f":"INDEX('4 Roh-Daten'!$D$13:$BS$55,'4 Steuerung'!$F33,'4 Steuerung'!I$9)","v":721614},{"$f":"INDEX('4 Roh-Daten'!$D$13:$BS$55,'4 Steuerung'!$F33,'4 Steuerung'!J$9)","v":522328},{"$f":"INDEX('4 Roh-Daten'!$D$13:$BS$55,'4 Steuerung'!$F33,'4 Steuerung'!K$9)","v":199286}]
[null,null,null,25,"52,Führer von Fahrzeug- u. Transportgeräten",25,{"$f":"INDEX('4 Roh-Daten'!$D$66:$T$108,'4 Steuerung'!$F34,'4 Steuerung'!G$9)","v":1076248},{"$f":"INDEX('4 Roh-Daten'!$D$13:$BS$55,'4 Steuerung'!$F34,'4 Steuerung'!H$9)","v":1078653},{"$f":"INDEX('4 Roh-Daten'!$D$13:$BS$55,'4 Steuerung'!$F34,'4 Steuerung'!I$9)","v":353713},{"$f":"INDEX('4 Roh-Daten'!$D$13:$BS$55,'4 Steuerung'!$F34,'4 Steuerung'!J$9)","v":241096},{"$f":"INDEX('4 Roh-Daten'!$D$13:$BS$55,'4 Steuerung'!$F34,'4 Steuerung'!K$9)","v":112617}]
[null,null,null,26,"53,Schutz-,Sicherheits-, Überwachungsberufe",26,{"$f":"INDEX('4 Roh-Daten'!$D$66:$T$108,'4 Steuerung'!$F35,'4 Steuerung'!G$9)","v":347289},{"$f":"INDEX('4 Roh-Daten'!$D$13:$BS$55,'4 Steuerung'!$F35,'4 Steuerung'!H$9)","v":347768},{"$f":"INDEX('4 Roh-Daten'!$D$13:$BS$55,'4 Steuerung'!$F35,'4 Steuerung'!I$9)","v":139346},{"$f":"INDEX('4 Roh-Daten'!$D$13:$BS$55,'4 Steuerung'!$F35,'4 Steuerung'!J$9)","v":79361},{"$f":"INDEX('4 Roh-Daten'!$D$13:$BS$55,'4 Steuerung'!$F35,'4 Steuerung'!K$9)","v":59985}]
[null,null,null,27,"54,Reinigungsberufe",27,{"$f":"INDEX('4 Roh-Daten'!$D$66:$T$108,'4 Steuerung'!$F36,'4 Steuerung'!G$9)","v":820112},{"$f":"INDEX('4 Roh-Daten'!$D$13:$BS$55,'4 Steuerung'!$F36,'4 Steuerung'!H$9)","v":821333},{"$f":"INDEX('4 Roh-Daten'!$D$13:$BS$55,'4 Steuerung'!$F36,'4 Steuerung'!I$9)","v":1141374},{"$f":"INDEX('4 Roh-Daten'!$D$13:$BS$55,'4 Steuerung'!$F36,'4 Steuerung'!J$9)","v":697422},{"$f":"INDEX('4 Roh-Daten'!$D$13:$BS$55,'4 Steuerung'!$F36,'4 Steuerung'!K$9)","v":443952}]
[null,null,null,28,"61,Einkaufs-, Vertriebs- und Handelsberufe",28,{"$f":"INDEX('4 Roh-Daten'!$D$66:$T$108,'4 Steuerung'!$F37,'4 Steuerung'!G$9)","v":935299},{"$f":"INDEX('4 Roh-Daten'!$D$13:$BS$55,'4 Steuerung'!$F37,'4 Steuerung'!H$9)","v":937900},{"$f":"INDEX('4 Roh-Daten'!$D$13:$BS$55,'4 Steuerung'!$F37,'4 Steuerung'!I$9)","v":48932},{"$f":"INDEX('4 Roh-Daten'!$D$13:$BS$55,'4 Steuerung'!$F37,'4 Steuerung'!J$9)","v":31877},{"$f":"INDEX('4 Roh-Daten'!$D$13:$BS$55,'4 Steuerung'!$F37,'4 Steuerung'!K$9)","v":17055}]
[null,null,null,29,"62,Verkaufsberufe",29,{"$f":"INDEX('4 Roh-Daten'!$D$66:$T$108,'4 Steuerung'!$F38,'4 Steuerung'!G$9)","v":2077911},{"$f":"INDEX('4 Roh-Daten'!$D$13:$BS$55,'4 Steuerung'!$F38,'4 Steuerung'!H$9)","v":2085088},{"$f":"INDEX('4 Roh-Daten'!$D$13:$BS$55,'4 Steuerung'!$F38,'4 Steuerung'!I$9)","v":868493},{"$f":"INDEX('4 Roh-Daten'!$D$13:$BS$55,'4 Steuerung'!$F38,'4 Steuerung'!J$9)","v":665244},{"$f":"INDEX('4 Roh-Daten'!$D$13:$BS$55,'4 Steuerung'!$F38,'4 Steuerung'!K$9)","v":203249}]
[null,null,null,30,"63,Tourismus-, Hotel- und Gaststättenberufe",30,{"$f":"INDEX('4 Roh-Daten'!$D$66:$T$108,'4 Steuerung'!$F39,'4 Steuerung'!G$9)","v":761692},{"$f":"INDEX('4 Roh-Daten'!$D$13:$BS$55,'4 Steuerung'!$F39,'4 Steuerung'!H$9)","v":763016},{"$f":"INDEX('4 Roh-Daten'!$D$13:$BS$55,'4 Steuerung'!$F39,'4 Steuerung'!I$9)","v":820896},{"$f":"INDEX('4 Roh-Daten'!$D$13:$BS$55,'4 Steuerung'!$F39,'4 Steuerung'!J$9)","v":511935},{"$f":"INDEX('4 Roh-Daten'!$D$13:$BS$55,'4 Steuerung'!$F39,'4 Steuerung'!K$9)","v":308961}]
[null,null,null,31,"71,Berufe Unternehmensführung,-organisation",31,{"$f":"INDEX('4 Roh-Daten'!$D$66:$T$108,'4 Steuerung'!$F40,'4 Steuerung'!G$9)","v":4024064},{"$f":"INDEX('4 Roh-Daten'!$D$13:$BS$55,'4 Steuerung'!$F40,'4 Steuerung'!H$9)","v":4033623},{"$f":"INDEX('4 Roh-Daten'!$D$13:$BS$55,'4 Steuerung'!$F40,'4 Steuerung'!I$9)","v":911693},{"$f":"INDEX('4 Roh-Daten'!$D$13:$BS$55,'4 Steuerung'!$F40,'4 Steuerung'!J$9)","v":561877},{"$f":"INDEX('4 Roh-Daten'!$D$13:$BS$55,'4 Steuerung'!$F40,'4 Steuerung'!K$9)","v":349816}]
[null,null,null,32,"72,Finanzdienstl.Rechnungsw.,Steuerberatung",32,{"$f":"INDEX('4 Roh-Daten'!$D$66:$T$108,'4 Steuerung'!$F41,'4 Steuerung'!G$9)","v":1376783},{"$f":"INDEX('4 Roh-Daten'!$D$13:$BS$55,'4 Steuerung'!$F41,'4 Steuerung'!H$9)","v":1382323},{"$f":"INDEX('4 Roh-Daten'!$D$13:$BS$55,'4 Steuerung'!$F41,'4 Steuerung'!I$9)","v":91804},{"$f":"INDEX('4 Roh-Daten'!$D$13:$BS$55,'4 Steuerung'!$F41,'4 Steuerung'!J$9)","v":46555},{"$f":"INDEX('4 Roh-Daten'!$D$13:$BS$55,'4 Steuerung'!$F41,'4 Steuerung'!K$9)","v":45249}]
[null,null,null,33,"73,Berufe in Recht und Verwaltung",33,{"$f":"INDEX('4 Roh-Daten'!$D$66:$T$108,'4 Steuerung'!$F42,'4 Steuerung'!G$9)","v":1008435},{"$f":"INDEX('4 Roh-Daten'!$D$13:$BS$55,'4 Steuerung'!$F42,'4 Steuerung'!H$9)","v":1011116},{"$f":"INDEX('4 Roh-Daten'!$D$13:$BS$55,'4 Steuerung'!$F42,'4 Steuerung'!I$9)","v":66833},{"$f":"INDEX('4 Roh-Daten'!$D$13:$BS$55,'4 Steuerung'!$F42,'4 Steuerung'!J$9)","v":42800},{"$f":"INDEX('4 Roh-Daten'!$D$13:$BS$55,'4 Steuerung'!$F42,'4 Steuerung'!K$9)","v":24033}]
[null,null,null,34,"81,Medizinische Gesundheitsberufe",34,{"$f":"INDEX('4 Roh-Daten'!$D$66:$T$108,'4 Steuerung'!$F43,'4 Steuerung'!G$9)","v":2398083},{"$f":"INDEX('4 Roh-Daten'!$D$13:$BS$55,'4 Steuerung'!$F43,'4 Steuerung'!H$9)","v":2402731},{"$f":"INDEX('4 Roh-Daten'!$D$13:$BS$55,'4 Steuerung'!$F43,'4 Steuerung'!I$9)","v":285959},{"$f":"INDEX('4 Roh-Daten'!$D$13:$BS$55,'4 Steuerung'!$F43,'4 Steuerung'!J$9)","v":160148},{"$f":"INDEX('4 Roh-Daten'!$D$13:$BS$55,'4 Steuerung'!$F43,'4 Steuerung'!K$9)","v":125811}]
[null,null,null,35,"82,Nichtmed.Gesundheit,Körperpfl.,Medizint.",35,{"$f":"INDEX('4 Roh-Daten'!$D$66:$T$108,'4 Steuerung'!$F44,'4 Steuerung'!G$9)","v":858356},{"$f":"INDEX('4 Roh-Daten'!$D$13:$BS$55,'4 Steuerung'!$F44,'4 Steuerung'!H$9)","v":860280},{"$f":"INDEX('4 Roh-Daten'!$D$13:$BS$55,'4 Steuerung'!$F44,'4 Steuerung'!I$9)","v":145803},{"$f":"INDEX('4 Roh-Daten'!$D$13:$BS$55,'4 Steuerung'!$F44,'4 Steuerung'!J$9)","v":99430},{"$f":"INDEX('4 Roh-Daten'!$D$13:$BS$55,'4 Steuerung'!$F44,'4 Steuerung'!K$9)","v":46373}]
[null,null,null,36,"83,Erziehung,soz.,hauswirt.Berufe,Theologie",36,{"$f":"INDEX('4 Roh-Daten'!$D$66:$T$108,'4 Steuerung'!$F45,'4 Steuerung'!G$9)","v":1624280},{"$f":"INDEX('4 Roh-Daten'!$D$13:$BS$55,'4 Steuerung'!$F45,'4 Steuerung'!H$9)","v":1626737},{"$f":"INDEX('4 Roh-Daten'!$D$13:$BS$55,'4 Steuerung'!$F45,'4 Steuerung'!I$9)","v":206794},{"$f":"INDEX('4 Roh-Daten'!$D$13:$BS$55,'4 Steuerung'!$F45,'4 Steuerung'!J$9)","v":154680},{"$f":"INDEX('4 Roh-Daten'!$D$13:$BS$55,'4 Steuerung'!$F45,'4 Steuerung'!K$9)","v":52114}]
[null,null,null,37,"84,Lehrende und ausbildende Berufe",37,{"$f":"INDEX('4 Roh-Daten'!$D$66:$T$108,'4 Steuerung'!$F46,'4 Steuerung'!G$9)","v":617060},{"$f":"INDEX('4 Roh-Daten'!$D$13:$BS$55,'4 Steuerung'!$F46,'4 Steuerung'!H$9)","v":617792},{"$f":"INDEX('4 Roh-Daten'!$D$13:$BS$55,'4 Steuerung'!$F46,'4 Steuerung'!I$9)","v":177589},{"$f":"INDEX('4 Roh-Daten'!$D$13:$BS$55,'4 Steuerung'!$F46,'4 Steuerung'!J$9)","v":130757},{"$f":"INDEX('4 Roh-Daten'!$D$13:$BS$55,'4 Steuerung'!$F46,'4 Steuerung'!K$9)","v":46832}]
[null,null,null,38,"91,Geistes-Gesellschafts-Wirtschaftswissen.",38,{"$f":"INDEX('4 Roh-Daten'!$D$66:$T$108,'4 Steuerung'!$F47,'4 Steuerung'!G$9)","v":83032},{"$f":"INDEX('4 Roh-Daten'!$D$13:$BS$55,'4 Steuerung'!$F47,'4 Steuerung'!H$9)","v":83178},{"$f":"INDEX('4 Roh-Daten'!$D$13:$BS$55,'4 Steuerung'!$F47,'4 Steuerung'!I$9)","v":15185},{"$f":"INDEX('4 Roh-Daten'!$D$13:$BS$55,'4 Steuerung'!$F47,'4 Steuerung'!J$9)","v":11412},{"$f":"INDEX('4 Roh-Daten'!$D$13:$BS$55,'4 Steuerung'!$F47,'4 Steuerung'!K$9)","v":3773}]
[null,null,null,39,"92,Werbung,Marketing,kaufm,red.Medienberufe",39,{"$f":"INDEX('4 Roh-Daten'!$D$66:$T$108,'4 Steuerung'!$F48,'4 Steuerung'!G$9)","v":557635},{"$f":"INDEX('4 Roh-Daten'!$D$13:$BS$55,'4 Steuerung'!$F48,'4 Steuerung'!H$9)","v":558869},{"$f":"INDEX('4 Roh-Daten'!$D$13:$BS$55,'4 Steuerung'!$F48,'4 Steuerung'!I$9)","v":33646},{"$f":"INDEX('4 Roh-Daten'!$D$13:$BS$55,'4 Steuerung'!$F48,'4 Steuerung'!J$9)","v":22232},{"$f":"INDEX('4 Roh-Daten'!$D$13:$BS$55,'4 Steuerung'!$F48,'4 Steuerung'!K$9)","v":11414}]
[null,null,null,40,"93,Produktdesign, Kunsthandwerk",40,{"$f":"INDEX('4 Roh-Daten'!$D$66:$T$108,'4 Steuerung'!$F49,'4 Steuerung'!G$9)","v":63342},{"$f":"INDEX('4 Roh-Daten'!$D$13:$BS$55,'4 Steuerung'!$F49,'4 Steuerung'!H$9)","v":63484},{"$f":"INDEX('4 Roh-Daten'!$D$13:$BS$55,'4 Steuerung'!$F49,'4 Steuerung'!I$9)","v":9567},{"$f":"INDEX('4 Roh-Daten'!$D$13:$BS$55,'4 Steuerung'!$F49,'4 Steuerung'!J$9)","v":6688},{"$f":"INDEX('4 Roh-Daten'!$D$13:$BS$55,'4 Steuerung'!$F49,'4 Steuerung'!K$9)","v":2879}]
[null,null,null,41,"94,Darstellende, unterhaltende Berufe",41,{"$f":"INDEX('4 Roh-Daten'!$D$66:$T$108,'4 Steuerung'!$F50,'4 Steuerung'!G$9)","v":116522},{"$f":"INDEX('4 Roh-Daten'!$D$13:$BS$55,'4 Steuerung'!$F50,'4 Steuerung'!H$9)","v":116639},{"$f":"INDEX('4 Roh-Daten'!$D$13:$BS$55,'4 Steuerung'!$F50,'4 Steuerung'!I$9)","v":48419},{"$f":"INDEX('4 Roh-Daten'!$D$13:$BS$55,'4 Steuerung'!$F50,'4 Steuerung'!J$9)","v":28446},{"$f":"INDEX('4 Roh-Daten'!$D$13:$BS$55,'4 Steuerung'!$F50,'4 Steuerung'!K$9)","v":19973}]
[null,null,null,42,"01,Angehörige der regulären Streitkräfte",42,{"$f":"INDEX('4 Roh-Daten'!$D$66:$T$108,'4 Steuerung'!$F51,'4 Steuerung'!G$9)","v":2514},{"$f":"INDEX('4 Roh-Daten'!$D$13:$BS$55,'4 Steuerung'!$F51,'4 Steuerung'!H$9)","v":2515},{"$f":"INDEX('4 Roh-Daten'!$D$13:$BS$55,'4 Steuerung'!$F51,'4 Steuerung'!I$9)","v":1200},{"$f":"INDEX('4 Roh-Daten'!$D$13:$BS$55,'4 Steuerung'!$F51,'4 Steuerung'!J$9)","v":852},{"$f":"INDEX('4 Roh-Daten'!$D$13:$BS$55,'4 Steuerung'!$F51,'4 Steuerung'!K$9)","v":348}]
[null,null,null,43,"keine Angabe",43,{"$f":"INDEX('4 Roh-Daten'!$D$66:$T$108,'4 Steuerung'!$F52,'4 Steuerung'!G$9)","v":183456},{"$f":"INDEX('4 Roh-Daten'!$D$13:$BS$55,'4 Steuerung'!$F52,'4 Steuerung'!H$9)","v":183513},{"$f":"INDEX('4 Roh-Daten'!$D$13:$BS$55,'4 Steuerung'!$F52,'4 Steuerung'!I$9)","v":275878},{"$f":"INDEX('4 Roh-Daten'!$D$13:$BS$55,'4 Steuerung'!$F52,'4 Steuerung'!J$9)","v":194909},{"$f":"INDEX('4 Roh-Daten'!$D$13:$BS$55,'4 Steuerung'!$F52,'4 Steuerung'!K$9)","v":80969}]
[]
[]
[]
[]
[]
[]
[]
[]
[]
[null,null,null,null,null,null,"SvB","SvB",null,"GB","GB_ausschl.","GB_im_NJ"]
[null,null,null,null,"VOR REV","1. Vergleich",{"$f":"MATCH(G62,'4 Roh-Daten'!D63:T63,0)","v":1},null,null,{"$f":"MATCH(J62,'4 Roh-Daten'!D63:BS63,0)","v":18},{"$f":"MATCH(K62,'4 Roh-Daten'!D63:BS63,0)","v":35},{"$f":"MATCH(L62,'4 Roh-Daten'!D63:BS63,0)","v":52}]
[null,null,null,null,null,"2. Vergleich",{"$f":"MATCH(C6,'4 Roh-Daten'!D64:T64,0)","v":1}]
[null,null,null,null,null,"Zeilennum.",null,null,null,{"$f":"J63+G64-1","v":18},{"$f":"K63+G64-1","v":35},{"$f":"L63+G64-1","v":52}]
[null,null,null,null,null,null,{"$f":"G63+G64-1","v":1}]
[null,null,null,1,"Insgesamt",1,{"$f":"INDEX('4 Roh-Daten'!$D$66:$T$108,'4 Steuerung'!$F67,'4 Steuerung'!G$9)","v":31373691},null,null,{"$f":"INDEX('4 Roh-Daten'!$D$66:$BS$108,'4 Steuerung'!$F67,'4 Steuerung'!J$65)","v":7756094},{"$f":"INDEX('4 Roh-Daten'!$D$66:$BS$108,'4 Steuerung'!$F67,'4 Steuerung'!K$65)","v":5141164},{"$f":"INDEX('4 Roh-Daten'!$D$66:$BS$108,'4 Steuerung'!$F67,'4 Steuerung'!L$65)","v":2614930}]
[null,null,null,2,"1,Helfer",2,{"$f":"INDEX('4 Roh-Daten'!$D$66:$T$108,'4 Steuerung'!$F68,'4 Steuerung'!G$9)","v":4775436},null,null,{"$f":"INDEX('4 Roh-Daten'!$D$66:$BS$108,'4 Steuerung'!$F68,'4 Steuerung'!J$65)","v":3524364},{"$f":"INDEX('4 Roh-Daten'!$D$66:$BS$108,'4 Steuerung'!$F68,'4 Steuerung'!K$65)","v":2398261},{"$f":"INDEX('4 Roh-Daten'!$D$66:$BS$108,'4 Steuerung'!$F68,'4 Steuerung'!L$65)","v":1126103}]
[null,null,null,3,"2,Fachkraft",3,{"$f":"INDEX('4 Roh-Daten'!$D$66:$T$108,'4 Steuerung'!$F69,'4 Steuerung'!G$9)","v":18456459},null,null,{"$f":"INDEX('4 Roh-Daten'!$D$66:$BS$108,'4 Steuerung'!$F69,'4 Steuerung'!J$65)","v":3313663},{"$f":"INDEX('4 Roh-Daten'!$D$66:$BS$108,'4 Steuerung'!$F69,'4 Steuerung'!K$65)","v":2144234},{"$f":"INDEX('4 Roh-Daten'!$D$66:$BS$108,'4 Steuerung'!$F69,'4 Steuerung'!L$65)","v":1169429}]
[null,null,null,4,"3,Spezialist",4,{"$f":"INDEX('4 Roh-Daten'!$D$66:$T$108,'4 Steuerung'!$F70,'4 Steuerung'!G$9)","v":3979863},null,null,{"$f":"INDEX('4 Roh-Daten'!$D$66:$BS$108,'4 Steuerung'!$F70,'4 Steuerung'!J$65)","v":356305},{"$f":"INDEX('4 Roh-Daten'!$D$66:$BS$108,'4 Steuerung'!$F70,'4 Steuerung'!K$65)","v":199165},{"$f":"INDEX('4 Roh-Daten'!$D$66:$BS$108,'4 Steuerung'!$F70,'4 Steuerung'!L$65)","v":157140}]
[null,null,null,5,"4,Experte",5,{"$f":"INDEX('4 Roh-Daten'!$D$66:$T$108,'4 Steuerung'!$F71,'4 Steuerung'!G$9)","v":3978477},null,null,{"$f":"INDEX('4 Roh-Daten'!$D$66:$BS$108,'4 Steuerung'!$F71,'4 Steuerung'!J$65)","v":285138},{"$f":"INDEX('4 Roh-Daten'!$D$66:$BS$108,'4 Steuerung'!$F71,'4 Steuerung'!K$65)","v":203672},{"$f":"INDEX('4 Roh-Daten'!$D$66:$BS$108,'4 Steuerung'!$F71,'4 Steuerung'!L$65)","v":81466}]
[null,null,null,6,"11,Land-, Tier-, Forstwirtschaftsberufe",6,{"$f":"INDEX('4 Roh-Daten'!$D$66:$T$108,'4 Steuerung'!$F72,'4 Steuerung'!G$9)","v":230681},null,null,{"$f":"INDEX('4 Roh-Daten'!$D$66:$BS$108,'4 Steuerung'!$F72,'4 Steuerung'!J$65)","v":166761},{"$f":"INDEX('4 Roh-Daten'!$D$66:$BS$108,'4 Steuerung'!$F72,'4 Steuerung'!K$65)","v":130582},{"$f":"INDEX('4 Roh-Daten'!$D$66:$BS$108,'4 Steuerung'!$F72,'4 Steuerung'!L$65)","v":36179}]
[null,null,null,7,"12,Gartenbauberufe, Floristik",7,{"$f":"INDEX('4 Roh-Daten'!$D$66:$T$108,'4 Steuerung'!$F73,'4 Steuerung'!G$9)","v":262303},null,null,{"$f":"INDEX('4 Roh-Daten'!$D$66:$BS$108,'4 Steuerung'!$F73,'4 Steuerung'!J$65)","v":93580},{"$f":"INDEX('4 Roh-Daten'!$D$66:$BS$108,'4 Steuerung'!$F73,'4 Steuerung'!K$65)","v":66694},{"$f":"INDEX('4 Roh-Daten'!$D$66:$BS$108,'4 Steuerung'!$F73,'4 Steuerung'!L$65)","v":26886}]
[null,null,null,8,"21,Rohstoffgewinn,Glas-,Keramikverarbeitung",8,{"$f":"INDEX('4 Roh-Daten'!$D$66:$T$108,'4 Steuerung'!$F74,'4 Steuerung'!G$9)","v":124211},null,null,{"$f":"INDEX('4 Roh-Daten'!$D$66:$BS$108,'4 Steuerung'!$F74,'4 Steuerung'!J$65)","v":9624},{"$f":"INDEX('4 Roh-Daten'!$D$66:$BS$108,'4 Steuerung'!$F74,'4 Steuerung'!K$65)","v":6510},{"$f":"INDEX('4 Roh-Daten'!$D$66:$BS$108,'4 Steuerung'!$F74,'4 Steuerung'!L$65)","v":3114}]
[null,null,null,9,"22,Kunststoff- u. Holzherst.,-verarbeitung",9,{"$f":"INDEX('4 Roh-Daten'!$D$66:$T$108,'4 Steuerung'!$F75,'4 Steuerung'!G$9)","v":539918},null,null,{"$f":"INDEX('4 Roh-Daten'!$D$66:$BS$108,'4 Steuerung'!$F75,'4 Steuerung'!J$65)","v":49482},{"$f":"INDEX('4 Roh-Daten'!$D$66:$BS$108,'4 Steuerung'!$F75,'4 Steuerung'!K$65)","v":32475},{"$f":"INDEX('4 Roh-Daten'!$D$66:$BS$108,'4 Steuerung'!$F75,'4 Steuerung'!L$65)","v":17007}]
[null,null,null,10,"23,Papier-,Druckberufe, tech.Mediengestalt.",10,{"$f":"INDEX('4 Roh-Daten'!$D$66:$T$108,'4 Steuerung'!$F76,'4 Steuerung'!G$9)","v":278390},null,null,{"$f":"INDEX('4 Roh-Daten'!$D$66:$BS$108,'4 Steuerung'!$F76,'4 Steuerung'!J$65)","v":38548},{"$f":"INDEX('4 Roh-Daten'!$D$66:$BS$108,'4 Steuerung'!$F76,'4 Steuerung'!K$65)","v":26327},{"$f":"INDEX('4 Roh-Daten'!$D$66:$BS$108,'4 Steuerung'!$F76,'4 Steuerung'!L$65)","v":12221}]
[null,null,null,11,"24,Metallerzeugung,-bearbeitung, Metallbau",11,{"$f":"INDEX('4 Roh-Daten'!$D$66:$T$108,'4 Steuerung'!$F77,'4 Steuerung'!G$9)","v":1309110},null,null,{"$f":"INDEX('4 Roh-Daten'!$D$66:$BS$108,'4 Steuerung'!$F77,'4 Steuerung'!J$65)","v":90142},{"$f":"INDEX('4 Roh-Daten'!$D$66:$BS$108,'4 Steuerung'!$F77,'4 Steuerung'!K$65)","v":54857},{"$f":"INDEX('4 Roh-Daten'!$D$66:$BS$108,'4 Steuerung'!$F77,'4 Steuerung'!L$65)","v":35285}]
[null,null,null,12,"25,Maschinen- und Fahrzeugtechnikberufe",12,{"$f":"INDEX('4 Roh-Daten'!$D$66:$T$108,'4 Steuerung'!$F78,'4 Steuerung'!G$9)","v":1768795},null,null,{"$f":"INDEX('4 Roh-Daten'!$D$66:$BS$108,'4 Steuerung'!$F78,'4 Steuerung'!J$65)","v":101520},{"$f":"INDEX('4 Roh-Daten'!$D$66:$BS$108,'4 Steuerung'!$F78,'4 Steuerung'!K$65)","v":61171},{"$f":"INDEX('4 Roh-Daten'!$D$66:$BS$108,'4 Steuerung'!$F78,'4 Steuerung'!L$65)","v":40349}]
[null,null,null,13,"26,Mechatronik-, Energie- u. Elektroberufe",13,{"$f":"INDEX('4 Roh-Daten'!$D$66:$T$108,'4 Steuerung'!$F79,'4 Steuerung'!G$9)","v":1000676},null,null,{"$f":"INDEX('4 Roh-Daten'!$D$66:$BS$108,'4 Steuerung'!$F79,'4 Steuerung'!J$65)","v":59386},{"$f":"INDEX('4 Roh-Daten'!$D$66:$BS$108,'4 Steuerung'!$F79,'4 Steuerung'!K$65)","v":36703},{"$f":"INDEX('4 Roh-Daten'!$D$66:$BS$108,'4 Steuerung'!$F79,'4 Steuerung'!L$65)","v":22683}]
[null,null,null,14,"27,Techn.Entwickl.Konstr.Produktionssteuer.",14,{"$f":"INDEX('4 Roh-Daten'!$D$66:$T$108,'4 Steuerung'!$F80,'4 Steuerung'!G$9)","v":1047465},null,null,{"$f":"INDEX('4 Roh-Daten'!$D$66:$BS$108,'4 Steuerung'!$F80,'4 Steuerung'!J$65)","v":28970},{"$f":"INDEX('4 Roh-Daten'!$D$66:$BS$108,'4 Steuerung'!$F80,'4 Steuerung'!K$65)","v":18932},{"$f":"INDEX('4 Roh-Daten'!$D$66:$BS$108,'4 Steuerung'!$F80,'4 Steuerung'!L$65)","v":10038}]
[null,null,null,15,"28,Textil- und Lederberufe",15,{"$f":"INDEX('4 Roh-Daten'!$D$66:$T$108,'4 Steuerung'!$F81,'4 Steuerung'!G$9)","v":128685},null,null,{"$f":"INDEX('4 Roh-Daten'!$D$66:$BS$108,'4 Steuerung'!$F81,'4 Steuerung'!J$65)","v":27217},{"$f":"INDEX('4 Roh-Daten'!$D$66:$BS$108,'4 Steuerung'!$F81,'4 Steuerung'!K$65)","v":20496},{"$f":"INDEX('4 Roh-Daten'!$D$66:$BS$108,'4 Steuerung'!$F81,'4 Steuerung'!L$65)","v":6721}]
[null,null,null,16,"29,Lebensmittelherstellung u. -verarbeitung",16,{"$f":"INDEX('4 Roh-Daten'!$D$66:$T$108,'4 Steuerung'!$F82,'4 Steuerung'!G$9)","v":824589},null,null,{"$f":"INDEX('4 Roh-Daten'!$D$66:$BS$108,'4 Steuerung'!$F82,'4 Steuerung'!J$65)","v":260162},{"$f":"INDEX('4 Roh-Daten'!$D$66:$BS$108,'4 Steuerung'!$F82,'4 Steuerung'!K$65)","v":181784},{"$f":"INDEX('4 Roh-Daten'!$D$66:$BS$108,'4 Steuerung'!$F82,'4 Steuerung'!L$65)","v":78378}]
[null,null,null,17,"31,Bauplanung,Architektur,Vermessungsberufe",17,{"$f":"INDEX('4 Roh-Daten'!$D$66:$T$108,'4 Steuerung'!$F83,'4 Steuerung'!G$9)","v":245507},null,null,{"$f":"INDEX('4 Roh-Daten'!$D$66:$BS$108,'4 Steuerung'!$F83,'4 Steuerung'!J$65)","v":12661},{"$f":"INDEX('4 Roh-Daten'!$D$66:$BS$108,'4 Steuerung'!$F83,'4 Steuerung'!K$65)","v":8938},{"$f":"INDEX('4 Roh-Daten'!$D$66:$BS$108,'4 Steuerung'!$F83,'4 Steuerung'!L$65)","v":3723}]
[null,null,null,18,"32,Hoch- und Tiefbauberufe",18,{"$f":"INDEX('4 Roh-Daten'!$D$66:$T$108,'4 Steuerung'!$F84,'4 Steuerung'!G$9)","v":565859},null,null,{"$f":"INDEX('4 Roh-Daten'!$D$66:$BS$108,'4 Steuerung'!$F84,'4 Steuerung'!J$65)","v":69465},{"$f":"INDEX('4 Roh-Daten'!$D$66:$BS$108,'4 Steuerung'!$F84,'4 Steuerung'!K$65)","v":47074},{"$f":"INDEX('4 Roh-Daten'!$D$66:$BS$108,'4 Steuerung'!$F84,'4 Steuerung'!L$65)","v":22391}]
[null,null,null,19,"33,(Innen-)Ausbauberufe",19,{"$f":"INDEX('4 Roh-Daten'!$D$66:$T$108,'4 Steuerung'!$F85,'4 Steuerung'!G$9)","v":372423},null,null,{"$f":"INDEX('4 Roh-Daten'!$D$66:$BS$108,'4 Steuerung'!$F85,'4 Steuerung'!J$65)","v":38821},{"$f":"INDEX('4 Roh-Daten'!$D$66:$BS$108,'4 Steuerung'!$F85,'4 Steuerung'!K$65)","v":26204},{"$f":"INDEX('4 Roh-Daten'!$D$66:$BS$108,'4 Steuerung'!$F85,'4 Steuerung'!L$65)","v":12617}]
[null,null,null,20,"34,Gebäude- u. versorgungstechnische Berufe",20,{"$f":"INDEX('4 Roh-Daten'!$D$66:$T$108,'4 Steuerung'!$F86,'4 Steuerung'!G$9)","v":687816},null,null,{"$f":"INDEX('4 Roh-Daten'!$D$66:$BS$108,'4 Steuerung'!$F86,'4 Steuerung'!J$65)","v":305374},{"$f":"INDEX('4 Roh-Daten'!$D$66:$BS$108,'4 Steuerung'!$F86,'4 Steuerung'!K$65)","v":185543},{"$f":"INDEX('4 Roh-Daten'!$D$66:$BS$108,'4 Steuerung'!$F86,'4 Steuerung'!L$65)","v":119831}]
[null,null,null,21,"41,Mathematik-Biologie-Chemie-,Physikberufe",21,{"$f":"INDEX('4 Roh-Daten'!$D$66:$T$108,'4 Steuerung'!$F87,'4 Steuerung'!G$9)","v":389499},null,null,{"$f":"INDEX('4 Roh-Daten'!$D$66:$BS$108,'4 Steuerung'!$F87,'4 Steuerung'!J$65)","v":15322},{"$f":"INDEX('4 Roh-Daten'!$D$66:$BS$108,'4 Steuerung'!$F87,'4 Steuerung'!K$65)","v":11389},{"$f":"INDEX('4 Roh-Daten'!$D$66:$BS$108,'4 Steuerung'!$F87,'4 Steuerung'!L$65)","v":3933}]
[null,null,null,22,"42,Geologie-,Geografie-,Umweltschutzberufe",22,{"$f":"INDEX('4 Roh-Daten'!$D$66:$T$108,'4 Steuerung'!$F88,'4 Steuerung'!G$9)","v":40852},null,null,{"$f":"INDEX('4 Roh-Daten'!$D$66:$BS$108,'4 Steuerung'!$F88,'4 Steuerung'!J$65)","v":3198},{"$f":"INDEX('4 Roh-Daten'!$D$66:$BS$108,'4 Steuerung'!$F88,'4 Steuerung'!K$65)","v":2251},{"$f":"INDEX('4 Roh-Daten'!$D$66:$BS$108,'4 Steuerung'!$F88,'4 Steuerung'!L$65)","v":947}]
[null,null,null,23,"43,Informatik- und andere IKT-Berufe",23,{"$f":"INDEX('4 Roh-Daten'!$D$66:$T$108,'4 Steuerung'!$F89,'4 Steuerung'!G$9)","v":716163},null,null,{"$f":"INDEX('4 Roh-Daten'!$D$66:$BS$108,'4 Steuerung'!$F89,'4 Steuerung'!J$65)","v":26926},{"$f":"INDEX('4 Roh-Daten'!$D$66:$BS$108,'4 Steuerung'!$F89,'4 Steuerung'!K$65)","v":13424},{"$f":"INDEX('4 Roh-Daten'!$D$66:$BS$108,'4 Steuerung'!$F89,'4 Steuerung'!L$65)","v":13502}]
[null,null,null,24,"51,Verkehr, Logistik (außer Fahrzeugführ.)",24,{"$f":"INDEX('4 Roh-Daten'!$D$66:$T$108,'4 Steuerung'!$F90,'4 Steuerung'!G$9)","v":1908636},null,null,{"$f":"INDEX('4 Roh-Daten'!$D$66:$BS$108,'4 Steuerung'!$F90,'4 Steuerung'!J$65)","v":721491},{"$f":"INDEX('4 Roh-Daten'!$D$66:$BS$108,'4 Steuerung'!$F90,'4 Steuerung'!K$65)","v":522613},{"$f":"INDEX('4 Roh-Daten'!$D$66:$BS$108,'4 Steuerung'!$F90,'4 Steuerung'!L$65)","v":198878}]
[null,null,null,25,"52,Führer von Fahrzeug- u. Transportgeräten",25,{"$f":"INDEX('4 Roh-Daten'!$D$66:$T$108,'4 Steuerung'!$F91,'4 Steuerung'!G$9)","v":1076248},null,null,{"$f":"INDEX('4 Roh-Daten'!$D$66:$BS$108,'4 Steuerung'!$F91,'4 Steuerung'!J$65)","v":353526},{"$f":"INDEX('4 Roh-Daten'!$D$66:$BS$108,'4 Steuerung'!$F91,'4 Steuerung'!K$65)","v":241128},{"$f":"INDEX('4 Roh-Daten'!$D$66:$BS$108,'4 Steuerung'!$F91,'4 Steuerung'!L$65)","v":112398}]
[null,null,null,26,"53,Schutz-,Sicherheits-, Überwachungsberufe",26,{"$f":"INDEX('4 Roh-Daten'!$D$66:$T$108,'4 Steuerung'!$F92,'4 Steuerung'!G$9)","v":347289},null,null,{"$f":"INDEX('4 Roh-Daten'!$D$66:$BS$108,'4 Steuerung'!$F92,'4 Steuerung'!J$65)","v":139312},{"$f":"INDEX('4 Roh-Daten'!$D$66:$BS$108,'4 Steuerung'!$F92,'4 Steuerung'!K$65)","v":79445},{"$f":"INDEX('4 Roh-Daten'!$D$66:$BS$108,'4 Steuerung'!$F92,'4 Steuerung'!L$65)","v":59867}]
[null,null,null,27,"54,Reinigungsberufe",27,{"$f":"INDEX('4 Roh-Daten'!$D$66:$T$108,'4 Steuerung'!$F93,'4 Steuerung'!G$9)","v":820112},null,null,{"$f":"INDEX('4 Roh-Daten'!$D$66:$BS$108,'4 Steuerung'!$F93,'4 Steuerung'!J$65)","v":1139160},{"$f":"INDEX('4 Roh-Daten'!$D$66:$BS$108,'4 Steuerung'!$F93,'4 Steuerung'!K$65)","v":696808},{"$f":"INDEX('4 Roh-Daten'!$D$66:$BS$108,'4 Steuerung'!$F93,'4 Steuerung'!L$65)","v":442352}]
[null,null,null,28,"61,Einkaufs-, Vertriebs- und Handelsberufe",28,{"$f":"INDEX('4 Roh-Daten'!$D$66:$T$108,'4 Steuerung'!$F94,'4 Steuerung'!G$9)","v":935299},null,null,{"$f":"INDEX('4 Roh-Daten'!$D$66:$BS$108,'4 Steuerung'!$F94,'4 Steuerung'!J$65)","v":48843},{"$f":"INDEX('4 Roh-Daten'!$D$66:$BS$108,'4 Steuerung'!$F94,'4 Steuerung'!K$65)","v":31854},{"$f":"INDEX('4 Roh-Daten'!$D$66:$BS$108,'4 Steuerung'!$F94,'4 Steuerung'!L$65)","v":16989}]
[null,null,null,29,"62,Verkaufsberufe",29,{"$f":"INDEX('4 Roh-Daten'!$D$66:$T$108,'4 Steuerung'!$F95,'4 Steuerung'!G$9)","v":2077911},null,null,{"$f":"INDEX('4 Roh-Daten'!$D$66:$BS$108,'4 Steuerung'!$F95,'4 Steuerung'!J$65)","v":868073},{"$f":"INDEX('4 Roh-Daten'!$D$66:$BS$108,'4 Steuerung'!$F95,'4 Steuerung'!K$65)","v":664902},{"$f":"INDEX('4 Roh-Daten'!$D$66:$BS$108,'4 Steuerung'!$F95,'4 Steuerung'!L$65)","v":203171}]
[null,null,null,30,"63,Tourismus-, Hotel- und Gaststättenberufe",30,{"$f":"INDEX('4 Roh-Daten'!$D$66:$T$108,'4 Steuerung'!$F96,'4 Steuerung'!G$9)","v":761692},null,null,{"$f":"INDEX('4 Roh-Daten'!$D$66:$BS$108,'4 Steuerung'!$F96,'4 Steuerung'!J$65)","v":820933},{"$f":"INDEX('4 Roh-Daten'!$D$66:$BS$108,'4 Steuerung'!$F96,'4 Steuerung'!K$65)","v":512402},{"$f":"INDEX('4 Roh-Daten'!$D$66:$BS$108,'4 Steuerung'!$F96,'4 Steuerung'!L$65)","v":308531}]
[null,null,null,31,"71,Berufe Unternehmensführung,-organisation",31,{"$f":"INDEX('4 Roh-Daten'!$D$66:$T$108,'4 Steuerung'!$F97,'4 Steuerung'!G$9)","v":4024064},null,null,{"$f":"INDEX('4 Roh-Daten'!$D$66:$BS$108,'4 Steuerung'!$F97,'4 Steuerung'!J$65)","v":909525},{"$f":"INDEX('4 Roh-Daten'!$D$66:$BS$108,'4 Steuerung'!$F97,'4 Steuerung'!K$65)","v":561236},{"$f":"INDEX('4 Roh-Daten'!$D$66:$BS$108,'4 Steuerung'!$F97,'4 Steuerung'!L$65)","v":348289}]
[null,null,null,32,"72,Finanzdienstl.Rechnungsw.,Steuerberatung",32,{"$f":"INDEX('4 Roh-Daten'!$D$66:$T$108,'4 Steuerung'!$F98,'4 Steuerung'!G$9)","v":1376783},null,null,{"$f":"INDEX('4 Roh-Daten'!$D$66:$BS$108,'4 Steuerung'!$F98,'4 Steuerung'!J$65)","v":91552},{"$f":"INDEX('4 Roh-Daten'!$D$66:$BS$108,'4 Steuerung'!$F98,'4 Steuerung'!K$65)","v":46537},{"$f":"INDEX('4 Roh-Daten'!$D$66:$BS$108,'4 Steuerung'!$F98,'4 Steuerung'!L$65)","v":45015}]
[null,null,null,33,"73,Berufe in Recht und Verwaltung",33,{"$f":"INDEX('4 Roh-Daten'!$D$66:$T$108,'4 Steuerung'!$F99,'4 Steuerung'!G$9)","v":1008435},null,null,{"$f":"INDEX('4 Roh-Daten'!$D$66:$BS$108,'4 Steuerung'!$F99,'4 Steuerung'!J$65)","v":66698},{"$f":"INDEX('4 Roh-Daten'!$D$66:$BS$108,'4 Steuerung'!$F99,'4 Steuerung'!K$65)","v":42749},{"$f":"INDEX('4 Roh-Daten'!$D$66:$BS$108,'4 Steuerung'!$F99,'4 Steuerung'!L$65)","v":23949}]
[null,null,null,34,"81,Medizinische Gesundheitsberufe",34,{"$f":"INDEX('4 Roh-Daten'!$D$66:$T$108,'4 Steuerung'!$F100,'4 Steuerung'!G$9)","v":2398083},null,null,{"$f":"INDEX('4 Roh-Daten'!$D$66:$BS$108,'4 Steuerung'!$F100,'4 Steuerung'!J$65)","v":285459},{"$f":"INDEX('4 Roh-Daten'!$D$66:$BS$108,'4 Steuerung'!$F100,'4 Steuerung'!K$65)","v":159938},{"$f":"INDEX('4 Roh-Daten'!$D$66:$BS$108,'4 Steuerung'!$F100,'4 Steuerung'!L$65)","v":125521}]
[null,null,null,35,"82,Nichtmed.Gesundheit,Körperpfl.,Medizint.",35,{"$f":"INDEX('4 Roh-Daten'!$D$66:$T$108,'4 Steuerung'!$F101,'4 Steuerung'!G$9)","v":858356},null,null,{"$f":"INDEX('4 Roh-Daten'!$D$66:$BS$108,'4 Steuerung'!$F101,'4 Steuerung'!J$65)","v":145574},{"$f":"INDEX('4 Roh-Daten'!$D$66:$BS$108,'4 Steuerung'!$F101,'4 Steuerung'!K$65)","v":99284},{"$f":"INDEX('4 Roh-Daten'!$D$66:$BS$108,'4 Steuerung'!$F101,'4 Steuerung'!L$65)","v":46290}]
[null,null,null,36,"83,Erziehung,soz.,hauswirt.Berufe,Theologie",36,{"$f":"INDEX('4 Roh-Daten'!$D$66:$T$108,'4 Steuerung'!$F102,'4 Steuerung'!G$9)","v":1624280},null,null,{"$f":"INDEX('4 Roh-Daten'!$D$66:$BS$108,'4 Steuerung'!$F102,'4 Steuerung'!J$65)","v":206650},{"$f":"INDEX('4 Roh-Daten'!$D$66:$BS$108,'4 Steuerung'!$F102,'4 Steuerung'!K$65)","v":154636},{"$f":"INDEX('4 Roh-Daten'!$D$66:$BS$108,'4 Steuerung'!$F102,'4 Steuerung'!L$65)","v":52014}]
[null,null,null,37,"84,Lehrende und ausbildende Berufe",37,{"$f":"INDEX('4 Roh-Daten'!$D$66:$T$108,'4 Steuerung'!$F103,'4 Steuerung'!G$9)","v":617060},null,null,{"$f":"INDEX('4 Roh-Daten'!$D$66:$BS$108,'4 Steuerung'!$F103,'4 Steuerung'!J$65)","v":177506},{"$f":"INDEX('4 Roh-Daten'!$D$66:$BS$108,'4 Steuerung'!$F103,'4 Steuerung'!K$65)","v":130756},{"$f":"INDEX('4 Roh-Daten'!$D$66:$BS$108,'4 Steuerung'!$F103,'4 Steuerung'!L$65)","v":46750}]
[null,null,null,38,"91,Geistes-Gesellschafts-Wirtschaftswissen.",38,{"$f":"INDEX('4 Roh-Daten'!$D$66:$T$108,'4 Steuerung'!$F104,'4 Steuerung'!G$9)","v":83032},null,null,{"$f":"INDEX('4 Roh-Daten'!$D$66:$BS$108,'4 Steuerung'!$F104,'4 Steuerung'!J$65)","v":15192},{"$f":"INDEX('4 Roh-Daten'!$D$66:$BS$108,'4 Steuerung'!$F104,'4 Steuerung'!K$65)","v":11430},{"$f":"INDEX('4 Roh-Daten'!$D$66:$BS$108,'4 Steuerung'!$F104,'4 Steuerung'!L$65)","v":3762}]
[null,null,null,39,"92,Werbung,Marketing,kaufm,red.Medienberufe",39,{"$f":"INDEX('4 Roh-Daten'!$D$66:$T$108,'4 Steuerung'!$F105,'4 Steuerung'!G$9)","v":557635},null,null,{"$f":"INDEX('4 Roh-Daten'!$D$66:$BS$108,'4 Steuerung'!$F105,'4 Steuerung'!J$65)","v":33630},{"$f":"INDEX('4 Roh-Daten'!$D$66:$BS$108,'4 Steuerung'!$F105,'4 Steuerung'!K$65)","v":22245},{"$f":"INDEX('4 Roh-Daten'!$D$66:$BS$108,'4 Steuerung'!$F105,'4 Steuerung'!L$65)","v":11385}]
[null,null,null,40,"93,Produktdesign, Kunsthandwerk",40,{"$f":"INDEX('4 Roh-Daten'!$D$66:$T$108,'4 Steuerung'!$F106,'4 Steuerung'!G$9)","v":63342},null,null,{"$f":"INDEX('4 Roh-Daten'!$D$66:$BS$108,'4 Steuerung'!$F106,'4 Steuerung'!J$65)","v":9562},{"$f":"INDEX('4 Roh-Daten'!$D$66:$BS$108,'4 Steuerung'!$F106,'4 Steuerung'!K$65)","v":6696},{"$f":"INDEX('4 Roh-Daten'!$D$66:$BS$108,'4 Steuerung'!$F106,'4 Steuerung'!L$65)","v":2866}]
[null,null,null,41,"94,Darstellende, unterhaltende Berufe",41,{"$f":"INDEX('4 Roh-Daten'!$D$66:$T$108,'4 Steuerung'!$F107,'4 Steuerung'!G$9)","v":116522},null,null,{"$f":"INDEX('4 Roh-Daten'!$D$66:$BS$108,'4 Steuerung'!$F107,'4 Steuerung'!J$65)","v":48425},{"$f":"INDEX('4 Roh-Daten'!$D$66:$BS$108,'4 Steuerung'!$F107,'4 Steuerung'!K$65)","v":28467},{"$f":"INDEX('4 Roh-Daten'!$D$66:$BS$108,'4 Steuerung'!$F107,'4 Steuerung'!L$65)","v":19958}]
[null,null,null,42,"01,Angehörige der regulären Streitkräfte",42,{"$f":"INDEX('4 Roh-Daten'!$D$66:$T$108,'4 Steuerung'!$F108,'4 Steuerung'!G$9)","v":2514},null,null,{"$f":"INDEX('4 Roh-Daten'!$D$66:$BS$108,'4 Steuerung'!$F108,'4 Steuerung'!J$65)","v":1200},{"$f":"INDEX('4 Roh-Daten'!$D$66:$BS$108,'4 Steuerung'!$F108,'4 Steuerung'!K$65)","v":852},{"$f":"INDEX('4 Roh-Daten'!$D$66:$BS$108,'4 Steuerung'!$F108,'4 Steuerung'!L$65)","v":348}]
[null,null,null,43,"keine Angabe",43,{"$f":"INDEX('4 Roh-Daten'!$D$66:$T$108,'4 Steuerung'!$F109,'4 Steuerung'!G$9)","v":183456},null,null,{"$f":"INDEX('4 Roh-Daten'!$D$66:$BS$108,'4 Steuerung'!$F109,'4 Steuerung'!J$65)","v":276624},{"$f":"INDEX('4 Roh-Daten'!$D$66:$BS$108,'4 Steuerung'!$F109,'4 Steuerung'!K$65)","v":195832},{"$f":"INDEX('4 Roh-Daten'!$D$66:$BS$108,'4 Steuerung'!$F109,'4 Steuerung'!L$65)","v":80792}]

{"sheet":"5","index":21,"n_rows":434,"n_cols":17,"rows_kept":434,"cut":false,"hidden":false,"merged":[[2,0,2,8],[8,1,9,1],[8,2,9,2],[8,3,8,4],[6,0,10,0],[6,1,7,4],[6,5,7,8],[8,5,9,5],[8,6,9,6],[8,7,8,8],[6,9,6,16],[7,9,7,12],[7,13,7,16],[8,9,9,9],[8,10,9,10],[8,11,8,12],[8,13,9,13],[8,14,9,14],[8,15,8,16]]}
[null,null,null,null,null,null,null,null,null,null,null,null,null,null,null,null,"Beschäftigungsstatistik"]
[]
["Sozialversicherungspflichtig Beschäftigte und geringfügig Beschäftigte"]
["Deutschland nach Bundesländern und Kreisen/kreisfreien Städten (Arbeitsort)"]
["Stichtag: 30.06.2016"]
[]
["Regionen","sozialversicherungspflichtig Beschäftigte",null,null,null,"geringfügig Beschäftigte (GB)",null,null,null,"davon"]
[null,null,null,null,null,null,null,null,null,"ausschließlich GB",null,null,null,"im Nebenjob GB"]
[null," nach Revision"," vor Revision","Veränderung (Spalte 1 zu 2)",null," nach Revision"," vor Revision","Veränderung (Spalte 5 zu 6)",null," nach Revision"," vor Revision","Veränderung (Spalte 9 zu 10)",null," nach Revision"," vor Revision","Veränderung (Spalte 13 zu 14)"]
[null,null,null,"absolut","in %",null,null,"absolut","in %",null,null,"absolut","in %",null,null,"absolut","in %"]
[null,1,2,3,4,5,6,7,8,9,10,11,12,13,14,15,16]
["Deutschland",31443318,31373691,{"$f":"B12-C12","v":69627},{"$f":"(D12*100)/C12","v":0.22192798418267076},7763218,7756094,{"$f":"F12-G12","v":7124},{"$f":"(H12*100)/G12","v":9.1850356635698335E-2},5141533,5141164,{"$f":"J12-K12","v":369},{"$f":"(L12*100)/K12","v":7.177362947379232E-3},2621685,2614930,{"$f":"N12-O12","v":6755},{"$f":"(P12*100)/O12","v":0.25832431460880406}]
["davon nach Ländern"]
["       01 Schleswig-Holstein",940613,939248,{"$f":"B14-C14","v":1365},{"$f":"(D14*100)/C14","v":0.14532902918079144},275474,275183,{"$f":"F14-G14","v":291},{"$f":"(H14*100)/G14","v":0.10574781145637631},186563,186447,{"$f":"J14-K14","v":116},{"$f":"(L14*100)/K14","v":6.2216072127736034E-2},88911,88736,{"$f":"N14-O14","v":175},{"$f":"(P14*100)/O14","v":0.19721420843851425}]
["       02 Hamburg",933846,932219,1627,0.17452980469181598,174263,174175,{"$f":"F15-G15","v":88},5.0523898378068033E-2,106917,106889,{"$f":"J15-K15","v":28},2.6195398965281742E-2,67346,67286,{"$f":"N15-O15","v":60},8.9171595874327492E-2]
["       03 Niedersachsen",2836091,2820257,15834,0.56143819517157478,792707,792020,687,8.6740233832478975E-2,544874,545652,-778,-0.14258171875114542,247833,246368,1465,0.59463891414469416]
["       04 Bremen",319681,319041,640,0.2006011766512768,71241,71170,71,9.9761135309821558E-2,47677,47675,2,4.195070791819612E-3,23564,23495,69,0.29367950627793149]
["       05 Nordrhein-Westfalen",6549350,6532721,16629,0.25454936771369846,1835199,1833161,2038,0.11117408672778878,1272586,1272081,505,3.9698729876477989E-2,562613,561080,1533,0.27322306979396876]
["       06 Hessen",2462605,2457858,4747,0.19313564900820146,602787,602198,589,9.7808362033749693E-2,394720,394583,137,3.4720198285278385E-2,208067,207615,452,0.2177106663776702]
["       07 Rheinland-Pfalz",1364682,1361894,2788,0.20471490439050322,417903,417486,417,9.9883588910765875E-2,282822,282736,86,3.0417067511742404E-2,135081,134750,331,0.24564007421150277]
["       08 Baden-Württemberg",4458706,4451187,7519,0.16892123381920374,1223207,1222120,1087,8.8943802572578792E-2,746314,746390,-76,-1.0182344350808559E-2,476893,475730,1163,0.24446639900784059]
["       09 Bayern",5317529,5308747,8782,0.16542509936902247,1358722,1357589,1133,8.3456775209581099E-2,820010,819989,21,2.5610099647678203E-3,538712,537600,1112,0.20684523809523808]
["       10 Saarland",379591,378477,1114,0.29433756872940758,98481,98330,151,0.15356452761110545,70006,69948,58,8.2918739635157543E-2,28475,28382,93,0.32767246846592912]
["       11 Berlin",1367680,1365639,2041,0.14945384541595547,217952,217838,114,{"$f":"(H24*100)/G24","v":5.2332467246302299E-2},152868,152822,46,{"$f":"(L24*100)/K24","v":3.0100378217795869E-2},65084,65016,68,{"$f":"(P24*100)/O24","v":0.1045896394733604}]
["       12 Brandenburg",818474,816778,1696,0.20764516184324258,134126,134078,48,{"$f":"(H25*100)/G25","v":3.5800056683423079E-2},99132,99115,17,{"$f":"(L25*100)/K25","v":1.7151793371336325E-2},34994,34963,31,{"$f":"(P25*100)/O25","v":8.8665160312330182E-2}]
["       13 Mecklenburg-Vorpommern",560372,559531,841,0.15030445140662449,93184,93120,64,{"$f":"(H26*100)/G26","v":6.8728522336769765E-2},71588,71538,50,{"$f":"(L26*100)/K26","v":6.9892924040370147E-2},21596,21582,14,{"$f":"(P26*100)/O26","v":6.4868872208321743E-2}]
["       14 Sachsen",1555300,1553509,1791,0.11528739131862126,233512,233364,148,6.3420236197528318E-2,172186,172106,80,4.6482981418428181E-2,61326,61258,68,0.11100590943223743]
["       15 Sachsen-Anhalt",783900,782541,1359,0.17366502202440512,110120,110006,114,0.10363071105212443,83977,83919,58,6.9114264945959791E-2,26143,26087,56,0.21466630888948518]
["       16 Thüringen",793363,792509,854,0.10775902860409156,122484,122399,85,6.9445011805652004E-2,88050,88028,22,2.4992047984732129E-2,34434,34371,63,0.18329405603561141]
["        keine Zuordnung / keine Angabe",1535,1535,0,null,1856,1857,-1,null,1243,1246,-3,null,613,611,2]
["davon nach Kreisen und kreisfreien Städten"]
["     01001 Flensburg, Stadt",41499,41453,{"$f":"B32-C32","v":46},{"$f":"(D32*100)/C32","v":0.11096904928473211},10994,10981,13,0.11838630361533559,8004,7999,5,6.250781347668459E-2,2990,2982,8,0.2682763246143528]
["     01002 Kiel, Landeshauptstadt",119607,119463,144,0.12053941387710003,29246,29251,-5,-1.7093432703155449E-2,21239,21240,-1,-4.7080979284369112E-3,8007,8011,-4,-4.9931344401448009E-2]
["     01003 Lübeck, Hansestadt",92785,92547,238,0.25716662884804475,20197,20172,25,0.12393416617093,13995,13981,14,0.10013589871969102,6202,6191,11,0.17767727346147633]
["     01004 Neumünster, Stadt",37485,37441,44,0.11751822867978953,8548,8539,9,0.10539875863684273,5978,5970,8,0.13400335008375208,2570,2569,1,3.8925652004671081E-2]
["     01051 Dithmarschen",39067,39035,32,8.1977712309465864E-2,12812,12805,7,5.4666146036704409E-2,9052,9047,5,5.5266939316900632E-2,3760,3758,2,5.3219797764768491E-2]
["     01053 Herzogtum Lauenburg",45562,45468,94,0.20673880531362718,14759,14748,11,7.4586384594521285E-2,10017,10014,3,2.9958058717795086E-2,4742,4734,8,0.16899028305872413]
["     01054 Nordfriesland",57758,57711,47,8.1440280015941502E-2,18040,18018,22,0.1221001221001221,11462,11461,1,8.7252421254689818E-3,6578,6557,21,0.32026841543388745]
["     01055 Ostholstein",58904,58814,90,0.1530247900159826,20934,20924,10,4.7792009176065763E-2,15008,15009,-1,-6.6626690652275304E-3,5926,5915,11,0.18596787827557057]
["     01056 Pinneberg",88393,88260,133,0.15069113981418536,27181,27145,36,0.13262110885982686,17142,17125,17,9.9270072992700728E-2,10039,10020,19,0.18962075848303392]
["     01057 Plön",26063,26039,24,9.2169438150466604E-2,11304,11292,12,0.10626992561105207,7755,7753,2,2.5796465884173867E-2,3549,3539,10,0.28256569652444191]
["     01058 Rendsburg-Eckernförde",74242,74166,76,0.10247283121646038,24300,24240,60,0.24752475247524752,16818,16768,50,0.29818702290076338,7482,7472,10,0.13383297644539616]
["     01059 Schleswig-Flensburg",53206,53115,91,0.17132636731620068,17997,17961,36,0.2004342742608986,12209,12192,17,0.13943569553805774,5788,5769,19,0.32934650719362107]
["     01060 Segeberg",87698,87576,122,0.13930757285100942,25689,25674,15,5.8424865622809068E-2,16090,16096,-6,-3.7276341948310136E-2,9599,9578,21,0.21925245353936104]
["     01061 Steinburg",36631,36578,53,0.1448958390289245,11435,11418,17,0.1488877211420564,7623,7616,7,9.1911764705882359E-2,3812,3802,10,0.26301946344029459]
["     01062 Stormarn",81713,81582,131,0.1605746365619867,22038,22015,23,0.10447422212128095,14171,14176,-5,-3.5270880361173818E-2,7867,7839,28,0.35718841688990943]
["     02000 Hamburg, Freie und Hansestadt",933846,932219,1627,0.17452980469181598,174263,174175,88,5.0523898378068033E-2,106917,106889,28,2.6195398965281742E-2,67346,67286,60,8.9171595874327492E-2]
["     03101 Braunschweig, Stadt",125138,124514,624,0.50114846523282519,24845,24828,17,6.8471081037538267E-2,17292,17324,-32,-0.18471484645578387,7553,7504,49,0.65298507462686572]
["     03102 Salzgitter, Stadt",47399,46798,601,1.2842429163639473,6662,6661,1,1.5012760846719712E-2,4726,4737,-11,-0.23221448173949757,1936,1924,12,0.62370062370062374]
["     03103 Wolfsburg, Stadt",120154,119848,306,0.25532340965222616,11516,11516,0,0,8040,8045,-5,-6.2150403977625855E-2,3476,3471,5,0.14405070584845867]
["     03151 Gifhorn",40712,40490,222,0.54828352679673997,11333,11314,19,0.16793353367509281,8164,8162,2,2.4503798088703749E-2,3169,3152,17,0.53934010152284262]
["     03152 Göttingen",100859,100433,426,0.42416337259665648,25407,25380,27,0.10638297872340426,17960,17977,-17,-9.4565277855036989E-2,7447,7403,44,0.59435364041604755]
["     03153 Goslar",43807,43575,232,{"$f":"(D53*100)/C53","v":0.53241537578886977},11606,11602,4,3.4476814342354764E-2,8096,8105,-9,-0.11104256631708821,3510,3497,13,0.37174721189591076]
["     03154 Helmstedt",21624,21543,81,0.37599220164322517,5231,5221,10,0.1915341888527102,3876,3875,1,2.5806451612903226E-2,1355,1346,9,0.66864784546805345]
["     03155 Northeim",44149,43938,211,0.48022213118485141,11234,11225,9,8.0178173719376397E-2,7842,7859,-17,-0.21631250795266574,3392,3366,26,0.77243018419489007]
["     03156 Osterode am Harz",25336,25129,207,0.82374945282343115,5641,5644,-3,-5.315379163713678E-2,4021,4032,-11,-0.27281746031746029,1620,1612,8,0.49627791563275436]
["     03157 Peine",30792,30582,210,0.68667843829703745,10322,10309,13,0.12610340479192939,7074,7081,-7,-9.8856093772066098E-2,3248,3228,20,0.61957868649318459]
["     03158 Wolfenbüttel",23933,23817,116,0.48704706722089264,7886,7861,25,0.31802569647627527,5541,5540,1,1.8050541516245487E-2,2345,2321,24,1.034037052994399]
["     03241 Region Hannover",490559,487986,2573,0.52726922493678097,112431,112321,110,9.7933601018509453E-2,74732,74825,-93,-0.12429001002338791,37699,37496,203,0.54139108171538297]
["     03251 Diepholz",66667,66177,490,0.74043852093627693,25955,25928,27,0.10413452638074669,17234,17263,-29,-0.16798934136592714,8721,8665,56,0.64627813040969417]
["     03252 Hameln-Pyrmont",50590,50419,171,0.33915785715702412,12847,12836,11,8.5696478653786226E-2,8753,8756,-3,-3.4262220191868434E-2,4094,4080,14,0.34313725490196079]
["     03254 Hildesheim",88129,87642,487,0.5556696561009562,24650,24623,27,0.10965357592494822,17495,17506,-11,-6.2835599223123498E-2,7155,7117,38,0.53393283686946746]
["     03255 Holzminden",21273,21174,99,0.46755454803060359,5854,5847,7,0.11971951428082778,4304,4303,1,2.3239600278875203E-2,1550,1544,6,0.38860103626943004]
["     03256 Nienburg (Weser)",37783,37499,284,0.75735352942745138,11836,11819,17,0.1438361959556646,8438,8445,-7,-8.2889283599763178E-2,3398,3374,24,0.71132187314759932]
["     03257 Schaumburg",43617,43368,249,0.57415605976757056,12857,12854,3,2.3339038431616617E-2,8986,9010,-24,-0.26637069922308548,3871,3844,27,0.70239334027055156]
["     03351 Celle",55630,55406,224,0.40428834422264737,15209,15180,29,0.19104084321475626,10312,10306,6,5.8218513487288959E-2,4897,4874,23,0.4718916700861715]
["     03352 Cuxhaven",44489,44176,313,0.7085295182904745,18130,18113,17,9.3855242091315627E-2,12437,12455,-18,-0.14452027298273787,5693,5658,35,0.61859314245316366]
["     03353 Harburg",58812,58508,304,0.51958706501674989,22168,22131,37,0.16718629976051691,14790,14804,-14,-9.4569035395838968E-2,7378,7327,51,0.69605568445475641]
["     03354 Lüchow-Dannenberg",13583,13484,99,0.73420350044497185,3786,3785,1,2.6420079260237782E-2,2643,2648,-5,-0.18882175226586104,1143,1137,6,0.52770448548812665]
["     03355 Lüneburg",55064,54675,389,0.71147690900777316,15443,15427,16,0.10371426719388085,10372,10392,-20,-0.19245573518090839,5071,5035,36,0.71499503475670312]
["     03356 Osterholz",24698,24535,163,0.66435704096189119,9718,9704,14,0.14427040395713109,6556,6557,-1,-1.5250876925423212E-2,3162,3147,15,0.47664442326024786]
["     03357 Rotenburg (Wümme)",54086,53747,339,0.63073287811412726,17728,17705,23,0.12990680598700932,11509,11530,-21,-0.18213356461405031,6219,6175,44,0.71255060728744934]
["     03358 Heidekreis",45269,44930,339,0.75450701090585359,14414,14409,5,3.4700534388229579E-2,9906,9938,-32,-0.32199637754075267,4508,4471,37,0.82755535674345782]
["     03359 Stade",59723,59302,421,0.70992546625746178,20472,20455,17,8.3109264238572469E-2,14403,14430,-27,-0.18711018711018712,6069,6025,44,0.73029045643153523]
["     03360 Uelzen",29010,28798,212,0.73616223348843668,7672,7667,5,6.5214555888874398E-2,5137,5152,-15,-0.29114906832298137,2535,2515,20,0.79522862823061635]
["     03361 Verden",44772,44567,205,0.45998160073597055,12827,12814,13,0.10145153738098954,8307,8313,-6,-7.2176109707686759E-2,4520,4501,19,0.4221284159075761]
["     03401 Delmenhorst, Stadt",20044,19983,61,0.30525947054996749,9826,9827,-1,-1.0176045588684237E-2,6829,6834,-5,-7.3163593795727247E-2,2997,2993,4,0.13364517206815904]
["     03402 Emden, Stadt",33821,33705,116,0.34416258715324138,7257,7247,10,0.13798813302056023,5362,5362,0,0,1895,1885,10,0.5305039787798409]
["     03403 Oldenburg (Oldenburg), Stadt",80091,79595,496,0.62315472077391798,20848,20825,{"$f":"F79-G79","v":23},0.11044417767106843,14237,14238,{"$f":"J79-K79","v":-1},-7.0234583508919793E-3,6611,6587,{"$f":"N79-O79","v":24},0.36435403066646427]
["     03404 Osnabrück, Stadt",90637,90154,483,0.53574993899327816,26893,26873,20,7.4424143192051498E-2,17954,17990,-36,-0.2001111728738188,8939,8883,56,0.63041765169424746]
["     03405 Wilhelmshaven, Stadt",29637,29446,191,0.64864497724648507,7717,7706,11,0.14274591227614847,5414,5420,-6,-0.11070110701107011,2303,2286,17,0.74365704286964129]
["     03451 Ammerland",40986,40786,200,0.4903643407051439,12039,12028,11,9.145327569005654E-2,7943,7954,-11,-0.13829519738496354,4096,4074,22,0.54000981836033379]
["     03452 Aurich",58406,58133,273,0.46961278447697519,17640,17643,-3,-1.7003910899506886E-2,13270,13290,-20,-0.15048908954100829,4370,4353,17,0.39053526303698599]
["     03453 Cloppenburg",59768,59534,234,0.39305270937615483,20948,20934,14,6.6876851055698863E-2,15021,15029,-8,-5.323042118570763E-2,5927,5905,22,0.37256562235393736]
["     03454 Emsland",128707,127859,848,0.66323058994673822,39413,39398,15,3.8072998629372051E-2,28053,28132,-79,-0.28081899616095551,11360,11266,94,0.83436889756790344]
["     03455 Friesland",27788,27674,114,0.41193900411939005,8840,8826,14,0.1586222524359846,6250,6252,-2,-3.1989763275751759E-2,2590,2574,16,0.62160062160062157]
["     03456 Grafschaft Bentheim",46850,46541,309,0.66393072774542872,18816,18806,10,5.3174518770605125E-2,12642,12689,-47,-0.37039955867286628,6174,6117,57,0.9318293281020108]
["     03457 Leer",45524,45242,282,0.6233146191591884,17905,17897,8,4.4700229088674076E-2,13449,13471,-22,-0.16331378516813896,4456,4426,30,0.67781292363307732]
["     03458 Oldenburg",33708,33504,204,0.60888252148997135,11915,11901,14,0.11763717334677758,7503,7507,-4,-5.3283601971493275E-2,4412,4394,18,0.4096495220755576]
["     03459 Osnabrück",120448,119729,719,0.60052284743044704,39769,39744,25,{"$f":"(H90*100)/G90","v":6.2902576489533013E-2},26160,26217,-57,{"$f":"(L90*100)/K90","v":-0.2174161803410001},13609,13527,82,{"$f":"(P90*100)/O90","v":0.60619501737266213}]
["     03460 Vechta",68142,67628,514,0.76004022002720761,23927,23916,11,4.5994313430339523E-2,16618,16662,-44,-0.26407394070339696,7309,7254,55,0.75820237110559696]
["     03461 Wesermarsch",28604,28497,107,0.37547812050391272,7599,7592,7,9.2202318229715488E-2,5214,5214,0,0,2385,2378,7,0.29436501261564341]
["     03462 Wittmund",15273,15187,86,0.56627378679133467,5675,5678,-3,-5.2835505459668898E-2,4009,4021,-12,-0.29843322556577967,1666,1657,9,0.54315027157513573]
["     04011 Bremen, Stadt",267988,267500,488,0.18242990654205607,60456,60396,60,9.9344327438903243E-2,40054,40055,-1,-2.4965672200724003E-3,20402,20341,61,0.29988692787965193]
["     04012 Bremerhaven, Stadt",51693,51541,152,0.29491084767466674,10785,10774,11,0.10209764247261927,7623,7620,3,3.937007874015748E-2,3162,3154,8,0.2536461636017755]
["     05111 Düsseldorf, Stadt",399679,398524,{"$f":"B96-C96","v":1155},0.28981943371039132,75148,75109,39,5.1924536340518447E-2,49119,49140,-21,-4.2735042735042736E-2,26029,25969,60,0.23104470715083369]
["     05112 Duisburg, Stadt",166250,165788,462,0.27866914372572199,37212,37129,83,0.22354493791914676,27518,27467,51,0.18567735828448684,9694,9662,32,0.3311943696957152]
["     05113 Essen, Stadt",238964,238374,590,0.24751021504023091,60643,60551,92,0.1519380357054384,43784,43724,60,0.13722440764797364,16859,16827,32,0.19017055922030071]
["     05114 Krefeld, Stadt",87513,87279,234,0.26810572990066339,20973,20927,46,0.21981172647775601,14252,14250,2,1.4035087719298246E-2,6721,6677,44,0.65897858319604607]
["     05116 Mönchengladbach, Stadt",93863,93725,138,0.14723926380368099,28303,28281,22,7.7790742901594712E-2,19520,19509,11,5.6384232918140348E-2,8783,8772,11,0.12539899680802555]
["     05117 Mülheim an der Ruhr, Stadt",58992,58815,177,0.30094363682733999,15645,15644,1,6.3922270519048835E-3,11144,11140,4,3.5906642728904849E-2,4501,4504,-3,-6.660746003552398E-2]
["     05119 Oberhausen, Stadt",63973,63813,160,0.25073260934292385,20330,20304,26,0.128053585500394,14956,14944,12,8.0299785867237683E-2,5374,5360,14,0.26119402985074625]
["     05120 Remscheid, Stadt",43541,43460,81,0.18637827887712841,11809,11788,21,0.17814726840855108,7796,7793,3,3.8496086231233156E-2,4013,3995,18,0.45056320400500627]
["     05122 Solingen, Klingenstadt",50977,50899,78,0.15324466099530443,13990,13985,5,3.5752592062924561E-2,9005,9000,5,5.5555555555555552E-2,4985,4985,0,0]
["     05124 Wuppertal, Stadt",120589,120303,286,0.23773305736349051,33266,33212,54,0.16259183427676743,22957,22925,32,0.1395856052344602,10309,10287,22,0.21386215611937398]
["     05154 Kleve",96230,96046,184,0.19157487037461216,34610,34563,47,0.13598356624135635,24540,24510,30,0.12239902080783353,10070,10053,17,0.16910375012434098]
["     05158 Mettmann",180077,179669,408,0.22708424936967422,46623,46568,55,0.11810685449235526,30551,30539,12,3.929401748583778E-2,16072,16029,43,0.26826377191340695]
["     05162 Rhein-Kreis Neuss",143706,143395,311,0.21688343387147391,37932,37887,45,0.1187742497426558,25587,25580,7,2.7365129007036748E-2,12345,12307,38,0.30876736816445927]
["     05166 Viersen",86786,86541,245,0.28310280676211275,29460,29388,72,0.24499795835034707,20202,20169,33,0.16361743269373791,9258,9219,39,0.4230393752033843]
["     05170 Wesel",129986,129627,359,0.27694847524049776,48113,48031,82,0.17072307468093523,35509,35467,42,0.11841993966222122,12604,12564,40,0.31836994587710921]
["     05314 Bonn, Stadt",169840,169666,174,0.10255443046927493,38992,38938,54,0.1386820072936463,26717,26690,27,0.10116148370176097,12275,12248,27,0.22044415414761595]
["     05315 Köln, Stadt",538112,536811,1301,0.24235717971502074,122357,122235,122,9.9807747371865665E-2,82099,82105,-6,-7.3077157298581082E-3,40258,40130,128,0.31896336905058559]
["     05316 Leverkusen, Stadt",62813,62692,121,0.19300708224334842,12755,12746,9,7.0610387572571792E-2,8690,8678,12,0.13828070984097718,4065,4068,-3,-7.3746312684365781E-2]
["     05334 Städteregion Aachen",204530,204201,329,0.1611157633899932,66189,66107,82,0.12404132693965843,48082,48045,37,7.7011135393901545E-2,18107,18062,45,0.24914184475694828]
["     05358 Düren",81177,81101,76,9.3710311833392929E-2,28685,28648,37,0.12915386763473891,20147,20125,22,0.1093167701863354,8538,8523,15,0.17599436818021824]
["     05362 Rhein-Erft-Kreis",135049,134748,301,0.22337993884881407,43623,43562,61,0.1400303016390432,28847,28822,25,8.6739296370827834E-2,14776,14740,36,0.24423337856173677]
["     05366 Euskirchen",55195,55113,82,{"$f":"(D117*100)/C117","v":0.14878522308711192},17903,17865,38,0.21270640917996081,11925,11917,8,6.7130989342955444E-2,5978,5948,30,0.50437121721587086]
["     05370 Heinsberg",66389,66218,171,0.25823794134525357,26641,26605,36,0.13531291110693477,19776,19759,17,8.6036742750139172E-2,6865,6846,19,0.27753432661408123]
["     05374 Oberbergischer Kreis",101429,101266,163,0.16096221831611796,28998,28978,20,6.9017875629788117E-2,18822,18827,-5,-2.6557603441865404E-2,10176,10151,25,0.2462811545660526]
["     05378 Rheinisch-Bergischer Kreis",71739,71568,171,0.23893360160965796,27001,26967,34,0.12608002373271035,17867,17849,18,0.1008459857695109,9134,9118,16,0.17547707830664619]
["     05382 Rhein-Sieg-Kreis",151942,151665,277,0.18263936966340288,60587,60490,97,0.1603570838155067,41516,41475,41,9.8854731766124165E-2,19071,19015,56,0.29450433867998949]
["     05512 Bottrop, Stadt",32974,32761,213,0.65016330392845156,10534,10516,18,0.17116774438950172,7991,7988,3,3.7556334501752629E-2,2543,2528,15,0.59335443037974689]
["     05513 Gelsenkirchen, Stadt",77652,77354,298,0.38524187501615947,24159,24122,37,0.15338694967249814,17800,17787,13,7.3087086074099056E-2,6359,6335,24,0.37884767166535122]
["     05515 Münster, Stadt",160646,160280,366,0.22835038682305964,40393,40351,42,0.10408663973631385,28396,28395,1,3.5217467864060575E-3,11997,11956,41,0.34292405486784877]
["     05554 Borken",138526,138169,357,0.25837923123131817,50532,50493,39,7.7238429089180674E-2,34858,34870,-12,-3.4413535990823058E-2,15674,15623,51,0.32644178454842221]
["     05558 Coesfeld",65517,65361,156,0.23867443888557396,22980,22962,18,7.8390384112882155E-2,15773,15775,-2,-1.2678288431061807E-2,7207,7187,20,0.27828022818978709]
["     05562 Recklinghausen",159735,159238,497,0.31211143068865471,52378,52300,78,0.14913957934990441,39709,39675,34,8.5696282293635795E-2,12669,12625,44,0.34851485148514849]
["     05566 Steinfurt",150936,150468,468,0.31102958768641836,52446,52402,44,8.396626082973932E-2,36099,36107,-8,-2.215636857119118E-2,16347,16295,52,0.31911629334151581]
["     05570 Warendorf",88020,87801,219,0.24942768305600163,30129,30115,14,4.6488460899883781E-2,20790,20796,-6,-2.8851702250432775E-2,9339,9319,20,0.21461530207103766]
["     05711 Bielefeld, Stadt",148264,147907,357,0.24136788657737632,37747,37728,19,5.0360474978795589E-2,24960,24973,-13,-5.2056220718375845E-2,12787,12755,32,0.25088200705605646]
["     05754 Gütersloh",166614,166160,454,0.27323062108810786,41749,41734,15,3.5941917860737048E-2,26425,26449,-24,-9.0740670724791112E-2,15324,15285,39,0.25515210991167814]
["     05758 Herford",90271,89957,314,0.3490556599264093,23069,23056,13,5.6384455239417069E-2,15136,15141,-5,-3.3022917905026088E-2,7933,7915,18,0.22741629816803538]
["     05762 Höxter",43429,43306,123,0.28402530827137118,13376,13374,2,1.4954389113204725E-2,9580,9581,-1,-1.0437323870159691E-2,3796,3793,3,7.9093066174532031E-2]
["     05766 Lippe",108141,107898,243,0.22521270088416839,29552,29523,29,9.8228499813704573E-2,20770,20759,11,5.2989064983862424E-2,8782,8764,18,0.20538566864445459]
["     05770 Minden-Lübbecke",123517,123243,274,0.22232500020285129,29879,29852,27,9.0446201259547096E-2,20219,20215,4,1.9787286668315609E-2,9660,9637,23,0.2386634844868735]
["     05774 Paderborn",114507,114120,387,0.33911671924290221,35577,35559,18,5.0620096178182736E-2,24709,24721,-12,-4.8541725658347155E-2,10868,10838,30,0.27680383834655842]
["     05911 Bochum, Stadt",127786,127459,327,0.25655308765956114,33794,33760,34,0.10071090047393365,24712,24701,11,4.4532610015788836E-2,9082,9059,23,0.25389115796445522]
["     05913 Dortmund, Stadt",223669,223017,652,0.29235439450804201,55421,55379,42,7.5841022770364211E-2,39455,39445,10,2.5351755609075929E-2,15966,15934,32,0.20082841722103678]
["     05914 Hagen, Stadt der FernUniversi.",69070,68922,148,0.21473549809930065,18523,18500,23,0.12432432432432433,12925,12926,-1,-7.7363453504564446E-3,5598,5574,24,0.43057050592034446]
["     05915 Hamm, Stadt",56284,55912,372,0.66533123479753897,17013,16995,18,0.1059135039717564,12458,12465,-7,-5.6157240272763739E-2,4555,4530,25,0.55187637969094927]
["     05916 Herne, Stadt",43580,43413,167,0.38467740077856866,10439,10423,16,0.15350666794588891,7919,7909,10,0.12643823492224049,2520,2514,6,0.2386634844868735]
["     05954 Ennepe-Ruhr-Kreis",104159,103935,224,0.21551931495646318,27105,27065,40,0.14779235174579716,18834,18813,21,0.11162494020092489,8271,8252,19,0.23024721279689772]
["     05958 Hochsauerlandkreis",100964,100764,200,0.19848358540748681,33403,33384,{"$f":"F143-G143","v":19},5.6913491492930748E-2,22480,22487,{"$f":"J143-K143","v":-7},-3.1129096811491085E-2,10923,10897,{"$f":"N143-O143","v":26},0.23859777920528585]
["     05962 Märkischer Kreis",157699,157213,486,0.30913474076571273,42072,42047,25,5.9457274002901517E-2,28778,28781,-3,-1.0423543309822453E-2,13294,13266,28,0.21106588270767376]
["     05966 Olpe",55535,55336,199,0.35962122307358679,16372,16355,17,0.10394374808926933,10907,10913,-6,-5.4980298726289747E-2,5465,5442,23,0.42263873575891214]
["     05970 Siegen-Wittgenstein",112164,111770,394,0.35250961796546482,32296,32266,30,9.2977127626603859E-2,22497,22511,-14,-6.2191817333747942E-2,9799,9755,44,0.45105074320861099]
["     05974 Soest",107393,107109,284,0.26515045421019706,31655,31616,39,0.12335526315789473,21863,21849,14,6.4076159091949289E-2,9792,9767,25,0.25596396027439339]
["     05978 Unna",122957,122541,416,0.33947821545441936,34818,34776,42,0.12077294685990338,25615,25600,15,5.859375E-2,9203,9176,27,0.29424585876198778]
["     06411 Darmstadt, Wissenschaftsstadt",98551,97763,788,0.80603091149003203,20297,20291,6,2.9569759992114732E-2,13642,13643,-1,-7.3297661804588438E-3,6655,6648,7,0.10529482551143202]
["     06412 Frankfurt am Main, Stadt",552059,551231,828,0.15020925891323239,81156,81104,52,6.4115210100611567E-2,49420,49444,-24,-4.8539762155165436E-2,31736,31660,76,0.24005053695514844]
["     06413 Offenbach am Main, Stadt",46033,45970,63,0.13704589949967369,11787,11770,17,0.14443500424808836,7403,7403,0,0,4384,4367,17,0.38928326081978476]
["     06414 Wiesbaden, Landeshauptstadt",130183,129924,259,0.19934731073550691,26978,26964,14,5.1921079958463137E-2,16734,16741,-7,-4.1813511737650078E-2,10244,10223,21,0.20541915289054094]
["     06431 Bergstraße",71314,71191,123,0.17277464848084731,25547,25512,35,0.13719034179993728,17184,17173,11,6.4054038315961098E-2,8363,8339,24,0.2878042930807051]
["     06432 Darmstadt-Dieburg",72534,72429,105,0.14496955639315745,26925,26881,44,{"$f":"(H154*100)/G154","v":0.16368438674156469},17921,17901,20,{"$f":"(L154*100)/K154","v":0.11172560192168035},9004,8980,24,{"$f":"(P154*100)/O154","v":0.267260579064588}]
["     06433 Groß-Gerau",93890,93688,202,0.21560925625480318,23343,23333,10,4.28577551107873E-2,14232,14251,-19,-0.13332397726475334,9111,9082,29,0.31931292666813477]
["     06434 Hochtaunuskreis",90207,90068,139,0.15432784118665896,19768,19743,25,0.12662715899306085,12219,12212,7,5.7320668195217819E-2,7549,7531,18,0.2390120833886602]
["     06435 Main-Kinzig-Kreis",128286,128076,210,0.16396514569474374,36259,36223,36,9.9384369047290394E-2,23904,23897,7,2.9292379796627192E-2,12355,12326,29,0.23527502839526204]
["     06436 Main-Taunus-Kreis",95567,95387,180,0.18870495979535995,20441,20403,38,0.18624712052149195,12316,12291,25,0.20340086241965666,8125,8112,13,0.16025641025641027]
["     06437 Odenwaldkreis",27031,26985,46,0.1704650731888086,9450,9431,19,0.20146325946347152,6016,6011,5,8.318083513558476E-2,3434,3420,14,0.40935672514619881]
["     06438 Offenbach",118629,118362,{"$f":"B160-C160","v":267},0.22557915547219548,33180,33130,50,0.15092061575611229,20617,20601,16,7.7666132712004274E-2,12563,12529,34,0.27137042062415195]
["     06439 Rheingau-Taunus-Kreis",43569,43483,86,0.19777844214980567,16606,16589,17,0.10247754536138405,10555,10556,-1,-9.4732853353543013E-3,6051,6033,18,0.29835902536051717]
["     06440 Wetteraukreis",82437,82265,172,0.20908041086731902,25731,25684,47,0.18299330322379692,17146,17123,23,0.13432225661391112,8585,8561,24,0.28034108164934002]
["     06531 Gießen",93254,93117,137,0.14712673303478419,30222,30201,21,6.9534121386709044E-2,21128,21127,1,4.7332796894968528E-3,9094,9074,20,0.22040996253030637]
["     06532 Lahn-Dill-Kreis",90860,90735,125,0.13776381771091639,25104,25084,20,7.9732100143517781E-2,17143,17127,16,9.3419746598937356E-2,7961,7957,4,5.0270202337564407E-2]
["     06533 Limburg-Weilburg",51379,51272,107,0.20869090341706975,16497,16463,34,0.20652371985664825,11201,11182,19,0.16991593632623861,5296,5281,15,0.28403711418291988]
["     06534 Marburg-Biedenkopf",88477,88390,87,9.8427423916732662E-2,25076,25061,15,5.9853956346514504E-2,17460,17459,1,5.7277049086431071E-3,7616,7602,14,0.18416206261510129]
["     06535 Vogelsbergkreis",31324,31266,58,0.18550502142902833,10727,10720,7,6.5298507462686561E-2,7354,7353,1,1.3599891200870393E-2,3373,3367,6,0.17820017820017819]
["     06611 Kassel, documenta-Stadt",106733,106530,203,0.19055665070872055,25895,25883,12,4.6362477301703821E-2,18598,18592,6,3.2271944922547334E-2,7297,7291,6,8.2293238238924704E-2]
["     06631 Fulda",90367,90225,142,0.15738431698531449,24950,24931,19,7.6210340539890092E-2,16622,16613,9,5.4174441702281348E-2,8328,8318,10,0.12022120702091849]
["     06632 Hersfeld-Rotenburg",46498,46389,109,0.23496949707904891,10178,10171,7,6.8823124569855468E-2,7132,7128,4,5.6116722783389451E-2,3046,3043,3,9.8586920801840283E-2]
["     06633 Kassel",72396,72279,117,0.16187274312040842,18093,18074,19,0.10512338165320349,12422,12412,10,8.0567193038994525E-2,5671,5662,9,0.15895443306252208]
["     06634 Schwalm-Eder-Kreis",52578,52522,56,0.10662198697688588,15063,15043,20,0.13295220368277605,10532,10519,13,0.12358589219507558,4531,4524,7,0.15473032714412024]
["     06635 Waldeck-Frankenberg",60903,60816,87,0.14305445935280189,15731,15730,1,6.3572790845518121E-3,10186,10193,-7,-6.867458059452565E-2,5545,5537,8,0.14448257178977786]
["     06636 Werra-Meißner-Kreis",27546,27495,51,0.18548827059465359,7783,7779,4,5.1420491065689675E-2,5633,5631,2,3.5517670040845321E-2,2150,2148,2,9.3109869646182494E-2]
["     07111 Koblenz, kreisfreie Stadt",71518,71359,159,0.22281702378116286,16245,16238,7,4.3108757236112821E-2,10667,10668,-1,-9.3738282714660674E-3,5578,5570,8,0.14362657091561939]
["     07131 Ahrweiler",32714,32609,105,0.32199699469471621,14436,14428,8,5.544774050457444E-2,9593,9600,-7,-7.2916666666666671E-2,4843,4828,15,0.3106876553438277]
["     07132 Altenkirchen (Westerwald)",36269,36199,70,0.19337550761070749,13623,13612,11,8.0811049074346164E-2,9373,9373,0,0,4250,4239,11,0.25949516395376265]
["     07133 Bad Kreuznach",51335,51240,95,0.18540202966432476,14552,14545,7,4.8126503953248537E-2,9535,9540,-5,-5.2410901467505239E-2,5017,5005,12,0.23976023976023977]
["     07134 Birkenfeld",26347,26293,54,0.20537785722435628,7575,7565,10,0.13218770654329148,5102,5097,5,9.8096919756719636E-2,2473,2468,5,0.2025931928687196]
["     07135 Cochem-Zell",18862,18834,28,0.14866730381225443,7676,7668,8,0.10432968179447052,5145,5145,0,0,2531,2523,8,0.31708283789139913]
["     07137 Mayen-Koblenz",66375,66241,134,{"$f":"(D181*100)/C181","v":0.20229163207077189},24230,24208,22,{"$f":"(H181*100)/G181","v":9.0879048248512895E-2},17064,17055,9,{"$f":"(L181*100)/K181","v":5.2770448548812667E-2},7166,7153,13,{"$f":"(P181*100)/O181","v":0.18174192646442053}]
["     07138 Neuwied",57416,57327,89,0.15524970781656114,16229,16211,18,{"$f":"(H182*100)/G182","v":0.11103571648880389},10657,10647,10,{"$f":"(L182*100)/K182","v":9.3923170846247767E-2},5572,5564,8,{"$f":"(P182*100)/O182","v":0.14378145219266714}]
["     07140 Rhein-Hunsrück-Kreis",35788,35718,70,0.19597961811971554,11068,11051,17,{"$f":"(H183*100)/G183","v":0.15383223237716043},7269,7264,5,{"$f":"(L183*100)/K183","v":6.8832599118942725E-2},3799,3787,12,{"$f":"(P183*100)/O183","v":0.31687351465540003}]
["     07141 Rhein-Lahn-Kreis",30962,30917,45,0.14555099136397451,11253,11236,17,0.1512993948024208,7410,7395,15,{"$f":"(L184*100)/K184","v":0.20283975659229209},3843,3841,2,{"$f":"(P184*100)/O184","v":5.206977349648529E-2}]
["     07143 Westerwaldkreis",65958,65853,105,0.1594460389048335,24129,24105,24,9.9564405724953328E-2,15940,15936,4,2.5100401606425703E-2,8189,8169,20,{"$f":"(P185*100)/O185","v":0.24482800832415227}]
["     07211 Trier, kreisfreie Stadt",54734,54586,148,0.27113179203458765,16220,16208,12,7.4037512339585387E-2,11695,11695,0,0,4525,4513,12,0.26589851539995568]
["     07231 Bernkastel-Wittlich",39063,39004,59,0.15126653676545995,12108,12100,8,6.6115702479338845E-2,7981,7982,-1,-1.2528188423953895E-2,4127,4118,9,0.2185526954832443]
["     07232 Eifelkreis Bitburg-Prüm",27631,27592,39,0.14134531748332851,9382,9369,13,0.13875547016757392,6468,6461,7,0.10834236186348863,2914,2908,6,0.2063273727647868]
["     07233 Vulkaneifel",19076,19042,34,0.17855267303854638,6975,6965,10,0.14357501794687724,4672,4667,5,0.10713520462824085,2303,2298,5,0.2175805047867711]
["     07235 Trier-Saarburg",29911,29827,84,0.28162403191739027,13640,13630,10,7.3367571533382248E-2,9767,9766,1,1.0239606799098914E-2,3873,3864,9,0.23291925465838509]
["     07311 Frankenthal (Pfalz), kr.f. St.",16029,15999,30,0.18751171948246764,4112,4111,1,2.4324981756263683E-2,2790,2789,1,3.5855145213338116E-2,1322,1322,0,0]
["     07312 Kaiserslautern, kreisfr. Stadt",51957,51864,93,0.17931513188338732,13589,13576,13,9.5757218621096055E-2,9350,9351,-1,-1.0694043417816277E-2,4239,4225,14,0.33136094674556216]
["     07313 Landau in der Pfalz, kr.f. St.",21836,21800,36,0.16513761467889909,6604,6595,9,0.13646702047005307,4496,4493,3,6.6770531938571104E-2,2108,2102,6,0.28544243577545197]
["     07314 Ludwigshafen am Rhein, Stadt",101007,100662,345,0.34273111998569472,16732,16716,16,9.5716678631251495E-2,11530,11524,6,5.206525511975009E-2,5202,5192,10,0.19260400616332821]
["     07315 Mainz, kreisfreie Stadt",110196,109915,281,0.2556520948005277,28019,27988,31,0.11076175503787337,18217,18213,4,2.1962334596167574E-2,9802,9775,27,0.27621483375959077]
["     07316 Neustadt an der Weinstraße,St.",17178,17149,29,0.16910607032480027,5533,5526,7,0.12667390517553384,3651,3649,2,5.4809536859413539E-2,1882,1877,5,0.26638252530633988]
["     07317 Pirmasens, kreisfreie Stadt",20111,20080,31,0.15438247011952191,4495,4495,0,0,3057,3059,-2,-6.538084341288003E-2,1438,1436,2,0.1392757660167131]
["     07318 Speyer, kreisfreie Stadt",28482,28427,55,0.19347803144897457,6657,6658,-1,-1.5019525382997898E-2,4268,4272,-4,-9.3632958801498134E-2,2389,2386,3,0.12573344509639564]
["     07319 Worms, kreisfreie Stadt",32631,32551,80,0.2457681791650026,7679,7677,2,2.605184316790413E-2,5209,5213,-4,-7.6731248801074237E-2,2470,2464,6,0.2435064935064935]
["     07320 Zweibrücken, kreisfreie Stadt",14943,14917,26,0.17429778105517196,3429,3425,4,0.11678832116788321,2400,2398,2,8.3402835696413671E-2,1029,1027,2,0.19474196689386564]
["     07331 Alzey-Worms",28065,28027,38,0.13558354443929069,11095,11074,21,0.18963337547408343,7425,7413,12,0.16187778227438285,3670,3661,9,0.24583447145588638]
["     07332 Bad Dürkheim",30881,30837,44,0.14268573466939066,12404,12396,8,6.453694740238787E-2,8455,8453,2,2.3660238968413582E-2,3949,3943,6,0.1521683996956632]
["     07333 Donnersbergkreis",21475,21427,48,0.22401642787137724,6263,6255,8,0.12789768185451639,4176,4182,-6,-0.14347202295552366,2087,2073,14,0.67534973468403281]
["     07334 Germersheim",43711,43634,77,0.17646789201081725,11554,11537,17,0.14735199791973649,7927,7920,7,8.8383838383838384E-2,3627,3617,10,0.27647221454243848]
["     07335 Kaiserslautern",25169,25123,46,0.18309915217131711,8021,8011,10,0.12482836100362002,5449,5442,7,0.12862918044836458,2572,2569,3,0.11677695601401324]
["     07336 Kusel",12214,12190,24,0.19688269073010664,4946,4937,9,0.18229694146242659,3575,3569,6,0.16811431773606053,1371,1368,3,0.21929824561403508]
["     07337 Südliche Weinstraße",29590,29531,59,0.19979005113270801,10271,10263,{"$f":"F207-G207","v":8},7.7949917178212993E-2,6809,6808,{"$f":"J207-K207","v":1},1.4688601645123384E-2,3462,3455,{"$f":"N207-O207","v":7},0.20260492040520983]
["     07338 Rhein-Pfalz-Kreis",26678,26624,54,0.20282451923076922,13199,13184,15,0.1137742718446602,9853,9864,-11,-0.11151662611516626,3346,3320,26,0.7831325301204819]
["     07339 Mainz-Bingen",53795,53725,70,0.13029315960912052,17823,17801,22,0.12358856244031234,11625,11623,2,1.7207261464337952E-2,6198,6178,20,0.32372936225315635]
["     07340 Südwestpfalz",14775,14771,4,2.7080089364294901E-2,6137,6122,15,0.24501796798431885,4222,4210,12,0.28503562945368172,1915,1912,3,0.15690376569037656]
["     08111 Stuttgart, Landeshauptstadt",397109,396516,593,0.14955260317364241,71606,71546,60,8.3862130657199566E-2,41855,41871,-16,-3.821260538320078E-2,29751,29675,76,0.25610783487784328]
["     08115 Böblingen",173721,173452,269,0.15508613333948296,41928,41897,31,7.3990977874310804E-2,24821,24830,-9,-3.6246476037051951E-2,17107,17067,40,0.23437042245268647]
["     08116 Esslingen",207084,206779,305,0.14750047151790074,58462,58377,85,0.14560528975452661,34813,34789,24,6.8987323579292312E-2,23649,23588,61,0.25860607088350007]
["     08117 Göppingen",86235,86117,118,0.13702288746705063,24432,24407,25,0.10242963084361044,14539,14534,5,3.4402091647172145E-2,9893,9873,20,0.20257267294641954]
["     08118 Ludwigsburg",193725,193464,261,0.13490882024562709,49568,49496,72,0.14546630030709554,28958,28932,26,8.9865892437439518E-2,20610,20564,46,0.22369188873759968]
["     08119 Rems-Murr-Kreis",143353,143182,171,0.11942841977343521,45351,45321,30,6.6194479380419669E-2,26710,26714,-4,-1.4973422175638242E-2,18641,18607,34,0.18272693072499596]
["     08121 Heilbronn, Stadt",69357,69270,87,0.12559549588566479,19446,19428,18,9.2649783817171094E-2,11286,11290,-4,-3.54295837023915E-2,8160,8138,22,0.27033669206193167]
["     08125 Heilbronn",132508,132299,209,0.15797549490169993,33606,33574,32,9.5311848454160963E-2,20035,20028,7,3.4951068504094268E-2,13571,13546,25,0.18455632659087554]
["     08126 Hohenlohekreis",54615,54513,102,0.18711133124208904,11840,11828,12,0.10145417653026716,6976,6975,1,1.4336917562724014E-2,4864,4853,11,0.2266639192252215]
["     08127 Schwäbisch Hall",78347,78234,113,0.14443847943349439,22142,22111,31,0.14020170955632943,13123,13116,7,5.3369929856663618E-2,9019,8995,24,0.26681489716509171]
["     08128 Main-Tauber-Kreis",53169,53100,69,0.12994350282485875,14460,14452,8,5.5355660116246888E-2,9221,9218,3,3.2545020611846387E-2,5239,5234,5,9.552923194497516E-2]
["     08135 Heidenheim",49604,49517,87,0.17569723529292969,12996,12987,9,6.9300069300069295E-2,7819,7824,-5,-6.3905930470347649E-2,5177,5163,14,0.27116017819097427]
["     08136 Ostalbkreis",120912,120725,187,0.15489749430523919,33762,33744,18,5.3342816500711238E-2,20843,20855,-12,-5.7540158235435145E-2,12919,12889,30,0.23275661416711924]
["     08211 Baden-Baden, Stadt",29534,29480,{"$f":"B224-C224","v":54},0.18317503392130258,8362,8349,13,0.15570727033177625,5106,5106,0,0,3256,3243,13,0.40086339808818994]
["     08212 Karlsruhe, Stadt",173697,173336,361,0.20826602667651267,36785,36742,43,0.11703227913559414,22557,22548,9,3.991484832357637E-2,14228,14194,34,0.2395378328871354]
["     08215 Karlsruhe",148101,147895,206,0.13928800838432673,45977,45929,48,0.10450913366282741,28484,28479,5,1.7556796235822889E-2,17493,17450,43,0.24641833810888253]
["     08216 Rastatt",88413,88299,114,0.12910678490130126,21662,21623,39,0.18036350182675853,12945,12925,20,0.15473887814313347,8717,8698,19,0.21844102092435042]
["     08221 Heidelberg, Stadt",89588,89455,133,0.1486781063104354,20659,20647,12,5.8119823703201436E-2,14238,14236,2,1.4048890137679123E-2,6421,6411,10,0.15598190609889254]
["     08222 Mannheim, Universitätsstadt",183417,183055,362,0.19775477315560896,38072,38056,16,4.2043304603741852E-2,24795,24808,-13,-5.2402450822315379E-2,13277,13248,29,0.21890096618357488]
["     08225 Neckar-Odenwald-Kreis",45409,45304,105,0.23176761433868975,12621,12605,16,0.12693375644585481,8043,8040,3,3.7313432835820892E-2,4578,4565,13,0.28477546549835708]
["     08226 Rhein-Neckar-Kreis",163925,163711,214,0.13071815577450507,50943,50892,51,0.100212214100448,32498,32495,3,9.2321895676257884E-3,18445,18397,48,0.26091210523454911]
["     08231 Pforzheim, Stadt",56632,56548,84,0.14854636768762822,13777,13772,5,3.630554748765611E-2,8284,8286,-2,-2.4137098720733767E-2,5493,5486,7,0.12759752096244986]
["     08235 Calw",44454,44417,37,8.330143863835919E-2,15034,15014,20,0.13320900492873319,8669,8665,4,4.6162723600692443E-2,6365,6349,16,0.25200819026618365]
["     08236 Enzkreis",59037,58945,92,0.15607769955042836,17145,17138,7,4.084490605671607E-2,10054,10059,-5,-4.9706730291281441E-2,7091,7079,12,0.16951546828648115]
["     08237 Freudenstadt",45123,45062,61,0.13536904709067507,13458,13447,11,8.1802632557447755E-2,7988,7986,2,2.504382669671926E-2,5470,5461,9,0.16480498077275224]
["     08311 Freiburg im Breisgau, Stadt",119486,119149,337,0.28283913419332096,31828,31810,18,5.6585979251807611E-2,21210,21221,-11,-5.1835446020451439E-2,10618,10589,29,0.27386910945320614]
["     08315 Breisgau-Hochschwarzwald",78505,78400,105,0.13392857142857142,30920,30895,25,8.0919242595889299E-2,19442,19447,-5,-2.5710906566565536E-2,11478,11448,30,0.26205450733752622]
["     08316 Emmendingen",49849,49805,44,8.8344543720509983E-2,18972,18966,6,3.163555836760519E-2,11529,11539,-10,-8.6662622410954154E-2,7443,7427,16,0.21543018715497508]
["     08317 Ortenaukreis",171801,171530,271,0.15798985600186558,51091,51033,58,0.11365195069856759,31489,31475,14,4.4479745830023829E-2,19602,19558,44,0.2249718785151856]
["     08325 Rottweil",54215,54027,188,0.34797416106761436,16903,16893,10,5.9196116734742198E-2,9780,9802,-22,-0.22444399102224036,7123,7091,32,0.45127626568890145]
["     08326 Schwarzwald-Baar-Kreis",84174,83936,238,0.28354937094929472,26026,26009,17,6.5361990080356799E-2,15471,15487,-16,-0.10331245560792923,10555,10522,33,0.31362858772096558]
["     08327 Tuttlingen",62532,62443,89,0.14252998734846178,16686,16650,36,0.21621621621621623,9973,9979,-6,-6.0126265156829339E-2,6713,6671,42,0.62959076600209862]
["     08335 Konstanz",98173,98039,134,0.13668030069666154,35393,35366,27,7.6344511677882712E-2,23603,23599,4,1.6949870757235475E-2,11790,11767,23,0.19546188493243818]
["     08336 Lörrach",77199,77030,169,0.2193950408931585,22489,22463,26,0.11574589324667231,14435,14444,-9,-6.2309609526446964E-2,8054,8019,35,0.43646339942636236]
["     08337 Waldshut",53151,53045,106,{"$f":"(D245*100)/C245","v":0.19983033273635592},17289,17275,14,8.1041968162083936E-2,11457,11444,13,0.11359664452988466,5832,5831,1,1.7149717029669012E-2]
["     08415 Reutlingen",109895,109730,165,0.15036908776086758,31566,31541,25,7.9261913065533748E-2,18267,18268,-1,-5.4740529888329323E-3,13299,13273,26,0.19588638589618021]
["     08416 Tübingen",76532,76410,122,0.15966496531867558,24687,24680,7,{"$f":"(H247*100)/G247","v":2.8363047001620744E-2},16408,16410,-2,-1.2187690432663011E-2,8279,8270,9,0.10882708585247884]
["     08417 Zollernalbkreis",66090,65975,115,0.17430845017051913,20064,20043,21,0.1047747343212094,11378,11381,-3,{"$f":"(L248*100)/K248","v":-2.6359722344257975E-2},8686,8662,24,0.27707226968367582]
["     08421 Ulm, Universitätsstadt",92136,91869,267,0.29063122489631976,25208,25204,4,1.5870496746548168E-2,15615,15626,-11,-7.0395494688339944E-2,9593,9578,15,{"$f":"(P249*100)/O249","v":0.15660889538525788}]
["     08425 Alb-Donau-Kreis",52142,51928,214,0.41210907410260361,18993,18984,9,4.7408343868520858E-2,11024,11052,-28,-0.25334781035106768,7969,7932,37,0.46646495209278871]
["     08426 Biberach",79285,79147,138,0.17435910394582232,23045,23044,1,4.3395243881270609E-3,13495,13518,-23,-0.17014351235389852,9550,9526,24,0.25194205332773462]
["     08435 Bodenseekreis",88855,88622,233,0.26291440048746362,25050,25017,33,0.13191030099532319,15440,15447,-7,-4.5316242636110574E-2,9610,9570,40,0.41797283176593519]
["     08436 Ravensburg",111580,111437,143,0.12832362680258802,37964,37949,15,3.9526733247252893E-2,22799,22809,-10,-4.3842342934806433E-2,15165,15140,25,0.16512549537648613]
["     08437 Sigmaringen",46037,45990,47,0.10219612959338986,14939,14916,23,0.15419683561276482,8839,8833,6,6.7927091588361826E-2,6100,6083,17,0.27946736807496303]
["     09161 Ingolstadt, Stadt",103784,103718,66,6.3634084729747964E-2,15638,15633,5,3.1983624384315228E-2,9480,9478,2,2.1101498206372651E-2,6158,6155,3,4.8740861088545896E-2]
["     09162 München, Landeshauptstadt",823095,821971,1124,0.1367444836861641,157469,157311,158,0.10043798590054097,87345,87355,-10,-1.1447541640432718E-2,70124,69956,168,0.24015095202698838]
["     09163 Rosenheim, Stadt",34704,34647,57,0.16451640834704304,9671,9664,7,7.2433774834437081E-2,5887,5886,1,1.6989466530750934E-2,3784,3778,6,0.15881418740074113]
["     09171 Altötting",44856,44756,100,0.22343372955581375,11812,11790,22,0.18659881255301103,7218,7208,10,0.13873473917869034,4594,4582,12,0.26189436927106069]
["     09172 Berchtesgadener Land",34300,34237,63,0.18401144960130852,10603,10601,2,1.8866144703329875E-2,6619,6617,2,3.022517757291824E-2,3984,3984,0,0]
["     09173 Bad Tölz-Wolfratshausen",35791,35746,45,0.12588821126839367,13244,13221,23,0.17396566069132441,7449,7448,1,1.3426423200859291E-2,5795,5773,22,0.3810843582192967]
["     09174 Dachau",39622,39528,94,0.23780611212305203,16133,16105,28,0.17385904998447688,8547,8546,1,1.1701380762930026E-2,7586,7559,27,0.35719010451117872]
["     09175 Ebersberg",39020,38952,68,0.17457383446292873,12753,12735,18,0.14134275618374559,7096,7094,2,2.8192839018889203E-2,5657,5641,16,0.28363765289842224]
["     09176 Eichstätt",38662,38539,123,0.31915721736422842,11152,11139,13,0.11670706526618188,6958,6960,-2,-2.8735632183908046E-2,4194,4179,15,0.35893754486719309]
["     09177 Erding",43230,43137,93,0.215592183044718,14490,14476,14,9.6711798839458407E-2,7611,7617,-6,-7.8771169751870818E-2,6879,6859,20,0.29158769499927101]
["     09178 Freising",78324,78230,94,0.12015850696663684,16820,16794,26,0.15481719661783971,9287,9280,7,7.5431034482758619E-2,7533,7514,19,0.25286132552568541]
["     09179 Fürstenfeldbruck",48444,48349,95,0.19648803491282135,18771,18762,9,4.7969299648225133E-2,10463,10469,-6,-5.7312064189511895E-2,8308,8293,15,0.18087543711563969]
["     09180 Garmisch-Partenkirchen",27542,27490,52,0.18915969443433975,9425,9419,6,6.3701029833315645E-2,5382,5376,6,0.11160714285714286,4043,4043,0,0]
["     09181 Landsberg am Lech",36004,35942,62,0.17250013911301543,11461,11448,13,0.11355695317959469,6991,6992,-1,-1.4302059496567507E-2,4470,4456,14,0.31418312387791741]
["     09182 Miesbach",33898,33859,39,0.11518355533240793,10954,10925,29,0.26544622425629288,6154,6148,6,9.7592713077423551E-2,4800,4777,23,0.4814737282813481]
["     09183 Mühldorf a.Inn",38600,38546,54,0.14009235718362475,11350,11340,10,8.8183421516754845E-2,6774,6769,5,7.3866154527995276E-2,4576,4571,5,0.10938525486764385]
["     09184 München",218175,217750,425,0.19517795637198623,41431,41373,{"$f":"F271-G271","v":58},0.14018804534358156,22367,22378,{"$f":"J271-K271","v":-11},-4.9155420502279022E-2,19064,18995,{"$f":"N271-O271","v":69},0.36325348775993682]
["     09185 Neuburg-Schrobenhausen",32006,31916,90,0.28199022433888959,9524,9512,12,0.12615643397813289,5736,5738,-2,-3.4855350296270481E-2,3788,3774,14,0.37095919448860626]
["     09186 Pfaffenhofen a.d.Ilm",38290,38155,135,0.35381994496134189,10521,10508,13,0.12371526456033498,6359,6359,0,0,4162,4149,13,0.31332851289467339]
["     09187 Rosenheim",79514,79362,152,0.19152743126433305,26387,26360,27,0.10242792109256449,15241,15238,3,1.9687623047644046E-2,11146,11122,24,0.21578852724330155]
["     09188 Starnberg",47973,47886,87,0.18168149354717453,13354,13340,14,0.10494752623688156,7561,7558,3,3.9693040486901296E-2,5793,5782,11,0.19024558976132827]
["     09189 Traunstein",64883,64736,147,0.22707612456747406,18297,18293,4,2.186628765101405E-2,10859,10880,-21,-0.19301470588235295,7438,7413,25,0.3372453797382976]
["     09190 Weilheim-Schongau",46279,46209,70,0.15148564132528294,15898,15885,13,8.1838212149826881E-2,10153,10150,3,2.9556650246305417E-2,5745,5735,10,0.17436791630340018]
["     09261 Landshut, Stadt",36738,36680,58,0.15812431842966193,11659,11652,7,6.0075523515276348E-2,7572,7577,-5,-6.598917777484492E-2,4087,4075,12,0.29447852760736198]
["     09262 Passau, Stadt",37257,37190,67,0.18015595590212422,9660,9648,12,0.12437810945273632,6636,6633,3,4.5228403437358664E-2,3024,3015,9,0.29850746268656714]
["     09263 Straubing, Stadt",29165,29114,51,0.17517345606924503,6581,6578,3,4.5606567345697784E-2,4026,4026,0,0,2555,2552,3,0.11755485893416928]
["     09271 Deggendorf",48270,48199,71,0.14730596070457894,12617,12602,15,0.11902872559911125,8369,8361,8,9.5682334648965431E-2,4248,4241,7,0.16505541145956143]
["     09272 Freyung-Grafenau",23735,23704,31,0.13077961525480933,7768,7760,8,0.10309278350515463,5241,5236,5,9.5492742551566076E-2,2527,2524,3,0.11885895404120443]
["     09273 Kelheim",37528,37344,184,0.49271636675235647,11755,11746,9,7.6621828707645154E-2,7291,7292,-1,-1.3713658804168952E-2,4464,4454,10,0.22451728783116301]
["     09274 Landshut",46719,46693,26,5.5682864669222371E-2,15341,15326,15,9.7872895732741744E-2,8981,8980,1,1.1135857461024499E-2,6360,6346,14,0.22061140876142452]
["     09275 Passau",57408,57351,57,9.9387979285452732E-2,18235,18223,12,6.5850847829665812E-2,11597,11591,6,5.176429988784402E-2,6638,6632,6,9.0470446320868522E-2]
["     09276 Regen",26360,26302,58,0.2205155501482777,7378,7373,5,6.7815000678150009E-2,5059,5065,-6,-0.11846001974333663,2319,2308,11,0.47660311958405543]
["     09277 Rottal-Inn",37234,37177,57,0.15332060144713128,12183,12174,9,7.3928043371118773E-2,7521,7517,4,5.3212717839563654E-2,4662,4657,5,0.10736525660296328]
["     09278 Straubing-Bogen",24800,24760,{"$f":"B288-C288","v":40},0.16155088852988692,8295,8285,10,0.12070006035003017,5264,5266,-2,-3.7979491074819599E-2,3031,3019,12,0.39748261013580655]
["     09279 Dingolfing-Landau",50630,50594,36,7.1154682373403957E-2,14201,14190,11,7.7519379844961239E-2,9810,9812,-2,-2.0383204239706482E-2,4391,4378,13,0.29693924166285973]
["     09361 Amberg, Stadt",26425,26361,64,0.24278289897955313,5497,5493,4,7.2819952667030771E-2,3518,3519,-1,-2.8417163967036089E-2,1979,1974,5,0.25329280648429586]
["     09362 Regensburg, Stadt",118197,118020,177,0.14997458057956278,26379,26374,5,1.8958064760749224E-2,17052,17066,-14,-8.2034454470877774E-2,9327,9308,19,0.2041254834550924]
["     09363 Weiden i.d.OPf., Stadt",27209,27161,48,0.17672397923493244,8479,8480,-1,-1.179245283018868E-2,5477,5485,-8,-0.14585232452142205,3002,2995,7,0.23372287145242071]
["     09371 Amberg-Sulzbach",27622,27581,41,0.14865305826474748,7975,7971,4,5.0181909421653494E-2,4892,4899,-7,-0.14288630332720964,3083,3072,11,0.35807291666666669]
["     09372 Cham",50111,49973,138,0.27614912052508356,12755,12740,15,0.11773940345368916,8446,8447,-1,-1.1838522552385463E-2,4309,4293,16,0.37269974376892617]
["     09373 Neumarkt i.d.OPf.",46856,46697,159,0.34049296528684925,12148,12141,7,5.7655876781154768E-2,7696,7698,-2,-2.5980774227071967E-2,4452,4443,9,0.20256583389601621]
["     09374 Neustadt a.d.Waldnaab",29646,29597,49,0.16555731999864851,7119,7114,5,7.0283947146471751E-2,4363,4361,2,4.5861041045631733E-2,2756,2753,3,0.10897203051216854]
["     09375 Regensburg",44490,44430,60,0.13504388926401081,15218,15212,6,3.9442545358927161E-2,9294,9300,-6,-6.4516129032258063E-2,5924,5912,12,0.20297699594046009]
["     09376 Schwandorf",53569,53429,140,0.26202998371670816,13446,13451,-5,-3.7171957475280647E-2,8396,8401,-5,-5.9516724199500062E-2,5050,5050,0,0]
["     09377 Tirschenreuth",23806,23778,28,0.11775590882328203,5668,5668,0,0,3782,3781,1,2.6448029621793177E-2,1886,1887,-1,-5.2994170641229466E-2]
["     09461 Bamberg, Stadt",53181,53070,111,0.20915771622385529,14893,14883,10,6.7190754552173618E-2,10728,10725,3,2.7972027972027972E-2,4165,4158,7,0.16835016835016836]
["     09462 Bayreuth, Stadt",46333,46269,64,0.13832155438846744,11509,11502,7,6.0858981046774473E-2,7390,7394,-4,-5.4097917230186636E-2,4119,4108,11,0.26777020447906524]
["     09463 Coburg, Stadt",33929,33882,47,0.13871672274363969,4701,4692,9,0.1918158567774936,2875,2868,7,0.24407252440725244,1826,1824,2,0.10964912280701754]
["     09464 Hof, Stadt",24320,24303,17,6.99502119079949E-2,5707,5705,2,3.5056967572304996E-2,3681,3676,5,0.13601741022850924,2026,2029,-3,-0.14785608674223755]
["     09471 Bamberg",36175,36129,46,0.12732154225137701,11943,11939,4,3.3503643521232931E-2,7462,7461,1,1.3403029084573113E-2,4481,4478,3,6.6994193836534169E-2]
["     09472 Bayreuth",23134,23069,65,0.28176340543586631,6918,6910,8,0.11577424023154848,4334,4326,8,0.18492834026814609,2584,2584,0,0]
["     09473 Coburg",28127,28075,52,0.18521816562778273,5676,5674,2,3.5248501938667604E-2,3392,3391,1,2.9489826010026542E-2,2284,2283,1,4.3802014892685065E-2]
["     09474 Forchheim",29366,29309,57,0.19447951141287659,9830,9833,-3,-3.050950879690837E-2,5990,5998,-8,-0.13337779259753252,3840,3835,5,0.1303780964797914]
["     09475 Hof",36049,36006,43,0.11942454035438538,6283,6279,4,6.3704411530498481E-2,4028,4026,2,4.967709885742673E-2,2255,2253,2,8.8770528184642705E-2]
["     09476 Kronach",25067,25015,52,{"$f":"(D309*100)/C309","v":0.20787527483509893},5561,5556,5,8.9992800575953921E-2,3557,3561,-4,-0.11232799775344005,2004,1995,9,0.45112781954887216]
["     09477 Kulmbach",26523,26460,63,0.23809523809523808,6123,6115,8,0.13082583810302534,3763,3763,0,0,2360,2352,8,0.3401360544217687]
["     09478 Lichtenfels",27696,27668,28,0.10119994217146161,5952,5947,5,{"$f":"(H311*100)/G311","v":8.4076004708256269E-2},3689,3687,2,5.4244643341470028E-2,2263,2260,3,0.13274336283185842]
["     09479 Wunsiedel i.Fichtelgebirge",28179,28146,33,0.11724578981027499,5462,5456,6,0.10997067448680352,3583,3578,5,{"$f":"(L312*100)/K312","v":0.13974287311347122},1879,1878,1,5.3248136315228969E-2]
["     09561 Ansbach, Stadt",26400,26359,41,0.15554459577373952,5688,5692,-4,-7.0274068868587489E-2,3441,3446,-5,-0.14509576320371445,2247,2246,1,{"$f":"(P313*100)/O313","v":4.4523597506678537E-2}]
["     09562 Erlangen, Stadt",89627,89552,75,8.3750223333928897E-2,13472,13456,16,0.11890606420927467,9295,9291,4,4.3052416316865787E-2,4177,4165,12,0.28811524609843936]
["     09563 Fürth, Stadt",46218,46138,80,0.17339286488361003,9913,9895,18,0.18191005558362811,5926,5921,5,8.4445195068400605E-2,3987,3974,13,0.32712632108706591]
["     09564 Nürnberg, Stadt",295693,295360,333,0.11274377031419285,59716,59669,47,7.8767869412927988E-2,35040,35042,-2,-5.7074367901375489E-3,24676,24627,49,0.19896861168636049]
["     09565 Schwabach, Stadt",15827,15801,26,0.16454654768685525,3836,3832,4,0.10438413361169102,2153,2147,6,0.27945971122496505,1683,1685,-2,-0.11869436201780416]
["     09571 Ansbach",59027,58912,115,0.19520640956002172,15423,15408,15,9.7352024922118377E-2,9315,9309,6,6.4453754431195623E-2,6108,6099,9,0.14756517461878996]
["     09572 Erlangen-Höchstadt",48692,48579,113,0.2326107989048766,9529,9512,17,0.17872161480235493,5864,5862,2,3.4118048447628793E-2,3665,3650,15,0.41095890410958902]
["     09573 Fürth",23976,23929,47,0.19641439257804338,7494,7485,9,0.12024048096192384,4504,4494,10,0.22251891410769917,2990,2991,-1,-3.3433634236041461E-2]
["     09574 Nürnberger Land",53025,52929,96,0.18137504959474013,15046,15034,12,7.9819076759345478E-2,9052,9052,0,0,5994,5982,12,0.20060180541624875]
["     09575 Neustadt a.d.Aisch-Bad Windsh.",31705,31650,55,0.17377567140600317,9435,9427,8,8.4862628619921499E-2,5536,5542,-6,-0.10826416456153014,3899,3885,14,0.36036036036036034]
["     09576 Roth",36689,36648,41,0.11187513643309321,10376,10371,5,4.8211358596085239E-2,6287,6287,0,0,4089,4084,5,0.12242899118511263]
["     09577 Weißenburg-Gunzenhausen",31972,31925,47,0.14722004698512137,9276,9275,1,1.078167115902965E-2,5548,5551,-3,-5.404431633939831E-2,3728,3724,4,0.10741138560687433]
["     09661 Aschaffenburg, Stadt",44701,44583,118,0.26467487607383983,11011,10991,20,0.18196706396142298,6688,6684,4,5.9844404548174746E-2,4323,4307,16,0.37148827490132341]
["     09662 Schweinfurt, Stadt",53434,53269,165,0.30974863429011246,7302,7294,8,0.10967918837400603,4847,4842,5,0.10326311441553077,2455,2452,3,0.12234910277324633]
["     09663 Würzburg, Stadt",86575,86468,107,0.1237452005366147,22804,22791,13,5.7040059672677813E-2,15709,15704,5,3.1839021905247074E-2,7095,7087,8,0.11288274305065613]
["     09671 Aschaffenburg",49505,49418,87,0.17604921283742767,17343,17342,1,5.7663475954330525E-3,10627,10628,-1,-9.4091080165600305E-3,6716,6714,2,2.978850163836759E-2]
["     09672 Bad Kissingen",33372,33337,35,0.10498845127036026,10787,10782,5,4.6373585605639027E-2,7241,7243,-2,-2.7612867596299877E-2,3546,3539,7,0.19779598756710937]
["     09673 Rhön-Grabfeld",30842,30814,28,9.0867787369377562E-2,7198,7192,6,8.3426028921023354E-2,4756,4750,6,0.12631578947368421,2442,2442,0,0]
["     09674 Haßberge",26656,26602,54,0.20299225622133674,9989,9985,4,4.0060090135202807E-2,6615,6624,-9,-0.1358695652173913,3374,3361,13,0.38678964593870874]
["     09675 Kitzingen",31061,30993,68,0.21940438163456263,9391,9386,5,5.3270828894097594E-2,5982,5985,-3,-5.0125313283208017E-2,3409,3401,8,0.23522493384298734]
["     09676 Miltenberg",41556,41429,127,0.30654855294600403,14014,14011,3,2.1411747912354579E-2,9086,9092,-6,-6.599208095028597E-2,4928,4919,9,0.18296401707664159]
["     09677 Main-Spessart",45329,45274,55,0.12148252860361355,12327,12318,9,7.3063809059912319E-2,7936,7937,-1,-1.2599218848431397E-2,4391,4381,10,0.22825838849577723]
["     09678 Schweinfurt",23997,23945,52,0.21716433493422427,8425,8419,{"$f":"F335-G335","v":6},7.1267371421784062E-2,5426,5426,{"$f":"J335-K335","v":0},0,2999,2993,{"$f":"N335-O335","v":6},0.20046775810223855]
["     09679 Würzburg",37480,37414,66,0.17640455444486022,13874,13868,6,4.3265070666282088E-2,8917,8918,-1,-1.1213276519398968E-2,4957,4950,7,0.14141414141414141]
["     09761 Augsburg, Stadt",140591,140295,296,0.21098399800420542,37978,37950,28,7.378129117259552E-2,23483,23478,5,2.12965329244399E-2,14495,14472,23,0.15892758430071863]
["     09762 Kaufbeuren, Stadt",17689,17674,15,8.4870431141790201E-2,4350,4345,5,0.11507479861910241,2634,2633,1,3.7979491074819599E-2,1716,1712,4,0.23364485981308411]
["     09763 Kempten (Allgäu), Stadt",37934,37853,81,0.21398568145193247,10796,10776,20,0.1855976243504083,6329,6320,9,0.14240506329113925,4467,4456,11,0.24685816876122083]
["     09764 Memmingen, Stadt",29657,29628,29,9.7880383421088166E-2,6451,6445,6,9.3095422808378583E-2,3631,3626,5,0.13789299503585217,2820,2819,1,3.5473572188719403E-2]
["     09771 Aichach-Friedberg",34016,33970,46,0.13541360023550192,14053,14043,10,7.1209855443993456E-2,8375,8378,-3,-3.5808068751492006E-2,5678,5665,13,0.22947925860547219]
["     09772 Augsburg",70175,70062,113,0.16128571836373498,23546,23531,15,6.3745697165441331E-2,13614,13613,1,7.3459193418056266E-3,9932,9918,14,0.14115749142972372]
["     09773 Dillingen a.d.Donau",32082,32053,29,9.0475150531931489E-2,9291,9278,13,0.14011640439749945,5314,5309,5,9.4179694857788654E-2,3977,3969,8,0.20156210632401109]
["     09774 Günzburg",49526,49429,97,0.19624107305427987,13506,13505,1,7.4046649389115145E-3,7678,7686,-8,-0.10408534998698933,5828,5819,9,0.15466575012888811]
["     09775 Neu-Ulm",61854,61794,60,9.7096805515098555E-2,17585,17567,18,0.10246484886434792,10325,10318,7,6.7842605156037988E-2,7260,7249,11,0.15174506828528073]
["     09776 Lindau (Bodensee)",30616,30581,35,0.11445014878519343,8337,8331,6,7.2020165646380988E-2,4977,4975,2,4.0201005025125629E-2,3360,3356,4,0.11918951132300358]
["     09777 Ostallgäu",45694,45659,35,7.6655204888411918E-2,13916,13912,4,2.8752156411730879E-2,8136,8132,4,4.9188391539596657E-2,5780,5780,0,0]
["     09778 Unterallgäu",47318,47241,77,0.16299400944095171,14546,14537,9,6.1910985760473276E-2,8663,8658,5,5.7750057750057752E-2,5883,5879,4,6.8038782105800305E-2]
["     09779 Donau-Ries",59548,59438,110,0.18506679228776204,15077,15072,5,3.3174097664543524E-2,9041,9041,0,0,6036,6031,5,8.2904990880451002E-2]
["     09780 Oberallgäu",48620,48545,75,0.15449582861262745,17548,17536,12,6.8430656934306569E-2,9727,9734,-7,-7.1912882679268542E-2,7821,7802,19,0.24352730069213022]
["     10041 Regionalverband Saarbrücken",149965,149505,460,0.30768201732383532,37857,37818,39,0.10312549579565286,27019,27009,10,3.7024695471879747E-2,10838,10809,29,0.26829493940234989]
["     10042 Merzig-Wadern",29650,29594,{"$f":"B352-C352","v":56},0.18922754612421436,9047,9022,25,0.27710042119264022,6416,6396,20,0.31269543464665417,2631,2626,5,0.19040365575019041]
["     10043 Neunkirchen",39016,38884,132,0.33947124781401089,11332,11314,18,0.1590949266395616,8250,8247,3,3.6376864314296105E-2,3082,3067,15,0.48907727420932506]
["     10044 Saarlouis",70239,69939,300,0.42894522369493415,18197,18163,34,0.18719374552662005,12949,12934,15,0.11597340343281275,5248,5229,19,0.36335819468349589]
["     10045 Saarpfalz-Kreis",64643,64530,113,0.17511235084456842,13910,13878,32,0.23058077532785703,9663,9654,9,9.3225605966438779E-2,4247,4224,23,0.5445075757575758]
["     10046 St. Wendel",26078,26025,53,0.20365033621517772,8138,8135,3,3.6877688998156119E-2,5709,5708,1,1.751927119831815E-2,2429,2427,2,8.2406262875978575E-2]
["     11000 Berlin, Stadt",1367680,1365639,2041,0.14945384541595547,217952,217838,114,5.2332467246302299E-2,152868,152822,46,3.0100378217795869E-2,65084,65016,68,0.1045896394733604]
["     12051 Brandenburg an der Havel, St.",28661,28560,101,0.35364145658263307,4161,4160,1,2.403846153846154E-2,3240,3239,1,3.0873726458783574E-2,921,921,0,0]
["     12052 Cottbus, Stadt",45563,45421,142,0.31263072147244669,8738,8737,1,1.1445576284765937E-2,6578,6574,4,6.0845756008518409E-2,2160,2163,-3,-0.13869625520110956]
["     12053 Frankfurt (Oder), Stadt",27266,27270,-4,-1.4668133480014669E-2,4152,4151,1,2.4090580582992051E-2,3140,3140,0,0,1012,1011,1,9.8911968348170135E-2]
["     12054 Potsdam, Stadt",81566,81440,126,0.15471512770137524,13399,13397,2,1.4928715384041204E-2,9550,9551,-1,-1.0470107842110775E-2,3849,3846,3,7.8003120124804995E-2]
["     12060 Barnim",48300,48236,64,0.1326809851563148,8178,8170,8,9.7919216646266835E-2,5888,5883,5,8.4990651028386877E-2,2290,2287,3,0.13117621337997376]
["     12061 Dahme-Spreewald",58416,58312,104,0.17835093977225958,8234,8225,9,0.10942249240121581,5975,5972,3,5.0234427327528468E-2,2259,2253,6,0.26631158455392812]
["     12062 Elbe-Elster",32379,32319,60,0.18564930845632599,4769,4766,3,6.2945866554762905E-2,3609,3605,4,0.11095700416088766,1160,1161,-1,-8.6132644272179162E-2]
["     12063 Havelland",42952,42836,116,0.27080026146232139,7552,7545,7,9.2776673293571907E-2,5436,5436,0,0,2116,2109,7,0.33191085822664768]
["     12064 Märkisch-Oderland",48632,48508,124,0.25562793765976743,8452,8458,-6,-7.0938756207141171E-2,6086,6091,-5,-8.2088327039894923E-2,2366,2367,-1,-4.2247570764681032E-2]
["     12065 Oberhavel",56202,56108,94,0.16753404149140944,9995,9990,5,5.0050050050050053E-2,7247,7248,-1,-1.379690949227373E-2,2748,2742,6,0.21881838074398249]
["     12066 Oberspreewald-Lausitz",38775,38640,135,0.34937888198757766,5732,5731,1,1.7448961786773687E-2,4373,4372,1,2.2872827081427266E-2,1359,1359,0,0]
["     12067 Oder-Spree",54132,54012,120,0.22217285047767163,7971,7974,-3,-3.7622272385252072E-2,5801,5799,2,3.4488704949129159E-2,2170,2175,-5,-0.22988505747126436]
["     12068 Ostprignitz-Ruppin",34661,34596,65,0.18788299225343971,4981,4980,1,2.0080321285140562E-2,3749,3750,-1,-2.6666666666666668E-2,1232,1230,2,0.16260162601626016]
["     12069 Potsdam-Mittelmark",60330,60201,129,0.21428215478148205,15347,15351,-4,-2.6056934401667644E-2,11591,11601,-10,-8.619946556331351E-2,3756,3750,6,0.16]
["     12070 Prignitz",26758,26711,47,0.17595747070495302,3515,3512,3,8.5421412300683369E-2,2536,2536,0,0,979,976,3,0.30737704918032788]
["     12071 Spree-Neiße",36389,36322,67,{"$f":"(D373*100)/C373","v":0.18446120808325533},5662,5661,1,1.7664723547076489E-2,4482,4483,-1,-2.2306491188935979E-2,1180,1178,2,0.1697792869269949]
["     12072 Teltow-Fläming",59313,59179,134,0.22643167339765796,7712,7701,11,0.14283859239059862,5392,5381,11,0.20442296970823268,2320,2320,0,0]
["     12073 Uckermark",38179,38107,72,0.18894166426115935,5576,5569,7,{"$f":"(H375*100)/G375","v":0.12569581612497754},4459,4454,5,0.1122586439155815,1117,1115,2,0.17937219730941703]
["     13003 Rostock, Hansestadt",87289,87099,190,0.21814257339349477,14061,14045,16,0.11391954432182272,10922,10907,15,{"$f":"(L376*100)/K376","v":0.13752635921885029},3139,3138,1,3.1867431485022309E-2]
["     13004 Schwerin, Landeshauptstadt",49893,49814,79,0.15858995463122816,7083,7077,6,8.4781687155574395E-2,5138,5136,2,3.8940809968847349E-2,1945,1941,4,{"$f":"(P377*100)/O377","v":0.20607934054611024}]
["     13071 Mecklenburgische Seenplatte",92507,92395,112,0.12121868066453813,12923,12917,6,4.6450414182859799E-2,9984,9979,5,5.0105220964024449E-2,2939,2938,1,3.4036759700476517E-2]
["     13072 Landkreis Rostock",66009,65903,106,0.16084245026781785,13665,13648,17,0.12456037514654161,10966,10952,14,0.12783053323593865,2699,2696,3,0.11127596439169139]
["     13073 Vorpommern-Rügen",72768,72689,79,0.10868219400459492,11837,11835,2,1.6899028305872411E-2,8908,8901,7,7.8642849118076619E-2,2929,2934,-5,-0.17041581458759372]
["     13074 Nordwestmecklenburg",45865,45775,90,0.19661387220098306,8726,8723,3,3.4391837670526199E-2,6601,6599,2,3.0307622367025305E-2,2125,2124,1,4.7080979284369114E-2]
["     13075 Vorpommern-Greifswald",81412,81325,87,0.10697817399323702,12290,12290,0,0,9627,9624,3,3.117206982543641E-2,2663,2666,-3,-0.11252813203300825]
["     13076 Ludwigslust-Parchim",64629,64531,98,0.15186499511862517,12599,12585,14,0.11124354390147001,9442,9440,2,2.1186440677966101E-2,3157,3145,12,0.38155802861685217]
["     14511 Chemnitz, Stadt",113324,113233,91,8.0365264543021911E-2,17807,17803,4,2.2468123349997191E-2,13196,13189,7,5.3074531806808704E-2,4611,4614,-3,-6.5019505851755532E-2]
["     14521 Erzgebirgskreis",113488,113350,138,0.12174680194089105,18274,18262,12,6.5710217938889495E-2,13624,13610,14,0.10286554004408523,4650,4652,-2,-4.2992261392949267E-2]
["     14522 Mittelsachsen",110641,110453,188,0.17020814282998198,16256,16239,17,0.10468624915327299,12035,12027,8,6.6517003408996425E-2,4221,4212,9,0.21367521367521367]
["     14523 Vogtlandkreis",80433,80277,156,0.19432714226989051,12298,12293,5,4.0673554055153341E-2,8771,8776,-5,-5.6973564266180492E-2,3527,3517,10,0.28433323855558718]
["     14524 Zwickau",123918,123842,76,6.1368517950291503E-2,18786,18758,28,0.14926964495148737,13842,13832,10,7.2296124927703875E-2,4944,4926,18,0.36540803897685747]
["     14612 Dresden, Stadt",252362,252056,306,0.12140159329672771,37406,37398,8,2.1391518263008717E-2,27138,27133,5,1.8427744812589835E-2,10268,10265,3,2.9225523623964928E-2]
["     14625 Bautzen",110590,110486,104,9.4129572977571824E-2,16431,16414,17,0.10357012306567565,12417,12408,9,7.2533849129593805E-2,4014,4006,8,0.19970044932601097]
["     14626 Görlitz",83986,83901,85,0.10130987711707846,12527,12516,11,8.788750399488654E-2,9646,9637,9,9.3390059147037463E-2,2881,2879,2,6.9468565474122959E-2]
["     14627 Meißen",87570,87477,93,0.10631365959052094,11676,11679,-3,-2.5687130747495505E-2,8558,8557,1,1.168633867009466E-2,3118,3122,-4,-0.12812299807815503]
["     14628 Sächs. Schweiz-Osterzgebirge",76611,76534,77,0.10060887971359135,11842,11832,10,8.4516565246788369E-2,8641,8640,1,1.1574074074074073E-2,3201,3192,9,0.28195488721804512]
["     14713 Leipzig, Stadt",255832,255507,325,0.12719808067880722,38109,38096,13,3.4124317513649728E-2,28106,28095,11,3.9152874176899805E-2,10003,10001,2,1.9998000199980003E-2]
["     14729 Leipzig",75244,75149,95,0.12641552116461963,12182,12168,14,0.11505588428665352,8870,8863,7,7.8980029335439461E-2,3312,3305,7,0.2118003025718608]
["     14730 Nordsachsen",71301,71244,57,8.0006737409466067E-2,9918,9906,12,0.12113870381586916,7342,7339,3,4.0877503747104513E-2,2576,2567,9,0.35060381768601478]
["     15001 Dessau-Roßlau, Stadt",33538,33524,14,4.1761126357236604E-2,3542,3540,2,5.6497175141242938E-2,2635,2633,2,7.5958982149639198E-2,907,907,0,0]
["     15002 Halle (Saale), Stadt",95293,95215,78,8.1919865567400094E-2,15086,15051,35,0.23254268819347551,11863,11841,22,0.18579511865551895,3223,3210,13,0.40498442367601245]
["     15003 Magdeburg, Landeshauptstadt",106927,106762,165,0.15454937149922257,14397,14380,{"$f":"F399-G399","v":17},0.11821974965229486,10896,10875,{"$f":"J399-K399","v":21},0.19310344827586207,3501,3505,{"$f":"N399-O399","v":-4},-0.11412268188302425]
["     15081 Altmarkkreis Salzwedel",27346,27296,50,0.18317702227432592,4695,4691,4,8.5269665316563631E-2,3406,3406,0,0,1289,1285,4,0.31128404669260701]
["     15082 Anhalt-Bitterfeld",54979,54913,66,0.12019011891537523,6778,6771,7,0.10338207059518535,5252,5248,4,7.621951219512195E-2,1526,1523,3,0.19697964543663821]
["     15083 Börde",59232,59131,101,0.17080719081361723,7567,7565,2,2.6437541308658295E-2,5605,5605,0,0,1962,1960,2,0.10204081632653061]
["     15084 Burgenlandkreis",57168,57054,114,0.19981070564728151,8709,8701,8,9.1943454775313183E-2,6706,6707,-1,-1.4909795735798419E-2,2003,1994,9,0.45135406218655966]
["     15085 Harz",72801,72602,199,0.27409713231040467,11859,11857,2,1.6867673104495235E-2,8846,8852,-6,-6.7781292363307724E-2,3013,3005,8,0.26622296173044924]
["     15086 Jerichower Land",27522,27459,63,0.22943297279580466,3968,3967,1,2.5207965717166624E-2,3049,3048,1,3.2808398950131233E-2,919,919,0,0]
["     15087 Mansfeld-Südharz",40813,40721,92,0.22592765403600107,5652,5643,9,0.15948963317384371,4398,4392,6,0.13661202185792351,1254,1251,3,0.23980815347721823]
["     15088 Saalekreis",68776,68629,147,0.21419516530912588,8784,8779,5,5.6954094999430459E-2,6735,6737,-2,-2.9686804215526198E-2,2049,2042,7,0.34280117531831539]
["     15089 Salzlandkreis",62165,62011,154,0.24834303591298318,8043,8034,9,0.11202389843166542,6247,6240,7,0.11217948717948718,1796,1794,2,0.11148272017837235]
["     15090 Stendal",35823,35751,72,0.20139296802886633,5428,5421,7,0.12912746725696367,4012,4012,0,0,1416,1409,7,0.49680624556422998]
["     15091 Wittenberg",41517,41473,44,0.10609312082559738,5612,5606,6,0.10702818408847663,4327,4323,4,9.2528336803145969E-2,1285,1283,2,0.1558846453624318]
["     16051 Erfurt, Stadt",106744,106617,127,0.11911796430212818,17040,17042,-2,-1.1735711770918906E-2,12246,12250,-4,-3.2653061224489799E-2,4794,4792,2,4.1736227045075125E-2]
["     16052 Gera, Stadt",35915,35884,31,8.6389477204325049E-2,4388,4385,3,6.8415051311288486E-2,3144,3143,1,3.1816735602927138E-2,1244,1242,2,0.1610305958132045]
["     16053 Jena, Stadt",54409,54359,50,9.1981088688165707E-2,8660,8648,12,0.13876040703052728,6743,6736,7,0.10391923990498812,1917,1912,5,0.2615062761506276]
["     16054 Suhl, Stadt",15675,15674,1,6.3799923440091876E-3,3345,3344,1,2.9904306220095694E-2,2320,2323,-3,-0.12914334911752046,1025,1021,4,0.39177277179236042]
["     16055 Weimar, Stadt",23750,23731,19,8.0064051240992792E-2,4383,4380,3,6.8493150684931503E-2,3301,3301,0,0,1082,1079,3,0.27803521779425394]
["     16056 Eisenach, Stadt",23741,23699,{"$f":"B416-C416","v":42},0.17722266762310646,2825,2819,6,0.21284143313231643,1910,1906,4,0.20986358866736621,915,913,2,0.21905805038335158]
["     16061 Eichsfeld",35713,35672,41,0.11493608432383942,5875,5869,6,0.10223206679161698,4040,4036,4,9.9108027750247768E-2,1835,1833,2,0.10911074740861974]
["     16062 Nordhausen",30248,30207,41,0.13573012877809779,4079,4076,3,7.3601570166830221E-2,3057,3058,-1,-3.2701111837802485E-2,1022,1018,4,0.39292730844793711]
["     16063 Wartburgkreis",41373,41322,51,0.12342093799912879,6419,6411,8,0.12478552487911403,4671,4669,2,4.2835724994645531E-2,1748,1742,6,0.34443168771526983]
["     16064 Unstrut-Hainich-Kreis",35237,35214,23,6.5314931561310838E-2,5575,5566,9,0.16169601149838303,4090,4082,8,0.19598236158745713,1485,1484,1,6.7385444743935305E-2]
["     16065 Kyffhäuserkreis",20589,20569,20,9.7233701200836214E-2,3127,3128,-1,-3.1969309462915603E-2,2412,2408,4,0.16611295681063123,715,720,-5,-0.69444444444444442]
["     16066 Schmalkalden-Meiningen",42845,42782,63,0.14725819269786358,8124,8121,3,3.6941263391207978E-2,5591,5595,-4,-7.1492403932082213E-2,2533,2526,7,0.27711797307996833]
["     16067 Gotha",48279,48236,43,8.9145036901898997E-2,7109,7105,4,5.6298381421534129E-2,4991,4990,1,2.004008016032064E-2,2118,2115,3,0.14184397163120568]
["     16068 Sömmerda",23842,23812,30,0.12598689736267429,3345,3346,-1,-2.9886431560071727E-2,2494,2495,-1,-4.0080160320641281E-2,851,851,0,0]
["     16069 Hildburghausen",20158,20123,35,0.17393032847984893,2908,2906,2,6.8823124569855468E-2,1944,1944,0,0,964,962,2,0.20790020790020791]
["     16070 Ilm-Kreis",37845,37813,32,8.4626980139105593E-2,5716,5708,8,0.1401541695865452,4128,4127,1,2.42306760358614E-2,1588,1581,7,0.44275774826059455]
["     16071 Weimarer Land",25194,25179,15,5.957345406886691E-2,4111,4107,4,9.7394691989286589E-2,2935,2935,0,0,1176,1172,4,0.34129692832764508]
["     16072 Sonneberg",21179,21164,15,7.0875070875070875E-2,3034,3027,7,0.23125206475057813,1979,1975,4,0.20253164556962025,1055,1052,3,0.28517110266159695]
["     16073 Saalfeld-Rudolstadt",36321,36261,60,0.16546703069413418,5525,5524,1,1.8102824040550327E-2,3858,3864,-6,-0.15527950310559005,1667,1660,7,0.42168674698795183]
["     16074 Saale-Holzland-Kreis",26580,26548,32,0.12053638692180202,3755,3750,5,0.13333333333333333,2762,2758,4,0.14503263234227701,993,992,1,0.10080645161290322]
["     16075 Saale-Orla-Kreis",30358,30339,19,6.2625663337618251E-2,4081,4074,7,0.1718213058419244,2846,2843,3,0.10552233556102708,1235,1231,4,0.3249390739236393]
["     16076 Greiz",29926,29885,41,0.13719257152417602,4674,4672,2,4.2808219178082189E-2,3297,3295,2,6.0698027314112293E-2,1377,1377,0,0]
["     16077 Altenburger Land",27442,27419,23,8.3883438491556953E-2,4386,4391,-5,-0.11386927806877704,3291,3295,-4,-0.12139605462822459,1095,1096,-1,-9.1240875912408759E-2]
[null,null,null,null,null,null,null,null,null,null,null,null,null,null,null,null,"© Statistik der Bundesagentur für Arbeit"]

{"sheet":"6","index":22,"n_rows":184,"n_cols":17,"rows_kept":184,"cut":false,"hidden":false,"merged":[[2,0,2,16],[8,7,8,8],[8,1,9,1],[8,2,9,2],[8,3,8,4],[6,0,10,0],[6,1,7,4],[6,5,7,8],[6,9,6,16],[7,9,7,12],[8,5,9,5],[8,6,9,6],[7,13,7,16],[8,15,8,16],[8,9,9,9],[8,10,9,10],[8,11,8,12],[8,13,9,13],[8,14,9,14]]}
[null,null,null,null,null,null,null,null,null,null,null,null,null,null,null,null,"Beschäftigungsstatistik"]
[]
["Sozialversicherungspflichtig Beschäftigte und geringfügig Beschäftigte"]
["Deutschland nach Regionaldirektionen und Agenturen für Arbeit (Arbeitsort)"]
["Stichtag: 30.06.2016"]
[]
["Regionen","sozialversicherungspflichtig Beschäftigte",null,null,null,"geringfügig Beschäftigte (GB)",null,null,null,"davon"]
[null,null,null,null,null,null,null,null,null,"ausschließlich GB",null,null,null,"im Nebenjob GB"]
[null," nach Revision"," vor Revision","Veränderung (Spalte 1 zu 2)",null," nach Revision"," vor Revision","Veränderung (Spalte 5 zu 6)",null," nach Revision"," vor Revision","Veränderung (Spalte 9 zu 10)",null," nach Revision"," vor Revision","Veränderung (Spalte 13 zu 14)"]
[null,null,null,"absolut","in %",null,null,"absolut","in %",null,null,"absolut","in %",null,null,"absolut","in %"]
[null,1,2,3,4,5,6,7,8,9,10,11,12,13,14,15,16]
["Deutschland",31443318,31373691,{"$f":"B12-C12","v":69627},{"$f":"(D12*100)/C12","v":0.22192798418267076},7763218,7756094,{"$f":"F12-G12","v":7124},{"$f":"(H12*100)/G12","v":9.1850356635698335E-2},5141533,5141164,{"$f":"J12-K12","v":369},{"$f":"(L12*100)/K12","v":7.177362947379232E-3},2621685,2614930,{"$f":"N12-O12","v":6755},{"$f":"(P12*100)/O12","v":0.25832431460880406}]
["davon nach Regionaldirektion"]
["   100 RD Nord",2434831,2430998,{"$f":"B14-C14","v":3833},{"$f":"(D14*100)/C14","v":0.15767186974238565},542921,542478,{"$f":"F14-G14","v":443},{"$f":"(H14*100)/G14","v":8.1662297825902619E-2},365068,364874,{"$f":"J14-K14","v":194},{"$f":"(L14*100)/K14","v":5.3169039175167319E-2},177853,177604,{"$f":"N14-O14","v":249},{"$f":"(P14*100)/O14","v":0.14019954505529156}]
["   200 RD Niedersachsen-Bremen",3155772,3139298,16474,0.52476700204950277,863948,863190,{"$f":"F15-G15","v":758},8.7813806925474108E-2,592551,593327,{"$f":"J15-K15","v":-776},-0.1307879129046883,271397,269863,{"$f":"N15-O15","v":1534},0.56843657707799888]
["   300 RD Nordrhein-Westfalen",6549350,6532721,16629,0.25454936771369846,1835199,1833161,2038,0.11117408672778878,1272586,1272081,505,3.9698729876477989E-2,562613,561080,1533,0.27322306979396876]
["   400 RD Hessen",2462605,2457858,4747,0.19313564900820146,602787,602198,589,9.7808362033749693E-2,394720,394583,137,3.4720198285278385E-2,208067,207615,452,0.2177106663776702]
["   500 RD Rheinland-Pfalz-Saarland",1744273,1740371,3902,0.22420506891921321,516384,515816,568,0.11011678583060626,352828,352684,144,4.0829751278765126E-2,163556,163132,424,0.25991221832626338]
["   600 RD Baden-Württemberg",4458706,4451187,7519,0.16892123381920374,1223207,1222120,1087,8.8943802572578792E-2,746314,746390,-76,-1.0182344350808559E-2,476893,475730,1163,0.24446639900784059]
["   700 RD Bayern",5317529,5308747,8782,0.16542509936902247,1358722,1357589,1133,8.3456775209581099E-2,820010,819989,21,2.5610099647678203E-3,538712,537600,1112,0.20684523809523808]
["   900 RD Berlin-Brandenburg",2186154,2182417,3737,0.17123217057051884,352078,351916,162,4.6033712590504552E-2,252000,251937,63,2.5006251562890724E-2,100078,99979,99,9.902079436681703E-2]
["   966 RD Sachsen-Anhalt-Thüringen",1577263,1575050,2213,0.14050347608012445,232604,232405,199,8.5626384974505712E-2,172027,171947,80,4.6525964396005745E-2,60577,60458,119,0.19683085778557013]
["   968 RD Sachsen",1555300,1553509,1791,0.11528739131862126,233512,233364,148,6.3420236197528318E-2,172186,172106,80,4.6482981418428181E-2,61326,61258,68,0.11100590943223743]
["        keine Zuordnung / keine Angabe",1535,1535,0,null,1856,1857,-1,null,1243,1246,-3,null,613,611,2]
["davon nach Agenturen für Arbeit"]
["   030 AA Greifswald",81412,81325,{"$f":"B26-C26","v":87},{"$f":"(D26*100)/C26","v":0.10697817399323702},12290,12290,{"$f":"F26-G26","v":0},{"$f":"(H26*100)/G26","v":0},9627,9624,{"$f":"J26-K26","v":3},{"$f":"(L26*100)/K26","v":3.117206982543641E-2},2663,2666,{"$f":"N26-O26","v":-3},{"$f":"(P26*100)/O26","v":-0.11252813203300825}]
["   031 AA Neubrandenburg",92507,92395,112,0.12121868066453813,12923,12917,6,4.6450414182859799E-2,9984,9979,5,5.0105220964024449E-2,2939,2938,1,3.4036759700476517E-2]
["   032 AA Rostock",153298,153002,296,0.19346152337877937,27726,27693,33,0.1191636875744773,21888,21859,29,0.13266846607804567,5838,5834,4,6.8563592732259176E-2]
["   033 AA Schwerin",160387,160120,267,0.16674993754683987,28408,28385,23,8.1028712348071158E-2,21181,21175,6,2.833530106257379E-2,7227,7210,17,0.23578363384188628]
["   034 AA Stralsund",72768,72689,79,0.10868219400459492,11837,11835,2,1.6899028305872411E-2,8908,8901,7,7.8642849118076619E-2,2929,2934,-5,-0.17041581458759372]
["   035 AA Cottbus",211522,211014,508,0.24074232041475921,33135,33120,15,4.5289855072463768E-2,25017,25006,11,4.3989442533791889E-2,8118,8114,4,4.9297510475720979E-2]
["   036 AA Eberswalde",86479,86343,136,0.15751132112620594,13754,13739,15,0.1091782516922629,10347,10337,10,9.6739866498984237E-2,3407,3402,5,0.14697236919459142]
["   037 AA Frankfurt (Oder)",130030,129790,240,0.18491409199476078,20575,20583,-8,-3.8867026186658896E-2,15027,15030,-3,-1.9960079840319361E-2,5548,5553,-5,-9.0041419052764277E-2]
["   038 AA Neuruppin",160573,160251,322,0.20093478355829292,26043,26027,16,6.1474622507396166E-2,18968,18970,-2,-1.0542962572482868E-2,7075,7057,18,0.25506589202210572]
["   039 AA Potsdam",229870,229380,490,0.21361932164966432,40619,40609,10,2.4625083109655495E-2,29773,29772,1,3.3588606744592233E-3,10846,10837,9,8.3048814247485461E-2]
["   041 AA Bernburg",62165,62011,154,0.24834303591298318,8043,8034,9,0.11202389843166542,6247,6240,7,0.11217948717948718,1796,1794,2,0.11148272017837235]
["   042 AA Dessau-Roßlau – Wittenberg",130034,129910,124,9.5450696636132704E-2,15932,15917,15,9.4238864107557954E-2,12214,12204,10,8.1940347427073096E-2,3718,3713,5,0.13466199838405601]
["   043 AA Halberstadt",72801,72602,199,0.27409713231040467,11859,11857,2,1.6867673104495235E-2,8846,8852,-6,-6.7781292363307724E-2,3013,3005,8,0.26622296173044924]
["   044 AA Halle",164069,163844,225,0.13732574888308391,23870,23830,40,0.16785564414603441,18598,18578,20,0.10765421466250404,5272,5252,20,0.38080731150038083]
["   045 AA Magdeburg",193681,193352,329,0.17015598493938516,25932,25912,20,7.7184316146958934E-2,19550,19528,22,0.11265874641540352,6382,6384,-2,-3.1328320802005011E-2]
["   046 AA Weißenfels",57168,57054,114,0.19981070564728151,8709,8701,8,9.1943454775313183E-2,6706,6707,-1,-1.4909795735798419E-2,2003,1994,9,0.45135406218655966]
["   047 AA Sangerhausen",40813,40721,92,0.22592765403600107,5652,5643,9,0.15948963317384371,4398,4392,6,0.13661202185792351,1254,1251,3,0.23980815347721823]
["   048 AA Stendal",63169,63047,122,0.19350643170967691,10123,10112,11,0.10878164556962025,7418,7418,0,0,2705,2694,11,0.40831477357089829]
["   071 AA Annaberg-Buchholz",113488,113350,138,0.12174680194089105,18274,18262,12,6.5710217938889495E-2,13624,13610,14,0.10286554004408523,4650,4652,-2,-4.2992261392949267E-2]
["   072 AA Bautzen",194576,194387,189,9.7228724143075415E-2,28958,28930,28,9.6785343933632903E-2,22063,22045,18,8.1651168065320939E-2,6895,6885,10,0.14524328249818447]
["   073 AA Chemnitz",113324,113233,91,8.0365264543021911E-2,17807,17803,4,2.2468123349997191E-2,13196,13189,7,5.3074531806808704E-2,4611,4614,-3,-6.5019505851755532E-2]
["   074 AA Dresden",252362,252056,306,0.12140159329672771,37406,37398,8,2.1391518263008717E-2,27138,27133,5,1.8427744812589835E-2,10268,10265,3,2.9225523623964928E-2]
["   075 AA Leipzig",255832,255507,325,0.12719808067880722,38109,38096,13,3.4124317513649728E-2,28106,28095,11,3.9152874176899805E-2,10003,10001,2,1.9998000199980003E-2]
["   076 AA Oschatz",146545,146393,152,0.10383010116603936,22100,22074,26,0.11778563015312132,16212,16202,10,6.1720775212936674E-2,5888,5872,16,0.27247956403269757]
["   077 AA Pirna",76611,76534,77,0.10060887971359135,11842,11832,10,8.4516565246788369E-2,8641,8640,1,1.1574074074074073E-2,3201,3192,9,0.28195488721804512]
["   078 AA Plauen",80433,80277,156,0.19432714226989051,12298,12293,5,4.0673554055153341E-2,8771,8776,-5,-5.6973564266180492E-2,3527,3517,10,0.28433323855558718]
["   079 AA Riesa",87570,87477,93,0.10631365959052094,11676,11679,-3,-2.5687130747495505E-2,8558,8557,1,1.168633867009466E-2,3118,3122,-4,-0.12812299807815503]
["   080 AA Freiberg",110641,110453,188,0.17020814282998198,16256,16239,17,0.10468624915327299,12035,12027,8,6.6517003408996425E-2,4221,4212,9,0.21367521367521367]
["   092 AA Zwickau",123918,123842,76,6.1368517950291503E-2,18786,18758,28,0.14926964495148737,13842,13832,10,7.2296124927703875E-2,4944,4926,18,0.36540803897685747]
["   093 AA Erfurt",217375,217152,223,0.10269304450338933,34595,34583,12,3.469912963016511E-2,25104,25108,-4,-1.5931177314003505E-2,9491,9475,16,0.16886543535620052]
["   094 AA Altenburg – Gera",123641,123527,114,9.2287516089599841E-2,17529,17522,7,3.9949777422668642E-2,12578,12576,2,1.5903307888040712E-2,4951,4946,5,0.10109179134654266]
["   095 AA Gotha",83516,83450,66,7.9089275014979032E-2,12684,12671,13,0.10259648015152711,9081,9072,9,9.9206349206349201E-2,3603,3599,4,0.11114198388441233]
["   096 AA Jena",117310,117168,{"$f":"B58-C58","v":142},{"$f":"(D58*100)/C58","v":0.12119349993172197},17940,17922,{"$f":"F58-G58","v":18},{"$f":"(H58*100)/G58","v":0.1004352192835621},13363,13358,{"$f":"J58-K58","v":5},{"$f":"(L58*100)/K58","v":3.7430753106752507E-2},4577,4564,{"$f":"N58-O58","v":13},{"$f":"(P58*100)/O58","v":0.28483786152497809}]
["   097 AA Nordhausen",86550,86448,102,0.11799000555247086,13081,13073,8,6.1194829036946376E-2,9509,9502,7,7.3668701326036617E-2,3572,3571,1,2.8003360403248391E-2]
["   098 AA Suhl",164971,164764,207,0.12563424048942731,26655,26628,27,0.10139702568724651,18415,18412,3,1.62937214859874E-2,8240,8216,24,0.29211295034079843]
["   111 AA Bad Oldesloe",127275,127050,225,0.17709563164108619,36797,36763,34,9.2484291271114974E-2,24188,24190,-2,-8.2678792889623806E-3,12609,12573,36,0.28632784538296352]
["   115 AA Elmshorn",176091,175836,255,0.14502149730430627,52870,52819,51,9.6556163501770195E-2,33232,33221,11,3.3111586044971553E-2,19638,19598,40,0.20410245943463617]
["   119 AA Flensburg",152463,152279,184,0.12083084338615305,47031,46960,71,0.15119250425894379,31675,31652,23,7.2665234424364969E-2,15356,15308,48,0.31356153645152862]
["   123 AA Hamburg",933846,932219,1627,0.17452980469181598,174263,174175,88,5.0523898378068033E-2,106917,106889,28,2.6195398965281742E-2,67346,67286,60,8.9171595874327492E-2]
["   127 AA Heide",75698,75613,85,0.11241453189266395,24247,24223,24,9.9079387359121501E-2,16675,16663,12,7.2015843485566819E-2,7572,7560,12,0.15873015873015872]
["   131 AA Kiel",145670,145502,168,0.11546233041470221,40550,40543,7,1.7265619219100709E-2,28994,28993,1,3.4491084054771842E-3,11556,11550,6,5.1948051948051951E-2]
["   135 AA Lübeck",151689,151361,328,0.21670047105925569,41131,41096,35,8.5166439556161183E-2,29003,28990,13,4.4843049327354258E-2,12128,12106,22,0.18172806872625144]
["   139 AA Neumünster",111727,111607,120,0.10752013762577615,32848,32779,69,0.21050062540040879,22796,22738,58,0.25507960242765415,10052,10041,11,0.10955084154964645]
["   211 AA Braunschweig – Goslar",240277,238704,1573,0.65897513238152694,50999,50952,47,9.2243680326581881E-2,35655,35706,-51,-0.14283313728785077,15344,15246,98,0.64279155188246095]
["   214 AA Bremen – Bremerhaven",344379,343576,803,0.23371830395603885,80959,80874,85,0.10510176323663971,54233,54232,1,1.8439297831538575E-3,26726,26642,84,0.31529164477141358]
["   221 AA Celle",100899,100336,563,0.56111465476000633,29623,29589,34,0.11490756700125046,20218,20244,-26,-0.12843311598498319,9405,9345,60,0.6420545746388443]
["   224 AA Emden – Leer",153024,152267,757,0.49715302724818905,48477,48465,12,2.4760136180748994E-2,36090,36144,-54,-0.14940239043824702,12387,12321,66,0.53567080594107619]
["   231 AA Göttingen",170344,169500,844,0.49793510324483775,42282,42249,33,7.8108357594262587E-2,29823,29868,-45,-0.1506629168340699,12459,12381,78,0.62999757693239644]
["   234 AA Hameln",115480,114961,519,0.45145745078765842,31558,31537,21,6.6588451659954973E-2,22043,22069,-26,-0.11781231591825637,9515,9468,47,0.49640895648500211]
["   237 AA Hannover",490559,487986,2573,0.52726922493678097,112431,112321,110,9.7933601018509453E-2,74732,74825,-93,-0.12429001002338791,37699,37496,203,0.54139108171538297]
["   241 AA Helmstedt",182490,181881,609,0.33483431474425585,28080,28051,29,0.10338312359630673,20080,20082,-2,-9.9591674136042235E-3,8000,7969,31,0.38900740368929604]
["   244 AA Hildesheim",118921,118224,697,0.58955880362701307,34972,34932,40,0.11450818733539449,24569,24587,-18,-7.3209419611990081E-2,10403,10345,58,0.5606573223779604]
["   251 AA Lüneburg – Uelzen",156469,155465,1004,0.64580452191811666,49069,49010,59,0.12038359518465619,32942,32996,-54,-0.16365620075160625,16127,16014,113,0.70563257149993752]
["   257 AA Nordhorn",175557,174400,1157,0.6634174311926605,58229,58204,25,4.2952374407257236E-2,40695,40821,-126,-0.30866465789667086,17534,17383,151,0.86866478743600073]
["   261 AA Oldenburg – Wilhelmshaven",260858,259485,1373,0.52912499759138298,78784,78705,79,0.10037481735594943,53390,53419,-29,-5.4287800220895188E-2,25394,25286,108,0.42711381792296133]
["   264 AA Osnabrück",211085,209883,1202,0.57270002811089993,66662,66617,45,6.7550324992119132E-2,44114,44207,-93,-0.2103739226819282,22548,22410,138,0.61579651941097724]
["   267 AA Stade",158298,157225,1073,0.68246144061058989,56330,56273,57,0.10129191619426724,38349,38415,-66,-0.17180788754392814,17981,17858,123,0.688766939186919]
["   274 AA Vechta",127910,127162,748,0.58822604237114862,44875,44850,25,5.5741360089186176E-2,31639,31691,-52,-0.16408444037739423,13236,13159,77,0.58515084732882439]
["   277 AA Nienburg – Verden",149222,148243,979,0.66040217750585184,50618,50561,57,0.11273511204287889,33979,34021,-42,-0.12345316128273713,16639,16540,99,0.59854897218863357]
["   311 AA Aachen – Düren",352096,351520,576,0.16385980883022302,121515,121360,155,0.12771918259723139,88005,87929,76,8.6433372379988396E-2,33510,33431,79,0.23630761867727559]
["   315 AA Bergisch Gladbach",235981,235526,455,0.19318461656037975,68754,68691,63,9.171507184347294E-2,45379,45354,25,5.5121929708515233E-2,23375,23337,38,0.16283155504135063]
["   317 AA Bielefeld",314878,314067,811,0.25822515577886246,79496,79462,34,4.2787747602627671E-2,51385,51422,-37,-7.195363852047762E-2,28111,28040,71,0.25320970042796004]
["   321 AA Bochum",171366,170872,494,0.28910529519172246,44233,44183,50,0.11316569721386054,32631,32610,21,6.439742410303588E-2,11602,11573,29,0.25058325412598287]
["   323 AA Bonn",321782,321331,451,0.14035371626142512,99579,99428,151,0.15186868890051092,68233,68165,68,9.9757940291938685E-2,31346,31263,83,0.26548955634456067]
["   325 AA Brühl",190244,189861,{"$f":"B90-C90","v":383},{"$f":"(D90*100)/C90","v":0.20172652624814996},61526,61427,{"$f":"F90-G90","v":99},{"$f":"(H90*100)/G90","v":0.16116691357220767},40772,40739,{"$f":"J90-K90","v":33},{"$f":"(L90*100)/K90","v":8.1003461056972439E-2},20754,20688,{"$f":"N90-O90","v":66},{"$f":"(P90*100)/O90","v":0.31902552204176332}]
["   327 AA Coesfeld",204043,203530,513,0.25205129464943743,73512,73455,57,7.7598529712068612E-2,50631,50645,-14,-2.7643400138217002E-2,22881,22810,71,0.31126698816308634]
["   331 AA Detmold",108141,107898,243,0.22521270088416839,29552,29523,29,9.8228499813704573E-2,20770,20759,11,5.2989064983862424E-2,8782,8764,18,0.20538566864445459]
["   333 AA Dortmund",223669,223017,652,0.29235439450804201,55421,55379,42,7.5841022770364211E-2,39455,39445,10,2.5351755609075929E-2,15966,15934,32,0.20082841722103678]
["   337 AA Düsseldorf",399679,398524,1155,0.28981943371039132,75148,75109,39,5.1924536340518447E-2,49119,49140,-21,-4.2735042735042736E-2,26029,25969,60,0.23104470715083369]
["   341 AA Duisburg",166250,165788,462,0.27866914372572199,37212,37129,83,0.22354493791914676,27518,27467,51,0.18567735828448684,9694,9662,32,0.3311943696957152]
["   343 AA Essen",238964,238374,590,0.24751021504023091,60643,60551,92,0.1519380357054384,43784,43724,60,0.13722440764797364,16859,16827,32,0.19017055922030071]
["   345 AA Gelsenkirchen",110626,110115,511,0.46406030059483266,34693,34638,55,0.1587851492580403,25791,25775,16,6.2075654704170709E-2,8902,8863,39,0.4400315920117342]
["   347 AA Hagen",173229,172857,372,0.2152067894270987,45628,45565,63,0.13826401843520245,31759,31739,20,6.3013957591606537E-2,13869,13826,43,0.31100824533487631]
["   351 AA Hamm",179241,178453,788,0.44157285111485939,51831,51771,60,0.1158949991307875,38073,38065,8,2.1016681991330617E-2,13758,13706,52,0.37939588501386257]
["   353 AA Herford",213788,213200,588,0.27579737335834897,52948,52908,40,7.5602933393815686E-2,35355,35356,-1,-2.8283742504808238E-3,17593,17552,41,0.23359161349134003]
["   355 AA Iserlohn",157699,157213,486,0.30913474076571273,42072,42047,25,5.9457274002901517E-2,28778,28781,-3,-1.0423543309822453E-2,13294,13266,28,0.21106588270767376]
["   357 AA Köln",538112,536811,1301,0.24235717971502074,122357,122235,122,9.9807747371865665E-2,82099,82105,-6,-7.3077157298581082E-3,40258,40130,128,0.31896336905058559]
["   361 AA Krefeld",174299,173820,479,0.27557243125071912,50433,50315,118,0.23452250819835038,34454,34419,35,0.10168802115110839,15979,15896,83,0.52214393558127836]
["   364 AA Mettmann",180077,179669,408,0.22708424936967422,46623,46568,55,0.11810685449235526,30551,30539,12,3.929401748583778E-2,16072,16029,43,0.26826377191340695]
["   365 AA Mönchengladbach",237569,237120,449,0.18935560053981107,66235,66168,67,0.10125740539233466,45107,45089,18,3.9921045044245825E-2,21128,21079,49,0.23245884529626643]
["   367 AA Ahlen – Münster",248666,248081,585,0.23581007815995583,70522,70466,56,7.9470950529333298E-2,49186,49191,-5,-1.0164460978634302E-2,21336,21275,61,0.28672150411280845]
["   371 AA Oberhausen",122965,122628,337,0.274814887301432,35975,35948,27,7.5108490041170581E-2,26100,26084,16,6.1340285232326333E-2,9875,9864,11,0.11151662611516626]
["   373 AA Paderborn",157936,157426,510,0.32396173440219533,48953,48933,20,4.087221302597429E-2,34289,34302,-13,-3.7898664800886245E-2,14664,14631,33,0.22554849292597909]
["   375 AA Recklinghausen",159735,159238,497,0.31211143068865471,52378,52300,78,0.14913957934990441,39709,39675,34,8.5696282293635795E-2,12669,12625,44,0.34851485148514849]
["   377 AA Rheine",150936,150468,468,0.31102958768641836,52446,52402,44,8.396626082973932E-2,36099,36107,-8,-2.215636857119118E-2,16347,16295,52,0.31911629334151581]
["   381 AA Siegen",167699,167106,593,0.35486457697509366,48668,48621,47,9.6666049649328484E-2,33404,33424,-20,-5.9837242699856394E-2,15264,15197,67,0.44087648878068042]
["   383 AA Meschede – Soest",208357,207873,484,0.23283447104722596,65058,65000,58,8.9230769230769225E-2,44343,44336,7,1.5788523998556479E-2,20715,20664,51,0.24680603948896632]
["   387 AA Wesel",226216,225673,543,0.24061363122748403,82723,82594,129,0.15618567934716807,60049,59977,72,0.12004601764009537,22674,22617,57,0.2520228146969094]
["   391 AA Solingen – Wuppertal",215107,214662,445,0.20730264322516329,59065,58985,80,0.13562770195812496,39758,39718,40,0.10071000553905031,19307,19267,40,0.20760886489853117]
["   411 AA Bad Hersfeld – Fulda",136865,136614,251,0.1837293395991626,35128,35102,26,7.406985356959718E-2,23754,23741,13,5.4757592350785561E-2,11374,11361,13,0.11442654695889447]
["   415 AA Darmstadt",269430,268368,1062,0.39572527275979252,82219,82115,104,0.12665164708031421,54763,54728,35,6.3952638503142811E-2,27456,27387,69,0.25194435316025854]
["   419 AA Frankfurt",552059,551231,828,0.15020925891323239,81156,81104,52,6.4115210100611567E-2,49420,49444,-24,-4.8539762155165436E-2,31736,31660,76,0.24005053695514844]
["   427 AA Gießen",207015,206648,367,0.17759668615229762,66680,66605,75,0.11260415884693341,45628,45603,25,5.4820954761748128E-2,21052,21002,50,0.23807256451766498]
["   431 AA Hanau",128286,128076,210,0.16396514569474374,36259,36223,36,9.9384369047290394E-2,23904,23897,7,2.9292379796627192E-2,12355,12326,29,0.23527502839526204]
["   433 AA Bad Homburg",279664,279143,521,0.18664268851448898,63552,63479,73,0.1149986609744955,38767,38754,13,3.3544924394901171E-2,24785,24725,60,0.24266936299292213]
["   435 AA Kassel",206675,206304,371,0.17983170466883822,51771,51736,35,6.7651152002474096E-2,36653,36635,18,4.9133342432100449E-2,15118,15101,17,0.11257532613734189]
["   439 AA Korbach",113481,113338,{"$f":"B122-C122","v":143},{"$f":"(D122*100)/C122","v":0.12617127530042879},30794,30773,{"$f":"F122-G122","v":21},{"$f":"(H122*100)/G122","v":6.8241640399051118E-2},20718,20712,{"$f":"J122-K122","v":6},{"$f":"(L122*100)/K122","v":2.8968713789107765E-2},10076,10061,{"$f":"N122-O122","v":15},{"$f":"(P122*100)/O122","v":0.1490905476592784}]
["   443 AA Limburg – Wetzlar",142239,142007,232,0.16337222812959926,41601,41547,54,0.12997328326955015,28344,28309,35,0.1236355929209792,13257,13238,19,0.14352621241879437]
["   447 AA Marburg",88477,88390,87,9.8427423916732662E-2,25076,25061,15,5.9853956346514504E-2,17460,17459,1,5.7277049086431071E-3,7616,7602,14,0.18416206261510129]
["   451 AA Offenbach",164662,164332,330,0.20081298834067618,44967,44900,67,0.1492204899777283,28020,28004,16,5.7134695043565206E-2,16947,16896,51,0.30184659090909088]
["   459 AA Wiesbaden",173752,173407,345,0.19895390612835698,43584,43553,31,7.1177645627166899E-2,27289,27297,-8,-2.9307249880939298E-2,16295,16256,39,0.23991141732283464]
["   511 AA Bad Kreuznach",113470,113251,219,0.19337577593133837,33195,33161,34,0.10253008051626911,21906,21901,5,2.2830007762202641E-2,11289,11260,29,0.25754884547069273]
["   515 AA Kaiserslautern – Pirmasens",160644,160372,272,0.16960566682463274,46880,46821,59,0.12601183229747337,32229,32211,18,5.5881531153953619E-2,14651,14610,41,0.2806297056810404]
["   519 AA Koblenz – Mayen",189469,189043,426,0.22534555630200537,62587,62542,45,7.1951648492213235E-2,42469,42468,1,2.3547141377036826E-3,20118,20074,44,0.21918900069741956]
["   523 AA Ludwigshafen",172196,171712,484,0.28186731270965337,40700,40669,31,7.6225134623423244E-2,28441,28449,-8,-2.8120496326760166E-2,12259,12220,39,0.31914893617021278]
["   527 AA Mainz",224687,224218,469,0.20917143137482272,64616,64540,76,0.11775643012085528,42476,42462,14,3.2970656116056707E-2,22140,22078,62,0.28082253827339432]
["   535 AA Montabaur",96920,96770,150,0.15500671695773482,35382,35341,41,0.11601256331173425,23350,23331,19,8.1436715100081436E-2,12032,12010,22,0.18318068276436303]
["   543 AA Landau",143196,142951,245,0.17138739847919918,46366,46317,49,0.10579268950925147,31338,31323,15,4.7888133320563166E-2,15028,14994,34,0.22675736961451248]
["   547 AA Neuwied",93685,93526,159,0.1700062014840793,29852,29823,29,9.7240384937799684E-2,20030,20020,10,4.9950049950049952E-2,9822,9803,19,0.19381821891257778]
["   555 AA Saarland",379591,378477,1114,0.29433756872940758,98481,98330,151,0.15356452761110545,70006,69948,58,8.2918739635157543E-2,28475,28382,93,0.32767246846592912]
["   563 AA Trier",170415,170051,364,0.21405343102951468,58325,58272,53,9.0952773201537621E-2,40583,40571,12,2.9577777230041163E-2,17742,17701,41,0.23162533190215243]
["   611 AA Aalen",170516,170242,274,0.16094735729138521,46758,46731,27,5.7777492456827374E-2,28662,28679,-17,-5.9276822762299938E-2,18096,18052,44,0.2437403057832927]
["   614 AA Balingen",112127,111965,162,0.14468807216540883,35003,34959,44,0.1258617237335164,20217,20214,3,1.4841199168892847E-2,14786,14745,41,0.2780603594438793]
["   617 AA Freiburg",247840,247354,486,0.19647953944549107,81720,81671,49,5.9996816495451265E-2,52181,52207,-26,-4.9801750723083113E-2,29539,29464,75,0.25454792288894923]
["   621 AA Göppingen",293319,292896,423,0.14441986234021631,82894,82784,110,0.13287591805179744,49352,49323,29,5.8796099182936969E-2,33542,33461,81,0.24207286094258987]
["   624 AA Heidelberg",253513,253166,347,0.13706421873395322,71602,71539,63,8.8063853282824747E-2,46736,46731,5,1.0699535640153216E-2,24866,24808,58,0.23379554982263787]
["   627 AA Heilbronn",201865,201569,296,0.14684797761560558,53052,53002,50,9.43360627900834E-2,31321,31318,3,9.5791557570726101E-3,21731,21684,47,0.21674967718133187]
["   631 AA Karlsruhe – Rastatt",439745,439010,735,0.16742215439283842,112786,112643,143,0.12694974388111113,69092,69058,34,4.9233977236525818E-2,43694,43585,109,0.25008603877480784]
["   634 AA Konstanz – Ravensburg",298608,298098,510,0.17108467685123685,98407,98332,75,7.6272220640279872E-2,61842,61855,-13,-2.101689434968879E-2,36565,36477,88,0.24124790964169202]
["   637 AA Lörrach",130350,130075,275,0.21141649048625794,39778,39738,40,0.10065931853641351,25892,25888,4,1.5451174289245983E-2,13886,13850,36,0.25992779783393499]
["   641 AA Ludwigsburg",193725,193464,261,0.13490882024562709,49568,49496,72,0.14546630030709554,28958,28932,26,8.9865892437439518E-2,20610,20564,46,0.22369188873759968]
["   644 AA Mannheim",183417,183055,362,0.19775477315560896,38072,38056,16,4.2043304603741852E-2,24795,24808,-13,-5.2402450822315379E-2,13277,13248,29,0.21890096618357488]
["   647 AA Nagold – Pforzheim",205246,204972,274,0.13367679487930059,59414,59371,43,7.2425931852251102E-2,34995,34996,-1,-2.8574694250771515E-3,24419,24375,44,0.18051282051282053]
["   651 AA Offenburg",171801,171530,271,0.15798985600186558,51091,51033,58,0.11365195069856759,31489,31475,14,4.4479745830023829E-2,19602,19558,44,0.2249718785151856]
["   664 AA Reutlingen",186427,186140,287,0.15418502202643172,56253,56221,32,5.6918233400330837E-2,34675,34678,-3,-8.6510179364438552E-3,21578,21543,35,0.16246576614213434]
["   671 AA Waiblingen",143353,143182,171,0.11942841977343521,45351,45321,30,6.6194479380419669E-2,26710,26714,-4,-1.4973422175638242E-2,18641,18607,34,0.18272693072499596]
["   674 AA Schwäbisch Hall – Tauberbischofsheim",231540,231151,389,0.16828826178558604,61063,60996,67,0.10984326841104335,37363,37349,14,3.7484269993841871E-2,23700,23647,53,0.22412991077092231]
["   677 AA Stuttgart",570830,569968,862,0.15123656064901889,113534,113443,91,8.0216496390257658E-2,66676,66701,-25,-3.748069744081798E-2,46858,46742,116,0.24817080997817809]
["   684 AA Ulm",223563,222944,{"$f":"B154-C154","v":619},{"$f":"(D154*100)/C154","v":0.27764819865078227},67246,67232,{"$f":"F154-G154","v":14},{"$f":"(H154*100)/G154","v":2.0823417420276057E-2},40134,40196,{"$f":"J154-K154","v":-62},{"$f":"(L154*100)/K154","v":-0.1542442034033237},27112,27036,{"$f":"N154-O154","v":76},{"$f":"(P154*100)/O154","v":0.2811066725847019}]
["   687 AA Rottweil – Villingen-Schwenningen",200921,200406,515,0.25697833398201653,59615,59552,63,0.1057898979043525,35224,35268,-44,-0.124758988318022,24391,24284,107,0.44061933783561191]
["   711 AA Ansbach – Weißenburg",154088,153844,244,0.15860222043108604,40763,40746,17,4.1721886810975307E-2,24591,24593,-2,-8.132395397064205E-3,16172,16153,19,0.11762520893951588]
["   715 AA Aschaffenburg",135762,135430,332,0.2451450934061877,42368,42344,24,5.6678632155677311E-2,26401,26404,-3,-1.1361914861384638E-2,15967,15940,27,0.16938519447929737]
["   723 AA Bayreuth – Hof",184538,184253,285,0.15467862124361612,42002,41967,35,8.3398861009841063E-2,26779,26763,16,5.9784030190935249E-2,15223,15204,19,0.12496711391739015]
["   727 AA Bamberg – Coburg",233541,233148,393,0.16856245818106955,58556,58524,32,5.4678422527510082E-2,37693,37691,2,5.3063065453291241E-3,20863,20833,30,0.14400230403686459]
["   729 AA Fürth",240218,239848,370,0.15426436743270738,49843,49775,68,0.1366147664490206,31125,31110,15,4.8216007714561235E-2,18718,18665,53,0.28395392445754086]
["   735 AA Nürnberg",364545,364090,455,0.12496910104644456,78598,78535,63,8.0219010632202201E-2,46245,46241,4,8.6503319564888298E-3,32353,32294,59,0.18269647612559609]
["   739 AA Regensburg",247071,246491,580,0.23530270882101173,65500,65473,27,4.1238373069815037E-2,41333,41356,-23,-5.5614662926782084E-2,24167,24117,50,0.2073226354853423]
["   743 AA Schwandorf",157727,157344,383,0.24341570063046572,39673,39655,18,4.5391501702181314E-2,25252,25266,-14,-5.5410432992954957E-2,14421,14389,32,0.22239210508026966]
["   747 AA Schweinfurt",168301,167967,334,0.19884858335268238,43701,43672,29,6.6404103315625573E-2,28885,28885,0,0,14816,14787,29,0.19611821194292284]
["   751 AA Weiden",80661,80536,125,0.15521009238104699,21266,21262,4,1.8812905653278148E-2,13622,13627,-5,-3.6691861745064946E-2,7644,7635,9,0.11787819253438114]
["   759 AA Würzburg",200445,200149,296,0.1478898220825485,58396,58363,33,5.6542672583657451E-2,38544,38544,0,0,19852,19819,33,0.16650688733033958]
["   811 AA Augsburg",244782,244327,455,0.18622583668608053,75577,75524,53,7.0176367777130447E-2,45472,45469,3,6.5979018672062285E-3,30105,30055,50,0.16636167027116952]
["   815 AA Deggendorf",128595,128375,220,0.17137293086660174,34871,34838,33,9.4724151788277172E-2,22718,22718,0,0,12153,12120,33,0.2722772277227723]
["   819 AA Donauwörth",203010,202714,296,0.14601852856734118,55459,55422,37,6.6760492223304824E-2,32358,32354,4,1.2363231748779131E-2,23101,23068,33,0.14305531472169239]
["   823 AA Freising",200196,199847,349,0.17463359469994547,60196,60110,86,0.14307103643320579,32541,32537,4,1.2293696407167225E-2,27655,27573,82,0.29739237660029738]
["   827 AA Ingolstadt",212742,212328,414,0.1949813496100373,46835,46792,43,9.1896050606941351E-2,28533,28535,-2,-7.0089363939022254E-3,18302,18257,45,0.24648080188420879]
["   831 AA Kempten – Memmingen",257528,257181,347,0.13492443065389745,75944,75882,62,8.1705806383595578E-2,44097,44078,19,4.310540405644539E-2,31847,31804,43,0.13520311910451516]
["   835 AA Landshut – Pfarrkirchen",171321,171144,177,0.10342167998878138,53384,53342,42,7.8737205204154323E-2,33884,33886,-2,-5.9021424777194118E-3,19500,19456,44,0.22615131578947367]
["   843 AA München",1041270,1039721,1549,0.14898227505263431,198900,198684,216,0.10871534698314912,109712,109733,-21,-1.9137360684570729E-2,89188,88951,237,0.26643882587042306]
["   847 AA Passau",118400,118245,155,0.13108376675546535,35663,35631,32,8.9809435603828133E-2,23474,23460,14,5.9676044330775786E-2,12189,12171,18,0.14789253142716294]
["   855 AA Rosenheim",183907,183614,293,0.1595738887012973,60256,60170,86,0.14292836961941166,34731,34720,11,3.1682027649769587E-2,25525,25450,75,0.29469548133595286]
["   859 AA Traunstein",182639,182275,364,0.19969825812645728,52062,52024,38,7.3043210825772725E-2,31470,31474,-4,-1.2708902586261676E-2,20592,20550,42,0.20437956204379562]
["   863 AA Weilheim",206242,205876,366,0.17777691425906855,68909,68854,55,7.9879164609173034E-2,40550,40545,5,1.2331976815883586E-2,28359,28309,50,0.17662227560139884]
["   922 AA Berlin Süd1)","x","x","x","x","x","x","x","x","x","x","x","x","x","x","x","x"]
["   955 AA Berlin Nord1)","x","x","x","x","x","x","x","x","x","x","x","x","x","x","x","x"]
["   962 AA Berlin Mitte1)","x","x","x","x","x","x","x","x","x","x","x","x","x","x","x","x"]
[null,null,null,null,null,null,null,null,null,null,null,null,null,null,null,null,"© Statistik der Bundesagentur für Arbeit"]
["x) Daten nach dem Arbeitsort lassen sich nur bis zur Ebene der Gemeinde auswerten. Aus diesem Grund können die Agenturen in Berlin nicht ausgewiesen werden."]
["1) Daten unterhalb der Gemeinde sind nicht darstellbar. Daher finden Sie die Daten für Berlin Insgesamt in den Kreisdaten der Tabelle 5."]

{"sheet":"7","index":23,"n_rows":432,"n_cols":9,"rows_kept":432,"cut":false,"hidden":false,"merged":[[7,5,8,5],[7,6,8,6],[7,7,7,8],[6,5,6,8],[2,0,2,8],[6,0,9,0],[6,1,6,4],[7,1,8,1],[7,2,8,2],[7,3,7,4]]}
[null,null,null,null,null,null,null,null,"Beschäftigungsstatistik"]
[]
["Begonnene und beendete sozialversicherungspflichtige Beschäftigungsverhältnisse"]
["Deutschland nach Bundesländern und Kreisen/kreisfreien Städten (Arbeitsort) (Gebietsstand November 2017)"]
["Berichtsjahr 2016"]
[]
["Regionen","Begonnene Beschäftigungsverhältnisse",null,null,null,"Beendete Beschäftigungsverhältnisse"]
[null," nach Revision"," vor Revision","Veränderung (Spalte 1 zu 2)",null," nach Revision"," vor Revision","Veränderung (Spalte 13 zu 14)"]
[null,null,null,"absolut","in %",null,null,"absolut","in %"]
[null,1,2,3,4,5,6,7,8]
["Deutschland",10220893,10202487,{"$f":"B11-C11","v":18406},{"$f":"(D11*100)/C11","v":0.18040699292241197},9661314,9774346,{"$f":"F11-G11","v":-113032},{"$f":"(H11*100)/G11","v":-1.1564149662800969}]
["davon nach Ländern"]
["       01 Schleswig-Holstein",322055,321730,{"$f":"B13-C13","v":325},{"$f":"(D13*100)/C13","v":0.10101638019457308},302710,304981,{"$f":"F13-G13","v":-2271},{"$f":"(H13*100)/G13","v":-0.74463655112941463}]
["       02 Hamburg",378831,378349,482,0.12739560564452398,359824,362418,{"$f":"F14-G14","v":-2594},-0.71574811405614513]
["       03 Niedersachsen",884196,879938,4258,0.48389772915819068,839387,865134,-25747,-2.9760707589806898]
["       04 Bremen",139237,138990,247,0.17771062666378876,133663,134608,-945,-0.70203851182693455]
["       05 Nordrhein-Westfalen",2119648,2115879,3769,0.17812927865912936,2018327,2045020,-26693,-1.3052684081329278]
["       06 Hessen",765759,764800,959,0.12539225941422594,724992,732948,-7956,-1.0854794610258844]
["       07 Rheinland-Pfalz",431322,430717,605,0.1404634597659252,413039,417788,-4749,-1.1367009105096364]
["       08 Baden-Württemberg",1347738,1345218,2520,0.18733023197727061,1266609,1278208,-11599,-0.90744229421189671]
["       09 Bayern",1710552,1707913,2639,0.15451606727040545,1598799,1614327,-15528,-0.96188690395440324]
["       10 Saarland",109671,109356,315,0.28805003840667176,107345,109046,-1701,-1.559892155604057]
["       11 Berlin",668078,667335,743,0.11133838327077106,618163,621070,-2907,-0.46806318128391322]
["       12 Brandenburg",253358,253025,333,0.13160754866119947,241573,244240,-2667,-1.0919587291188995]
["       13 Mecklenburg-Vorpommern",179499,179347,152,8.4751905523928472E-2,173848,175240,-1392,-0.79433919196530467]
["       14 Sachsen",452668,452212,456,0.10083766021246672,432411,435105,-2694,-0.61916089219843484]
["       15 Sachsen-Anhalt",217761,217372,389,0.17895589128314596,209367,211501,-2134,-1.008978680951863]
["       16 Thüringen",227396,227182,214,9.4197603683390405E-2,220561,222016,-1455,-0.65535817238397231]
["        keine Zuordnung / keine Angabe",13124,13124,0,null,696,696,0]
["davon nach Kreisen und kreisfreien Städten"]
["     01001 Flensburg, Stadt",14245,14242,{"$f":"B31-C31","v":3},{"$f":"(D31*100)/C31","v":2.1064457239151804E-2},13497,13578,-81,-0.59655324790101638]
["     01002 Kiel, Landeshauptstadt",37804,37778,26,6.8823124569855468E-2,34845,35074,-229,-0.65290528596681308]
["     01003 Lübeck, Hansestadt",35254,35199,55,0.15625443904656383,33154,33508,-354,-1.0564641279694402]
["     01004 Neumünster, Stadt",12574,12566,8,6.3663854846410947E-2,11451,11531,-80,-0.69378197901309513]
["     01051 Dithmarschen",13981,13973,8,5.7253274171616686E-2,13423,13484,-61,-0.45238801542568968]
["     01053 Herzogtum Lauenburg",14429,14417,12,8.3235069709370876E-2,13317,13455,-138,-1.0256410256410255]
["     01054 Nordfriesland",22739,22726,13,5.7203203379389243E-2,21611,21693,-82,-0.37800212049970039]
["     01055 Ostholstein",23184,23165,19,8.2020289229440962E-2,22381,22521,-140,-0.62164202300075488]
["     01056 Pinneberg",30508,30470,38,0.12471283229405973,28854,29088,-234,-0.8044554455445545]
["     01057 Plön",8748,8740,8,9.1533180778032033E-2,8223,8260,-37,-0.44794188861985473]
["     01058 Rendsburg-Eckernförde",22185,22163,22,9.9264539999097595E-2,21327,21448,-121,-0.56415516598284221]
["     01059 Schleswig-Flensburg",19622,19583,39,0.19915232599703825,18296,18417,-121,-0.65700168322745289]
["     01060 Segeberg",28328,28303,25,8.8329859025544993E-2,26216,26446,-230,-0.86969674052786816]
["     01061 Steinburg",11489,11483,6,5.2251153879648175E-2,10847,10955,-108,-0.98585120949338201]
["     01062 Stormarn",26965,26922,43,0.15972067454126737,25268,25523,-255,-0.99909885201582882]
["     02000 Hamburg, Freie und Hansestadt",378831,378349,482,0.12739560564452398,359824,362418,-2594,-0.71574811405614513]
["     03101 Braunschweig, Stadt",37920,37741,179,0.47428526006200156,36149,37167,-1018,-2.7389888879920359]
["     03102 Salzgitter, Stadt",9772,9738,34,0.34914766892585747,10035,11095,-1060,-9.5538530869761153]
["     03103 Wolfsburg, Stadt",20546,20497,49,0.239059374542616,21351,21857,-506,-2.3150478107700052]
["     03151 Gifhorn",10628,10550,78,0.73933649289099523,10787,11118,-331,-2.977154164418061]
["     03153 Goslar",14020,13951,69,0.49458820156261202,13482,13895,-413,-2.9722921914357681]
["     03154 Helmstedt",6489,6440,49,0.76086956521739135,6215,6324,-109,-1.7235926628716003]
["     03155 Northeim",12714,12667,47,0.37104286729296598,11645,12042,-397,-3.2967945523999336]
["     03157 Peine",9674,9624,50,0.51953449709060684,9570,9922,-352,-3.5476718403547673]
["     03158 Wolfenbüttel",7181,7154,27,0.37741123846798996,6749,6915,-166,-2.40057845263919]
["     03159 Göttingen",37981,37882,{"$f":"B56-C56","v":99},{"$f":"(D56*100)/C56","v":0.26133783855129084},36657,37739,{"$f":"F56-G56","v":-1082},{"$f":"(H56*100)/G56","v":-2.8670606004398631}]
["     03241 Region Hannover",160488,159752,736,0.46071410686564174,153500,157525,-4025,-2.5551499761942549]
["     03251 Diepholz",19897,19813,84,0.42396406399838488,18662,19529,-867,-4.4395514363254645]
["     03252 Hameln-Pyrmont",15435,15380,55,0.35760728218465537,14899,15237,-338,-2.218284439194067]
["     03254 Hildesheim",27757,27599,158,0.57248451030834446,26232,26978,-746,-2.7652161020090444]
["     03255 Holzminden",5361,5344,17,0.31811377245508982,5125,5304,-179,-3.3748114630467572]
["     03256 Nienburg (Weser)",11501,11443,58,0.50686008913746394,10667,11118,-451,-4.0564849793128257]
["     03257 Schaumburg",12589,12557,32,0.25483793899816837,12231,12657,-426,-3.3657264754681204]
["     03351 Celle",15497,15421,76,0.4928344465339472,15522,15848,-326,-2.0570418980312972]
["     03352 Cuxhaven",15371,15281,90,0.5889666906616059,14600,15077,-477,-3.1637593685746501]
["     03353 Harburg",20405,20294,111,0.54695969251995669,18595,19113,-518,-2.7101972479464238]
["     03354 Lüchow-Dannenberg",4417,4383,34,0.77572438968742874,3928,4079,-151,-3.7018877175778377]
["     03355 Lüneburg",20446,20327,119,0.5854282481428642,19527,20101,-574,-2.8555793244117207]
["     03356 Osterholz",7691,7637,54,0.70708393348173371,6952,7198,-246,-3.4176160044456791]
["     03357 Rotenburg (Wümme)",16103,16032,71,0.44286427145708585,14685,15229,-544,-3.5721321163569506]
["     03358 Heidekreis",14743,14639,104,0.71043104037161009,14085,14575,-490,-3.3619210977701544]
["     03359 Stade",20385,20292,93,0.45830869308101713,19635,20312,-677,-3.333005120126034]
["     03360 Uelzen",9205,9161,44,0.48029691081759635,8653,9036,-383,-4.2386011509517489]
["     03361 Verden",13887,13823,64,0.46299645518339,13269,13619,-350,-2.569939055730964]
["     03401 Delmenhorst, Stadt",7905,7876,29,0.36820721178263077,7541,7641,-100,-1.3087292239235702]
["     03402 Emden, Stadt",7015,6989,26,0.37201316354270997,7352,7590,-238,{"$f":"(H76*100)/G76","v":-3.1357048748353096}]
["     03403 Oldenburg (Oldenburg), Stadt",26859,26708,151,0.56537367081024414,25465,26228,{"$f":"F77-G77","v":-763},-2.9091047735244775]
["     03404 Osnabrück, Stadt",30629,30444,185,0.6076731047168572,29666,30276,-610,-2.0147971991015985]
["     03405 Wilhelmshaven, Stadt",9766,9730,36,0.36998972250770812,9345,9635,-290,-3.0098598858329009]
["     03451 Ammerland",14331,14270,61,0.42747021723896284,13496,13819,-323,-2.3373616035892613]
["     03452 Aurich",23201,23123,78,0.33732647147861439,21810,22248,-438,-1.9687162891046386]
["     03453 Cloppenburg",21762,21722,40,0.18414510634379891,18556,19002,-446,-2.3471213556467738]
["     03454 Emsland",39630,39312,318,0.80891330891330893,35824,37183,-1359,-3.6548960546486295]
["     03455 Friesland",8946,8894,52,0.58466381830447489,8500,8724,-224,-2.5676295277395691]
["     03456 Grafschaft Bentheim",15109,15003,106,0.70652536159434776,13964,14446,-482,-3.3365637546725737]
["     03457 Leer",17373,17305,68,0.3929500144466917,16726,17233,-507,-2.942029826495677]
["     03458 Oldenburg",10758,10704,54,0.50448430493273544,10256,10578,-322,-3.0440536963509168]
["     03459 Osnabrück",35987,35800,187,0.52234636871508378,32931,34118,-1187,-3.4791019403247554]
["     03460 Vechta",22474,22322,152,0.68094256787026253,21128,22064,-936,-4.2422044960116025]
["     03461 Wesermarsch",7896,7875,21,0.26666666666666666,7242,7428,-186,-2.5040387722132471]
["     03462 Wittmund",6452,6439,13,0.20189470414660662,6178,6312,-134,-2.122940430925222]
["     04011 Bremen, Stadt",96640,96448,192,0.19907100199071001,92121,92855,-734,-0.79047978030262234]
["     04012 Bremerhaven, Stadt",42597,42542,55,0.12928400169244511,41542,41753,-211,-0.5053529087730223]
["     05111 Düsseldorf, Stadt",134862,134702,{"$f":"B94-C94","v":160},{"$f":"(D94*100)/C94","v":0.11878071595076539},127873,129828,-1955,-1.5058384940074561]
["     05112 Duisburg, Stadt",49361,49232,129,0.26202469938251544,47628,48248,-620,-1.2850273586469905]
["     05113 Essen, Stadt",76619,76476,143,0.18698676709032899,75358,76262,-904,-1.1853872177493379]
["     05114 Krefeld, Stadt",27732,27689,43,0.15529632706128788,26576,26899,-323,-1.2007881333878583]
["     05116 Mönchengladbach, Stadt",34253,34220,33,9.6434833430742259E-2,32401,32647,-246,-0.75351487119796612]
["     05117 Mülheim an der Ruhr, Stadt",14786,14762,24,0.16257959626066928,14324,14662,-338,-2.3052789523939436]
["     05119 Oberhausen, Stadt",21825,21795,30,0.13764624913971094,21804,22095,-291,-1.31704005431093]
["     05120 Remscheid, Stadt",12448,12442,6,4.8223758238225368E-2,12060,12200,-140,-1.1475409836065573]
["     05122 Solingen, Klingenstadt",16000,15981,19,0.11889118328014517,15434,15576,-142,-0.91165896250642009]
["     05124 Wuppertal, Stadt",37811,37760,51,0.1350635593220339,35291,35641,-350,-0.98201509497488848]
["     05154 Kleve",37910,37865,45,0.11884325894625644,35599,35889,-290,-0.80804703391011168]
["     05158 Mettmann",49130,49055,75,0.15288961369890938,46814,47417,-603,-1.2716958053018959]
["     05162 Rhein-Kreis Neuss",42591,42527,64,0.1504926282126649,40070,40649,-579,-1.4243892838692218]
["     05166 Viersen",28451,28408,43,0.15136581244719796,26800,27218,-418,-1.535748401792931]
["     05170 Wesel",41793,41711,82,0.1965908273596893,40195,40930,-735,-1.7957488394820424]
["     05314 Bonn, Stadt",58467,58454,13,2.2239709857323708E-2,55326,55652,-326,-0.5857830805721268]
["     05315 Köln, Stadt",268605,268328,277,0.10323186547807162,256311,258380,-2069,-0.80075857264494155]
["     05316 Leverkusen, Stadt",16901,16885,16,9.475866153390583E-2,16381,16582,-201,-1.2121577614280545]
["     05334 Städteregion Aachen",66168,66106,62,9.3788763501043773E-2,62364,62842,-478,-0.76063779001304865]
["     05358 Düren",25595,25578,17,6.6463366955977793E-2,24695,24816,-121,-0.48758865248226951]
["     05362 Rhein-Erft-Kreis",47943,47878,65,0.13576172772463344,46218,46662,-444,-0.95152372380095152]
["     05366 Euskirchen",16805,16769,36,0.21468185342000121,15948,16082,-134,-0.8332296977987812]
["     05370 Heinsberg",20923,20892,31,0.14838215584912887,18916,19187,-271,-1.4124146557565018]
["     05374 Oberbergischer Kreis",30998,30956,42,0.135676443985011,29099,29406,-307,-1.0440046249064816]
["     05378 Rheinisch-Bergischer Kreis",20553,20549,4,1.9465667429071975E-2,19724,20011,-287,-1.4342111838488831]
["     05382 Rhein-Sieg-Kreis",49220,49173,47,9.5580908221991737E-2,46587,47057,-470,-0.99878870306224365]
["     05512 Bottrop, Stadt",10398,10356,42,0.40556199304750867,10105,10433,-328,-3.143870411195246]
["     05513 Gelsenkirchen, Stadt",23664,23606,58,0.24570024570024571,22667,23124,-457,-1.9763016779103961]
["     05515 Münster, Stadt",46303,46229,74,0.16007268165004651,43294,43848,-554,-1.2634555738004014]
["     05554 Borken",37841,37758,83,0.21982096509349011,34953,35495,-542,-1.5269756303704747]
["     05558 Coesfeld",18872,18813,59,0.31361292723116996,17810,18044,-234,-1.2968299711815563]
["     05562 Recklinghausen",49649,49540,109,0.22002422285022205,48127,48978,-851,-1.7375148025644167]
["     05566 Steinfurt",46168,46032,136,0.29544664581160929,42658,43332,-674,-1.5554324748453798]
["     05570 Warendorf",24150,24092,58,0.24074381537439815,23246,23619,-373,-1.5792370549134171]
["     05711 Bielefeld, Stadt",47974,47859,115,0.24028918280783135,44245,44874,-629,-1.4017025449035077]
["     05754 Gütersloh",50852,50698,154,0.30375951714071558,46746,47442,-696,-1.4670545086632099]
["     05758 Herford",24284,24232,52,0.21459227467811159,22999,23518,-519,-2.2068203078493069]
["     05762 Höxter",11424,11406,18,0.15781167806417676,10674,10902,-228,-2.0913593835993396]
["     05766 Lippe",29208,29154,54,0.18522329697468615,28623,29083,-460,-1.5816800192552349]
["     05770 Minden-Lübbecke",33340,33295,45,0.1351554287430545,32249,32714,-465,-1.4214097939719998]
["     05774 Paderborn",34781,34704,77,0.22187644075610879,33783,34337,-554,-1.6134199260273174]
["     05911 Bochum, Stadt",40222,40094,128,0.31924976305681646,38392,38917,-525,-1.3490248477529101]
["     05913 Dortmund, Stadt",74981,74812,169,0.22589958830134202,69407,70469,-1062,-1.507045651279286]
["     05914 Hagen, Stadt der FernUniversi.",22284,22252,32,0.14380729822038468,21942,22167,-225,-1.0150223304912709]
["     05915 Hamm, Stadt",18441,18227,214,1.1740824052230208,17484,17892,-408,-2.2803487592219986]
["     05916 Herne, Stadt",11850,11819,31,0.26228953380150605,12004,12273,-269,-2.1918031451152937]
["     05954 Ennepe-Ruhr-Kreis",29065,29018,47,0.16196843338617409,27927,28343,-416,{"$f":"(H140*100)/G140","v":-1.4677345376283386}]
["     05958 Hochsauerlandkreis",27270,27206,64,0.23524222597956332,25284,25597,{"$f":"F141-G141","v":-313},-1.2227995468218933]
["     05962 Märkischer Kreis",41182,41119,63,0.15321384274909408,40514,41291,-777,-1.8817660022765252]
["     05966 Olpe",16828,16788,40,0.23826542768644271,15759,16067,-308,-1.9169726769154167]
["     05970 Siegen-Wittgenstein",30700,30610,90,0.29402156158118264,29775,30365,-590,-1.9430265107854439]
["     05974 Soest",28798,28704,94,0.32748049052396877,27712,28157,-445,-1.5804240508576908]
["     05978 Unna",41369,41263,106,0.25688873809466106,40152,40901,-749,-1.8312510696559987]
["     06411 Darmstadt, Wissenschaftsstadt",31770,31737,33,0.10397958219113337,30707,32107,-1400,-4.3604198461394708]
["     06412 Frankfurt am Main, Stadt",178873,178656,217,0.12146247537166398,171408,172666,-1258,-0.72857424159938844]
["     06413 Offenbach am Main, Stadt",18471,18449,22,0.11924765569949591,16958,17084,-126,-0.7375321938656052]
["     06414 Wiesbaden, Landeshauptstadt",39789,39732,57,0.14346118997281787,37704,38123,-419,-1.0990740497862184]
["     06431 Bergstraße",24632,24596,36,0.14636526264433242,23551,23733,-182,-0.76686470315594324]
["     06432 Darmstadt-Dieburg",24443,24417,26,0.10648318794282671,22989,23191,-202,-0.87102755379241947]
["     06433 Groß-Gerau",30777,30716,61,0.1985935668706863,27625,28006,-381,-1.360422766550025]
["     06434 Hochtaunuskreis",26017,25985,32,0.12314796998268232,24486,24773,-287,-1.158519355750212]
["     06435 Main-Kinzig-Kreis",42410,42369,41,9.6768864027944962E-2,38808,39205,-397,-1.0126259405688049]
["     06436 Main-Taunus-Kreis",28099,28054,45,0.16040493334283881,26988,27261,-273,-1.0014306151645207]
["     06437 Odenwaldkreis",8664,8660,4,4.6189376443418015E-2,8185,8260,-75,-0.90799031476997583]
["     06438 Offenbach",38173,38103,{"$f":"B158-C158","v":70},{"$f":"(D158*100)/C158","v":0.18371256856415505},34875,35282,-407,-1.1535627232016326]
["     06439 Rheingau-Taunus-Kreis",14874,14844,30,0.20210185933710589,13407,13545,-138,-1.0188261351052048]
["     06440 Wetteraukreis",25002,24975,27,0.10810810810810811,23558,23864,-306,-1.2822661749916191]
["     06531 Gießen",28964,28939,25,8.63886105255883E-2,27110,27331,-221,-0.80860561267425268]
["     06532 Lahn-Dill-Kreis",23763,23738,25,0.10531637037661135,23204,23437,-233,-0.9941545419635619]
["     06533 Limburg-Weilburg",16157,16133,24,0.14876340420256617,15265,15423,-158,-1.024444012189587]
["     06534 Marburg-Biedenkopf",27498,27478,20,7.2785501128175265E-2,26862,27012,-150,-0.5553087516659263]
["     06535 Vogelsbergkreis",7801,7788,13,0.16692347200821778,7386,7468,-82,-1.098018211033744]
["     06611 Kassel, documenta-Stadt",34245,34217,28,8.1830668965718792E-2,33211,33542,-331,-0.98682249120505638]
["     06631 Fulda",27169,27146,23,8.4727031606866579E-2,25335,25569,-234,-0.91517071453713483]
["     06632 Hersfeld-Rotenburg",14211,14190,21,0.14799154334038056,13011,13160,-149,-1.1322188449848025]
["     06633 Kassel",16807,16778,29,0.17284539277625463,16651,16853,-202,-1.1985996558476235]
["     06634 Schwalm-Eder-Kreis",13614,13598,16,0.11766436240623621,12863,12978,-115,-0.88611496378486665]
["     06635 Waldeck-Frankenberg",15566,15543,23,0.1479765810976002,14874,15006,-132,-0.87964814074370257]
["     06636 Werra-Meißner-Kreis",7970,7959,11,0.13820831762784269,7971,8069,-98,-1.2145247242533153]
["     07111 Koblenz, kreisfreie Stadt",21420,21399,21,9.8135426889106966E-2,20210,20491,-281,-1.3713337562832464]
["     07131 Ahrweiler",10462,10406,56,0.53815106669229296,10119,10243,-124,-1.2105828370594551]
["     07132 Altenkirchen (Westerwald)",10567,10544,23,0.21813353566009105,9919,10007,-88,-0.87938443089837115]
["     07133 Bad Kreuznach",15449,15432,17,0.11016070502851218,15176,15339,-163,-1.0626507595019232]
["     07134 Birkenfeld",6746,6739,7,0.10387297818667458,6576,6678,-102,-1.527403414195867]
["     07135 Cochem-Zell",6334,6327,7,0.1106369527422159,6100,6146,-46,-0.74845427920598762]
["     07137 Mayen-Koblenz",22790,22756,34,0.14941114431358762,21332,21536,-204,-0.94725111441307575]
["     07138 Neuwied",16407,16387,20,0.12204796485018612,15523,15670,-147,-0.93809827696234849]
["     07140 Rhein-Hunsrück-Kreis",11246,11232,14,0.12464387464387465,10551,10655,-104,-0.97606757390896293]
["     07141 Rhein-Lahn-Kreis",9187,9180,7,7.6252723311546838E-2,8809,8907,-98,-1.1002582238688672]
["     07143 Westerwaldkreis",20621,20598,23,0.11166132634236334,19380,19572,-192,-0.9809932556713673]
["     07211 Trier, kreisfreie Stadt",18044,17990,54,0.30016675931072817,17448,17672,-224,-1.2675418741511997]
["     07231 Bernkastel-Wittlich",13590,13575,15,0.11049723756906077,12931,13020,-89,-0.68356374807987708]
["     07232 Eifelkreis Bitburg-Prüm",7885,7874,11,0.13970027940055879,7512,7576,-64,-0.84477296726504747]
["     07233 Vulkaneifel",5461,5449,12,0.22022389429253075,5412,5458,-46,-0.84279956027849023]
["     07235 Trier-Saarburg",10296,10278,18,0.17513134851138354,10068,10217,-149,-1.4583537241851816]
["     07311 Frankenthal (Pfalz), kr.f. St.",5164,5163,1,1.9368584156498159E-2,5068,5102,-34,-0.66640533124264989]
["     07312 Kaiserslautern, kreisfr. Stadt",15773,15757,16,0.10154217173319795,15331,15480,-149,-0.96253229974160204]
["     07313 Landau in der Pfalz, kr.f. St.",7796,7792,4,5.1334702258726897E-2,7441,7499,-58,-0.77343645819442597]
["     07314 Ludwigshafen am Rhein, Stadt",24057,24027,30,0.12485953302534648,23504,24299,-795,-3.2717395777604015]
["     07315 Mainz, kreisfreie Stadt",37462,37412,50,0.13364695819523148,35809,36262,-453,-1.2492416303568474]
["     07316 Neustadt an der Weinstraße,St.",9333,9332,1,1.0715816545220747E-2,9021,9063,-42,-0.46342270771267791]
["     07317 Pirmasens, kreisfreie Stadt",5055,5045,10,0.19821605550049554,5007,5045,-38,-0.75322101090188309]
["     07318 Speyer, kreisfreie Stadt",9244,9234,10,0.10829542993285683,9052,9122,-70,-0.76737557553168168]
["     07319 Worms, kreisfreie Stadt",12341,12326,15,0.12169398020444588,11824,11963,-139,-1.1619159073810916]
["     07320 Zweibrücken, kreisfreie Stadt",4325,4323,2,4.6264168401572985E-2,4242,4291,-49,-1.1419249592169658]
["     07331 Alzey-Worms",11309,11302,7,6.1935940541497078E-2,10347,10411,-64,-0.614734415522044]
["     07332 Bad Dürkheim",10515,10500,15,0.14285714285714285,10173,10253,-80,-0.78025943626255734]
["     07333 Donnersbergkreis",6671,6658,13,0.19525382997897267,6492,6553,-61,-0.93087135663055087]
["     07334 Germersheim",12156,12142,14,0.11530225662987975,11796,11934,-138,-1.1563599798893918]
["     07335 Kaiserslautern",7952,7941,11,0.13852159677622466,7708,7770,-62,-0.79794079794079797]
["     07336 Kusel",3255,3251,4,0.12303906490310673,3154,3202,-48,{"$f":"(H204*100)/G204","v":-1.4990630855715179}]
["     07337 Südliche Weinstraße",9659,9651,8,8.2892964459641491E-2,8810,8904,{"$f":"F205-G205","v":-94},-1.0557053009883199]
["     07338 Rhein-Pfalz-Kreis",11541,11510,31,0.26933101650738489,11250,11335,-85,-0.74988972209969118]
["     07339 Mainz-Bingen",16587,16571,16,9.6554221229859391E-2,15397,15541,-144,-0.92658130107457692]
["     07340 Südwestpfalz",4622,4614,8,0.17338534893801474,4547,4572,-25,-0.54680664916885391]
["     08111 Stuttgart, Landeshauptstadt",133372,133228,144,0.10808538745609031,126000,126945,-945,-0.74441687344913154]
["     08115 Böblingen",48138,48054,84,0.17480334623548507,44288,44765,-477,-1.0655646152127778]
["     08116 Esslingen",62109,62013,96,0.15480625030235595,58359,58799,-440,-0.74831204612323343]
["     08117 Göppingen",25019,25003,16,6.3992320921489418E-2,23765,23957,-192,-0.80143590599824688]
["     08118 Ludwigsburg",56718,56627,91,0.16070072580217917,54286,54661,-375,-0.68604672435557346]
["     08119 Rems-Murr-Kreis",43090,43056,34,7.8966926793013745E-2,39959,40269,-310,-0.76982294072363355]
["     08121 Heilbronn, Stadt",25490,25463,27,0.10603620940187723,23723,23882,-159,-0.66577338581358347]
["     08125 Heilbronn",35811,35716,95,0.26598723261283458,32407,32678,-271,-0.8293041189791297]
["     08126 Hohenlohekreis",13354,13336,18,0.13497300539892021,12394,12568,-174,-1.3844684914067473]
["     08127 Schwäbisch Hall",23002,22967,35,0.15239256324291375,21733,21923,-190,-0.86666970761300921]
["     08128 Main-Tauber-Kreis",15113,15085,28,0.18561484918793503,13829,13922,-93,-0.66800747019106455]
["     08135 Heidenheim",14108,14083,25,0.17751899453241496,13252,13400,-148,-1.1044776119402986]
["     08136 Ostalbkreis",33948,33927,21,6.1897603678486159E-2,32506,32937,-431,-1.3085587637003977]
["     08211 Baden-Baden, Stadt",9122,9104,{"$f":"B222-C222","v":18},{"$f":"(D222*100)/C222","v":0.1977152899824253},8855,8926,-71,-0.7954290835760699]
["     08212 Karlsruhe, Stadt",50749,50637,112,0.22118213954223195,48850,49314,-464,-0.94090927525651946]
["     08215 Karlsruhe",46794,46679,115,0.24636346108528459,45050,45321,-271,-0.59795679706979099]
["     08216 Rastatt",23670,23651,19,8.0334869561540734E-2,22394,22591,-197,-0.87202868398919919]
["     08221 Heidelberg, Stadt",26935,26912,23,8.5463733650416165E-2,25316,25529,-213,-0.83434525441654583]
["     08222 Mannheim, Universitätsstadt",64336,64192,144,0.22432701894317048,62300,62851,-551,-0.87667658430255679]
["     08225 Neckar-Odenwald-Kreis",12035,12021,14,0.11646285666749855,11881,12051,-170,-1.410671313583935]
["     08226 Rhein-Neckar-Kreis",48574,48509,65,0.13399575336535488,44381,44780,-399,-0.89102277802590446]
["     08231 Pforzheim, Stadt",17575,17563,12,6.8325456926493194E-2,16631,16793,-162,-0.96468766748049783]
["     08235 Calw",12716,12703,13,0.10233803038652287,11614,11687,-73,-0.62462565243432877]
["     08236 Enzkreis",16801,16780,21,0.12514898688915377,15262,15427,-165,-1.0695533804368964]
["     08237 Freudenstadt",12916,12900,16,0.12403100775193798,12300,12414,-114,-0.91831802803286611]
["     08311 Freiburg im Breisgau, Stadt",41229,41159,70,0.17007215918754101,38806,39281,-475,-1.2092360174129986]
["     08315 Breisgau-Hochschwarzwald",26026,25995,31,0.11925370263512214,24271,24473,-202,-0.82539941976872466]
["     08316 Emmendingen",14156,14145,11,7.7765995051254866E-2,12780,12876,-96,-0.74557315936626278]
["     08317 Ortenaukreis",52282,52211,71,0.13598666947578097,48667,49101,-434,-0.88389238508380685]
["     08325 Rottweil",14392,14305,87,0.60817895840615166,13289,13530,-241,-1.7812269031781227]
["     08326 Schwarzwald-Baar-Kreis",24860,24800,60,0.24193548387096775,23623,23981,-358,-1.492848505066511]
["     08327 Tuttlingen",16541,16509,32,0.1938336664849476,15325,15457,-132,-0.85398201462120726]
["     08335 Konstanz",34794,34764,30,8.6296168450120808E-2,32458,32713,-255,-0.77950661816403266]
["     08336 Lörrach",23289,23273,16,6.8749194345378767E-2,22197,22505,-308,-1.3685847589424571]
["     08337 Waldshut",17008,16970,38,0.22392457277548616,15899,16037,-138,-0.86051007046205652]
["     08415 Reutlingen",31900,31857,43,0.13497818375867157,30362,30660,-298,-0.97195042400521847]
["     08416 Tübingen",21975,21941,34,0.15496103185816507,19977,20142,-165,-0.81918379505510874]
["     08417 Zollernalbkreis",17688,17664,24,0.1358695652173913,16950,17107,-157,-0.91775296662185069]
["     08421 Ulm, Universitätsstadt",32423,32097,326,1.0156712465339439,30034,30126,-92,-0.30538405364137289]
["     08425 Alb-Donau-Kreis",14334,14295,39,0.27282266526757609,13419,13803,-384,-2.7820039121930016]
["     08426 Biberach",20252,20222,30,0.14835327860745723,17538,17759,-221,-1.2444394391576101]
["     08435 Bodenseekreis",26244,25987,257,0.98895601646977338,25350,25547,-197,-0.77112772536892782]
["     08436 Ravensburg",35120,35099,21,5.9830764409242426E-2,33233,33539,-306,-0.91237067294791141]
["     08437 Sigmaringen",11730,11716,14,0.1194947080914988,11096,11181,-85,-0.76021822734996869]
["     09161 Ingolstadt, Stadt",29593,29551,42,0.14212716997732733,27378,27487,-109,-0.3965510968821625]
["     09162 München, Landeshauptstadt",325618,325194,424,0.13038370941653291,301979,303648,-1669,-0.54964959426704607]
["     09163 Rosenheim, Stadt",11767,11756,11,9.3569241238516496E-2,11098,11175,-77,-0.68903803131991048]
["     09171 Altötting",10752,10731,21,0.19569471624266144,10204,10369,-165,-1.5912817050824573]
["     09172 Berchtesgadener Land",12624,12583,41,0.32583644599856948,11960,12050,-90,-0.74688796680497926]
["     09173 Bad Tölz-Wolfratshausen",12207,12187,20,0.16410929679166325,11755,11826,-71,-0.60037206155927614]
["     09174 Dachau",13503,13473,30,0.22266755733689603,12403,12541,-138,-1.1003907184435053]
["     09175 Ebersberg",13612,13592,20,0.14714537963507945,12345,12474,-129,-1.034151034151034]
["     09176 Eichstätt",12325,12307,18,0.14625822702527017,11287,11522,-235,-2.0395764624197188]
["     09177 Erding",14474,14454,20,0.13837000138370001,13593,13751,-158,-1.1490073449203695]
["     09178 Freising",23525,23483,42,0.17885278712259933,22242,22401,-159,-0.709789741529396]
["     09179 Fürstenfeldbruck",16034,16017,17,0.1061372291939814,14924,15074,-150,-0.99509088496749365]
["     09180 Garmisch-Partenkirchen",10203,10189,14,0.13740308175483365,9802,9886,-84,-0.84968642524782523]
["     09181 Landsberg am Lech",10917,10899,18,0.16515276630883569,9938,10037,-99,-0.98635050313838801]
["     09182 Miesbach",11853,11838,15,0.12671059300557527,11245,11309,-64,-0.56592094791758774]
["     09183 Mühldorf a.Inn",11687,11668,19,0.16283853273911553,10115,10213,-98,{"$f":"(H268*100)/G268","v":-0.95956134338588073}]
["     09184 München",93161,92925,236,0.25396825396825395,87610,88178,{"$f":"F269-G269","v":-568},-0.64415160244051806]
["     09185 Neuburg-Schrobenhausen",9335,9322,13,0.13945505256382751,8255,8429,-174,-2.064301815161941]
["     09186 Pfaffenhofen a.d.Ilm",11940,11919,21,0.17618927762396175,10289,10568,-279,-2.6400454201362602]
["     09187 Rosenheim",24701,24662,39,0.15813802611304842,23375,23678,-303,-1.2796688909536278]
["     09188 Starnberg",16109,16079,30,0.18657876733627712,14717,14880,-163,-1.0954301075268817]
["     09189 Traunstein",19018,18973,45,0.23717914931745113,18607,18820,-213,-1.1317747077577045]
["     09190 Weilheim-Schongau",11929,11913,16,0.13430705951481575,10743,10875,-132,-1.2137931034482758]
["     09261 Landshut, Stadt",12701,12686,15,0.11824058016711335,12013,12148,-135,-1.1112940401712217]
["     09262 Passau, Stadt",11278,11269,9,7.9865116691809387E-2,10447,10563,-116,-1.0981728675565654]
["     09263 Straubing, Stadt",10567,10557,10,9.4723879890120294E-2,10240,10318,-78,-0.75596045745299478]
["     09271 Deggendorf",15072,15056,16,0.10626992561105207,14415,14529,-114,-0.78463762130910597]
["     09272 Freyung-Grafenau",7758,7751,7,9.0310927622242285E-2,6946,7013,-67,-0.95536860116925715]
["     09273 Kelheim",11464,11416,48,0.42046250875963559,11113,11434,-321,-2.8074164771733425]
["     09274 Landshut",15214,15195,19,0.12504113195129976,13874,13982,-108,-0.77242168502360176]
["     09275 Passau",17877,17860,17,9.5184770436730126E-2,16599,16715,-116,-0.69398743643434047]
["     09276 Regen",8786,8748,38,0.43438500228623683,8354,8430,-76,-0.9015421115065243]
["     09277 Rottal-Inn",11426,11405,21,0.18412976764576941,10585,10698,-113,-1.0562722004112919]
["     09278 Straubing-Bogen",9606,9592,{"$f":"B286-C286","v":14},{"$f":"(D286*100)/C286","v":0.14595496246872394},8021,8104,-83,-1.0241855873642645]
["     09279 Dingolfing-Landau",13207,13194,13,9.8529634682431408E-2,12880,12941,-61,-0.47137006413723825]
["     09361 Amberg, Stadt",7000,6993,7,0.10010010010010011,6820,6973,-153,-2.194177541947512]
["     09362 Regensburg, Stadt",38073,38024,49,0.12886597938144329,34313,34550,-237,-0.68596237337192478]
["     09363 Weiden i.d.OPf., Stadt",9097,9084,13,0.1431087626596213,8497,8576,-79,-0.9211753731343284]
["     09371 Amberg-Sulzbach",7289,7279,10,0.13738150844896277,7204,7287,-83,-1.1390146836832715]
["     09372 Cham",15828,15805,23,0.14552356849098386,14242,14511,-269,-1.853766108469437]
["     09373 Neumarkt i.d.OPf.",12796,12734,62,0.48688550337678654,11539,11767,-228,-1.9376221636780828]
["     09374 Neustadt a.d.Waldnaab",7885,7865,20,0.25429116338207247,7187,7256,-69,-0.95093715545755242]
["     09375 Regensburg",14332,14305,27,0.18874519398811604,13117,13231,-114,-0.86161287884513638]
["     09376 Schwandorf",15200,15172,28,0.18455048774057475,14652,14882,-230,-1.5454911974197016]
["     09377 Tirschenreuth",6368,6359,9,0.14153168737222835,5575,5632,-57,-1.0120738636363635]
["     09461 Bamberg, Stadt",16209,16183,26,0.16066242353086571,15449,15667,-218,-1.3914597561754005]
["     09462 Bayreuth, Stadt",14749,14733,16,0.10859974207561257,14017,14124,-107,-0.75757575757575757]
["     09463 Coburg, Stadt",8393,8378,15,0.17904034375746,8542,8603,-61,-0.709054980820644]
["     09464 Hof, Stadt",6958,6956,2,2.8752156411730879E-2,6800,6845,-45,-0.65741417092768439]
["     09471 Bamberg",10535,10516,19,0.1806770635222518,9036,9136,-100,-1.0945709281961471]
["     09472 Bayreuth",6564,6550,14,0.21374045801526717,6377,6515,-138,-2.1181887950882579]
["     09473 Coburg",6939,6926,13,0.18769852728847819,6659,6750,-91,-1.3481481481481481]
["     09474 Forchheim",8727,8713,14,0.16067944450820612,8405,8502,-97,-1.1409080216419667]
["     09475 Hof",9251,9243,8,8.6551985286162494E-2,8621,8698,-77,-0.88526097953552541]
["     09476 Kronach",6675,6660,15,0.22522522522522523,6190,6286,-96,-1.5272033089405026]
["     09477 Kulmbach",6306,6298,8,0.12702445220704986,6004,6153,-149,-2.4215829676580531]
["     09478 Lichtenfels",5872,5862,10,0.17059024223814398,5885,5941,-56,-0.94260225551253995]
["     09479 Wunsiedel i.Fichtelgebirge",7303,7293,10,0.13711778417660769,6833,6914,-81,-1.1715360138848714]
["     09561 Ansbach, Stadt",9129,9122,7,7.6737557553168162E-2,8737,8797,-60,-0.68205069910196658]
["     09562 Erlangen, Stadt",22788,22766,22,9.6635333391900197E-2,22184,22319,-135,-0.60486580940006274]
["     09563 Fürth, Stadt",14835,14821,14,9.4460562715066462E-2,14253,14420,-167,-1.1581137309292648]
["     09564 Nürnberg, Stadt",101870,101771,99,9.7277220426251088E-2,95750,96301,-551,-0.57216435966397028]
["     09565 Schwabach, Stadt",4750,4749,1,2.1057064645188462E-2,4573,4606,-33,-0.71645679548415109]
["     09571 Ansbach",16308,16291,17,0.1043520962494629,15497,15744,-247,-1.5688516260162602]
["     09572 Erlangen-Höchstadt",12886,12865,21,0.16323357947920716,10909,11112,-203,-1.8268538516918646]
["     09573 Fürth",7696,7686,10,0.13010668748373666,7160,7231,-71,-0.9818835569077583]
["     09574 Nürnberger Land",13806,13786,20,0.14507471347744089,12979,13156,-177,-1.3453937366980846]
["     09575 Neustadt a.d.Aisch-Bad Windsh.",9923,9907,16,0.16150196830523872,9281,9396,-115,-1.2239250744997872]
["     09576 Roth",11375,11360,15,0.13204225352112675,10502,10617,-115,-1.083168503343694]
["     09577 Weißenburg-Gunzenhausen",9142,9113,29,0.31822670909689454,8486,8547,-61,-0.71370071370071375]
["     09661 Aschaffenburg, Stadt",13292,13277,15,0.11297732921593734,12703,12922,-219,-1.6947840891502863]
["     09662 Schweinfurt, Stadt",11846,11839,7,5.9126615423599968E-2,11891,12189,-298,-2.4448273033062597]
["     09663 Würzburg, Stadt",25905,25892,13,5.0208558628147687E-2,25080,25291,-211,-0.83428887746629232]
["     09671 Aschaffenburg",14489,14423,66,0.45760244054634958,13664,13768,-104,-0.75537478210342823]
["     09672 Bad Kissingen",9345,9329,16,0.17150820023582378,8601,8675,-74,-0.85302593659942361]
["     09673 Rhön-Grabfeld",7042,7024,18,0.25626423690205014,6884,6929,-45,-0.64944436426612784]
["     09674 Haßberge",6265,6260,5,7.9872204472843447E-2,5772,5890,-118,-2.0033955857385397]
["     09675 Kitzingen",9105,9084,21,0.23117569352708059,8562,8671,-109,-1.2570637758044054]
["     09676 Miltenberg",11297,11281,16,0.14183139792571581,10614,10897,-283,-2.597045058272919]
["     09677 Main-Spessart",10981,10971,10,9.1149393856530855E-2,10575,10677,-102,{"$f":"(H332*100)/G332","v":-0.95532452936218037}]
["     09678 Schweinfurt",7006,6987,19,0.27193359095463004,6442,6526,{"$f":"F333-G333","v":-84},-1.2871590560833588]
["     09679 Würzburg",11038,11033,5,4.5318589685488984E-2,10484,10590,-106,-1.0009442870632672]
["     09761 Augsburg, Stadt",46914,46845,69,0.14729426833173231,45077,45952,-875,-1.9041608635097493]
["     09762 Kaufbeuren, Stadt",5397,5381,16,0.29734250139379298,5178,5208,-30,-0.57603686635944695]
["     09763 Kempten (Allgäu), Stadt",11319,11299,20,0.17700681476236835,10998,11101,-103,-0.92784433834789659]
["     09764 Memmingen, Stadt",8331,8326,5,6.0052846504924332E-2,7881,7947,-66,-0.83050207625519068]
["     09771 Aichach-Friedberg",10300,10287,13,0.12637309225235735,9439,9548,-109,-1.1416003351487223]
["     09772 Augsburg",23471,23432,39,0.16643905769887335,20857,21026,-169,-0.80376676495767141]
["     09773 Dillingen a.d.Donau",7863,7858,5,6.3629422244846023E-2,7074,7125,-51,-0.71578947368421053]
["     09774 Günzburg",14398,14373,25,0.17393724344256592,13513,13656,-143,-1.0471587580550674]
["     09775 Neu-Ulm",17682,17645,37,0.20969113063190706,16621,16737,-116,-0.69307522256079346]
["     09776 Lindau (Bodensee)",9816,9803,13,0.13261246557176373,8938,8998,-60,-0.66681484774394306]
["     09777 Ostallgäu",12914,12896,18,0.13957816377171217,12056,12137,-81,-0.66738073659059072]
["     09778 Unterallgäu",13823,13791,32,0.23203538539627294,12203,12319,-116,-0.94163487296046755]
["     09779 Donau-Ries",17208,17193,15,8.7244808933868434E-2,16837,17079,-242,-1.4169447859944961]
["     09780 Oberallgäu",18805,18772,33,0.17579373535052206,17229,17358,-129,-0.74317317663325266]
["     10041 Regionalverband Saarbrücken",49123,49038,85,0.17333496472123658,48124,48899,-775,-1.5848994866970694]
["     10042 Merzig-Wadern",7480,7465,{"$f":"B350-C350","v":15},{"$f":"(D350*100)/C350","v":0.20093770931011387},7042,7135,-93,-1.3034337771548703]
["     10043 Neunkirchen",10006,9985,21,0.21031547320981472,9674,9863,-189,-1.9162526614620299]
["     10044 Saarlouis",20986,20814,172,0.82636686845392526,20955,21273,-318,-1.494852630094486]
["     10045 Saarpfalz-Kreis",15969,15953,16,0.10029461543283395,15790,15987,-197,-1.232251204103334]
["     10046 St. Wendel",6107,6101,6,9.8344533683002791E-2,5760,5889,-129,-2.1905247070809986]
["     11000 Berlin, Stadt",668078,667335,743,0.11133838327077106,618163,621070,-2907,-0.46806318128391322]
["     12051 Brandenburg an der Havel, St.",8539,8521,18,0.21124281187654032,8318,8381,-63,-0.75170027443025889]
["     12052 Cottbus, Stadt",13704,13669,35,0.25605384446557905,13268,13413,-145,-1.0810407813315441]
["     12053 Frankfurt (Oder), Stadt",7068,7061,7,9.9136099702591698E-2,6938,7000,-62,-0.88571428571428568]
["     12054 Potsdam, Stadt",37866,37839,27,7.1354951240783324E-2,36651,36869,-218,-0.59128264938023811]
["     12060 Barnim",14588,14577,11,7.5461343211909171E-2,13869,14000,-131,-0.93571428571428572]
["     12061 Dahme-Spreewald",18839,18807,32,0.17014941245281012,16994,17153,-159,-0.92695155366408211]
["     12062 Elbe-Elster",8346,8332,14,0.16802688430148824,7891,8017,-126,-1.5716602220281901]
["     12063 Havelland",13652,13638,14,0.10265434814488927,12736,12902,-166,-1.2866222291117657]
["     12064 Märkisch-Oderland",15372,15348,24,0.1563721657544957,14283,14500,-217,-1.4965517241379311]
["     12065 Oberhavel",16521,16498,23,0.13941083767729423,16108,16234,-126,-0.77614882345694225]
["     12066 Oberspreewald-Lausitz",9877,9852,25,0.25375558262281772,9811,10039,-228,-2.2711425440780952]
["     12067 Oder-Spree",14442,14413,29,0.2012072434607646,13785,13952,-167,-1.1969610091743119]
["     12068 Ostprignitz-Ruppin",8884,8877,7,7.8855469190041674E-2,8479,8602,-123,-1.4299000232504069]
["     12069 Potsdam-Mittelmark",21086,21080,6,2.8462998102466792E-2,19851,20082,-231,-1.1502838362712877]
["     12070 Prignitz",7590,7583,7,9.2311749967031523E-2,7527,7620,-93,-1.2204724409448819]
["     12071 Spree-Neiße",8228,8208,20,0.24366471734892786,8285,8383,-98,-1.1690325659071932]
["     12072 Teltow-Fläming",18701,18673,28,0.14994912440422001,16883,17091,-208,-1.2170148031127495]
["     12073 Uckermark",10055,10049,6,5.9707433575480147E-2,9896,10002,-106,-1.0597880423915218]
["     13003 Rostock, Hansestadt",26782,26769,13,4.8563637042848072E-2,25675,25987,-312,-1.2006003001500751]
["     13004 Schwerin, Landeshauptstadt",17769,17751,18,0.10140273787392259,17333,17441,-108,-0.61923054870706951]
["     13071 Mecklenburgische Seenplatte",26723,26708,15,5.6162947431481203E-2,26306,26517,-211,-0.79571595580193832]
["     13072 Landkreis Rostock",20044,20019,25,0.12488136270542984,19691,19855,-164,-0.82598841601611683]
["     13073 Vorpommern-Rügen",28204,28187,17,6.0311491112924401E-2,27364,27501,-137,-0.49816370313806768]
["     13074 Nordwestmecklenburg",14352,14334,18,0.12557555462536626,13917,14063,-146,-1.0381853089667923]
["     13075 Vorpommern-Greifswald",27167,27147,20,7.3672965705234461E-2,25685,25836,-151,-0.58445579811116277]
["     13076 Ludwigslust-Parchim",18458,18432,26,0.14105902777777779,17877,18040,-163,-0.90354767184035478]
["     14511 Chemnitz, Stadt",32711,32676,35,0.10711225364181662,31342,31567,-225,-0.71276966452307788]
["     14521 Erzgebirgskreis",26099,26076,23,8.8203712225801506E-2,24985,25206,-221,-0.87677537094342617]
["     14522 Mittelsachsen",25679,25638,41,0.15991887042671035,25615,25925,-310,-1.1957569913211186]
["     14523 Vogtlandkreis",22308,22254,54,0.24265300620113239,21663,21838,-175,-0.80135543547943955]
["     14524 Zwickau",30272,30255,17,5.6189059659560406E-2,30452,30645,-193,-0.62979278838309671]
["     14612 Dresden, Stadt",73963,73914,49,6.6293259734285792E-2,69075,69412,-337,-0.4855068287904109]
["     14625 Bautzen",27437,27417,20,7.2947441368494001E-2,25972,26147,-175,-0.66929284430336178]
["     14626 Görlitz",20593,20575,18,8.748481166464156E-2,19499,19694,-195,-0.9901492840459023]
["     14627 Meißen",22646,22636,10,4.4177416504682807E-2,21627,21789,-162,-0.74349442379182151]
["     14628 Sächs. Schweiz-Osterzgebirge",17906,17886,20,0.11181930001118193,17576,17692,-116,-0.65566357675785669]
["     14713 Leipzig, Stadt",116869,116744,125,0.10707188377989448,110144,110471,-327,-0.2960052864552688]
["     14729 Leipzig",18808,18781,27,0.14376231297587988,17681,17843,-162,-0.90791907190494869]
["     14730 Nordsachsen",17377,17360,17,9.7926267281105997E-2,16780,16876,-96,-0.56885517895235838]
["     15001 Dessau-Roßlau, Stadt",8568,8558,10,0.11684973124561814,8573,8637,-64,-0.74099803172397827]
["     15002 Halle (Saale), Stadt",29682,29644,38,0.12818782890298205,27954,28146,-192,{"$f":"(H396*100)/G396","v":-0.68215732253250905}]
["     15003 Magdeburg, Landeshauptstadt",33240,33201,39,0.11746634137525978,31111,31384,{"$f":"F397-G397","v":-273},-0.86986999745093041]
["     15081 Altmarkkreis Salzwedel",7570,7559,11,0.14552189443048022,7746,7826,-80,-1.0222335803731153]
["     15082 Anhalt-Bitterfeld",14975,14960,15,0.10026737967914438,14421,14562,-141,-0.96827358879274827]
["     15083 Börde",14407,14367,40,0.27841581401823623,13986,14122,-136,-0.96303639711089084]
["     15084 Burgenlandkreis",15831,15767,64,0.40591108010401472,14880,14985,-105,-0.70070070070070067]
["     15085 Harz",20395,20374,21,0.10307254343771473,19769,20086,-317,-1.5782136811709648]
["     15086 Jerichower Land",7094,7083,11,0.15530142594945645,6975,7074,-99,-1.3994910941475827]
["     15087 Mansfeld-Südharz",11218,11202,16,0.1428316372076415,10705,10842,-137,-1.2636045010145729]
["     15088 Saalekreis",18482,18456,26,0.14087559601213698,17839,18051,-212,-1.1744501689657083]
["     15089 Salzlandkreis",16832,16800,32,0.19047619047619047,16353,16561,-208,-1.2559628041784916]
["     15090 Stendal",9033,8991,42,0.46713380046713382,8787,8895,-108,-1.2141652613827993]
["     15091 Wittenberg",10434,10410,24,0.23054755043227665,10268,10330,-62,-0.60019361084220713]
["     16051 Erfurt, Stadt",38523,38497,26,6.7537730212743854E-2,36452,36628,-176,-0.48050671617341922]
["     16052 Gera, Stadt",11017,11016,1,9.0777051561365292E-3,10831,10879,-48,-0.4412170236234948]
["     16053 Jena, Stadt",16002,15989,13,8.1305897804740762E-2,15315,15423,-108,-0.70025286909161644]
["     16054 Suhl, Stadt",4474,4474,0,0,4428,4455,-27,-0.60606060606060608]
["     16055 Weimar, Stadt",7320,7309,11,0.15049938432070051,7322,7359,-37,-0.50278570457942651]
["     16056 Eisenach, Stadt",6990,6980,{"$f":"B414-C414","v":10},{"$f":"(D414*100)/C414","v":0.14326647564469913},7246,7324,-78,-1.0649918077553249]
["     16061 Eichsfeld",10540,10532,8,7.5958982149639198E-2,10059,10141,-82,-0.80859875751898236]
["     16062 Nordhausen",8625,8613,12,0.13932427725531174,8336,8408,-72,-0.85632730732635587]
["     16063 Wartburgkreis",10522,10504,18,0.17136329017517135,10201,10275,-74,-0.72019464720194648]
["     16064 Unstrut-Hainich-Kreis",10445,10441,4,3.8310506656450534E-2,10154,10204,-50,-0.49000392003136023]
["     16065 Kyffhäuserkreis",5415,5413,2,3.6948087936449291E-2,5579,5611,-32,-0.57030832293708789]
["     16066 Schmalkalden-Meiningen",11046,11036,10,9.0612540775643347E-2,11029,11127,-98,-0.88074054102633237]
["     16067 Gotha",13499,13489,10,7.4134479946623172E-2,13136,13215,-79,-0.59780552402572829]
["     16068 Sömmerda",7189,7167,22,0.3069624668620064,6472,6501,-29,-0.4460852176588217]
["     16069 Hildburghausen",5218,5205,13,0.24975984630163303,5173,5206,-33,-0.63388398002305035]
["     16070 Ilm-Kreis",9872,9867,5,5.0673963717441976E-2,9659,9709,-50,-0.51498609537542483]
["     16071 Weimarer Land",7164,7160,4,5.5865921787709494E-2,6586,6620,-34,-0.51359516616314205]
["     16072 Sonneberg",6808,6807,1,1.4690759512266784E-2,6636,6665,-29,-0.43510877719429858]
["     16073 Saalfeld-Rudolstadt",9208,9193,15,0.16316762754269554,8898,8994,-96,-1.0673782521681121]
["     16074 Saale-Holzland-Kreis",7388,7378,10,0.13553808620222282,7076,7131,-55,-0.77128032534006452]
["     16075 Saale-Orla-Kreis",7019,7013,6,8.555539711963496E-2,6864,6895,-31,-0.44960116026105873]
["     16076 Greiz",6764,6758,6,8.8783663805859725E-2,6864,6957,-93,-1.3367830961621388]
["     16077 Altenburger Land",6348,6341,7,0.11039268254218577,6245,6289,-44,-0.69963428207982192]
[null,null,null,null,null,null,null,null,"© Statistik der Bundesagentur für Arbeit"]

{"sheet":"8","index":24,"n_rows":183,"n_cols":9,"rows_kept":183,"cut":false,"hidden":false,"merged":[[7,5,8,5],[7,6,8,6],[7,7,7,8],[2,0,2,8],[6,0,9,0],[6,1,6,4],[6,5,6,8],[7,1,8,1],[7,2,8,2],[7,3,7,4]]}
[null,null,null,null,null,null,null,null,"Beschäftigungsstatistik"]
[]
["Begonnene und beendete sozialversicherungspflichtige Beschäftigungsverhältnisse"]
["Deutschland nach Regionaldirektionen und Agenturen für Arbeit (Arbeitsort) (Gebietsstand November 2017) "]
["Berichtsjahr 2016"]
[]
["Regionen","Begonnene Beschäftigungsverhältnisse",null,null,null,"Beendete Beschäftigungsverhältnisse"]
[null," nach Revision"," vor Revision","Veränderung (Spalte 1 zu 2)",null," nach Revision"," vor Revision","Veränderung (Spalte 5 zu 6)"]
[null,null,null,"absolut","in %",null,null,"absolut","in %"]
[null,1,2,3,4,5,6,7,8]
["Deutschland",10220893,10202487,{"$f":"B11-C11","v":18406},{"$f":"(D11*100)/C11","v":0.18040699292241197},9661314,9774346,{"$f":"F11-G11","v":-113032},{"$f":"(H11*100)/G11","v":-1.1564149662800969}]
["davon nach Regionaldirektion"]
["   100 RD Nord",880385,879426,{"$f":"B13-C13","v":959},{"$f":"(D13*100)/C13","v":0.10904840202586687},836382,842639,{"$f":"F13-G13","v":-6257},{"$f":"(H13*100)/G13","v":-0.74254811372367047}]
["   200 RD Niedersachsen-Bremen",1023433,1018928,4505,0.44213133803369814,973050,999742,{"$f":"F14-G14","v":-26692},-2.6698888313184801]
["   300 RD Nordrhein-Westfalen",2119648,2115879,3769,0.17812927865912936,2018327,2045020,-26693,-1.3052684081329278]
["   400 RD Hessen",765759,764800,959,0.12539225941422594,724992,732948,-7956,-1.0854794610258844]
["   500 RD Rheinland-Pfalz-Saarland",540993,540073,920,0.17034734193340531,520384,526834,-6450,-1.2242945595766408]
["   600 RD Baden-Württemberg",1347738,1345218,2520,0.18733023197727061,1266609,1278208,-11599,-0.90744229421189671]
["   700 RD Bayern",1710552,1707913,2639,0.15451606727040545,1598799,1614327,-15528,-0.96188690395440324]
["   900 RD Berlin-Brandenburg",921436,920360,1076,0.11691077404493894,859736,865310,-5574,-0.6441622077636916]
["   966 RD Sachsen-Anhalt-Thüringen",445157,444554,603,0.13564156435438665,429928,433517,-3589,-0.82787987552967934]
["   968 RD Sachsen",452668,452212,456,0.10083766021246672,432411,435105,-2694,-0.61916089219843484]
["        keine Zuordnung / keine Angabe",13124,13124,0,null,696,696,0]
["davon nach Agenturen für Arbeit"]
["   030 AA Greifswald",27167,27147,{"$f":"B25-C25","v":20},{"$f":"(D25*100)/C25","v":7.3672965705234461E-2},25685,25836,{"$f":"F25-G25","v":-151},{"$f":"(H25*100)/G25","v":-0.58445579811116277}]
["   031 AA Neubrandenburg",26723,26708,15,5.6162947431481203E-2,26306,26517,-211,-0.79571595580193832]
["   032 AA Rostock",46826,46788,38,8.1217406172522863E-2,45366,45842,-476,-1.0383491121678809]
["   033 AA Schwerin",50579,50517,62,0.12273096185442524,49127,49544,-417,-0.84167608590343934]
["   034 AA Stralsund",28204,28187,17,6.0311491112924401E-2,27364,27501,-137,-0.49816370313806768]
["   035 AA Cottbus",58994,58868,126,0.21403818713052933,56249,57005,-756,-1.3261994561880537]
["   036 AA Eberswalde",24643,24626,17,6.9032729635344764E-2,23765,24002,-237,-0.98741771519040078]
["   037 AA Frankfurt (Oder)",36882,36822,60,0.16294606485253382,35006,35452,-446,-1.2580390387002143]
["   038 AA Neuruppin",46647,46596,51,0.10945145506052022,44850,45358,-508,-1.119978835045637]
["   039 AA Potsdam",86192,86113,79,9.1739923124266945E-2,81703,82423,-720,-0.87354257913446487]
["   041 AA Bernburg",16832,16800,32,0.19047619047619047,16353,16561,-208,-1.2559628041784916]
["   042 AA Dessau-Roßlau – Wittenberg",33977,33928,49,0.14442348502711624,33262,33529,-267,-0.79632556891049544]
["   043 AA Halberstadt",20395,20374,21,0.10307254343771473,19769,20086,-317,-1.5782136811709648]
["   044 AA Halle",48164,48100,64,0.13305613305613306,45793,46197,-404,-0.87451566119012059]
["   045 AA Magdeburg",54741,54651,90,0.16468134160399628,52072,52580,-508,-0.96614682388740969]
["   046 AA Weißenfels",15831,15767,64,0.40591108010401472,14880,14985,-105,-0.70070070070070067]
["   047 AA Sangerhausen",11218,11202,16,0.1428316372076415,10705,10842,-137,-1.2636045010145729]
["   048 AA Stendal",16603,16550,53,0.3202416918429003,16533,16721,-188,-1.124334668979128]
["   071 AA Annaberg-Buchholz",26099,26076,23,8.8203712225801506E-2,24985,25206,-221,-0.87677537094342617]
["   072 AA Bautzen",48030,47992,38,7.9179863310551754E-2,45471,45841,-370,-0.8071377151458301]
["   073 AA Chemnitz",32711,32676,35,0.10711225364181662,31342,31567,-225,-0.71276966452307788]
["   074 AA Dresden",73963,73914,49,6.6293259734285792E-2,69075,69412,-337,-0.4855068287904109]
["   075 AA Leipzig",116869,116744,125,0.10707188377989448,110144,110471,-327,-0.2960052864552688]
["   076 AA Oschatz",36185,36141,44,0.12174538612655986,34461,34719,-258,-0.74310896051153552]
["   077 AA Pirna",17906,17886,20,0.11181930001118193,17576,17692,-116,-0.65566357675785669]
["   078 AA Plauen",22308,22254,54,0.24265300620113239,21663,21838,-175,-0.80135543547943955]
["   079 AA Riesa",22646,22636,10,4.4177416504682807E-2,21627,21789,-162,-0.74349442379182151]
["   080 AA Freiberg",25679,25638,41,0.15991887042671035,25615,25925,-310,-1.1957569913211186]
["   092 AA Zwickau",30272,30255,17,5.6189059659560406E-2,30452,30645,-193,-0.62979278838309671]
["   093 AA Erfurt",70068,70000,68,9.7142857142857142E-2,66491,66817,-326,-0.48789978598260919]
["   094 AA Altenburg – Gera",31148,31128,20,6.4250835260858397E-2,30804,31020,-216,-0.69632495164410058]
["   095 AA Gotha",23944,23930,14,5.8503969912244047E-2,23290,23419,-129,-0.55083479226269272]
["   096 AA Jena",32598,32560,38,0.1167076167076167,31289,31548,-259,-0.82097121846075816]
["   097 AA Nordhausen",24580,24558,22,8.9583842332437491E-2,23974,24160,-186,-0.76986754966887416]
["   098 AA Suhl",45058,45006,52,0.11554015020219527,44713,45052,-339,-0.75246381958625586]
["   111 AA Bad Oldesloe",41394,41339,55,0.13304627591378601,38585,38978,-393,-1.0082610703473753]
["   115 AA Elmshorn",58836,58773,63,0.10719207799499771,55070,55534,-464,-0.83552418338315271]
["   119 AA Flensburg",56606,56551,55,9.7257342929391172E-2,53404,53688,-284,-0.52898226791834302]
["   123 AA Hamburg",378831,378349,482,0.12739560564452398,359824,362418,-2594,-0.71574811405614513]
["   127 AA Heide",25470,25456,14,5.4996857322438718E-2,24270,24439,-169,-0.69151765620524575]
["   131 AA Kiel",46552,46518,34,7.3089986671825966E-2,43068,43334,-266,-0.6138367102044584]
["   135 AA Lübeck",58438,58364,74,0.12679048728668357,55535,56029,-494,-0.88168626961038032]
["   139 AA Neumünster",34759,34729,30,8.6383138011460164E-2,32778,32979,-201,-0.60947875921040662]
["   211 AA Braunschweig – Goslar",68893,68584,309,0.45054240055989736,66415,69072,-2657,-3.8467106787120686]
["   214 AA Bremen – Bremerhaven",146928,146627,301,0.20528279239157862,140615,141806,-1191,-0.83987983583205228]
["   221 AA Celle",30240,30060,180,0.59880239520958078,29607,30423,-816,-2.6821812444532096]
["   224 AA Emden – Leer",54041,53856,185,0.34350861556743911,52066,53383,-1317,-2.4670775340464193]
["   231 AA Göttingen",50695,50549,146,0.28882866129893764,48302,49781,-1479,-2.9710130371025092]
["   234 AA Hameln",33385,33281,104,0.31249061025810521,32255,33198,-943,-2.8405325622025424]
["   237 AA Hannover",160488,159752,736,0.46071410686564174,153500,157525,-4025,-2.5551499761942549]
["   241 AA Helmstedt",37663,37487,176,0.46949609197855258,38353,39299,-946,-2.4071859334843126]
["   244 AA Hildesheim",37431,37223,208,0.55879429385057622,35802,36900,-1098,-2.975609756097561]
["   251 AA Lüneburg – Uelzen",54473,54165,308,0.56863288101172349,50703,52329,-1626,-3.1072636587742934]
["   257 AA Nordhorn",54739,54315,424,0.78063150142686177,49788,51629,-1841,-3.5658254082008174]
["   261 AA Oldenburg – Wilhelmshaven",86461,86057,404,0.46945629059809196,81845,84053,-2208,-2.6269139709469025]
["   264 AA Osnabrück",66616,66244,372,0.56156029225288329,62597,64394,-1797,-2.7906326676398421]
["   267 AA Stade",51859,51605,254,0.4922003681813778,48920,50618,-1698,-3.3545379114149116]
["   274 AA Vechta",44236,44044,192,0.43592770865498137,39684,41066,-1382,-3.3653143719865581]
["   277 AA Nienburg – Verden",45285,45079,206,0.45697553184409589,42598,44266,-1668,-3.7681290380879231]
["   311 AA Aachen – Düren",112686,112576,110,9.771176805002843E-2,105975,106845,-870,-0.81426365295521552]
["   315 AA Bergisch Gladbach",68452,68390,62,9.06565287322708E-2,65204,65999,-795,-1.2045637055106895]
["   317 AA Bielefeld",98826,98557,269,0.27293850259240843,90991,92316,-1325,-1.4352874907924953]
["   321 AA Bochum",52072,51913,159,0.30628166355248204,50396,51190,-794,-1.5510841961320569]
["   323 AA Bonn",107687,107627,60,5.5748092950653645E-2,101913,102709,-796,-0.7750051115286879]
["   325 AA Brühl",64748,64647,{"$f":"B89-C89","v":101},{"$f":"(D89*100)/C89","v":0.15623308119479637},62166,62744,{"$f":"F89-G89","v":-578},{"$f":"(H89*100)/G89","v":-0.92120362106336862}]
["   327 AA Coesfeld",56713,56571,142,0.25101200261618145,52763,53539,-776,-1.4494107099497562]
["   331 AA Detmold",29208,29154,54,0.18522329697468615,28623,29083,-460,-1.5816800192552349]
["   333 AA Dortmund",74981,74812,169,0.22589958830134202,69407,70469,-1062,-1.507045651279286]
["   337 AA Düsseldorf",134862,134702,160,0.11878071595076539,127873,129828,-1955,-1.5058384940074561]
["   341 AA Duisburg",49361,49232,129,0.26202469938251544,47628,48248,-620,-1.2850273586469905]
["   343 AA Essen",76619,76476,143,0.18698676709032899,75358,76262,-904,-1.1853872177493379]
["   345 AA Gelsenkirchen",34062,33962,100,0.29444673458571347,32772,33557,-785,-2.339303275024585]
["   347 AA Hagen",51349,51270,79,0.15408621025941097,49869,50510,-641,-1.2690556325480102]
["   351 AA Hamm",59810,59490,320,0.53790553034123378,57636,58793,-1157,-1.967921351181263]
["   353 AA Herford",57624,57527,97,0.16861647574182559,55248,56232,-984,-1.7498932991890739]
["   355 AA Iserlohn",41182,41119,63,0.15321384274909408,40514,41291,-777,-1.8817660022765252]
["   357 AA Köln",268605,268328,277,0.10323186547807162,256311,258380,-2069,-0.80075857264494155]
["   361 AA Krefeld",56183,56097,86,0.1533058808848958,53376,54117,-741,-1.3692555019679584]
["   364 AA Mettmann",49130,49055,75,0.15288961369890938,46814,47417,-603,-1.2716958053018959]
["   365 AA Mönchengladbach",76844,76747,97,0.12638930511941834,72471,73296,-825,-1.1255730189914865]
["   367 AA Ahlen – Münster",70453,70321,132,0.18771064120248573,66540,67467,-927,-1.3740050691449153]
["   371 AA Oberhausen",36611,36557,54,0.14771452799737397,36128,36757,-629,-1.7112386756264113]
["   373 AA Paderborn",46205,46110,95,0.2060290609412275,44457,45239,-782,-1.7285970070072283]
["   375 AA Recklinghausen",49649,49540,109,0.22002422285022205,48127,48978,-851,-1.7375148025644167]
["   377 AA Rheine",46168,46032,136,0.29544664581160929,42658,43332,-674,-1.5554324748453798]
["   381 AA Siegen",47528,47398,130,0.27427317608337903,45534,46432,-898,-1.9340110268780151]
["   383 AA Meschede – Soest",56068,55910,158,0.28259703094258631,52996,53754,-758,-1.4101276184097928]
["   387 AA Wesel",79703,79576,127,0.15959585804765256,75794,76819,-1025,-1.3343053150913184]
["   391 AA Solingen – Wuppertal",66259,66183,76,0.11483311424383905,62785,63417,-632,-0.99657820458236746]
["   411 AA Bad Hersfeld – Fulda",41380,41336,44,0.1064447455002903,38346,38729,-383,-0.98892302925456377]
["   415 AA Darmstadt",89509,89410,99,0.11072586958953137,85432,87291,-1859,-2.1296582694664972]
["   419 AA Frankfurt",178873,178656,217,0.12146247537166398,171408,172666,-1258,-0.72857424159938844]
["   427 AA Gießen",61767,61702,65,0.10534504554147353,58054,58663,-609,-1.0381330651347527]
["   431 AA Hanau",42410,42369,41,9.6768864027944962E-2,38808,39205,-397,-1.0126259405688049]
["   433 AA Bad Homburg",84893,84755,138,0.16282225237449119,79099,80040,-941,-1.1756621689155422]
["   435 AA Kassel",59022,58954,68,0.11534416663839604,57833,58464,-631,-1.0792966611932129]
["   439 AA Korbach",29180,29141,39,0.13383205792525996,27737,27984,-247,-0.88264722698684961]
["   443 AA Limburg – Wetzlar",39920,39871,49,0.12289634069875348,38469,38860,-391,-1.0061760164693772]
["   447 AA Marburg",27498,27478,20,7.2785501128175265E-2,26862,27012,-150,-0.5553087516659263]
["   451 AA Offenbach",56644,56552,92,0.16268213325788655,51833,52366,-533,-1.0178360004583127]
["   459 AA Wiesbaden",54663,54576,87,0.15941072999120492,51111,51668,-557,-1.0780366958272045]
["   511 AA Bad Kreuznach",33441,33403,38,0.11376223692482711,32303,32672,-369,-1.129407443682664]
["   515 AA Kaiserslautern – Pirmasens",47653,47589,64,0.13448485994662632,46481,46913,-432,-0.92085349476690892]
["   519 AA Koblenz – Mayen",61006,60888,118,0.19379844961240311,57761,58416,-655,-1.1212681457135032]
["   523 AA Ludwigshafen",50006,49934,72,0.14419033123723315,48874,49858,-984,-1.9736050383087971]
["   527 AA Mainz",77699,77611,88,0.11338598909948332,73377,74177,-800,-1.0785014222737506]
["   535 AA Montabaur",29808,29778,30,0.10074551682450131,28189,28479,-290,-1.0182941816777273]
["   543 AA Landau",49459,49417,42,8.4990995001720054E-2,47241,47653,-412,-0.86458355192747571]
["   547 AA Neuwied",26974,26931,43,0.15966729790947234,25442,25677,-235,-0.91521595201931694]
["   555 AA Saarland",109671,109356,315,0.28805003840667176,107345,109046,-1701,-1.559892155604057]
["   563 AA Trier",55276,55166,110,0.19939818003842946,53371,53943,-572,-1.0603785477263037]
["   611 AA Aalen",48056,48010,46,9.5813372214122061E-2,45758,46337,-579,-1.2495414031983081]
["   614 AA Balingen",29418,29380,38,0.12933968686181074,28046,28288,-242,-0.85548642533936647]
["   617 AA Freiburg",81411,81299,112,0.13776307211650821,75857,76630,-773,-1.0087433120187916]
["   621 AA Göppingen",87128,87016,112,0.12871196101866322,82124,82756,-632,-0.76369085021025662]
["   624 AA Heidelberg",75509,75421,88,0.11667837870089233,69697,70309,-612,-0.87044332873458585]
["   627 AA Heilbronn",61301,61179,122,0.19941483188675851,56130,56560,-430,-0.76025459688826025]
["   631 AA Karlsruhe – Rastatt",130335,130071,264,0.20296607237585626,125149,126152,-1003,-0.79507261081869496]
["   634 AA Konstanz – Ravensburg",96158,95850,308,0.32133541992696923,91041,91799,-758,-0.82571705574134791]
["   637 AA Lörrach",40297,40243,54,0.1341848271749124,38096,38542,-446,-1.1571791811530279]
["   641 AA Ludwigsburg",56718,56627,91,0.16070072580217917,54286,54661,-375,-0.68604672435557346]
["   644 AA Mannheim",64336,64192,144,0.22432701894317048,62300,62851,-551,-0.87667658430255679]
["   647 AA Nagold – Pforzheim",60008,59946,62,0.1034264171087312,55807,56321,-514,-0.91262584116049073]
["   651 AA Offenburg",52282,52211,71,0.13598666947578097,48667,49101,-434,-0.88389238508380685]
["   664 AA Reutlingen",53875,53798,77,0.14312799732332057,50339,50802,-463,-0.9113814416755246]
["   671 AA Waiblingen",43090,43056,34,7.8966926793013745E-2,39959,40269,-310,-0.76982294072363355]
["   674 AA Schwäbisch Hall – Tauberbischofsheim",63504,63409,95,0.14982100332760334,59837,60464,-627,-1.0369806827202963]
["   677 AA Stuttgart",181510,181282,228,0.12577089837932062,170288,171710,-1422,-0.82814046939607477]
["   684 AA Ulm",67009,66614,{"$f":"B153-C153","v":395},{"$f":"(D153*100)/C153","v":0.59296844507160662},60991,61688,{"$f":"F153-G153","v":-697},{"$f":"(H153*100)/G153","v":-1.1298793930748281}]
["   687 AA Rottweil – Villingen-Schwenningen",55793,55614,179,0.32186140180530082,52237,52968,-731,-1.3800785379851985]
["   711 AA Ansbach – Weißenburg",45954,45886,68,0.14819334873381859,43222,43705,-483,-1.1051367120466766]
["   715 AA Aschaffenburg",39078,38981,97,0.2488391780611067,36981,37587,-606,-1.6122595578258441]
["   723 AA Bayreuth – Hof",51131,51073,58,0.11356293932214673,48652,49249,-597,-1.2122073544640499]
["   727 AA Bamberg – Coburg",63350,63238,112,0.17710870046491034,60166,60885,-719,-1.1809148394514248]
["   729 AA Fürth",68128,68045,83,0.12197810272613711,63787,64478,-691,-1.0716833648686375]
["   735 AA Nürnberg",120426,120306,120,9.9745648596079997E-2,113302,114063,-761,-0.66717515758835033]
["   739 AA Regensburg",76665,76479,186,0.24320401678892245,70082,70982,-900,-1.2679270801048153]
["   743 AA Schwandorf",45317,45249,68,0.15027956418926386,42918,43653,-735,-1.6837330767644836]
["   747 AA Schweinfurt",41504,41439,65,0.15685706701416541,39590,40209,-619,-1.539456340620259]
["   751 AA Weiden",23350,23308,42,0.18019564098163721,21259,21464,-205,-0.95508758852031306]
["   759 AA Würzburg",57029,56980,49,8.5995085995085999E-2,54701,55229,-528,-0.9560194825182422]
["   811 AA Augsburg",80685,80564,121,0.15019115237575095,75373,76526,-1153,-1.5066774690954707]
["   815 AA Deggendorf",44031,43953,78,0.1774622892635315,41030,41381,-351,-0.84821536453928126]
["   819 AA Donauwörth",57151,57069,82,0.1436857137850672,54045,54597,-552,-1.0110445628880709]
["   823 AA Freising",65114,65002,112,0.17230239069567091,60583,61167,-584,-0.95476318930142068]
["   827 AA Ingolstadt",63193,63099,94,0.1489722499564177,57209,58006,-797,-1.3739957935385994]
["   831 AA Kempten – Memmingen",80405,80268,137,0.17067822793641302,74483,75068,-585,-0.77929344061384342]
["   835 AA Landshut – Pfarrkirchen",52548,52480,68,0.12957317073170732,49352,49769,-417,-0.83787096385300086]
["   843 AA München",418779,418119,660,0.15784979874150659,389589,391826,-2237,-0.57091668240494509]
["   847 AA Passau",36913,36880,33,8.9479392624728857E-2,33992,34291,-299,-0.87194890787670232]
["   855 AA Rosenheim",60528,60443,85,0.14062836060420561,57473,57988,-515,-0.88811478236876595]
["   859 AA Traunstein",54081,53955,126,0.2335279399499583,50886,51452,-566,-1.1000544196532691]
["   863 AA Weilheim",65192,65097,95,0.14593606464199579,60124,60752,-628,-1.0337108243350013]
["   922 AA Berlin Süd 1)","x","x","x","x","x","x","x","x"]
["   955 AA Berlin Nord1)","x","x","x","x","x","x","x","x"]
["   962 AA Berlin Mitte1)","x","x","x","x","x","x","x","x"]
[null,null,null,null,null,null,null,null,"© Statistik der Bundesagentur für Arbeit"]
["x) Daten nach dem Arbeitsort lassen sich nur bis zur Ebene der Gemeinde auswerten. Aus diesem Grund können die Agenturen in Berlin nicht ausgewiesen werden."]
["1) Daten unterhalb der Gemeinde sind nicht darstellbar. Daher finden Sie die Daten für Berlin Insgesamt in den Kreisdaten der Tabelle 7."]

{"sheet":"9_Grafik","index":25,"n_rows":40,"n_cols":15,"rows_kept":40,"cut":false,"hidden":false,"merged":[[31,9,31,10],[32,7,32,8],[32,9,32,10],[23,7,23,8],[26,7,26,8],[26,9,26,10],[27,7,27,8],[27,9,27,10],[38,7,38,8],[38,9,38,10],[37,7,37,8],[37,9,37,10],[25,9,25,10],[2,0,2,14],[33,7,33,8],[33,9,33,10],[34,7,34,8],[34,9,34,10],[35,7,35,8],[35,9,35,10],[36,7,36,8],[36,9,36,10],[28,7,28,8],[28,9,28,10],[29,7,29,8],[29,9,29,10],[30,7,30,8],[30,9,30,10],[31,7,31,8],[21,7,21,8],[21,9,21,10],[22,7,22,8],[22,9,22,10],[23,9,23,10],[24,7,24,8],[24,9,24,10],[25,7,25,8],[16,7,16,8],[16,9,16,10],[17,7,17,8],[17,9,17,10],[18,7,18,8],[18,9,18,10],[19,7,19,8],[19,9,19,10],[20,7,20,8],[20,9,20,10],[11,7,11,8],[11,9,11,10],[12,7,12,8],[12,9,12,10],[13,7,13,8],[13,9,13,10],[14,7,14,8],[14,9,14,10],[15,7,15,8],[15,9,15,10],[6,7,6,10],[7,7,7,8],[7,9,7,10],[8,7,8,8],[8,9,8,10],[9,7,9,8],[9,9,9,10],[10,7,10,8],[10,9,10,10],[24,13,24,14],[25,13,25,14],[26,13,26,14],[36,13,36,14],[37,13,37,14],[38,13,38,14],[27,13,27,14],[28,13,28,14],[29,13,29,14],[30,13,30,14],[31,13,31,14],[32,13,32,14],[33,13,33,14],[34,13,34,14],[35,13,35,14],[16,11,16,12],[16,13,16,14],[17,13,17,14],[18,13,18,14],[19,13,19,14],[20,13,20,14],[21,13,21,14],[22,13,22,14],[23,13,23,14],[23,11,23,12],[11,11,11,12],[11,13,11,14],[12,11,12,12],[12,13,12,14],[13,11,13,12],[13,13,13,14],[14,11,14,12],[14,13,14,14],[15,11,15,12],[15,13,15,14],[6,11,6,14],[7,11,7,12],[7,13,7,14],[8,11,8,12],[8,13,8,14],[9,11,9,12],[9,13,9,14],[10,11,10,12],[10,13,10,14],[35,11,35,12],[36,11,36,12],[37,11,37,12],[38,11,38,12],[29,11,29,12],[30,11,30,12],[31,11,31,12],[32,11,32,12],[33,11,33,12],[34,11,34,12],[24,11,24,12],[25,11,25,12],[26,11,26,12],[27,11,27,12],[28,11,28,12],[17,11,17,12],[18,11,18,12],[19,11,19,12],[20,11,20,12],[21,11,21,12],[22,11,22,12],[21,5,21,6],[22,5,22,6],[23,5,23,6],[16,3,16,4],[35,5,35,6],[36,5,36,6],[37,5,37,6],[38,5,38,6],[27,5,27,6],[28,5,28,6],[29,5,29,6],[30,5,30,6],[31,5,31,6],[32,5,32,6],[13,5,13,6],[14,5,14,6],[9,3,9,4],[10,3,10,4],[11,3,11,4],[12,3,12,4],[13,3,13,4],[14,3,14,4],[34,3,34,4],[25,3,25,4],[26,3,26,4],[27,3,27,4],[28,3,28,4],[24,5,24,6],[25,5,25,6],[26,5,26,6],[15,5,15,6],[16,5,16,6],[17,5,17,6],[18,5,18,6],[19,5,19,6],[20,5,20,6],[33,5,33,6],[34,5,34,6],[23,1,23,2],[35,3,35,4],[24,1,24,2],[38,3,38,4],[29,3,29,4],[30,3,30,4],[37,1,37,2],[38,1,38,2],[31,1,31,2],[32,1,32,2],[33,1,33,2],[34,1,34,2],[35,1,35,2],[36,1,36,2],[25,1,25,2],[26,1,26,2],[27,1,27,2],[28,1,28,2],[29,1,29,2],[30,1,30,2],[13,1,13,2],[14,1,14,2],[15,1,15,2],[16,1,16,2],[17,1,17,2],[18,1,18,2],[15,3,15,4],[36,3,36,4],[37,3,37,4],[17,3,17,4],[18,3,18,4],[19,3,19,4],[20,3,20,4],[21,3,21,4],[22,3,22,4],[23,3,23,4],[24,3,24,4],[31,3,31,4],[32,3,32,4],[33,3,33,4],[19,1,19,2],[20,1,20,2],[21,1,21,2],[22,1,22,2],[9,1,9,2],[10,1,10,2],[11,1,11,2],[12,1,12,2],[8,1,8,2],[8,3,8,4],[8,5,8,6],[6,0,8,0],[6,1,7,2],[6,3,6,6],[7,3,7,4],[7,5,7,6],[9,5,9,6],[10,5,10,6],[11,5,11,6],[12,5,12,6]]}
[]
[]
["Sozialversicherungspflichtig Beschäftigte nach ausgewählten Merkmalen - Veränderung in %"]
[null,null,null,"(Arbeitsort)"]
["Zeitreihe"]
[]
["Stichtag","sozialversicherungs-pflichtig Beschäftigte",null,"davon",null,null,null,"darunter",null,null,null,"darunter"]
[null,null,null,"Männer",null,"Frauen",null,"Deutsche",null,"Ausländer",null,"Vollzeit",null,"Teilzeit"]
[null,1,null,2,null,3,null,4,null,5,null,6,null,7]
["   31.03.2010",{"$f":"'9'!E12","v":0},null,{"$f":"'9'!I12","v":0},{"$f":"(D10*100)/#REF!","v":{"$error":"#REF!"}},{"$f":"'9'!M12","v":0},{"$f":"(F10*100)/#REF!","v":{"$error":"#REF!"}},{"$f":"'9'!Q12","v":0},{"$f":"(H10*100)/#REF!","v":{"$error":"#REF!"}},{"$f":"'9'!U12","v":0},{"$f":"(J10*100)/#REF!","v":{"$error":"#REF!"}},{"$f":"'9'!Y12","v":0},{"$f":"(L10*100)/#REF!","v":{"$error":"#REF!"}},{"$f":"'9'!AC12","v":0},{"$f":"(N10*100)/#REF!","v":{"$error":"#REF!"}}]
["   30.06.2010",{"$f":"'9'!E13","v":0},null,{"$f":"'9'!I13","v":0},{"$f":"(D11*100)/#REF!","v":{"$error":"#REF!"}},{"$f":"'9'!M13","v":0},{"$f":"(F11*100)/#REF!","v":{"$error":"#REF!"}},{"$f":"'9'!Q13","v":0},{"$f":"(H11*100)/#REF!","v":{"$error":"#REF!"}},{"$f":"'9'!U13","v":0},{"$f":"(J11*100)/#REF!","v":{"$error":"#REF!"}},{"$f":"'9'!Y13","v":0},{"$f":"(L11*100)/#REF!","v":{"$error":"#REF!"}},{"$f":"'9'!AC13","v":0},{"$f":"(N11*100)/#REF!","v":{"$error":"#REF!"}}]
["   30.09.2010",{"$f":"'9'!E14","v":0},null,{"$f":"'9'!I14","v":0},{"$f":"(D12*100)/#REF!","v":{"$error":"#REF!"}},{"$f":"'9'!M14","v":0},{"$f":"(F12*100)/#REF!","v":{"$error":"#REF!"}},{"$f":"'9'!Q14","v":0},{"$f":"(H12*100)/#REF!","v":{"$error":"#REF!"}},{"$f":"'9'!U14","v":0},{"$f":"(J12*100)/#REF!","v":{"$error":"#REF!"}},{"$f":"'9'!Y14","v":0},{"$f":"(L12*100)/#REF!","v":{"$error":"#REF!"}},{"$f":"'9'!AC14","v":0},{"$f":"(N12*100)/#REF!","v":{"$error":"#REF!"}}]
["   31.12.2010",{"$f":"'9'!E15","v":0},null,{"$f":"'9'!I15","v":0},{"$f":"(D13*100)/#REF!","v":{"$error":"#REF!"}},{"$f":"'9'!M15","v":0},{"$f":"(F13*100)/#REF!","v":{"$error":"#REF!"}},{"$f":"'9'!Q15","v":0},{"$f":"(H13*100)/#REF!","v":{"$error":"#REF!"}},{"$f":"'9'!U15","v":0},{"$f":"(J13*100)/#REF!","v":{"$error":"#REF!"}},{"$f":"'9'!Y15","v":0},{"$f":"(L13*100)/#REF!","v":{"$error":"#REF!"}},{"$f":"'9'!AC15","v":0},{"$f":"(N13*100)/#REF!","v":{"$error":"#REF!"}}]
["   31.03.2011",{"$f":"'9'!E16","v":0},null,{"$f":"'9'!I16","v":0},{"$f":"(D14*100)/#REF!","v":{"$error":"#REF!"}},{"$f":"'9'!M16","v":0},{"$f":"(F14*100)/#REF!","v":{"$error":"#REF!"}},{"$f":"'9'!Q16","v":0},{"$f":"(H14*100)/#REF!","v":{"$error":"#REF!"}},{"$f":"'9'!U16","v":0},{"$f":"(J14*100)/#REF!","v":{"$error":"#REF!"}},{"$f":"'9'!Y16","v":"x"},{"$f":"(L14*100)/#REF!","v":{"$error":"#VALUE!"}},{"$f":"'9'!AC16","v":"x"},{"$f":"(N14*100)/#REF!","v":{"$error":"#VALUE!"}}]
["   30.06.2011",{"$f":"'9'!E17","v":0},null,{"$f":"'9'!I17","v":0},{"$f":"(D15*100)/#REF!","v":{"$error":"#REF!"}},{"$f":"'9'!M17","v":0},{"$f":"(F15*100)/#REF!","v":{"$error":"#REF!"}},{"$f":"'9'!Q17","v":0},{"$f":"(H15*100)/#REF!","v":{"$error":"#REF!"}},{"$f":"'9'!U17","v":0},{"$f":"(J15*100)/#REF!","v":{"$error":"#REF!"}},{"$f":"'9'!Y17","v":"x"},{"$f":"(L15*100)/#REF!","v":{"$error":"#VALUE!"}},{"$f":"'9'!AC17","v":"x"},{"$f":"(N15*100)/#REF!","v":{"$error":"#VALUE!"}}]
["   30.09.2011",{"$f":"'9'!E18","v":0},null,{"$f":"'9'!I18","v":0},{"$f":"(D16*100)/#REF!","v":{"$error":"#REF!"}},{"$f":"'9'!M18","v":0},{"$f":"(F16*100)/#REF!","v":{"$error":"#REF!"}},{"$f":"'9'!Q18","v":0},{"$f":"(H16*100)/#REF!","v":{"$error":"#REF!"}},{"$f":"'9'!U18","v":0},{"$f":"(J16*100)/#REF!","v":{"$error":"#REF!"}},{"$f":"'9'!Y18","v":"x"},{"$f":"(L16*100)/#REF!","v":{"$error":"#VALUE!"}},{"$f":"'9'!AC18","v":"x"},{"$f":"(N16*100)/#REF!","v":{"$error":"#VALUE!"}}]
["   31.12.2011",{"$f":"'9'!E19","v":0},null,{"$f":"'9'!I19","v":0},{"$f":"(D17*100)/#REF!","v":{"$error":"#REF!"}},{"$f":"'9'!M19","v":0},{"$f":"(F17*100)/#REF!","v":{"$error":"#REF!"}},{"$f":"'9'!Q19","v":0},{"$f":"(H17*100)/#REF!","v":{"$error":"#REF!"}},{"$f":"'9'!U19","v":0},{"$f":"(J17*100)/#REF!","v":{"$error":"#REF!"}},{"$f":"'9'!Y19","v":"x"},{"$f":"(L17*100)/#REF!","v":{"$error":"#VALUE!"}},{"$f":"'9'!AC19","v":"x"},{"$f":"(N17*100)/#REF!","v":{"$error":"#VALUE!"}}]
["   31.03.2012",{"$f":"'9'!E20","v":0},null,{"$f":"'9'!I20","v":0},{"$f":"(D18*100)/#REF!","v":{"$error":"#REF!"}},{"$f":"'9'!M20","v":0},{"$f":"(F18*100)/#REF!","v":{"$error":"#REF!"}},{"$f":"'9'!Q20","v":0},{"$f":"(H18*100)/#REF!","v":{"$error":"#REF!"}},{"$f":"'9'!U20","v":0},{"$f":"(J18*100)/#REF!","v":{"$error":"#REF!"}},{"$f":"'9'!Y20","v":"x"},{"$f":"(L18*100)/#REF!","v":{"$error":"#VALUE!"}},{"$f":"'9'!AC20","v":"x"},{"$f":"(N18*100)/#REF!","v":{"$error":"#VALUE!"}}]
["   30.06.2012",{"$f":"'9'!E21","v":0},null,{"$f":"'9'!I21","v":0},{"$f":"(D19*100)/#REF!","v":{"$error":"#REF!"}},{"$f":"'9'!M21","v":0},{"$f":"(F19*100)/#REF!","v":{"$error":"#REF!"}},{"$f":"'9'!Q21","v":0},{"$f":"(H19*100)/#REF!","v":{"$error":"#REF!"}},{"$f":"'9'!U21","v":0},{"$f":"(J19*100)/#REF!","v":{"$error":"#REF!"}},{"$f":"'9'!Y21","v":"x"},{"$f":"(L19*100)/#REF!","v":{"$error":"#VALUE!"}},{"$f":"'9'!AC21","v":"x"},{"$f":"(N19*100)/#REF!","v":{"$error":"#VALUE!"}}]
["   30.09.2012",{"$f":"'9'!E22","v":0},null,{"$f":"'9'!I22","v":0},{"$f":"(D20*100)/#REF!","v":{"$error":"#REF!"}},{"$f":"'9'!M22","v":0},{"$f":"(F20*100)/#REF!","v":{"$error":"#REF!"}},{"$f":"'9'!Q22","v":0},{"$f":"(H20*100)/#REF!","v":{"$error":"#REF!"}},{"$f":"'9'!U22","v":0},{"$f":"(J20*100)/#REF!","v":{"$error":"#REF!"}},{"$f":"'9'!Y22","v":"x"},{"$f":"(L20*100)/#REF!","v":{"$error":"#VALUE!"}},{"$f":"'9'!AC22","v":"x"},{"$f":"(N20*100)/#REF!","v":{"$error":"#VALUE!"}}]
["   31.12.2012",{"$f":"'9'!E23","v":0},null,{"$f":"'9'!I23","v":0},{"$f":"(D21*100)/#REF!","v":{"$error":"#REF!"}},{"$f":"'9'!M23","v":0},{"$f":"(F21*100)/#REF!","v":{"$error":"#REF!"}},{"$f":"'9'!Q23","v":0},{"$f":"(H21*100)/#REF!","v":{"$error":"#REF!"}},{"$f":"'9'!U23","v":0},{"$f":"(J21*100)/#REF!","v":{"$error":"#REF!"}},{"$f":"'9'!Y23","v":1.4245699019163747},{"$f":"(L21*100)/#REF!","v":{"$error":"#REF!"}},{"$f":"'9'!AC23","v":0.64357395248287885},{"$f":"(N21*100)/#REF!","v":{"$error":"#REF!"}}]
["   31.03.2013",{"$f":"'9'!E24","v":0},null,{"$f":"'9'!I24","v":0},{"$f":"(D22*100)/#REF!","v":{"$error":"#REF!"}},{"$f":"'9'!M24","v":0},{"$f":"(F22*100)/#REF!","v":{"$error":"#REF!"}},{"$f":"'9'!Q24","v":0},{"$f":"(H22*100)/#REF!","v":{"$error":"#REF!"}},{"$f":"'9'!U24","v":0},{"$f":"(J22*100)/#REF!","v":{"$error":"#REF!"}},{"$f":"'9'!Y24","v":1.2650460305137661},{"$f":"(L22*100)/#REF!","v":{"$error":"#REF!"}},{"$f":"'9'!AC24","v":0.24570725303084659},{"$f":"(N22*100)/#REF!","v":{"$error":"#REF!"}}]
["   30.06.2013",{"$f":"'9'!E25","v":0},null,{"$f":"'9'!I25","v":0},{"$f":"(D23*100)/#REF!","v":{"$error":"#REF!"}},{"$f":"'9'!M25","v":0},{"$f":"(F23*100)/#REF!","v":{"$error":"#REF!"}},{"$f":"'9'!Q25","v":0},{"$f":"(H23*100)/#REF!","v":{"$error":"#REF!"}},{"$f":"'9'!U25","v":0},{"$f":"(J23*100)/#REF!","v":{"$error":"#REF!"}},{"$f":"'9'!Y25","v":1.1995869622140385},{"$f":"(L23*100)/#REF!","v":{"$error":"#REF!"}},{"$f":"'9'!AC25","v":0.13914508077014984},{"$f":"(N23*100)/#REF!","v":{"$error":"#REF!"}}]
["   30.09.2013",{"$f":"'9'!E26","v":0},null,{"$f":"'9'!I26","v":0},{"$f":"(D24*100)/#REF!","v":{"$error":"#REF!"}},{"$f":"'9'!M26","v":0},{"$f":"(F24*100)/#REF!","v":{"$error":"#REF!"}},{"$f":"'9'!Q26","v":0},{"$f":"(H24*100)/#REF!","v":{"$error":"#REF!"}},{"$f":"'9'!U26","v":0},{"$f":"(J24*100)/#REF!","v":{"$error":"#REF!"}},{"$f":"'9'!Y26","v":2.9641383248991838E-2},{"$f":"(L24*100)/#REF!","v":{"$error":"#REF!"}},{"$f":"'9'!AC26","v":0.10559838798768201},{"$f":"(N24*100)/#REF!","v":{"$error":"#REF!"}}]
["   31.12.2013",{"$f":"'9'!E27","v":0},null,{"$f":"'9'!I27","v":0},{"$f":"(D25*100)/#REF!","v":{"$error":"#REF!"}},{"$f":"'9'!M27","v":0},{"$f":"(F25*100)/#REF!","v":{"$error":"#REF!"}},{"$f":"'9'!Q27","v":0},{"$f":"(H25*100)/#REF!","v":{"$error":"#REF!"}},{"$f":"'9'!U27","v":0},{"$f":"(J25*100)/#REF!","v":{"$error":"#REF!"}},{"$f":"'9'!Y27","v":3.5371201641660774E-3},{"$f":"(L25*100)/#REF!","v":{"$error":"#REF!"}},{"$f":"'9'!AC27","v":4.7737391729916617E-2},{"$f":"(N25*100)/#REF!","v":{"$error":"#REF!"}}]
["   31.03.2014",{"$f":"'9'!E28","v":0},null,{"$f":"'9'!I28","v":0},{"$f":"(D26*100)/#REF!","v":{"$error":"#REF!"}},{"$f":"'9'!M28","v":0},{"$f":"(F26*100)/#REF!","v":{"$error":"#REF!"}},{"$f":"'9'!Q28","v":0},{"$f":"(H26*100)/#REF!","v":{"$error":"#REF!"}},{"$f":"'9'!U28","v":0},{"$f":"(J26*100)/#REF!","v":{"$error":"#REF!"}},{"$f":"'9'!Y28","v":4.0019451547757979E-3},{"$f":"(L26*100)/#REF!","v":{"$error":"#REF!"}},{"$f":"'9'!AC28","v":1.3387490545084802E-2},{"$f":"(N26*100)/#REF!","v":{"$error":"#REF!"}}]
["   30.06.2014",{"$f":"'9'!E29","v":0},null,{"$f":"'9'!I29","v":0},{"$f":"(D27*100)/#REF!","v":{"$error":"#REF!"}},{"$f":"'9'!M29","v":0},{"$f":"(F27*100)/#REF!","v":{"$error":"#REF!"}},{"$f":"'9'!Q29","v":0},{"$f":"(H27*100)/#REF!","v":{"$error":"#REF!"}},{"$f":"'9'!U29","v":0},{"$f":"(J27*100)/#REF!","v":{"$error":"#REF!"}},{"$f":"'9'!Y29","v":7.1930314961075473E-3},{"$f":"(L27*100)/#REF!","v":{"$error":"#REF!"}},{"$f":"'9'!AC29","v":-9.3801733884997778E-3},{"$f":"(N27*100)/#REF!","v":{"$error":"#REF!"}}]
["   30.09.2014",{"$f":"'9'!E30","v":0},null,{"$f":"'9'!I30","v":0},{"$f":"(D28*100)/#REF!","v":{"$error":"#REF!"}},{"$f":"'9'!M30","v":0},{"$f":"(F28*100)/#REF!","v":{"$error":"#REF!"}},{"$f":"'9'!Q30","v":0},{"$f":"(H28*100)/#REF!","v":{"$error":"#REF!"}},{"$f":"'9'!U30","v":0},{"$f":"(J28*100)/#REF!","v":{"$error":"#REF!"}},{"$f":"'9'!Y30","v":5.5089254933227381E-3},{"$f":"(L28*100)/#REF!","v":{"$error":"#REF!"}},{"$f":"'9'!AC30","v":-1.1479988102557785E-2},{"$f":"(N28*100)/#REF!","v":{"$error":"#REF!"}}]
["   31.12.2014",{"$f":"'9'!E31","v":0},null,{"$f":"'9'!I31","v":0},{"$f":"(D29*100)/#REF!","v":{"$error":"#REF!"}},{"$f":"'9'!M31","v":0},{"$f":"(F29*100)/#REF!","v":{"$error":"#REF!"}},{"$f":"'9'!Q31","v":0},{"$f":"(H29*100)/#REF!","v":{"$error":"#REF!"}},{"$f":"'9'!U31","v":0},{"$f":"(J29*100)/#REF!","v":{"$error":"#REF!"}},{"$f":"'9'!Y31","v":3.3855093260772213E-3},{"$f":"(L29*100)/#REF!","v":{"$error":"#REF!"}},{"$f":"'9'!AC31","v":-8.0204554505446564E-3},{"$f":"(N29*100)/#REF!","v":{"$error":"#REF!"}}]
["   31.03.2015",{"$f":"'9'!E32","v":0},null,{"$f":"'9'!I32","v":0},{"$f":"(D30*100)/#REF!","v":{"$error":"#REF!"}},{"$f":"'9'!M32","v":0},{"$f":"(F30*100)/#REF!","v":{"$error":"#REF!"}},{"$f":"'9'!Q32","v":0},{"$f":"(H30*100)/#REF!","v":{"$error":"#REF!"}},{"$f":"'9'!U32","v":0},{"$f":"(J30*100)/#REF!","v":{"$error":"#REF!"}},{"$f":"'9'!Y32","v":0},{"$f":"(L30*100)/#REF!","v":{"$error":"#REF!"}},{"$f":"'9'!AC32","v":0},{"$f":"(N30*100)/#REF!","v":{"$error":"#REF!"}}]
["   30.06.2015",{"$f":"'9'!E33","v":0},null,{"$f":"'9'!I33","v":0},{"$f":"(D31*100)/#REF!","v":{"$error":"#REF!"}},{"$f":"'9'!M33","v":0},{"$f":"(F31*100)/#REF!","v":{"$error":"#REF!"}},{"$f":"'9'!Q33","v":0},{"$f":"(H31*100)/#REF!","v":{"$error":"#REF!"}},{"$f":"'9'!U33","v":0},{"$f":"(J31*100)/#REF!","v":{"$error":"#REF!"}},{"$f":"'9'!Y33","v":0},{"$f":"(L31*100)/#REF!","v":{"$error":"#REF!"}},{"$f":"'9'!AC33","v":0},{"$f":"(N31*100)/#REF!","v":{"$error":"#REF!"}}]
["   30.09.2015",{"$f":"'9'!E34","v":9.7222798522826285E-3},null,{"$f":"'9'!I34","v":4.4417932429086501E-3},{"$f":"(D32*100)/#REF!","v":{"$error":"#REF!"}},{"$f":"'9'!M34","v":1.5841441707628863E-2},{"$f":"(F32*100)/#REF!","v":{"$error":"#REF!"}},{"$f":"'9'!Q34","v":1.0831599678174951E-2},{"$f":"(H32*100)/#REF!","v":{"$error":"#REF!"}},{"$f":"'9'!U34","v":-4.7563217461408396E-4},{"$f":"(J32*100)/#REF!","v":{"$error":"#REF!"}},{"$f":"'9'!Y34","v":3.2935626232261689E-3},{"$f":"(L32*100)/#REF!","v":{"$error":"#REF!"}},{"$f":"'9'!AC34","v":2.792209674856146E-2},{"$f":"(N32*100)/#REF!","v":{"$error":"#REF!"}}]
["   31.12.2015",{"$f":"'9'!E35","v":1.6359223503596622E-2},null,{"$f":"'9'!I35","v":5.2932779395702331E-3},{"$f":"(D33*100)/#REF!","v":{"$error":"#REF!"}},{"$f":"'9'!M35","v":2.9060547796153292E-2},{"$f":"(F33*100)/#REF!","v":{"$error":"#REF!"}},{"$f":"'9'!Q35","v":1.7806033625717883E-2},{"$f":"(H33*100)/#REF!","v":{"$error":"#REF!"}},{"$f":"'9'!U35","v":2.946136741168527E-3},{"$f":"(J33*100)/#REF!","v":{"$error":"#REF!"}},{"$f":"'9'!Y35","v":6.2186752350876628E-3},{"$f":"(L33*100)/#REF!","v":{"$error":"#REF!"}},{"$f":"'9'!AC35","v":4.4277865283728908E-2},{"$f":"(N33*100)/#REF!","v":{"$error":"#REF!"}}]
["   31.03.2016",{"$f":"'9'!E36","v":4.7056278591121103E-2},null,{"$f":"'9'!I36","v":3.5006237883810583E-2},{"$f":"(D34*100)/#REF!","v":{"$error":"#REF!"}},{"$f":"'9'!M36","v":6.0908965180868753E-2},{"$f":"(F34*100)/#REF!","v":{"$error":"#REF!"}},{"$f":"'9'!Q36","v":4.8400068428050107E-2},{"$f":"(H34*100)/#REF!","v":{"$error":"#REF!"}},{"$f":"'9'!U36","v":3.5033699955009004E-2},{"$f":"(J34*100)/#REF!","v":{"$error":"#REF!"}},{"$f":"'9'!Y36","v":3.4384671649888746E-2},{"$f":"(L34*100)/#REF!","v":{"$error":"#REF!"}},{"$f":"'9'!AC36","v":8.1469477830231035E-2},{"$f":"(N34*100)/#REF!","v":{"$error":"#REF!"}}]
["   30.06.2016",{"$f":"'9'!E37","v":0.22192798418267076},null,{"$f":"'9'!I37","v":0.20926364652466187},{"$f":"(D35*100)/#REF!","v":{"$error":"#REF!"}},{"$f":"'9'!M37","v":0.236581331690946},{"$f":"(F35*100)/#REF!","v":{"$error":"#REF!"}},{"$f":"'9'!Q37","v":0.23058794221676598},{"$f":"(H35*100)/#REF!","v":{"$error":"#REF!"}},{"$f":"'9'!U37","v":0.14434275156206211},{"$f":"(J35*100)/#REF!","v":{"$error":"#REF!"}},{"$f":"'9'!Y37","v":0.21306586680695522},{"$f":"(L35*100)/#REF!","v":{"$error":"#REF!"}},{"$f":"'9'!AC37","v":0.24576403049734255},{"$f":"(N35*100)/#REF!","v":{"$error":"#REF!"}}]
["   30.09.2016",{"$f":"'9'!E38","v":-6.0420121662506819E-3},null,{"$f":"'9'!I38","v":-6.5708349098390073E-3},{"$f":"(D36*100)/#REF!","v":{"$error":"#REF!"}},{"$f":"'9'!M38","v":-5.4292049546452309E-3},{"$f":"(F36*100)/#REF!","v":{"$error":"#REF!"}},{"$f":"'9'!Q38","v":-4.6640683064454952E-3},{"$f":"(H36*100)/#REF!","v":{"$error":"#REF!"}},{"$f":"'9'!U38","v":-1.838985694480914E-2},{"$f":"(J36*100)/#REF!","v":{"$error":"#REF!"}},{"$f":"'9'!Y38","v":-6.3850676038865297E-3},{"$f":"(L36*100)/#REF!","v":{"$error":"#REF!"}},{"$f":"'9'!AC38","v":-5.1215068877362236E-3},{"$f":"(N36*100)/#REF!","v":{"$error":"#REF!"}}]
["   31.12.2016",{"$f":"'9'!E39","v":-3.7583697906192408E-3},null,{"$f":"'9'!I39","v":-4.1511809610753096E-3},{"$f":"(D37*100)/#REF!","v":{"$error":"#REF!"}},{"$f":"'9'!M39","v":-3.3068745129530611E-3},{"$f":"(F37*100)/#REF!","v":{"$error":"#REF!"}},{"$f":"'9'!Q39","v":-2.5834684934830346E-3},{"$f":"(H37*100)/#REF!","v":{"$error":"#REF!"}},{"$f":"'9'!U39","v":-1.4283549843237266E-2},{"$f":"(J37*100)/#REF!","v":{"$error":"#REF!"}},{"$f":"'9'!Y39","v":-3.7524618227044457E-3},{"$f":"(L37*100)/#REF!","v":{"$error":"#REF!"}},{"$f":"'9'!AC39","v":-3.7740242374698393E-3},{"$f":"(N37*100)/#REF!","v":{"$error":"#REF!"}}]
["   31.03.2017",{"$f":"'9'!E40","v":-3.3446815539027218E-3},null,{"$f":"'9'!I40","v":-5.3212643160283676E-3},{"$f":"(D38*100)/#REF!","v":{"$error":"#REF!"}},{"$f":"'9'!M40","v":-1.0654013474764687E-3},{"$f":"(F38*100)/#REF!","v":{"$error":"#REF!"}},{"$f":"'9'!Q40","v":-2.4533644638801929E-3},{"$f":"(H38*100)/#REF!","v":{"$error":"#REF!"}},{"$f":"'9'!U40","v":-1.1012609437806287E-2},{"$f":"(J38*100)/#REF!","v":{"$error":"#REF!"}},{"$f":"'9'!Y40","v":-4.8225621515806975E-3},{"$f":"(L38*100)/#REF!","v":{"$error":"#REF!"}},{"$f":"'9'!AC40","v":5.3343817474254228E-4},{"$f":"(N38*100)/#REF!","v":{"$error":"#REF!"}}]
["   30.06.2017",{"$f":"'9'!E41","v":{"$error":"#DIV/0!"}},null,{"$f":"'9'!I41","v":{"$error":"#DIV/0!"}},{"$f":"(D39*100)/#REF!","v":{"$error":"#DIV/0!"}},{"$f":"'9'!M41","v":{"$error":"#DIV/0!"}},{"$f":"(F39*100)/#REF!","v":{"$error":"#DIV/0!"}},{"$f":"'9'!M41","v":{"$error":"#DIV/0!"}},{"$f":"(H39*100)/#REF!","v":{"$error":"#DIV/0!"}},{"$f":"'9'!Q41","v":{"$error":"#DIV/0!"}},{"$f":"(J39*100)/#REF!","v":{"$error":"#DIV/0!"}},{"$f":"'9'!M41","v":{"$error":"#DIV/0!"}},{"$f":"(L39*100)/#REF!","v":{"$error":"#DIV/0!"}},{"$f":"'9'!Q41","v":{"$error":"#DIV/0!"}},{"$f":"(N39*100)/#REF!","v":{"$error":"#DIV/0!"}}]
[null,null,null,null,null,null,null,null,null,null,null,null,null,null,"© Statistik der Bundesagentur für Arbeit"]

{"sheet":"9","index":26,"n_rows":43,"n_cols":29,"rows_kept":43,"cut":false,"hidden":false,"merged":[[8,27,8,28],[8,21,9,21],[8,22,9,22],[8,23,8,24],[8,25,9,25],[8,26,9,26],[2,0,2,28],[8,6,9,6],[8,7,8,8],[6,13,6,20],[7,13,7,16],[7,17,7,20],[8,13,9,13],[8,14,9,14],[8,15,8,16],[8,17,9,17],[8,18,9,18],[8,19,8,20],[8,9,9,9],[6,21,6,28],[7,21,7,24],[7,25,7,28],[8,5,9,5],[6,0,10,0],[6,1,7,4],[8,1,9,1],[8,2,9,2],[8,3,8,4],[6,5,6,12],[7,5,7,8],[7,9,7,12],[8,11,8,12],[8,10,9,10]]}
[null,1,null,null,null,null,null,null,null,null,null,null,null,null,null,null,null,null,null,null,null,null,null,null,null,null,null,null,"Beschäftigungsstatistik"]
[]
["Sozialversicherungspflichtig Beschäftigte nach ausgewählten Merkmalen"]
[null,null,null,"(Arbeitsort)"]
["Zeitreihe"]
[]
["Stichtag","sozialversicherungspflichtig Beschäftigte",null,null,null,"davon",null,null,null,null,null,null,null,"darunter",null,null,null,null,null,null,null,"darunter"]
[null,null,null,null,null,"Männer",null,null,null,"Frauen",null,null,null,"Deutsche",null,null,null,"Ausländer",null,null,null,"Vollzeit",null,null,null,"Teilzeit"]
[null," nach Revision"," vor Revision","Veränderung (Spalte 1 zu 2)",null," nach Revision"," vor Revision","Veränderung (Spalte 5 zu 6)",null," nach Revision"," vor Revision","Veränderung (Spalte 9 zu 10)",null," nach Revision"," vor Revision","Veränderung (Spalte 13 zu 14)",null," nach Revision"," vor Revision","Veränderung (Spalte 17 zu 18)",null," nach Revision"," vor Revision","Veränderung (Spalte 21 zu 22)",null," nach Revision"," vor Revision","Veränderung (Spalte 25 zu 26)"]
[null,null,null,"absolut","in %",null,null,"absolut","in %",null,null,"absolut","in %",null,null,"absolut","in %",null,null,"absolut","in %",null,null,"absolut","in %",null,null,"absolut","in %"]
[null,1,2,3,4,5,6,7,8,9,10,11,12,13,14,15,16,17,18,19,20,21,22,23,24,25,26,27,28]
["   31.03.2010",{"$f":"'10 Steuerung'!AB13","v":27658116},{"$f":"'10 Steuerung'!H13","v":27658116},{"$f":"B12-C12","v":0},{"$f":"(D12*100)/C12","v":0},{"$f":"'10 Steuerung'!AD13","v":14888960},{"$f":"'10 Steuerung'!I13","v":14888960},{"$f":"F12-G12","v":0},{"$f":"(H12*100)/G12","v":0},{"$f":"'10 Steuerung'!AE13","v":12769156},{"$f":"'10 Steuerung'!J13","v":12769156},{"$f":"J12-K12","v":0},{"$f":"(L12*100)/K12","v":0},{"$f":"'10 Steuerung'!AQ13","v":25820453},{"$f":"'10 Steuerung'!V13","v":25820453},{"$f":"N12-O12","v":0},{"$f":"(P12*100)/O12","v":0},{"$f":"'10 Steuerung'!AR13","v":1821572},{"$f":"'10 Steuerung'!W13","v":1821572},{"$f":"R12-S12","v":0},{"$f":"(T12*100)/S12","v":0},{"$f":"'10 Steuerung'!AF13","v":21524281},{"$f":"'10 Steuerung'!K13","v":21524281},{"$f":"V12-W12","v":0},{"$f":"(X12*100)/W12","v":0},{"$f":"'10 Steuerung'!AG13","v":5776878},{"$f":"'10 Steuerung'!L13","v":5776878},{"$f":"Z12-AA12","v":0},{"$f":"(AB12*100)/AA12","v":0}]
["   30.06.2010",{"$f":"'10 Steuerung'!AB14","v":27966601},{"$f":"'10 Steuerung'!H14","v":27966601},0,{"$f":"(D13*100)/C13","v":0},{"$f":"'10 Steuerung'!AD14","v":15149301},{"$f":"'10 Steuerung'!I14","v":15149301},0,{"$f":"(H13*100)/G13","v":0},{"$f":"'10 Steuerung'!AE14","v":12817300},{"$f":"'10 Steuerung'!J14","v":12817300},0,{"$f":"(L13*100)/K13","v":0},{"$f":"'10 Steuerung'!AQ14","v":26071443},{"$f":"'10 Steuerung'!V14","v":26071443},{"$f":"N13-O13","v":0},{"$f":"(P13*100)/O13","v":0},{"$f":"'10 Steuerung'!AR14","v":1878869},{"$f":"'10 Steuerung'!W14","v":1878869},{"$f":"R13-S13","v":0},{"$f":"(T13*100)/S13","v":0},{"$f":"'10 Steuerung'!AF14","v":21773598},{"$f":"'10 Steuerung'!K14","v":21773598},{"$f":"V13-W13","v":0},{"$f":"(X13*100)/W13","v":0},{"$f":"'10 Steuerung'!AG14","v":5840557},{"$f":"'10 Steuerung'!L14","v":5840557},{"$f":"Z13-AA13","v":0},{"$f":"(AB13*100)/AA13","v":0}]
["   30.09.2010",{"$f":"'10 Steuerung'!AB15","v":28505122},{"$f":"'10 Steuerung'!H15","v":28505122},0,0,{"$f":"'10 Steuerung'!AD15","v":15463399},{"$f":"'10 Steuerung'!I15","v":15463399},0,0,{"$f":"'10 Steuerung'!AE15","v":13041723},{"$f":"'10 Steuerung'!J15","v":13041723},0,0,{"$f":"'10 Steuerung'!AQ15","v":26555273},{"$f":"'10 Steuerung'!V15","v":26555273},0,0,{"$f":"'10 Steuerung'!AR15","v":1933578},{"$f":"'10 Steuerung'!W15","v":1933578},0,0,{"$f":"'10 Steuerung'!AF15","v":22236577},{"$f":"'10 Steuerung'!K15","v":22236577},0,0,{"$f":"'10 Steuerung'!AG15","v":5906236},{"$f":"'10 Steuerung'!L15","v":5906236},0,0]
["   31.12.2010",{"$f":"'10 Steuerung'!AB16","v":28291928},{"$f":"'10 Steuerung'!H16","v":28291928},0,0,{"$f":"'10 Steuerung'!AD16","v":15254325},{"$f":"'10 Steuerung'!I16","v":15254325},0,0,{"$f":"'10 Steuerung'!AE16","v":13037603},{"$f":"'10 Steuerung'!J16","v":13037603},0,0,{"$f":"'10 Steuerung'!AQ16","v":26380767},{"$f":"'10 Steuerung'!V16","v":26380767},0,0,{"$f":"'10 Steuerung'!AR16","v":1895645},{"$f":"'10 Steuerung'!W16","v":1895645},0,0,{"$f":"'10 Steuerung'!AF16","v":21945518},{"$f":"'10 Steuerung'!K16","v":21945518},0,0,{"$f":"'10 Steuerung'!AG16","v":5983960},{"$f":"'10 Steuerung'!L16","v":5983960},0,0]
["   31.03.2011",{"$f":"'10 Steuerung'!AB17","v":28331314},{"$f":"'10 Steuerung'!H17","v":28331314},0,0,{"$f":"'10 Steuerung'!AD17","v":15296486},{"$f":"'10 Steuerung'!I17","v":15296486},0,0,{"$f":"'10 Steuerung'!AE17","v":13034828},{"$f":"'10 Steuerung'!J17","v":13034828},0,0,{"$f":"'10 Steuerung'!AQ17","v":26382473},{"$f":"'10 Steuerung'!V17","v":26382473},0,0,{"$f":"'10 Steuerung'!AR17","v":1932844},{"$f":"'10 Steuerung'!W17","v":1932844},0,0,{"$f":"'10 Steuerung'!AF17","v":21378151},"x","x","x",{"$f":"'10 Steuerung'!AG17","v":6647254},"x","x","x"]
["   30.06.2011",{"$f":"'10 Steuerung'!AB18","v":28643583},{"$f":"'10 Steuerung'!H18","v":28643583},0,0,{"$f":"'10 Steuerung'!AD18","v":15531430},{"$f":"'10 Steuerung'!I18","v":15531430},0,0,{"$f":"'10 Steuerung'!AE18","v":13112153},{"$f":"'10 Steuerung'!J18","v":13112153},0,0,{"$f":"'10 Steuerung'!AQ18","v":26608019},{"$f":"'10 Steuerung'!V18","v":26608019},0,0,{"$f":"'10 Steuerung'!AR18","v":2019039},{"$f":"'10 Steuerung'!W18","v":2019039},0,0,{"$f":"'10 Steuerung'!AF18","v":21511681},"x","x","x",{"$f":"'10 Steuerung'!AG18","v":6838450},"x","x","x"]
["   30.09.2011",{"$f":"'10 Steuerung'!AB19","v":29216870},{"$f":"'10 Steuerung'!H19","v":29216870},0,0,{"$f":"'10 Steuerung'!AD19","v":15859845},{"$f":"'10 Steuerung'!I19","v":15859845},0,0,{"$f":"'10 Steuerung'!AE19","v":13357025},{"$f":"'10 Steuerung'!J19","v":13357025},0,0,{"$f":"'10 Steuerung'!AQ19","v":27100469},{"$f":"'10 Steuerung'!V19","v":27100469},0,0,{"$f":"'10 Steuerung'!AR19","v":2099594},{"$f":"'10 Steuerung'!W19","v":2099594},0,0,{"$f":"'10 Steuerung'!AF19","v":22080266},"x","x","x",{"$f":"'10 Steuerung'!AG19","v":6950629},"x","x","x"]
["   31.12.2011",{"$f":"'10 Steuerung'!AB20","v":29046131},{"$f":"'10 Steuerung'!H20","v":29046131},0,0,{"$f":"'10 Steuerung'!AD20","v":15675111},{"$f":"'10 Steuerung'!I20","v":15675111},0,0,{"$f":"'10 Steuerung'!AE20","v":13371020},{"$f":"'10 Steuerung'!J20","v":13371020},0,0,{"$f":"'10 Steuerung'!AQ20","v":26961282},{"$f":"'10 Steuerung'!V20","v":26961282},0,0,{"$f":"'10 Steuerung'!AR20","v":2068811},{"$f":"'10 Steuerung'!W20","v":2068811},0,0,{"$f":"'10 Steuerung'!AF20","v":22037850},"x","x","x",{"$f":"'10 Steuerung'!AG20","v":6981295},"x","x","x"]
["   31.03.2012",{"$f":"'10 Steuerung'!AB21","v":29082009},{"$f":"'10 Steuerung'!H21","v":29082009},0,0,{"$f":"'10 Steuerung'!AD21","v":15688092},{"$f":"'10 Steuerung'!I21","v":15688092},0,0,{"$f":"'10 Steuerung'!AE21","v":13393917},{"$f":"'10 Steuerung'!J21","v":13393917},0,0,{"$f":"'10 Steuerung'!AQ21","v":26947937},{"$f":"'10 Steuerung'!V21","v":26947937},0,0,{"$f":"'10 Steuerung'!AR21","v":2117880},{"$f":"'10 Steuerung'!W21","v":2117880},0,0,{"$f":"'10 Steuerung'!AF21","v":21893377},"x","x","x",{"$f":"'10 Steuerung'!AG21","v":7143982},"x","x","x"]
["   30.06.2012",{"$f":"'10 Steuerung'!AB22","v":29280034},{"$f":"'10 Steuerung'!H22","v":29280034},0,0,{"$f":"'10 Steuerung'!AD22","v":15838217},{"$f":"'10 Steuerung'!I22","v":15838217},0,0,{"$f":"'10 Steuerung'!AE22","v":13441817},{"$f":"'10 Steuerung'!J22","v":13441817},0,0,{"$f":"'10 Steuerung'!AQ22","v":27070222},{"$f":"'10 Steuerung'!V22","v":27070222},0,0,{"$f":"'10 Steuerung'!AR22","v":2193332},{"$f":"'10 Steuerung'!W22","v":2193332},0,0,{"$f":"'10 Steuerung'!AF22","v":21966212},"x","x","x",{"$f":"'10 Steuerung'!AG22","v":7268879},"x","x","x"]
["   30.09.2012",{"$f":"'10 Steuerung'!AB23","v":29753856},{"$f":"'10 Steuerung'!H23","v":29753856},0,0,{"$f":"'10 Steuerung'!AD23","v":16097690},{"$f":"'10 Steuerung'!I23","v":16097690},0,0,{"$f":"'10 Steuerung'!AE23","v":13656166},{"$f":"'10 Steuerung'!J23","v":13656166},0,0,{"$f":"'10 Steuerung'!AQ23","v":27471735},{"$f":"'10 Steuerung'!V23","v":27471735},0,0,{"$f":"'10 Steuerung'!AR23","v":2264721},{"$f":"'10 Steuerung'!W23","v":2264721},0,0,{"$f":"'10 Steuerung'!AF23","v":22352947},"x","x","x",{"$f":"'10 Steuerung'!AG23","v":7350906},"x","x","x"]
["   31.12.2012",{"$f":"'10 Steuerung'!AB24","v":29527929},{"$f":"'10 Steuerung'!H24","v":29527929},0,0,{"$f":"'10 Steuerung'!AD24","v":15864737},{"$f":"'10 Steuerung'!I24","v":15864737},0,0,{"$f":"'10 Steuerung'!AE24","v":13663192},{"$f":"'10 Steuerung'!J24","v":13663192},0,0,{"$f":"'10 Steuerung'!AQ24","v":27290987},{"$f":"'10 Steuerung'!V24","v":27290987},0,0,{"$f":"'10 Steuerung'!AR24","v":2219193},{"$f":"'10 Steuerung'!W24","v":2219193},0,0,{"$f":"'10 Steuerung'!AF24","v":22162228},{"$f":"'10 Steuerung'!K24","v":21850946},311282,1.4245699019163747,{"$f":"'10 Steuerung'!AG24","v":7352001},{"$f":"'10 Steuerung'!L24","v":7304988},47013,0.64357395248287885]
["   31.03.2013",{"$f":"'10 Steuerung'!AB25","v":29422803},{"$f":"'10 Steuerung'!H25","v":29422803},0,0,{"$f":"'10 Steuerung'!AD25","v":15794647},{"$f":"'10 Steuerung'!I25","v":15794647},0,0,{"$f":"'10 Steuerung'!AE25","v":13628156},{"$f":"'10 Steuerung'!J25","v":13628156},0,0,{"$f":"'10 Steuerung'!AQ25","v":27147959},{"$f":"'10 Steuerung'!V25","v":27147959},0,0,{"$f":"'10 Steuerung'!AR25","v":2257050},{"$f":"'10 Steuerung'!W25","v":2257050},0,0,{"$f":"'10 Steuerung'!AF25","v":22009337},{"$f":"'10 Steuerung'!K25","v":21734387},274950,1.2650460305137661,{"$f":"'10 Steuerung'!AG25","v":7346239},{"$f":"'10 Steuerung'!L25","v":7328233},18006,0.24570725303084659]
["   30.06.2013",{"$f":"'10 Steuerung'!AB26","v":29615680},{"$f":"'10 Steuerung'!H26","v":29615680},0,0,{"$f":"'10 Steuerung'!AD26","v":15965766},{"$f":"'10 Steuerung'!I26","v":15965766},0,0,{"$f":"'10 Steuerung'!AE26","v":13649914},{"$f":"'10 Steuerung'!J26","v":13649914},0,0,{"$f":"'10 Steuerung'!AQ26","v":27257049},{"$f":"'10 Steuerung'!V26","v":27257049},0,0,{"$f":"'10 Steuerung'!AR26","v":2340697},{"$f":"'10 Steuerung'!W26","v":2340697},0,0,{"$f":"'10 Steuerung'!AF26","v":22103104},{"$f":"'10 Steuerung'!K26","v":21841101},262003,1.1995869622140385,{"$f":"'10 Steuerung'!AG26","v":7434236},{"$f":"'10 Steuerung'!L26","v":7423906},10330,0.13914508077014984]
["   30.09.2013",{"$f":"'10 Steuerung'!AB27","v":30164885},{"$f":"'10 Steuerung'!H27","v":30164885},0,0,{"$f":"'10 Steuerung'!AD27","v":16268423},{"$f":"'10 Steuerung'!I27","v":16268423},0,0,{"$f":"'10 Steuerung'!AE27","v":13896462},{"$f":"'10 Steuerung'!J27","v":13896462},0,0,{"$f":"'10 Steuerung'!AQ27","v":27728422},{"$f":"'10 Steuerung'!V27","v":27728422},0,0,{"$f":"'10 Steuerung'!AR27","v":2419849},{"$f":"'10 Steuerung'!W27","v":2419849},0,0,{"$f":"'10 Steuerung'!AF27","v":22286266},{"$f":"'10 Steuerung'!K27","v":22279662},6604,2.9641383248991838E-2,{"$f":"'10 Steuerung'!AG27","v":7537422},{"$f":"'10 Steuerung'!L27","v":7529471},7951,0.10559838798768201]
["   31.12.2013",{"$f":"'10 Steuerung'!AB28","v":29884370},{"$f":"'10 Steuerung'!H28","v":29884370},0,0,{"$f":"'10 Steuerung'!AD28","v":16026042},{"$f":"'10 Steuerung'!I28","v":16026042},0,0,{"$f":"'10 Steuerung'!AE28","v":13858328},{"$f":"'10 Steuerung'!J28","v":13858328},0,0,{"$f":"'10 Steuerung'!AQ28","v":27503163},{"$f":"'10 Steuerung'!V28","v":27503163},0,0,{"$f":"'10 Steuerung'!AR28","v":2364933},{"$f":"'10 Steuerung'!W28","v":2364933},0,0,{"$f":"'10 Steuerung'!AF28","v":21967800},{"$f":"'10 Steuerung'!K28","v":21967023},777,3.5371201641660774E-3,{"$f":"'10 Steuerung'!AG28","v":7567912},{"$f":"'10 Steuerung'!L28","v":7564301},3611,4.7737391729916617E-2]
["   31.03.2014",{"$f":"'10 Steuerung'!AB29","v":29932409},{"$f":"'10 Steuerung'!H29","v":29932409},0,0,{"$f":"'10 Steuerung'!AD29","v":16067835},{"$f":"'10 Steuerung'!I29","v":16067835},0,0,{"$f":"'10 Steuerung'!AE29","v":13864574},{"$f":"'10 Steuerung'!J29","v":13864574},0,0,{"$f":"'10 Steuerung'!AQ29","v":27463191},{"$f":"'10 Steuerung'!V29","v":27463191},0,0,{"$f":"'10 Steuerung'!AR29","v":2452858},{"$f":"'10 Steuerung'!W29","v":2452858},0,0,{"$f":"'10 Steuerung'!AF29","v":21965198},{"$f":"'10 Steuerung'!K29","v":21964319},879,4.0019451547757979E-3,{"$f":"'10 Steuerung'!AG29","v":7620073},{"$f":"'10 Steuerung'!L29","v":7619053},1020,1.3387490545084802E-2]
["   30.06.2014",{"$f":"'10 Steuerung'!AB30","v":30174505},{"$f":"'10 Steuerung'!H30","v":30174505},0,0,{"$f":"'10 Steuerung'!AD30","v":16240821},{"$f":"'10 Steuerung'!I30","v":16240821},0,0,{"$f":"'10 Steuerung'!AE30","v":13933684},{"$f":"'10 Steuerung'!J30","v":13933684},0,0,{"$f":"'10 Steuerung'!AQ30","v":27594881},{"$f":"'10 Steuerung'!V30","v":27594881},0,0,{"$f":"'10 Steuerung'!AR30","v":2563286},{"$f":"'10 Steuerung'!W30","v":2563286},0,0,{"$f":"'10 Steuerung'!AF30","v":22092414},{"$f":"'10 Steuerung'!K30","v":22090825},1589,7.1930314961075473E-3,{"$f":"'10 Steuerung'!AG30","v":7739003},{"$f":"'10 Steuerung'!L30","v":7739729},-726,-9.3801733884997778E-3]
["   30.09.2014",{"$f":"'10 Steuerung'!AB31","v":30662502},{"$f":"'10 Steuerung'!H31","v":30662502},0,0,{"$f":"'10 Steuerung'!AD31","v":16500681},{"$f":"'10 Steuerung'!I31","v":16500681},0,0,{"$f":"'10 Steuerung'!AE31","v":14161821},{"$f":"'10 Steuerung'!J31","v":14161821},0,0,{"$f":"'10 Steuerung'!AQ31","v":27991796},{"$f":"'10 Steuerung'!V31","v":27991796},0,0,{"$f":"'10 Steuerung'!AR31","v":2655003},{"$f":"'10 Steuerung'!W31","v":2655003},0,0,{"$f":"'10 Steuerung'!AF31","v":22728007},{"$f":"'10 Steuerung'!K31","v":22726755},1252,5.5089254933227381E-3,{"$f":"'10 Steuerung'!AG31","v":7856249},{"$f":"'10 Steuerung'!L31","v":7857151},-902,-1.1479988102557785E-2]
["   31.12.2014",{"$f":"'10 Steuerung'!AB32","v":30397759},{"$f":"'10 Steuerung'!H32","v":30397759},0,0,{"$f":"'10 Steuerung'!AD32","v":16262756},{"$f":"'10 Steuerung'!I32","v":16262756},0,0,{"$f":"'10 Steuerung'!AE32","v":14135003},{"$f":"'10 Steuerung'!J32","v":14135003},0,0,{"$f":"'10 Steuerung'!AQ32","v":27776389},{"$f":"'10 Steuerung'!V32","v":27776389},0,0,{"$f":"'10 Steuerung'!AR32","v":2605886},{"$f":"'10 Steuerung'!W32","v":2605886},0,0,{"$f":"'10 Steuerung'!AF32","v":22478915},{"$f":"'10 Steuerung'!K32","v":22478154},761,3.3855093260772213E-3,{"$f":"'10 Steuerung'!AG32","v":7904154},{"$f":"'10 Steuerung'!L32","v":7904788},-634,-8.0204554505446564E-3]
["   31.03.2015",{"$f":"'10 Steuerung'!AB33","v":30528297},{"$f":"'10 Steuerung'!H33","v":30528297},0,0,{"$f":"'10 Steuerung'!AD33","v":16326861},{"$f":"'10 Steuerung'!I33","v":16326861},0,0,{"$f":"'10 Steuerung'!AE33","v":14201436},{"$f":"'10 Steuerung'!J33","v":14201436},0,0,{"$f":"'10 Steuerung'!AQ33","v":27800089},{"$f":"'10 Steuerung'!V33","v":27800089},0,0,{"$f":"'10 Steuerung'!AR33","v":2712443},{"$f":"'10 Steuerung'!W33","v":2712443},0,0,{"$f":"'10 Steuerung'!AF33","v":22472270},{"$f":"'10 Steuerung'!K33","v":22472270},0,0,{"$f":"'10 Steuerung'!AG33","v":8046746},{"$f":"'10 Steuerung'!L33","v":8046746},0,0]
["   30.06.2015",{"$f":"'10 Steuerung'!AB34","v":30771297},{"$f":"'10 Steuerung'!H34","v":30771297},0,0,{"$f":"'10 Steuerung'!AD34","v":16504172},{"$f":"'10 Steuerung'!I34","v":16504172},0,0,{"$f":"'10 Steuerung'!AE34","v":14267125},{"$f":"'10 Steuerung'!J34","v":14267125},0,0,{"$f":"'10 Steuerung'!AQ34","v":27925888},{"$f":"'10 Steuerung'!V34","v":27925888},0,0,{"$f":"'10 Steuerung'!AR34","v":2829470},{"$f":"'10 Steuerung'!W34","v":2829470},0,0,{"$f":"'10 Steuerung'!AF34","v":22577749},{"$f":"'10 Steuerung'!K34","v":22577749},0,0,{"$f":"'10 Steuerung'!AG34","v":8186415},{"$f":"'10 Steuerung'!L34","v":8186415},0,0]
["   30.09.2015",{"$f":"'10 Steuerung'!AB35","v":31333146},{"$f":"'10 Steuerung'!H35","v":31330100},3046,9.7222798522826285E-3,{"$f":"'10 Steuerung'!AD35","v":16818279},{"$f":"'10 Steuerung'!I35","v":16817532},747,4.4417932429086501E-3,{"$f":"'10 Steuerung'!AE35","v":14514867},{"$f":"'10 Steuerung'!J35","v":14512568},2299,1.5841441707628863E-2,{"$f":"'10 Steuerung'!AQ35","v":28373767},{"$f":"'10 Steuerung'!V35","v":28370694},3073,1.0831599678174951E-2,{"$f":"'10 Steuerung'!AR35","v":2943437},{"$f":"'10 Steuerung'!W35","v":2943451},-14,-4.7563217461408396E-4,{"$f":"'10 Steuerung'!AF35","v":23015350},{"$f":"'10 Steuerung'!K35","v":23014592},758,3.2935626232261689E-3,{"$f":"'10 Steuerung'!AG35","v":8314734},{"$f":"'10 Steuerung'!L35","v":8312413},2321,2.792209674856146E-2]
["   31.12.2015",{"$f":"'10 Steuerung'!AB36","v":31149605},{"$f":"'10 Steuerung'!H36","v":31144510},5095,1.6359223503596622E-2,{"$f":"'10 Steuerung'!AD36","v":16644632},{"$f":"'10 Steuerung'!I36","v":16643751},881,5.2932779395702331E-3,{"$f":"'10 Steuerung'!AE36","v":14504973},{"$f":"'10 Steuerung'!J36","v":14500759},4214,2.9060547796153292E-2,{"$f":"'10 Steuerung'!AQ36","v":28214562},{"$f":"'10 Steuerung'!V36","v":28209539},5023,1.7806033625717883E-2,{"$f":"'10 Steuerung'!AR36","v":2919163},{"$f":"'10 Steuerung'!W36","v":2919077},86,2.946136741168527E-3,{"$f":"'10 Steuerung'!AF36","v":22771539},{"$f":"'10 Steuerung'!K36","v":22770123},1416,6.2186752350876628E-3,{"$f":"'10 Steuerung'!AG36","v":8375836},{"$f":"'10 Steuerung'!L36","v":8372129},3707,4.4277865283728908E-2]
["   31.03.2016",{"$f":"'10 Steuerung'!AB37","v":31209241},{"$f":"'10 Steuerung'!H37","v":31194562},14679,4.7056278591121103E-2,{"$f":"'10 Steuerung'!AD37","v":16688581},{"$f":"'10 Steuerung'!I37","v":16682741},5840,3.5006237883810583E-2,{"$f":"'10 Steuerung'!AE37","v":14520660},{"$f":"'10 Steuerung'!J37","v":14511821},8839,6.0908965180868753E-2,{"$f":"'10 Steuerung'!AQ37","v":28189217},{"$f":"'10 Steuerung'!V37","v":28175580},13637,4.8400068428050107E-2,{"$f":"'10 Steuerung'!AR37","v":3003875},{"$f":"'10 Steuerung'!W37","v":3002823},1052,3.5033699955009004E-2,{"$f":"'10 Steuerung'!AF37","v":22770877},{"$f":"'10 Steuerung'!K37","v":22763050},7827,3.4384671649888746E-2,{"$f":"'10 Steuerung'!AG37","v":8437019},{"$f":"'10 Steuerung'!L37","v":8430151},6868,8.1469477830231035E-2]
["   30.06.2016",{"$f":"'10 Steuerung'!AB38","v":31443318},{"$f":"'10 Steuerung'!H38","v":31373691},69627,0.22192798418267076,{"$f":"'10 Steuerung'!AD38","v":16864227},{"$f":"'10 Steuerung'!I38","v":16829010},35217,0.20926364652466187,{"$f":"'10 Steuerung'!AE38","v":14579091},{"$f":"'10 Steuerung'!J38","v":14544681},34410,0.236581331690946,{"$f":"'10 Steuerung'!AQ38","v":28292932},{"$f":"'10 Steuerung'!V38","v":28227842},65090,0.23058794221676598,{"$f":"'10 Steuerung'!AR38","v":3133874},{"$f":"'10 Steuerung'!W38","v":3129357},4517,0.14434275156206211,{"$f":"'10 Steuerung'!AF38","v":22873969},{"$f":"'10 Steuerung'!K38","v":22825336},48633,0.21306586680695522,{"$f":"'10 Steuerung'!AG38","v":8568637},{"$f":"'10 Steuerung'!L38","v":8547630},21007,0.24576403049734255]
["   30.09.2016",{"$f":"'10 Steuerung'!AB39","v":32007270},{"$f":"'10 Steuerung'!H39","v":32009204},-1934,-6.0420121662506819E-3,{"$f":"'10 Steuerung'!AD39","v":17180858},{"$f":"'10 Steuerung'!I39","v":17181987},-1129,-6.5708349098390073E-3,{"$f":"'10 Steuerung'!AE39","v":14826412},{"$f":"'10 Steuerung'!J39","v":14827217},-805,-5.4292049546452309E-3,{"$f":"'10 Steuerung'!AQ39","v":28750382},{"$f":"'10 Steuerung'!V39","v":28751723},-1341,-4.6640683064454952E-3,{"$f":"'10 Steuerung'!AR39","v":3240321},{"$f":"'10 Steuerung'!W39","v":3240917},-596,-1.838985694480914E-2,{"$f":"'10 Steuerung'!AF39","v":23318546},{"$f":"'10 Steuerung'!K39","v":23320035},-1489,-6.3850676038865297E-3,{"$f":"'10 Steuerung'!AG39","v":8688404},{"$f":"'10 Steuerung'!L39","v":8688849},-445,-5.1215068877362236E-3]
["   31.12.2016",{"$f":"'10 Steuerung'!AB40","v":31847718},{"$f":"'10 Steuerung'!H40","v":31848915},-1197,-3.7583697906192408E-3,{"$f":"'10 Steuerung'!AD40","v":17030591},{"$f":"'10 Steuerung'!I40","v":17031298},-707,-4.1511809610753096E-3,{"$f":"'10 Steuerung'!AE40","v":14817127},{"$f":"'10 Steuerung'!J40","v":14817617},-490,-3.3068745129530611E-3,{"$f":"'10 Steuerung'!AQ40","v":28604216},{"$f":"'10 Steuerung'!V40","v":28604955},-739,-2.5834684934830346E-3,{"$f":"'10 Steuerung'!AR40","v":3227028},{"$f":"'10 Steuerung'!W40","v":3227489},-461,-1.4283549843237266E-2,{"$f":"'10 Steuerung'!AF40","v":23103965},{"$f":"'10 Steuerung'!K40","v":23104832},-867,-3.7524618227044457E-3,{"$f":"'10 Steuerung'!AG40","v":8743652},{"$f":"'10 Steuerung'!L40","v":8743982},-330,-3.7740242374698393E-3]
["   31.03.2017",{"$f":"'10 Steuerung'!AB41","v":31930223},{"$f":"'10 Steuerung'!H41","v":31931291},-1068,-3.3446815539027218E-3,{"$f":"'10 Steuerung'!AD41","v":17100289},{"$f":"'10 Steuerung'!I41","v":17101199},-910,-5.3212643160283676E-3,{"$f":"'10 Steuerung'!AE41","v":14829934},{"$f":"'10 Steuerung'!J41","v":14830092},-158,-1.0654013474764687E-3,{"$f":"'10 Steuerung'!AQ41","v":28572306},{"$f":"'10 Steuerung'!V41","v":28573007},-701,-2.4533644638801929E-3,{"$f":"'10 Steuerung'!AR41","v":3341256},{"$f":"'10 Steuerung'!W41","v":3341624},-368,-1.1012609437806287E-2,{"$f":"'10 Steuerung'!AF41","v":23119375},{"$f":"'10 Steuerung'!K41","v":23120490},-1115,-4.8225621515806975E-3,{"$f":"'10 Steuerung'!AG41","v":8810815},{"$f":"'10 Steuerung'!L41","v":8810768},47,5.3343817474254228E-4]
["   30.06.2017",{"$f":"'10 Steuerung'!AB42","v":0},{"$f":"'10 Steuerung'!H42","v":0},0,{"$error":"#DIV/0!"},{"$f":"'10 Steuerung'!AD42","v":0},{"$f":"'10 Steuerung'!I42","v":0},0,{"$error":"#DIV/0!"},{"$f":"'10 Steuerung'!AE42","v":0},{"$f":"'10 Steuerung'!J42","v":0},0,{"$error":"#DIV/0!"},{"$f":"'10 Steuerung'!AQ42","v":0},{"$f":"'10 Steuerung'!V42","v":0},0,{"$error":"#DIV/0!"},{"$f":"'10 Steuerung'!AR42","v":0},{"$f":"'10 Steuerung'!W42","v":0},0,{"$error":"#DIV/0!"},{"$f":"'10 Steuerung'!AF42","v":0},{"$f":"'10 Steuerung'!K42","v":0},0,{"$error":"#DIV/0!"},{"$f":"'10 Steuerung'!AG42","v":0},{"$f":"'10 Steuerung'!L42","v":0},0,{"$error":"#DIV/0!"}]
[null,null,null,null,null,null,null,null,null,null,null,null,null,null,null,null,null,null,null,null,null,null,null,null,null,null,null,null,"© Statistik der Bundesagentur für Arbeit"]
["x) Nachweis nicht sinnvoll"]

{"sheet":"10 Steuerung","index":27,"n_rows":42,"n_cols":44,"rows_kept":42,"cut":false,"hidden":true,"merged":[[10,26,11,26],[10,6,11,6],[7,27,7,28]]}
[]
[]
[]
[null,null,null,null,null,null,"VOR REV",null,null,null,null,null,null,null,null,null,null,null,null,null,null,null,null,null,null,null,"Nach Rev"]
[]
[]
[]
[null,null,"Zuweis.1 Refnm.",null,null,null,null,"SvB","SvB_Männer","SvB_Frauen","SvB_Vollzeit","SvB_Teilzeit","GB","GB_ausschl.","GB_im_NJ","GeB","GeB_ausschl.","GeB_im_NJ","KfB","KfB_ausschl.","KfB_im_NJ","SvB_Deutsche","SvB_Ausländer",null,null,null,null,"SvB",null,"SvB_Männer","SvB_Frauen","SvB_Vollzeit","SvB_Teilzeit","GB","GB_ausschl.","GB_im_NJ","GeB","GeB_ausschl.","GeB_im_NJ","KfB","KfB_ausschl.","KfB_im_NJ","SvB_Deutsche","SvB_Ausländer"]
[null,null,{"$f":"INDEX($C$11:$C$27,C10,1)","v":"Deutschland"},{"$f":"INDEX($D$11:$D$27,D10,1)","v":"Deutschland"},null,null,"1. Vergleich",{"$f":"MATCH(H8,'10 Rohdaten'!$B$41:$JM$41,0)","v":1},{"$f":"MATCH(I8,'10 Rohdaten'!$B$41:$JM$41,0)","v":18},{"$f":"MATCH(J8,'10 Rohdaten'!$B$41:$JM$41,0)","v":35},{"$f":"MATCH(K8,'10 Rohdaten'!$B$41:$JM$41,0)","v":86},{"$f":"MATCH(L8,'10 Rohdaten'!$B$41:$JM$41,0)","v":103},{"$f":"MATCH(M8,'10 Rohdaten'!$B$41:$JM$41,0)","v":120},{"$f":"MATCH(N8,'10 Rohdaten'!$B$41:$JM$41,0)","v":137},{"$f":"MATCH(O8,'10 Rohdaten'!$B$41:$JM$41,0)","v":154},{"$f":"MATCH(P8,'10 Rohdaten'!$B$41:$JM$41,0)","v":171},{"$f":"MATCH(Q8,'10 Rohdaten'!$B$41:$JM$41,0)","v":188},{"$f":"MATCH(R8,'10 Rohdaten'!$B$41:$JM$41,0)","v":205},{"$f":"MATCH(S8,'10 Rohdaten'!$B$41:$JM$41,0)","v":222},{"$f":"MATCH(T8,'10 Rohdaten'!$B$41:$JM$41,0)","v":239},{"$f":"MATCH(U8,'10 Rohdaten'!$B$41:$JM$41,0)","v":256},{"$f":"MATCH(V8,'10 Rohdaten'!$B$41:$JM$41,0)","v":52},{"$f":"MATCH(W8,'10 Rohdaten'!$B$41:$JM$41,0)","v":69},null,null,null,"1. Vergleich",{"$f":"MATCH(AB8,'10 Rohdaten'!$B$108:$JM$108,0)","v":1},null,{"$f":"MATCH(AD8,'10 Rohdaten'!$B$108:$JM$108,0)","v":18},{"$f":"MATCH(AE8,'10 Rohdaten'!$B$108:$JM$108,0)","v":35},{"$f":"MATCH(AF8,'10 Rohdaten'!$B$108:$JM$108,0)","v":86},{"$f":"MATCH(AG8,'10 Rohdaten'!$B$108:$JM$108,0)","v":103},{"$f":"MATCH(AH8,'10 Rohdaten'!$B$108:$JM$108,0)","v":120},{"$f":"MATCH(AI8,'10 Rohdaten'!$B$108:$JM$108,0)","v":137},{"$f":"MATCH(AJ8,'10 Rohdaten'!$B$108:$JM$108,0)","v":154},{"$f":"MATCH(AK8,'10 Rohdaten'!$B$108:$JM$108,0)","v":171},{"$f":"MATCH(AL8,'10 Rohdaten'!$B$108:$JM$108,0)","v":188},{"$f":"MATCH(AM8,'10 Rohdaten'!$B$108:$JM$108,0)","v":205},{"$f":"MATCH(AN8,'10 Rohdaten'!$B$108:$JM$108,0)","v":222},{"$f":"MATCH(AO8,'10 Rohdaten'!$B$108:$JM$108,0)","v":239},{"$f":"MATCH(AP8,'10 Rohdaten'!$B$108:$JM$108,0)","v":256},{"$f":"MATCH(AQ8,'10 Rohdaten'!$B$41:$JM$41,0)","v":52},{"$f":"MATCH(AR8,'10 Rohdaten'!$B$41:$JM$41,0)","v":69}]
[null,null,1,{"$f":"C10","v":1},null,null,"2. Vergleich",{"$f":"MATCH(D9,'10 Rohdaten'!$B$42:$JM$42,0)","v":1},null,null,null,null,null,null,null,null,null,null,null,null,null,null,null,null,null,null,"2. Vergleich",{"$f":"MATCH(D9,'10 Rohdaten'!$B$109:$JM$109,0)","v":1}]
[null,null,"Deutschland","Deutschland",null,null,"Zeilennum.",{"$f":"H9+$H$10-1","v":1},{"$f":"I9+$H$10-1","v":18},35,86,103,120,137,154,171,188,205,222,239,{"$f":"U9+$H$10-1","v":256},{"$f":"V9+$H$10-1","v":52},{"$f":"W9+$H$10-1","v":69},null,null,null,"Zeilennum.",null,null,"mit PG","mit PG","mit PG","mit PG",null,null,null,null,null,null,null,null,null,{"$f":"AQ9+$H$10-1","v":52},{"$f":"AR9+$H$10-1","v":69}]
[null,null,"Schleswig-Holstein","Schleswig-Holstein,01",null,null,null,null,null,null,null,null,null,null,null,null,null,null,null,null,null,null,null,null,null,null,null,{"$f":"$AB$9+$AB$10-1","v":1},null,{"$f":"AD9+$AB$10-1","v":18},{"$f":"AE9+$AB$10-1","v":35},{"$f":"AF9+$AB$10-1","v":86},{"$f":"AG9+$AB$10-1","v":103},{"$f":"AH9+$AB$10-1","v":120},{"$f":"AI9+$AB$10-1","v":137},154,171,188,205,222,239,256]
[null,null,"Hamburg","Hamburg,02",1,"   31.03.2010",1,{"$f":"INDEX('10 Rohdaten'!$B$43:$JM$98,'10 Steuerung'!$G13,'10 Steuerung'!H$11)","v":27658116},{"$f":"INDEX('10 Rohdaten'!$B$43:$JM$98,'10 Steuerung'!$G13,'10 Steuerung'!I$11)","v":14888960},{"$f":"INDEX('10 Rohdaten'!$B$43:$JM$98,'10 Steuerung'!$G13,'10 Steuerung'!J$11)","v":12769156},{"$f":"INDEX('10 Rohdaten'!$B$43:$JM$98,'10 Steuerung'!$G13,'10 Steuerung'!K$11)","v":21524281},{"$f":"INDEX('10 Rohdaten'!$B$43:$JM$98,'10 Steuerung'!$G13,'10 Steuerung'!L$11)","v":5776878},{"$f":"INDEX('10 Rohdaten'!$B$43:$JM$98,'10 Steuerung'!$G13,'10 Steuerung'!M$11)","v":7237214},{"$f":"INDEX('10 Rohdaten'!$B$43:$JM$98,'10 Steuerung'!$G13,'10 Steuerung'!N$11)","v":5242841},{"$f":"INDEX('10 Rohdaten'!$B$43:$JM$98,'10 Steuerung'!$G13,'10 Steuerung'!O$11)","v":1994373},{"$f":"INDEX('10 Rohdaten'!$B$43:$JM$98,'10 Steuerung'!$G13,'10 Steuerung'!P$11)","v":6957544},{"$f":"INDEX('10 Rohdaten'!$B$43:$JM$98,'10 Steuerung'!$G13,'10 Steuerung'!Q$11)","v":4994391},{"$f":"INDEX('10 Rohdaten'!$B$43:$JM$98,'10 Steuerung'!$G13,'10 Steuerung'!R$11)","v":1963153},{"$f":"INDEX('10 Rohdaten'!$B$43:$JM$98,'10 Steuerung'!$G13,'10 Steuerung'!S$11)","v":279670},{"$f":"INDEX('10 Rohdaten'!$B$43:$JM$98,'10 Steuerung'!$G13,'10 Steuerung'!T$11)","v":248450},{"$f":"INDEX('10 Rohdaten'!$B$43:$JM$98,'10 Steuerung'!$G13,'10 Steuerung'!U$11)","v":31220},{"$f":"INDEX('10 Rohdaten'!$B$43:$JM$98,'10 Steuerung'!$G13,'10 Steuerung'!V$11)","v":25820453},{"$f":"INDEX('10 Rohdaten'!$B$43:$JM$98,'10 Steuerung'!$G13,'10 Steuerung'!W$11)","v":1821572},null,1,"   31.03.2010",1,{"$f":"INDEX('10 Rohdaten'!$B$110:$JM$165,$AA13,AB$12)","v":27658116},null,{"$f":"INDEX('10 Rohdaten'!$B$110:$JM$165,$AA13,AD$12)","v":14888960},{"$f":"INDEX('10 Rohdaten'!$B$110:$JM$165,$AA13,AE$12)","v":12769156},{"$f":"INDEX('10 Rohdaten'!$B$110:$JM$165,$AA13,AF$12)","v":21524281},{"$f":"INDEX('10 Rohdaten'!$B$110:$JM$165,$AA13,AG$12)","v":5776878},{"$f":"INDEX('10 Rohdaten'!$B$110:$JM$165,$AA13,AH$12)","v":7237214},{"$f":"INDEX('10 Rohdaten'!$B$110:$JM$165,$AA13,AI$12)","v":5242841},{"$f":"INDEX('10 Rohdaten'!$B$110:$JM$165,$AA13,AJ$12)","v":1994373},{"$f":"INDEX('10 Rohdaten'!$B$110:$JM$165,$AA13,AK$12)","v":6957544},{"$f":"INDEX('10 Rohdaten'!$B$110:$JM$165,$AA13,AL$12)","v":4994391},{"$f":"INDEX('10 Rohdaten'!$B$110:$JM$165,$AA13,AM$12)","v":1963153},{"$f":"INDEX('10 Rohdaten'!$B$110:$JM$165,$AA13,AN$12)","v":279670},{"$f":"INDEX('10 Rohdaten'!$B$110:$JM$165,$AA13,AO$12)","v":248450},{"$f":"INDEX('10 Rohdaten'!$B$110:$JM$165,$AA13,AP$12)","v":31220},{"$f":"INDEX('10 Rohdaten'!$B$110:$JM$165,$AA13,$AQ$11)","v":25820453},{"$f":"INDEX('10 Rohdaten'!$B$110:$JM$165,$AA13,$AR$11)","v":1821572}]
[null,null,"Niedersachsen","Niedersachsen,03",2,"   30.06.2010",2,{"$f":"INDEX('10 Rohdaten'!$B$43:$JM$98,'10 Steuerung'!$G14,'10 Steuerung'!H$11)","v":27966601},{"$f":"INDEX('10 Rohdaten'!$B$43:$JM$98,'10 Steuerung'!$G14,'10 Steuerung'!I$11)","v":15149301},{"$f":"INDEX('10 Rohdaten'!$B$43:$JM$98,'10 Steuerung'!$G14,'10 Steuerung'!J$11)","v":12817300},{"$f":"INDEX('10 Rohdaten'!$B$43:$JM$98,'10 Steuerung'!$G14,'10 Steuerung'!K$11)","v":21773598},{"$f":"INDEX('10 Rohdaten'!$B$43:$JM$98,'10 Steuerung'!$G14,'10 Steuerung'!L$11)","v":5840557},{"$f":"INDEX('10 Rohdaten'!$B$43:$JM$98,'10 Steuerung'!$G14,'10 Steuerung'!M$11)","v":7450194},{"$f":"INDEX('10 Rohdaten'!$B$43:$JM$98,'10 Steuerung'!$G14,'10 Steuerung'!N$11)","v":5389151},{"$f":"INDEX('10 Rohdaten'!$B$43:$JM$98,'10 Steuerung'!$G14,'10 Steuerung'!O$11)","v":2061043},{"$f":"INDEX('10 Rohdaten'!$B$43:$JM$98,'10 Steuerung'!$G14,'10 Steuerung'!P$11)","v":7102584},{"$f":"INDEX('10 Rohdaten'!$B$43:$JM$98,'10 Steuerung'!$G14,'10 Steuerung'!Q$11)","v":5078734},{"$f":"INDEX('10 Rohdaten'!$B$43:$JM$98,'10 Steuerung'!$G14,'10 Steuerung'!R$11)","v":2023850},{"$f":"INDEX('10 Rohdaten'!$B$43:$JM$98,'10 Steuerung'!$G14,'10 Steuerung'!S$11)","v":347610},{"$f":"INDEX('10 Rohdaten'!$B$43:$JM$98,'10 Steuerung'!$G14,'10 Steuerung'!T$11)","v":310417},{"$f":"INDEX('10 Rohdaten'!$B$43:$JM$98,'10 Steuerung'!$G14,'10 Steuerung'!U$11)","v":37193},{"$f":"INDEX('10 Rohdaten'!$B$43:$JM$98,'10 Steuerung'!$G14,'10 Steuerung'!V$11)","v":26071443},{"$f":"INDEX('10 Rohdaten'!$B$43:$JM$98,'10 Steuerung'!$G14,'10 Steuerung'!W$11)","v":1878869},null,2,"   30.06.2010",2,{"$f":"INDEX('10 Rohdaten'!$B$110:$JM$165,$AA14,AB$12)","v":27966601},null,{"$f":"INDEX('10 Rohdaten'!$B$110:$JM$165,$AA14,AD$12)","v":15149301},{"$f":"INDEX('10 Rohdaten'!$B$110:$JM$165,$AA14,AE$12)","v":12817300},{"$f":"INDEX('10 Rohdaten'!$B$110:$JM$165,$AA14,AF$12)","v":21773598},{"$f":"INDEX('10 Rohdaten'!$B$110:$JM$165,$AA14,AG$12)","v":5840557},{"$f":"INDEX('10 Rohdaten'!$B$110:$JM$165,$AA14,AH$12)","v":7450194},{"$f":"INDEX('10 Rohdaten'!$B$110:$JM$165,$AA14,AI$12)","v":5389151},{"$f":"INDEX('10 Rohdaten'!$B$110:$JM$165,$AA14,AJ$12)","v":2061043},{"$f":"INDEX('10 Rohdaten'!$B$110:$JM$165,$AA14,AK$12)","v":7102584},{"$f":"INDEX('10 Rohdaten'!$B$110:$JM$165,$AA14,AL$12)","v":5078734},{"$f":"INDEX('10 Rohdaten'!$B$110:$JM$165,$AA14,AM$12)","v":2023850},{"$f":"INDEX('10 Rohdaten'!$B$110:$JM$165,$AA14,AN$12)","v":347610},{"$f":"INDEX('10 Rohdaten'!$B$110:$JM$165,$AA14,AO$12)","v":310417},{"$f":"INDEX('10 Rohdaten'!$B$110:$JM$165,$AA14,AP$12)","v":37193},{"$f":"INDEX('10 Rohdaten'!$B$110:$JM$165,$AA14,$AQ$11)","v":26071443},{"$f":"INDEX('10 Rohdaten'!$B$110:$JM$165,$AA14,$AR$11)","v":1878869}]
[null,null,"Bremen","Bremen,04",3,"   30.09.2010",3,{"$f":"INDEX('10 Rohdaten'!$B$43:$JM$98,'10 Steuerung'!$G15,'10 Steuerung'!H$11)","v":28505122},{"$f":"INDEX('10 Rohdaten'!$B$43:$JM$98,'10 Steuerung'!$G15,'10 Steuerung'!I$11)","v":15463399},{"$f":"INDEX('10 Rohdaten'!$B$43:$JM$98,'10 Steuerung'!$G15,'10 Steuerung'!J$11)","v":13041723},{"$f":"INDEX('10 Rohdaten'!$B$43:$JM$98,'10 Steuerung'!$G15,'10 Steuerung'!K$11)","v":22236577},{"$f":"INDEX('10 Rohdaten'!$B$43:$JM$98,'10 Steuerung'!$G15,'10 Steuerung'!L$11)","v":5906236},{"$f":"INDEX('10 Rohdaten'!$B$43:$JM$98,'10 Steuerung'!$G15,'10 Steuerung'!M$11)","v":7424683},{"$f":"INDEX('10 Rohdaten'!$B$43:$JM$98,'10 Steuerung'!$G15,'10 Steuerung'!N$11)","v":5284676},{"$f":"INDEX('10 Rohdaten'!$B$43:$JM$98,'10 Steuerung'!$G15,'10 Steuerung'!O$11)","v":2140007},{"$f":"INDEX('10 Rohdaten'!$B$43:$JM$98,'10 Steuerung'!$G15,'10 Steuerung'!P$11)","v":7091408},{"$f":"INDEX('10 Rohdaten'!$B$43:$JM$98,'10 Steuerung'!$G15,'10 Steuerung'!Q$11)","v":4997829},{"$f":"INDEX('10 Rohdaten'!$B$43:$JM$98,'10 Steuerung'!$G15,'10 Steuerung'!R$11)","v":2093579},{"$f":"INDEX('10 Rohdaten'!$B$43:$JM$98,'10 Steuerung'!$G15,'10 Steuerung'!S$11)","v":333275},{"$f":"INDEX('10 Rohdaten'!$B$43:$JM$98,'10 Steuerung'!$G15,'10 Steuerung'!T$11)","v":286847},{"$f":"INDEX('10 Rohdaten'!$B$43:$JM$98,'10 Steuerung'!$G15,'10 Steuerung'!U$11)","v":46428},{"$f":"INDEX('10 Rohdaten'!$B$43:$JM$98,'10 Steuerung'!$G15,'10 Steuerung'!V$11)","v":26555273},{"$f":"INDEX('10 Rohdaten'!$B$43:$JM$98,'10 Steuerung'!$G15,'10 Steuerung'!W$11)","v":1933578},null,3,"   30.09.2010",3,{"$f":"INDEX('10 Rohdaten'!$B$110:$JM$165,$AA15,AB$12)","v":28505122},null,{"$f":"INDEX('10 Rohdaten'!$B$110:$JM$165,$AA15,AD$12)","v":15463399},{"$f":"INDEX('10 Rohdaten'!$B$110:$JM$165,$AA15,AE$12)","v":13041723},{"$f":"INDEX('10 Rohdaten'!$B$110:$JM$165,$AA15,AF$12)","v":22236577},{"$f":"INDEX('10 Rohdaten'!$B$110:$JM$165,$AA15,AG$12)","v":5906236},{"$f":"INDEX('10 Rohdaten'!$B$110:$JM$165,$AA15,AH$12)","v":7424683},{"$f":"INDEX('10 Rohdaten'!$B$110:$JM$165,$AA15,AI$12)","v":5284676},{"$f":"INDEX('10 Rohdaten'!$B$110:$JM$165,$AA15,AJ$12)","v":2140007},{"$f":"INDEX('10 Rohdaten'!$B$110:$JM$165,$AA15,AK$12)","v":7091408},{"$f":"INDEX('10 Rohdaten'!$B$110:$JM$165,$AA15,AL$12)","v":4997829},{"$f":"INDEX('10 Rohdaten'!$B$110:$JM$165,$AA15,AM$12)","v":2093579},{"$f":"INDEX('10 Rohdaten'!$B$110:$JM$165,$AA15,AN$12)","v":333275},{"$f":"INDEX('10 Rohdaten'!$B$110:$JM$165,$AA15,AO$12)","v":286847},{"$f":"INDEX('10 Rohdaten'!$B$110:$JM$165,$AA15,AP$12)","v":46428},{"$f":"INDEX('10 Rohdaten'!$B$110:$JM$165,$AA15,$AQ$11)","v":26555273},{"$f":"INDEX('10 Rohdaten'!$B$110:$JM$165,$AA15,$AR$11)","v":1933578}]
[null,null,"Nordrhein-Westfalen","Nordrhein-Westfalen,05",4,"   31.12.2010",4,{"$f":"INDEX('10 Rohdaten'!$B$43:$JM$98,'10 Steuerung'!$G16,'10 Steuerung'!H$11)","v":28291928},{"$f":"INDEX('10 Rohdaten'!$B$43:$JM$98,'10 Steuerung'!$G16,'10 Steuerung'!I$11)","v":15254325},{"$f":"INDEX('10 Rohdaten'!$B$43:$JM$98,'10 Steuerung'!$G16,'10 Steuerung'!J$11)","v":13037603},{"$f":"INDEX('10 Rohdaten'!$B$43:$JM$98,'10 Steuerung'!$G16,'10 Steuerung'!K$11)","v":21945518},{"$f":"INDEX('10 Rohdaten'!$B$43:$JM$98,'10 Steuerung'!$G16,'10 Steuerung'!L$11)","v":5983960},{"$f":"INDEX('10 Rohdaten'!$B$43:$JM$98,'10 Steuerung'!$G16,'10 Steuerung'!M$11)","v":7391102},{"$f":"INDEX('10 Rohdaten'!$B$43:$JM$98,'10 Steuerung'!$G16,'10 Steuerung'!N$11)","v":5265313},{"$f":"INDEX('10 Rohdaten'!$B$43:$JM$98,'10 Steuerung'!$G16,'10 Steuerung'!O$11)","v":2125789},{"$f":"INDEX('10 Rohdaten'!$B$43:$JM$98,'10 Steuerung'!$G16,'10 Steuerung'!P$11)","v":7133342},{"$f":"INDEX('10 Rohdaten'!$B$43:$JM$98,'10 Steuerung'!$G16,'10 Steuerung'!Q$11)","v":5043089},{"$f":"INDEX('10 Rohdaten'!$B$43:$JM$98,'10 Steuerung'!$G16,'10 Steuerung'!R$11)","v":2090253},{"$f":"INDEX('10 Rohdaten'!$B$43:$JM$98,'10 Steuerung'!$G16,'10 Steuerung'!S$11)","v":257760},{"$f":"INDEX('10 Rohdaten'!$B$43:$JM$98,'10 Steuerung'!$G16,'10 Steuerung'!T$11)","v":222224},{"$f":"INDEX('10 Rohdaten'!$B$43:$JM$98,'10 Steuerung'!$G16,'10 Steuerung'!U$11)","v":35536},{"$f":"INDEX('10 Rohdaten'!$B$43:$JM$98,'10 Steuerung'!$G16,'10 Steuerung'!V$11)","v":26380767},{"$f":"INDEX('10 Rohdaten'!$B$43:$JM$98,'10 Steuerung'!$G16,'10 Steuerung'!W$11)","v":1895645},null,4,"   31.12.2010",4,{"$f":"INDEX('10 Rohdaten'!$B$110:$JM$165,$AA16,AB$12)","v":28291928},null,{"$f":"INDEX('10 Rohdaten'!$B$110:$JM$165,$AA16,AD$12)","v":15254325},{"$f":"INDEX('10 Rohdaten'!$B$110:$JM$165,$AA16,AE$12)","v":13037603},{"$f":"INDEX('10 Rohdaten'!$B$110:$JM$165,$AA16,AF$12)","v":21945518},{"$f":"INDEX('10 Rohdaten'!$B$110:$JM$165,$AA16,AG$12)","v":5983960},{"$f":"INDEX('10 Rohdaten'!$B$110:$JM$165,$AA16,AH$12)","v":7391102},{"$f":"INDEX('10 Rohdaten'!$B$110:$JM$165,$AA16,AI$12)","v":5265313},{"$f":"INDEX('10 Rohdaten'!$B$110:$JM$165,$AA16,AJ$12)","v":2125789},{"$f":"INDEX('10 Rohdaten'!$B$110:$JM$165,$AA16,AK$12)","v":7133342},{"$f":"INDEX('10 Rohdaten'!$B$110:$JM$165,$AA16,AL$12)","v":5043089},{"$f":"INDEX('10 Rohdaten'!$B$110:$JM$165,$AA16,AM$12)","v":2090253},{"$f":"INDEX('10 Rohdaten'!$B$110:$JM$165,$AA16,AN$12)","v":257760},{"$f":"INDEX('10 Rohdaten'!$B$110:$JM$165,$AA16,AO$12)","v":222224},{"$f":"INDEX('10 Rohdaten'!$B$110:$JM$165,$AA16,AP$12)","v":35536},{"$f":"INDEX('10 Rohdaten'!$B$110:$JM$165,$AA16,$AQ$11)","v":26380767},{"$f":"INDEX('10 Rohdaten'!$B$110:$JM$165,$AA16,$AR$11)","v":1895645}]
[null,null,"Hessen","Hessen,06",5,"   31.03.2011",5,{"$f":"INDEX('10 Rohdaten'!$B$43:$JM$98,'10 Steuerung'!$G17,'10 Steuerung'!H$11)","v":28331314},{"$f":"INDEX('10 Rohdaten'!$B$43:$JM$98,'10 Steuerung'!$G17,'10 Steuerung'!I$11)","v":15296486},{"$f":"INDEX('10 Rohdaten'!$B$43:$JM$98,'10 Steuerung'!$G17,'10 Steuerung'!J$11)","v":13034828},{"$f":"INDEX('10 Rohdaten'!$B$43:$JM$98,'10 Steuerung'!$G17,'10 Steuerung'!K$11)","v":0},{"$f":"INDEX('10 Rohdaten'!$B$43:$JM$98,'10 Steuerung'!$G17,'10 Steuerung'!L$11)","v":0},{"$f":"INDEX('10 Rohdaten'!$B$43:$JM$98,'10 Steuerung'!$G17,'10 Steuerung'!M$11)","v":7337126},{"$f":"INDEX('10 Rohdaten'!$B$43:$JM$98,'10 Steuerung'!$G17,'10 Steuerung'!N$11)","v":5222437},{"$f":"INDEX('10 Rohdaten'!$B$43:$JM$98,'10 Steuerung'!$G17,'10 Steuerung'!O$11)","v":2114689},{"$f":"INDEX('10 Rohdaten'!$B$43:$JM$98,'10 Steuerung'!$G17,'10 Steuerung'!P$11)","v":7076245},{"$f":"INDEX('10 Rohdaten'!$B$43:$JM$98,'10 Steuerung'!$G17,'10 Steuerung'!Q$11)","v":4992360},{"$f":"INDEX('10 Rohdaten'!$B$43:$JM$98,'10 Steuerung'!$G17,'10 Steuerung'!R$11)","v":2083885},{"$f":"INDEX('10 Rohdaten'!$B$43:$JM$98,'10 Steuerung'!$G17,'10 Steuerung'!S$11)","v":260881},{"$f":"INDEX('10 Rohdaten'!$B$43:$JM$98,'10 Steuerung'!$G17,'10 Steuerung'!T$11)","v":230077},{"$f":"INDEX('10 Rohdaten'!$B$43:$JM$98,'10 Steuerung'!$G17,'10 Steuerung'!U$11)","v":30804},{"$f":"INDEX('10 Rohdaten'!$B$43:$JM$98,'10 Steuerung'!$G17,'10 Steuerung'!V$11)","v":26382473},{"$f":"INDEX('10 Rohdaten'!$B$43:$JM$98,'10 Steuerung'!$G17,'10 Steuerung'!W$11)","v":1932844},null,5,"   31.03.2011",5,{"$f":"INDEX('10 Rohdaten'!$B$110:$JM$165,$AA17,AB$12)","v":28331314},null,{"$f":"INDEX('10 Rohdaten'!$B$110:$JM$165,$AA17,AD$12)","v":15296486},{"$f":"INDEX('10 Rohdaten'!$B$110:$JM$165,$AA17,AE$12)","v":13034828},{"$f":"INDEX('10 Rohdaten'!$B$110:$JM$165,$AA17,AF$12)","v":21378151},{"$f":"INDEX('10 Rohdaten'!$B$110:$JM$165,$AA17,AG$12)","v":6647254},{"$f":"INDEX('10 Rohdaten'!$B$110:$JM$165,$AA17,AH$12)","v":7337126},{"$f":"INDEX('10 Rohdaten'!$B$110:$JM$165,$AA17,AI$12)","v":5222437},{"$f":"INDEX('10 Rohdaten'!$B$110:$JM$165,$AA17,AJ$12)","v":2114689},{"$f":"INDEX('10 Rohdaten'!$B$110:$JM$165,$AA17,AK$12)","v":7076245},{"$f":"INDEX('10 Rohdaten'!$B$110:$JM$165,$AA17,AL$12)","v":4992360},{"$f":"INDEX('10 Rohdaten'!$B$110:$JM$165,$AA17,AM$12)","v":2083885},{"$f":"INDEX('10 Rohdaten'!$B$110:$JM$165,$AA17,AN$12)","v":260881},{"$f":"INDEX('10 Rohdaten'!$B$110:$JM$165,$AA17,AO$12)","v":230077},{"$f":"INDEX('10 Rohdaten'!$B$110:$JM$165,$AA17,AP$12)","v":30804},{"$f":"INDEX('10 Rohdaten'!$B$110:$JM$165,$AA17,$AQ$11)","v":26382473},{"$f":"INDEX('10 Rohdaten'!$B$110:$JM$165,$AA17,$AR$11)","v":1932844}]
[null,null,"Rheinland-Pfalz","Rheinland-Pfalz,07",6,"   30.06.2011",6,{"$f":"INDEX('10 Rohdaten'!$B$43:$JM$98,'10 Steuerung'!$G18,'10 Steuerung'!H$11)","v":28643583},{"$f":"INDEX('10 Rohdaten'!$B$43:$JM$98,'10 Steuerung'!$G18,'10 Steuerung'!I$11)","v":15531430},{"$f":"INDEX('10 Rohdaten'!$B$43:$JM$98,'10 Steuerung'!$G18,'10 Steuerung'!J$11)","v":13112153},{"$f":"INDEX('10 Rohdaten'!$B$43:$JM$98,'10 Steuerung'!$G18,'10 Steuerung'!K$11)","v":0},{"$f":"INDEX('10 Rohdaten'!$B$43:$JM$98,'10 Steuerung'!$G18,'10 Steuerung'!L$11)","v":0},{"$f":"INDEX('10 Rohdaten'!$B$43:$JM$98,'10 Steuerung'!$G18,'10 Steuerung'!M$11)","v":7536790},{"$f":"INDEX('10 Rohdaten'!$B$43:$JM$98,'10 Steuerung'!$G18,'10 Steuerung'!N$11)","v":5367231},{"$f":"INDEX('10 Rohdaten'!$B$43:$JM$98,'10 Steuerung'!$G18,'10 Steuerung'!O$11)","v":2169559},{"$f":"INDEX('10 Rohdaten'!$B$43:$JM$98,'10 Steuerung'!$G18,'10 Steuerung'!P$11)","v":7198104},{"$f":"INDEX('10 Rohdaten'!$B$43:$JM$98,'10 Steuerung'!$G18,'10 Steuerung'!Q$11)","v":5065623},{"$f":"INDEX('10 Rohdaten'!$B$43:$JM$98,'10 Steuerung'!$G18,'10 Steuerung'!R$11)","v":2132481},{"$f":"INDEX('10 Rohdaten'!$B$43:$JM$98,'10 Steuerung'!$G18,'10 Steuerung'!S$11)","v":338686},{"$f":"INDEX('10 Rohdaten'!$B$43:$JM$98,'10 Steuerung'!$G18,'10 Steuerung'!T$11)","v":301608},{"$f":"INDEX('10 Rohdaten'!$B$43:$JM$98,'10 Steuerung'!$G18,'10 Steuerung'!U$11)","v":37078},{"$f":"INDEX('10 Rohdaten'!$B$43:$JM$98,'10 Steuerung'!$G18,'10 Steuerung'!V$11)","v":26608019},{"$f":"INDEX('10 Rohdaten'!$B$43:$JM$98,'10 Steuerung'!$G18,'10 Steuerung'!W$11)","v":2019039},null,6,"   30.06.2011",6,{"$f":"INDEX('10 Rohdaten'!$B$110:$JM$165,$AA18,AB$12)","v":28643583},null,{"$f":"INDEX('10 Rohdaten'!$B$110:$JM$165,$AA18,AD$12)","v":15531430},{"$f":"INDEX('10 Rohdaten'!$B$110:$JM$165,$AA18,AE$12)","v":13112153},{"$f":"INDEX('10 Rohdaten'!$B$110:$JM$165,$AA18,AF$12)","v":21511681},{"$f":"INDEX('10 Rohdaten'!$B$110:$JM$165,$AA18,AG$12)","v":6838450},{"$f":"INDEX('10 Rohdaten'!$B$110:$JM$165,$AA18,AH$12)","v":7536790},{"$f":"INDEX('10 Rohdaten'!$B$110:$JM$165,$AA18,AI$12)","v":5367231},{"$f":"INDEX('10 Rohdaten'!$B$110:$JM$165,$AA18,AJ$12)","v":2169559},{"$f":"INDEX('10 Rohdaten'!$B$110:$JM$165,$AA18,AK$12)","v":7198104},{"$f":"INDEX('10 Rohdaten'!$B$110:$JM$165,$AA18,AL$12)","v":5065623},{"$f":"INDEX('10 Rohdaten'!$B$110:$JM$165,$AA18,AM$12)","v":2132481},{"$f":"INDEX('10 Rohdaten'!$B$110:$JM$165,$AA18,AN$12)","v":338686},{"$f":"INDEX('10 Rohdaten'!$B$110:$JM$165,$AA18,AO$12)","v":301608},{"$f":"INDEX('10 Rohdaten'!$B$110:$JM$165,$AA18,AP$12)","v":37078},{"$f":"INDEX('10 Rohdaten'!$B$110:$JM$165,$AA18,$AQ$11)","v":26608019},{"$f":"INDEX('10 Rohdaten'!$B$110:$JM$165,$AA18,$AR$11)","v":2019039}]
[null,null,"Baden-Württemberg","Baden-Württemberg,08",7,"   30.09.2011",7,{"$f":"INDEX('10 Rohdaten'!$B$43:$JM$98,'10 Steuerung'!$G19,'10 Steuerung'!H$11)","v":29216870},{"$f":"INDEX('10 Rohdaten'!$B$43:$JM$98,'10 Steuerung'!$G19,'10 Steuerung'!I$11)","v":15859845},{"$f":"INDEX('10 Rohdaten'!$B$43:$JM$98,'10 Steuerung'!$G19,'10 Steuerung'!J$11)","v":13357025},{"$f":"INDEX('10 Rohdaten'!$B$43:$JM$98,'10 Steuerung'!$G19,'10 Steuerung'!K$11)","v":0},{"$f":"INDEX('10 Rohdaten'!$B$43:$JM$98,'10 Steuerung'!$G19,'10 Steuerung'!L$11)","v":0},{"$f":"INDEX('10 Rohdaten'!$B$43:$JM$98,'10 Steuerung'!$G19,'10 Steuerung'!M$11)","v":7521172},{"$f":"INDEX('10 Rohdaten'!$B$43:$JM$98,'10 Steuerung'!$G19,'10 Steuerung'!N$11)","v":5261894},{"$f":"INDEX('10 Rohdaten'!$B$43:$JM$98,'10 Steuerung'!$G19,'10 Steuerung'!O$11)","v":2259278},{"$f":"INDEX('10 Rohdaten'!$B$43:$JM$98,'10 Steuerung'!$G19,'10 Steuerung'!P$11)","v":7191873},{"$f":"INDEX('10 Rohdaten'!$B$43:$JM$98,'10 Steuerung'!$G19,'10 Steuerung'!Q$11)","v":4980556},{"$f":"INDEX('10 Rohdaten'!$B$43:$JM$98,'10 Steuerung'!$G19,'10 Steuerung'!R$11)","v":2211317},{"$f":"INDEX('10 Rohdaten'!$B$43:$JM$98,'10 Steuerung'!$G19,'10 Steuerung'!S$11)","v":329299},{"$f":"INDEX('10 Rohdaten'!$B$43:$JM$98,'10 Steuerung'!$G19,'10 Steuerung'!T$11)","v":281338},{"$f":"INDEX('10 Rohdaten'!$B$43:$JM$98,'10 Steuerung'!$G19,'10 Steuerung'!U$11)","v":47961},{"$f":"INDEX('10 Rohdaten'!$B$43:$JM$98,'10 Steuerung'!$G19,'10 Steuerung'!V$11)","v":27100469},{"$f":"INDEX('10 Rohdaten'!$B$43:$JM$98,'10 Steuerung'!$G19,'10 Steuerung'!W$11)","v":2099594},null,7,"   30.09.2011",7,{"$f":"INDEX('10 Rohdaten'!$B$110:$JM$165,$AA19,AB$12)","v":29216870},null,{"$f":"INDEX('10 Rohdaten'!$B$110:$JM$165,$AA19,AD$12)","v":15859845},{"$f":"INDEX('10 Rohdaten'!$B$110:$JM$165,$AA19,AE$12)","v":13357025},{"$f":"INDEX('10 Rohdaten'!$B$110:$JM$165,$AA19,AF$12)","v":22080266},{"$f":"INDEX('10 Rohdaten'!$B$110:$JM$165,$AA19,AG$12)","v":6950629},{"$f":"INDEX('10 Rohdaten'!$B$110:$JM$165,$AA19,AH$12)","v":7521172},{"$f":"INDEX('10 Rohdaten'!$B$110:$JM$165,$AA19,AI$12)","v":5261894},{"$f":"INDEX('10 Rohdaten'!$B$110:$JM$165,$AA19,AJ$12)","v":2259278},{"$f":"INDEX('10 Rohdaten'!$B$110:$JM$165,$AA19,AK$12)","v":7191873},{"$f":"INDEX('10 Rohdaten'!$B$110:$JM$165,$AA19,AL$12)","v":4980556},{"$f":"INDEX('10 Rohdaten'!$B$110:$JM$165,$AA19,AM$12)","v":2211317},{"$f":"INDEX('10 Rohdaten'!$B$110:$JM$165,$AA19,AN$12)","v":329299},{"$f":"INDEX('10 Rohdaten'!$B$110:$JM$165,$AA19,AO$12)","v":281338},{"$f":"INDEX('10 Rohdaten'!$B$110:$JM$165,$AA19,AP$12)","v":47961},{"$f":"INDEX('10 Rohdaten'!$B$110:$JM$165,$AA19,$AQ$11)","v":27100469},{"$f":"INDEX('10 Rohdaten'!$B$110:$JM$165,$AA19,$AR$11)","v":2099594}]
[null,null,"Bayern","Bayern,09",8,"   31.12.2011",8,{"$f":"INDEX('10 Rohdaten'!$B$43:$JM$98,'10 Steuerung'!$G20,'10 Steuerung'!H$11)","v":29046131},{"$f":"INDEX('10 Rohdaten'!$B$43:$JM$98,'10 Steuerung'!$G20,'10 Steuerung'!I$11)","v":15675111},{"$f":"INDEX('10 Rohdaten'!$B$43:$JM$98,'10 Steuerung'!$G20,'10 Steuerung'!J$11)","v":13371020},{"$f":"INDEX('10 Rohdaten'!$B$43:$JM$98,'10 Steuerung'!$G20,'10 Steuerung'!K$11)","v":0},{"$f":"INDEX('10 Rohdaten'!$B$43:$JM$98,'10 Steuerung'!$G20,'10 Steuerung'!L$11)","v":0},{"$f":"INDEX('10 Rohdaten'!$B$43:$JM$98,'10 Steuerung'!$G20,'10 Steuerung'!M$11)","v":7471382},{"$f":"INDEX('10 Rohdaten'!$B$43:$JM$98,'10 Steuerung'!$G20,'10 Steuerung'!N$11)","v":5229538},{"$f":"INDEX('10 Rohdaten'!$B$43:$JM$98,'10 Steuerung'!$G20,'10 Steuerung'!O$11)","v":2241844},{"$f":"INDEX('10 Rohdaten'!$B$43:$JM$98,'10 Steuerung'!$G20,'10 Steuerung'!P$11)","v":7227541},{"$f":"INDEX('10 Rohdaten'!$B$43:$JM$98,'10 Steuerung'!$G20,'10 Steuerung'!Q$11)","v":5021228},{"$f":"INDEX('10 Rohdaten'!$B$43:$JM$98,'10 Steuerung'!$G20,'10 Steuerung'!R$11)","v":2206313},{"$f":"INDEX('10 Rohdaten'!$B$43:$JM$98,'10 Steuerung'!$G20,'10 Steuerung'!S$11)","v":243841},{"$f":"INDEX('10 Rohdaten'!$B$43:$JM$98,'10 Steuerung'!$G20,'10 Steuerung'!T$11)","v":208310},{"$f":"INDEX('10 Rohdaten'!$B$43:$JM$98,'10 Steuerung'!$G20,'10 Steuerung'!U$11)","v":35531},{"$f":"INDEX('10 Rohdaten'!$B$43:$JM$98,'10 Steuerung'!$G20,'10 Steuerung'!V$11)","v":26961282},{"$f":"INDEX('10 Rohdaten'!$B$43:$JM$98,'10 Steuerung'!$G20,'10 Steuerung'!W$11)","v":2068811},null,8,"   31.12.2011",8,{"$f":"INDEX('10 Rohdaten'!$B$110:$JM$165,$AA20,AB$12)","v":29046131},null,{"$f":"INDEX('10 Rohdaten'!$B$110:$JM$165,$AA20,AD$12)","v":15675111},{"$f":"INDEX('10 Rohdaten'!$B$110:$JM$165,$AA20,AE$12)","v":13371020},{"$f":"INDEX('10 Rohdaten'!$B$110:$JM$165,$AA20,AF$12)","v":22037850},{"$f":"INDEX('10 Rohdaten'!$B$110:$JM$165,$AA20,AG$12)","v":6981295},{"$f":"INDEX('10 Rohdaten'!$B$110:$JM$165,$AA20,AH$12)","v":7471382},{"$f":"INDEX('10 Rohdaten'!$B$110:$JM$165,$AA20,AI$12)","v":5229538},{"$f":"INDEX('10 Rohdaten'!$B$110:$JM$165,$AA20,AJ$12)","v":2241844},{"$f":"INDEX('10 Rohdaten'!$B$110:$JM$165,$AA20,AK$12)","v":7227541},{"$f":"INDEX('10 Rohdaten'!$B$110:$JM$165,$AA20,AL$12)","v":5021228},{"$f":"INDEX('10 Rohdaten'!$B$110:$JM$165,$AA20,AM$12)","v":2206313},{"$f":"INDEX('10 Rohdaten'!$B$110:$JM$165,$AA20,AN$12)","v":243841},{"$f":"INDEX('10 Rohdaten'!$B$110:$JM$165,$AA20,AO$12)","v":208310},{"$f":"INDEX('10 Rohdaten'!$B$110:$JM$165,$AA20,AP$12)","v":35531},{"$f":"INDEX('10 Rohdaten'!$B$110:$JM$165,$AA20,$AQ$11)","v":26961282},{"$f":"INDEX('10 Rohdaten'!$B$110:$JM$165,$AA20,$AR$11)","v":2068811}]
[null,null,"Saarland","Saarland,10",9,"   31.03.2012",9,{"$f":"INDEX('10 Rohdaten'!$B$43:$JM$98,'10 Steuerung'!$G21,'10 Steuerung'!H$11)","v":29082009},{"$f":"INDEX('10 Rohdaten'!$B$43:$JM$98,'10 Steuerung'!$G21,'10 Steuerung'!I$11)","v":15688092},{"$f":"INDEX('10 Rohdaten'!$B$43:$JM$98,'10 Steuerung'!$G21,'10 Steuerung'!J$11)","v":13393917},{"$f":"INDEX('10 Rohdaten'!$B$43:$JM$98,'10 Steuerung'!$G21,'10 Steuerung'!K$11)","v":0},{"$f":"INDEX('10 Rohdaten'!$B$43:$JM$98,'10 Steuerung'!$G21,'10 Steuerung'!L$11)","v":0},{"$f":"INDEX('10 Rohdaten'!$B$43:$JM$98,'10 Steuerung'!$G21,'10 Steuerung'!M$11)","v":7346268},{"$f":"INDEX('10 Rohdaten'!$B$43:$JM$98,'10 Steuerung'!$G21,'10 Steuerung'!N$11)","v":5146417},{"$f":"INDEX('10 Rohdaten'!$B$43:$JM$98,'10 Steuerung'!$G21,'10 Steuerung'!O$11)","v":2199851},{"$f":"INDEX('10 Rohdaten'!$B$43:$JM$98,'10 Steuerung'!$G21,'10 Steuerung'!P$11)","v":7103632},{"$f":"INDEX('10 Rohdaten'!$B$43:$JM$98,'10 Steuerung'!$G21,'10 Steuerung'!Q$11)","v":4935125},{"$f":"INDEX('10 Rohdaten'!$B$43:$JM$98,'10 Steuerung'!$G21,'10 Steuerung'!R$11)","v":2168507},{"$f":"INDEX('10 Rohdaten'!$B$43:$JM$98,'10 Steuerung'!$G21,'10 Steuerung'!S$11)","v":242636},{"$f":"INDEX('10 Rohdaten'!$B$43:$JM$98,'10 Steuerung'!$G21,'10 Steuerung'!T$11)","v":211292},{"$f":"INDEX('10 Rohdaten'!$B$43:$JM$98,'10 Steuerung'!$G21,'10 Steuerung'!U$11)","v":31344},{"$f":"INDEX('10 Rohdaten'!$B$43:$JM$98,'10 Steuerung'!$G21,'10 Steuerung'!V$11)","v":26947937},{"$f":"INDEX('10 Rohdaten'!$B$43:$JM$98,'10 Steuerung'!$G21,'10 Steuerung'!W$11)","v":2117880},null,9,"   31.03.2012",9,{"$f":"INDEX('10 Rohdaten'!$B$110:$JM$165,$AA21,AB$12)","v":29082009},null,{"$f":"INDEX('10 Rohdaten'!$B$110:$JM$165,$AA21,AD$12)","v":15688092},{"$f":"INDEX('10 Rohdaten'!$B$110:$JM$165,$AA21,AE$12)","v":13393917},{"$f":"INDEX('10 Rohdaten'!$B$110:$JM$165,$AA21,AF$12)","v":21893377},{"$f":"INDEX('10 Rohdaten'!$B$110:$JM$165,$AA21,AG$12)","v":7143982},{"$f":"INDEX('10 Rohdaten'!$B$110:$JM$165,$AA21,AH$12)","v":7346268},{"$f":"INDEX('10 Rohdaten'!$B$110:$JM$165,$AA21,AI$12)","v":5146417},{"$f":"INDEX('10 Rohdaten'!$B$110:$JM$165,$AA21,AJ$12)","v":2199851},{"$f":"INDEX('10 Rohdaten'!$B$110:$JM$165,$AA21,AK$12)","v":7103632},{"$f":"INDEX('10 Rohdaten'!$B$110:$JM$165,$AA21,AL$12)","v":4935125},{"$f":"INDEX('10 Rohdaten'!$B$110:$JM$165,$AA21,AM$12)","v":2168507},{"$f":"INDEX('10 Rohdaten'!$B$110:$JM$165,$AA21,AN$12)","v":242636},{"$f":"INDEX('10 Rohdaten'!$B$110:$JM$165,$AA21,AO$12)","v":211292},{"$f":"INDEX('10 Rohdaten'!$B$110:$JM$165,$AA21,AP$12)","v":31344},{"$f":"INDEX('10 Rohdaten'!$B$110:$JM$165,$AA21,$AQ$11)","v":26947937},{"$f":"INDEX('10 Rohdaten'!$B$110:$JM$165,$AA21,$AR$11)","v":2117880}]
[null,null,"Berlin","Berlin,11",10,"   30.06.2012",10,{"$f":"INDEX('10 Rohdaten'!$B$43:$JM$98,'10 Steuerung'!$G22,'10 Steuerung'!H$11)","v":29280034},{"$f":"INDEX('10 Rohdaten'!$B$43:$JM$98,'10 Steuerung'!$G22,'10 Steuerung'!I$11)","v":15838217},{"$f":"INDEX('10 Rohdaten'!$B$43:$JM$98,'10 Steuerung'!$G22,'10 Steuerung'!J$11)","v":13441817},{"$f":"INDEX('10 Rohdaten'!$B$43:$JM$98,'10 Steuerung'!$G22,'10 Steuerung'!K$11)","v":0},{"$f":"INDEX('10 Rohdaten'!$B$43:$JM$98,'10 Steuerung'!$G22,'10 Steuerung'!L$11)","v":0},{"$f":"INDEX('10 Rohdaten'!$B$43:$JM$98,'10 Steuerung'!$G22,'10 Steuerung'!M$11)","v":7591384},{"$f":"INDEX('10 Rohdaten'!$B$43:$JM$98,'10 Steuerung'!$G22,'10 Steuerung'!N$11)","v":5321600},{"$f":"INDEX('10 Rohdaten'!$B$43:$JM$98,'10 Steuerung'!$G22,'10 Steuerung'!O$11)","v":2269784},{"$f":"INDEX('10 Rohdaten'!$B$43:$JM$98,'10 Steuerung'!$G22,'10 Steuerung'!P$11)","v":7263297},{"$f":"INDEX('10 Rohdaten'!$B$43:$JM$98,'10 Steuerung'!$G22,'10 Steuerung'!Q$11)","v":5032466},{"$f":"INDEX('10 Rohdaten'!$B$43:$JM$98,'10 Steuerung'!$G22,'10 Steuerung'!R$11)","v":2230831},{"$f":"INDEX('10 Rohdaten'!$B$43:$JM$98,'10 Steuerung'!$G22,'10 Steuerung'!S$11)","v":328087},{"$f":"INDEX('10 Rohdaten'!$B$43:$JM$98,'10 Steuerung'!$G22,'10 Steuerung'!T$11)","v":289134},{"$f":"INDEX('10 Rohdaten'!$B$43:$JM$98,'10 Steuerung'!$G22,'10 Steuerung'!U$11)","v":38953},{"$f":"INDEX('10 Rohdaten'!$B$43:$JM$98,'10 Steuerung'!$G22,'10 Steuerung'!V$11)","v":27070222},{"$f":"INDEX('10 Rohdaten'!$B$43:$JM$98,'10 Steuerung'!$G22,'10 Steuerung'!W$11)","v":2193332},null,10,"   30.06.2012",10,{"$f":"INDEX('10 Rohdaten'!$B$110:$JM$165,$AA22,AB$12)","v":29280034},null,{"$f":"INDEX('10 Rohdaten'!$B$110:$JM$165,$AA22,AD$12)","v":15838217},{"$f":"INDEX('10 Rohdaten'!$B$110:$JM$165,$AA22,AE$12)","v":13441817},{"$f":"INDEX('10 Rohdaten'!$B$110:$JM$165,$AA22,AF$12)","v":21966212},{"$f":"INDEX('10 Rohdaten'!$B$110:$JM$165,$AA22,AG$12)","v":7268879},{"$f":"INDEX('10 Rohdaten'!$B$110:$JM$165,$AA22,AH$12)","v":7591384},{"$f":"INDEX('10 Rohdaten'!$B$110:$JM$165,$AA22,AI$12)","v":5321600},{"$f":"INDEX('10 Rohdaten'!$B$110:$JM$165,$AA22,AJ$12)","v":2269784},{"$f":"INDEX('10 Rohdaten'!$B$110:$JM$165,$AA22,AK$12)","v":7263297},{"$f":"INDEX('10 Rohdaten'!$B$110:$JM$165,$AA22,AL$12)","v":5032466},{"$f":"INDEX('10 Rohdaten'!$B$110:$JM$165,$AA22,AM$12)","v":2230831},{"$f":"INDEX('10 Rohdaten'!$B$110:$JM$165,$AA22,AN$12)","v":328087},{"$f":"INDEX('10 Rohdaten'!$B$110:$JM$165,$AA22,AO$12)","v":289134},{"$f":"INDEX('10 Rohdaten'!$B$110:$JM$165,$AA22,AP$12)","v":38953},{"$f":"INDEX('10 Rohdaten'!$B$110:$JM$165,$AA22,$AQ$11)","v":27070222},{"$f":"INDEX('10 Rohdaten'!$B$110:$JM$165,$AA22,$AR$11)","v":2193332}]
[null,null,"Brandenburg","Brandenburg,12",11,"   30.09.2012",11,{"$f":"INDEX('10 Rohdaten'!$B$43:$JM$98,'10 Steuerung'!$G23,'10 Steuerung'!H$11)","v":29753856},{"$f":"INDEX('10 Rohdaten'!$B$43:$JM$98,'10 Steuerung'!$G23,'10 Steuerung'!I$11)","v":16097690},{"$f":"INDEX('10 Rohdaten'!$B$43:$JM$98,'10 Steuerung'!$G23,'10 Steuerung'!J$11)","v":13656166},{"$f":"INDEX('10 Rohdaten'!$B$43:$JM$98,'10 Steuerung'!$G23,'10 Steuerung'!K$11)","v":0},{"$f":"INDEX('10 Rohdaten'!$B$43:$JM$98,'10 Steuerung'!$G23,'10 Steuerung'!L$11)","v":0},{"$f":"INDEX('10 Rohdaten'!$B$43:$JM$98,'10 Steuerung'!$G23,'10 Steuerung'!M$11)","v":7582289},{"$f":"INDEX('10 Rohdaten'!$B$43:$JM$98,'10 Steuerung'!$G23,'10 Steuerung'!N$11)","v":5218880},{"$f":"INDEX('10 Rohdaten'!$B$43:$JM$98,'10 Steuerung'!$G23,'10 Steuerung'!O$11)","v":2363409},{"$f":"INDEX('10 Rohdaten'!$B$43:$JM$98,'10 Steuerung'!$G23,'10 Steuerung'!P$11)","v":7272951},{"$f":"INDEX('10 Rohdaten'!$B$43:$JM$98,'10 Steuerung'!$G23,'10 Steuerung'!Q$11)","v":4957773},{"$f":"INDEX('10 Rohdaten'!$B$43:$JM$98,'10 Steuerung'!$G23,'10 Steuerung'!R$11)","v":2315178},{"$f":"INDEX('10 Rohdaten'!$B$43:$JM$98,'10 Steuerung'!$G23,'10 Steuerung'!S$11)","v":309338},{"$f":"INDEX('10 Rohdaten'!$B$43:$JM$98,'10 Steuerung'!$G23,'10 Steuerung'!T$11)","v":261107},{"$f":"INDEX('10 Rohdaten'!$B$43:$JM$98,'10 Steuerung'!$G23,'10 Steuerung'!U$11)","v":48231},{"$f":"INDEX('10 Rohdaten'!$B$43:$JM$98,'10 Steuerung'!$G23,'10 Steuerung'!V$11)","v":27471735},{"$f":"INDEX('10 Rohdaten'!$B$43:$JM$98,'10 Steuerung'!$G23,'10 Steuerung'!W$11)","v":2264721},null,11,"   30.09.2012",11,{"$f":"INDEX('10 Rohdaten'!$B$110:$JM$165,$AA23,AB$12)","v":29753856},null,{"$f":"INDEX('10 Rohdaten'!$B$110:$JM$165,$AA23,AD$12)","v":16097690},{"$f":"INDEX('10 Rohdaten'!$B$110:$JM$165,$AA23,AE$12)","v":13656166},{"$f":"INDEX('10 Rohdaten'!$B$110:$JM$165,$AA23,AF$12)","v":22352947},{"$f":"INDEX('10 Rohdaten'!$B$110:$JM$165,$AA23,AG$12)","v":7350906},{"$f":"INDEX('10 Rohdaten'!$B$110:$JM$165,$AA23,AH$12)","v":7582289},{"$f":"INDEX('10 Rohdaten'!$B$110:$JM$165,$AA23,AI$12)","v":5218880},{"$f":"INDEX('10 Rohdaten'!$B$110:$JM$165,$AA23,AJ$12)","v":2363409},{"$f":"INDEX('10 Rohdaten'!$B$110:$JM$165,$AA23,AK$12)","v":7272951},{"$f":"INDEX('10 Rohdaten'!$B$110:$JM$165,$AA23,AL$12)","v":4957773},{"$f":"INDEX('10 Rohdaten'!$B$110:$JM$165,$AA23,AM$12)","v":2315178},{"$f":"INDEX('10 Rohdaten'!$B$110:$JM$165,$AA23,AN$12)","v":309338},{"$f":"INDEX('10 Rohdaten'!$B$110:$JM$165,$AA23,AO$12)","v":261107},{"$f":"INDEX('10 Rohdaten'!$B$110:$JM$165,$AA23,AP$12)","v":48231},{"$f":"INDEX('10 Rohdaten'!$B$110:$JM$165,$AA23,$AQ$11)","v":27471735},{"$f":"INDEX('10 Rohdaten'!$B$110:$JM$165,$AA23,$AR$11)","v":2264721}]
[null,null,"Mecklenburg-Vorpommern","Mecklenburg-Vorpommern,13",12,"   31.12.2012",12,{"$f":"INDEX('10 Rohdaten'!$B$43:$JM$98,'10 Steuerung'!$G24,'10 Steuerung'!H$11)","v":29527929},{"$f":"INDEX('10 Rohdaten'!$B$43:$JM$98,'10 Steuerung'!$G24,'10 Steuerung'!I$11)","v":15864737},{"$f":"INDEX('10 Rohdaten'!$B$43:$JM$98,'10 Steuerung'!$G24,'10 Steuerung'!J$11)","v":13663192},{"$f":"INDEX('10 Rohdaten'!$B$43:$JM$98,'10 Steuerung'!$G24,'10 Steuerung'!K$11)","v":21850946},{"$f":"INDEX('10 Rohdaten'!$B$43:$JM$98,'10 Steuerung'!$G24,'10 Steuerung'!L$11)","v":7304988},{"$f":"INDEX('10 Rohdaten'!$B$43:$JM$98,'10 Steuerung'!$G24,'10 Steuerung'!M$11)","v":7571732},{"$f":"INDEX('10 Rohdaten'!$B$43:$JM$98,'10 Steuerung'!$G24,'10 Steuerung'!N$11)","v":5214895},{"$f":"INDEX('10 Rohdaten'!$B$43:$JM$98,'10 Steuerung'!$G24,'10 Steuerung'!O$11)","v":2356837},{"$f":"INDEX('10 Rohdaten'!$B$43:$JM$98,'10 Steuerung'!$G24,'10 Steuerung'!P$11)","v":7338979},{"$f":"INDEX('10 Rohdaten'!$B$43:$JM$98,'10 Steuerung'!$G24,'10 Steuerung'!Q$11)","v":5017797},{"$f":"INDEX('10 Rohdaten'!$B$43:$JM$98,'10 Steuerung'!$G24,'10 Steuerung'!R$11)","v":2321182},{"$f":"INDEX('10 Rohdaten'!$B$43:$JM$98,'10 Steuerung'!$G24,'10 Steuerung'!S$11)","v":232753},{"$f":"INDEX('10 Rohdaten'!$B$43:$JM$98,'10 Steuerung'!$G24,'10 Steuerung'!T$11)","v":197098},{"$f":"INDEX('10 Rohdaten'!$B$43:$JM$98,'10 Steuerung'!$G24,'10 Steuerung'!U$11)","v":35655},{"$f":"INDEX('10 Rohdaten'!$B$43:$JM$98,'10 Steuerung'!$G24,'10 Steuerung'!V$11)","v":27290987},{"$f":"INDEX('10 Rohdaten'!$B$43:$JM$98,'10 Steuerung'!$G24,'10 Steuerung'!W$11)","v":2219193},null,12,"   31.12.2012",12,{"$f":"INDEX('10 Rohdaten'!$B$110:$JM$165,$AA24,AB$12)","v":29527929},null,{"$f":"INDEX('10 Rohdaten'!$B$110:$JM$165,$AA24,AD$12)","v":15864737},{"$f":"INDEX('10 Rohdaten'!$B$110:$JM$165,$AA24,AE$12)","v":13663192},{"$f":"INDEX('10 Rohdaten'!$B$110:$JM$165,$AA24,AF$12)","v":22162228},{"$f":"INDEX('10 Rohdaten'!$B$110:$JM$165,$AA24,AG$12)","v":7352001},{"$f":"INDEX('10 Rohdaten'!$B$110:$JM$165,$AA24,AH$12)","v":7571732},{"$f":"INDEX('10 Rohdaten'!$B$110:$JM$165,$AA24,AI$12)","v":5214895},{"$f":"INDEX('10 Rohdaten'!$B$110:$JM$165,$AA24,AJ$12)","v":2356837},{"$f":"INDEX('10 Rohdaten'!$B$110:$JM$165,$AA24,AK$12)","v":7338979},{"$f":"INDEX('10 Rohdaten'!$B$110:$JM$165,$AA24,AL$12)","v":5017797},{"$f":"INDEX('10 Rohdaten'!$B$110:$JM$165,$AA24,AM$12)","v":2321182},{"$f":"INDEX('10 Rohdaten'!$B$110:$JM$165,$AA24,AN$12)","v":232753},{"$f":"INDEX('10 Rohdaten'!$B$110:$JM$165,$AA24,AO$12)","v":197098},{"$f":"INDEX('10 Rohdaten'!$B$110:$JM$165,$AA24,AP$12)","v":35655},{"$f":"INDEX('10 Rohdaten'!$B$110:$JM$165,$AA24,$AQ$11)","v":27290987},{"$f":"INDEX('10 Rohdaten'!$B$110:$JM$165,$AA24,$AR$11)","v":2219193}]
[null,null,"Sachsen","Sachsen,14",13,"   31.03.2013",13,{"$f":"INDEX('10 Rohdaten'!$B$43:$JM$98,'10 Steuerung'!$G25,'10 Steuerung'!H$11)","v":29422803},{"$f":"INDEX('10 Rohdaten'!$B$43:$JM$98,'10 Steuerung'!$G25,'10 Steuerung'!I$11)","v":15794647},{"$f":"INDEX('10 Rohdaten'!$B$43:$JM$98,'10 Steuerung'!$G25,'10 Steuerung'!J$11)","v":13628156},{"$f":"INDEX('10 Rohdaten'!$B$43:$JM$98,'10 Steuerung'!$G25,'10 Steuerung'!K$11)","v":21734387},{"$f":"INDEX('10 Rohdaten'!$B$43:$JM$98,'10 Steuerung'!$G25,'10 Steuerung'!L$11)","v":7328233},{"$f":"INDEX('10 Rohdaten'!$B$43:$JM$98,'10 Steuerung'!$G25,'10 Steuerung'!M$11)","v":7492943},{"$f":"INDEX('10 Rohdaten'!$B$43:$JM$98,'10 Steuerung'!$G25,'10 Steuerung'!N$11)","v":5178003},{"$f":"INDEX('10 Rohdaten'!$B$43:$JM$98,'10 Steuerung'!$G25,'10 Steuerung'!O$11)","v":2314940},{"$f":"INDEX('10 Rohdaten'!$B$43:$JM$98,'10 Steuerung'!$G25,'10 Steuerung'!P$11)","v":7253970},{"$f":"INDEX('10 Rohdaten'!$B$43:$JM$98,'10 Steuerung'!$G25,'10 Steuerung'!Q$11)","v":4969386},{"$f":"INDEX('10 Rohdaten'!$B$43:$JM$98,'10 Steuerung'!$G25,'10 Steuerung'!R$11)","v":2284584},{"$f":"INDEX('10 Rohdaten'!$B$43:$JM$98,'10 Steuerung'!$G25,'10 Steuerung'!S$11)","v":238973},{"$f":"INDEX('10 Rohdaten'!$B$43:$JM$98,'10 Steuerung'!$G25,'10 Steuerung'!T$11)","v":208617},{"$f":"INDEX('10 Rohdaten'!$B$43:$JM$98,'10 Steuerung'!$G25,'10 Steuerung'!U$11)","v":30356},{"$f":"INDEX('10 Rohdaten'!$B$43:$JM$98,'10 Steuerung'!$G25,'10 Steuerung'!V$11)","v":27147959},{"$f":"INDEX('10 Rohdaten'!$B$43:$JM$98,'10 Steuerung'!$G25,'10 Steuerung'!W$11)","v":2257050},null,13,"   31.03.2013",13,{"$f":"INDEX('10 Rohdaten'!$B$110:$JM$165,$AA25,AB$12)","v":29422803},null,{"$f":"INDEX('10 Rohdaten'!$B$110:$JM$165,$AA25,AD$12)","v":15794647},{"$f":"INDEX('10 Rohdaten'!$B$110:$JM$165,$AA25,AE$12)","v":13628156},{"$f":"INDEX('10 Rohdaten'!$B$110:$JM$165,$AA25,AF$12)","v":22009337},{"$f":"INDEX('10 Rohdaten'!$B$110:$JM$165,$AA25,AG$12)","v":7346239},{"$f":"INDEX('10 Rohdaten'!$B$110:$JM$165,$AA25,AH$12)","v":7492943},{"$f":"INDEX('10 Rohdaten'!$B$110:$JM$165,$AA25,AI$12)","v":5178003},{"$f":"INDEX('10 Rohdaten'!$B$110:$JM$165,$AA25,AJ$12)","v":2314940},{"$f":"INDEX('10 Rohdaten'!$B$110:$JM$165,$AA25,AK$12)","v":7253970},{"$f":"INDEX('10 Rohdaten'!$B$110:$JM$165,$AA25,AL$12)","v":4969386},{"$f":"INDEX('10 Rohdaten'!$B$110:$JM$165,$AA25,AM$12)","v":2284584},{"$f":"INDEX('10 Rohdaten'!$B$110:$JM$165,$AA25,AN$12)","v":238973},{"$f":"INDEX('10 Rohdaten'!$B$110:$JM$165,$AA25,AO$12)","v":208617},{"$f":"INDEX('10 Rohdaten'!$B$110:$JM$165,$AA25,AP$12)","v":30356},{"$f":"INDEX('10 Rohdaten'!$B$110:$JM$165,$AA25,$AQ$11)","v":27147959},{"$f":"INDEX('10 Rohdaten'!$B$110:$JM$165,$AA25,$AR$11)","v":2257050}]
[null,null,"Sachsen-Anhalt","Sachsen-Anhalt,15",14,"   30.06.2013",14,{"$f":"INDEX('10 Rohdaten'!$B$43:$JM$98,'10 Steuerung'!$G26,'10 Steuerung'!H$11)","v":29615680},{"$f":"INDEX('10 Rohdaten'!$B$43:$JM$98,'10 Steuerung'!$G26,'10 Steuerung'!I$11)","v":15965766},{"$f":"INDEX('10 Rohdaten'!$B$43:$JM$98,'10 Steuerung'!$G26,'10 Steuerung'!J$11)","v":13649914},{"$f":"INDEX('10 Rohdaten'!$B$43:$JM$98,'10 Steuerung'!$G26,'10 Steuerung'!K$11)","v":21841101},{"$f":"INDEX('10 Rohdaten'!$B$43:$JM$98,'10 Steuerung'!$G26,'10 Steuerung'!L$11)","v":7423906},{"$f":"INDEX('10 Rohdaten'!$B$43:$JM$98,'10 Steuerung'!$G26,'10 Steuerung'!M$11)","v":7716104},{"$f":"INDEX('10 Rohdaten'!$B$43:$JM$98,'10 Steuerung'!$G26,'10 Steuerung'!N$11)","v":5345590},{"$f":"INDEX('10 Rohdaten'!$B$43:$JM$98,'10 Steuerung'!$G26,'10 Steuerung'!O$11)","v":2370514},{"$f":"INDEX('10 Rohdaten'!$B$43:$JM$98,'10 Steuerung'!$G26,'10 Steuerung'!P$11)","v":7398934},{"$f":"INDEX('10 Rohdaten'!$B$43:$JM$98,'10 Steuerung'!$G26,'10 Steuerung'!Q$11)","v":5066322},{"$f":"INDEX('10 Rohdaten'!$B$43:$JM$98,'10 Steuerung'!$G26,'10 Steuerung'!R$11)","v":2332612},{"$f":"INDEX('10 Rohdaten'!$B$43:$JM$98,'10 Steuerung'!$G26,'10 Steuerung'!S$11)","v":317170},{"$f":"INDEX('10 Rohdaten'!$B$43:$JM$98,'10 Steuerung'!$G26,'10 Steuerung'!T$11)","v":279268},{"$f":"INDEX('10 Rohdaten'!$B$43:$JM$98,'10 Steuerung'!$G26,'10 Steuerung'!U$11)","v":37902},{"$f":"INDEX('10 Rohdaten'!$B$43:$JM$98,'10 Steuerung'!$G26,'10 Steuerung'!V$11)","v":27257049},{"$f":"INDEX('10 Rohdaten'!$B$43:$JM$98,'10 Steuerung'!$G26,'10 Steuerung'!W$11)","v":2340697},null,14,"   30.06.2013",14,{"$f":"INDEX('10 Rohdaten'!$B$110:$JM$165,$AA26,AB$12)","v":29615680},null,{"$f":"INDEX('10 Rohdaten'!$B$110:$JM$165,$AA26,AD$12)","v":15965766},{"$f":"INDEX('10 Rohdaten'!$B$110:$JM$165,$AA26,AE$12)","v":13649914},{"$f":"INDEX('10 Rohdaten'!$B$110:$JM$165,$AA26,AF$12)","v":22103104},{"$f":"INDEX('10 Rohdaten'!$B$110:$JM$165,$AA26,AG$12)","v":7434236},{"$f":"INDEX('10 Rohdaten'!$B$110:$JM$165,$AA26,AH$12)","v":7716104},{"$f":"INDEX('10 Rohdaten'!$B$110:$JM$165,$AA26,AI$12)","v":5345590},{"$f":"INDEX('10 Rohdaten'!$B$110:$JM$165,$AA26,AJ$12)","v":2370514},{"$f":"INDEX('10 Rohdaten'!$B$110:$JM$165,$AA26,AK$12)","v":7398934},{"$f":"INDEX('10 Rohdaten'!$B$110:$JM$165,$AA26,AL$12)","v":5066322},{"$f":"INDEX('10 Rohdaten'!$B$110:$JM$165,$AA26,AM$12)","v":2332612},{"$f":"INDEX('10 Rohdaten'!$B$110:$JM$165,$AA26,AN$12)","v":317170},{"$f":"INDEX('10 Rohdaten'!$B$110:$JM$165,$AA26,AO$12)","v":279268},{"$f":"INDEX('10 Rohdaten'!$B$110:$JM$165,$AA26,AP$12)","v":37902},{"$f":"INDEX('10 Rohdaten'!$B$110:$JM$165,$AA26,$AQ$11)","v":27257049},{"$f":"INDEX('10 Rohdaten'!$B$110:$JM$165,$AA26,$AR$11)","v":2340697}]
[null,null,"Thüringen","Thüringen,16",15,"   30.09.2013",15,{"$f":"INDEX('10 Rohdaten'!$B$43:$JM$98,'10 Steuerung'!$G27,'10 Steuerung'!H$11)","v":30164885},{"$f":"INDEX('10 Rohdaten'!$B$43:$JM$98,'10 Steuerung'!$G27,'10 Steuerung'!I$11)","v":16268423},{"$f":"INDEX('10 Rohdaten'!$B$43:$JM$98,'10 Steuerung'!$G27,'10 Steuerung'!J$11)","v":13896462},{"$f":"INDEX('10 Rohdaten'!$B$43:$JM$98,'10 Steuerung'!$G27,'10 Steuerung'!K$11)","v":22279662},{"$f":"INDEX('10 Rohdaten'!$B$43:$JM$98,'10 Steuerung'!$G27,'10 Steuerung'!L$11)","v":7529471},{"$f":"INDEX('10 Rohdaten'!$B$43:$JM$98,'10 Steuerung'!$G27,'10 Steuerung'!M$11)","v":7709264},{"$f":"INDEX('10 Rohdaten'!$B$43:$JM$98,'10 Steuerung'!$G27,'10 Steuerung'!N$11)","v":5246618},{"$f":"INDEX('10 Rohdaten'!$B$43:$JM$98,'10 Steuerung'!$G27,'10 Steuerung'!O$11)","v":2462646},{"$f":"INDEX('10 Rohdaten'!$B$43:$JM$98,'10 Steuerung'!$G27,'10 Steuerung'!P$11)","v":7419925},{"$f":"INDEX('10 Rohdaten'!$B$43:$JM$98,'10 Steuerung'!$G27,'10 Steuerung'!Q$11)","v":5002842},{"$f":"INDEX('10 Rohdaten'!$B$43:$JM$98,'10 Steuerung'!$G27,'10 Steuerung'!R$11)","v":2417083},{"$f":"INDEX('10 Rohdaten'!$B$43:$JM$98,'10 Steuerung'!$G27,'10 Steuerung'!S$11)","v":289339},{"$f":"INDEX('10 Rohdaten'!$B$43:$JM$98,'10 Steuerung'!$G27,'10 Steuerung'!T$11)","v":243776},{"$f":"INDEX('10 Rohdaten'!$B$43:$JM$98,'10 Steuerung'!$G27,'10 Steuerung'!U$11)","v":45563},{"$f":"INDEX('10 Rohdaten'!$B$43:$JM$98,'10 Steuerung'!$G27,'10 Steuerung'!V$11)","v":27728422},{"$f":"INDEX('10 Rohdaten'!$B$43:$JM$98,'10 Steuerung'!$G27,'10 Steuerung'!W$11)","v":2419849},null,15,"   30.09.2013",15,{"$f":"INDEX('10 Rohdaten'!$B$110:$JM$165,$AA27,AB$12)","v":30164885},null,{"$f":"INDEX('10 Rohdaten'!$B$110:$JM$165,$AA27,AD$12)","v":16268423},{"$f":"INDEX('10 Rohdaten'!$B$110:$JM$165,$AA27,AE$12)","v":13896462},{"$f":"INDEX('10 Rohdaten'!$B$110:$JM$165,$AA27,AF$12)","v":22286266},{"$f":"INDEX('10 Rohdaten'!$B$110:$JM$165,$AA27,AG$12)","v":7537422},{"$f":"INDEX('10 Rohdaten'!$B$110:$JM$165,$AA27,AH$12)","v":7709264},{"$f":"INDEX('10 Rohdaten'!$B$110:$JM$165,$AA27,AI$12)","v":5246618},{"$f":"INDEX('10 Rohdaten'!$B$110:$JM$165,$AA27,AJ$12)","v":2462646},{"$f":"INDEX('10 Rohdaten'!$B$110:$JM$165,$AA27,AK$12)","v":7419925},{"$f":"INDEX('10 Rohdaten'!$B$110:$JM$165,$AA27,AL$12)","v":5002842},{"$f":"INDEX('10 Rohdaten'!$B$110:$JM$165,$AA27,AM$12)","v":2417083},{"$f":"INDEX('10 Rohdaten'!$B$110:$JM$165,$AA27,AN$12)","v":289339},{"$f":"INDEX('10 Rohdaten'!$B$110:$JM$165,$AA27,AO$12)","v":243776},{"$f":"INDEX('10 Rohdaten'!$B$110:$JM$165,$AA27,AP$12)","v":45563},{"$f":"INDEX('10 Rohdaten'!$B$110:$JM$165,$AA27,$AQ$11)","v":27728422},{"$f":"INDEX('10 Rohdaten'!$B$110:$JM$165,$AA27,$AR$11)","v":2419849}]
[null,null,null,null,16,"   31.12.2013",16,{"$f":"INDEX('10 Rohdaten'!$B$43:$JM$98,'10 Steuerung'!$G28,'10 Steuerung'!H$11)","v":29884370},{"$f":"INDEX('10 Rohdaten'!$B$43:$JM$98,'10 Steuerung'!$G28,'10 Steuerung'!I$11)","v":16026042},{"$f":"INDEX('10 Rohdaten'!$B$43:$JM$98,'10 Steuerung'!$G28,'10 Steuerung'!J$11)","v":13858328},{"$f":"INDEX('10 Rohdaten'!$B$43:$JM$98,'10 Steuerung'!$G28,'10 Steuerung'!K$11)","v":21967023},{"$f":"INDEX('10 Rohdaten'!$B$43:$JM$98,'10 Steuerung'!$G28,'10 Steuerung'!L$11)","v":7564301},{"$f":"INDEX('10 Rohdaten'!$B$43:$JM$98,'10 Steuerung'!$G28,'10 Steuerung'!M$11)","v":7648749},{"$f":"INDEX('10 Rohdaten'!$B$43:$JM$98,'10 Steuerung'!$G28,'10 Steuerung'!N$11)","v":5223480},{"$f":"INDEX('10 Rohdaten'!$B$43:$JM$98,'10 Steuerung'!$G28,'10 Steuerung'!O$11)","v":2425269},{"$f":"INDEX('10 Rohdaten'!$B$43:$JM$98,'10 Steuerung'!$G28,'10 Steuerung'!P$11)","v":7439689},{"$f":"INDEX('10 Rohdaten'!$B$43:$JM$98,'10 Steuerung'!$G28,'10 Steuerung'!Q$11)","v":5047686},{"$f":"INDEX('10 Rohdaten'!$B$43:$JM$98,'10 Steuerung'!$G28,'10 Steuerung'!R$11)","v":2392003},{"$f":"INDEX('10 Rohdaten'!$B$43:$JM$98,'10 Steuerung'!$G28,'10 Steuerung'!S$11)","v":209060},{"$f":"INDEX('10 Rohdaten'!$B$43:$JM$98,'10 Steuerung'!$G28,'10 Steuerung'!T$11)","v":175794},{"$f":"INDEX('10 Rohdaten'!$B$43:$JM$98,'10 Steuerung'!$G28,'10 Steuerung'!U$11)","v":33266},{"$f":"INDEX('10 Rohdaten'!$B$43:$JM$98,'10 Steuerung'!$G28,'10 Steuerung'!V$11)","v":27503163},{"$f":"INDEX('10 Rohdaten'!$B$43:$JM$98,'10 Steuerung'!$G28,'10 Steuerung'!W$11)","v":2364933},null,16,"   31.12.2013",16,{"$f":"INDEX('10 Rohdaten'!$B$110:$JM$165,$AA28,AB$12)","v":29884370},null,{"$f":"INDEX('10 Rohdaten'!$B$110:$JM$165,$AA28,AD$12)","v":16026042},{"$f":"INDEX('10 Rohdaten'!$B$110:$JM$165,$AA28,AE$12)","v":13858328},{"$f":"INDEX('10 Rohdaten'!$B$110:$JM$165,$AA28,AF$12)","v":21967800},{"$f":"INDEX('10 Rohdaten'!$B$110:$JM$165,$AA28,AG$12)","v":7567912},{"$f":"INDEX('10 Rohdaten'!$B$110:$JM$165,$AA28,AH$12)","v":7648749},{"$f":"INDEX('10 Rohdaten'!$B$110:$JM$165,$AA28,AI$12)","v":5223480},{"$f":"INDEX('10 Rohdaten'!$B$110:$JM$165,$AA28,AJ$12)","v":2425269},{"$f":"INDEX('10 Rohdaten'!$B$110:$JM$165,$AA28,AK$12)","v":7439689},{"$f":"INDEX('10 Rohdaten'!$B$110:$JM$165,$AA28,AL$12)","v":5047686},{"$f":"INDEX('10 Rohdaten'!$B$110:$JM$165,$AA28,AM$12)","v":2392003},{"$f":"INDEX('10 Rohdaten'!$B$110:$JM$165,$AA28,AN$12)","v":209060},{"$f":"INDEX('10 Rohdaten'!$B$110:$JM$165,$AA28,AO$12)","v":175794},{"$f":"INDEX('10 Rohdaten'!$B$110:$JM$165,$AA28,AP$12)","v":33266},{"$f":"INDEX('10 Rohdaten'!$B$110:$JM$165,$AA28,$AQ$11)","v":27503163},{"$f":"INDEX('10 Rohdaten'!$B$110:$JM$165,$AA28,$AR$11)","v":2364933}]
[null,null,null,null,17,"   31.03.2014",17,{"$f":"INDEX('10 Rohdaten'!$B$43:$JM$98,'10 Steuerung'!$G29,'10 Steuerung'!H$11)","v":29932409},{"$f":"INDEX('10 Rohdaten'!$B$43:$JM$98,'10 Steuerung'!$G29,'10 Steuerung'!I$11)","v":16067835},{"$f":"INDEX('10 Rohdaten'!$B$43:$JM$98,'10 Steuerung'!$G29,'10 Steuerung'!J$11)","v":13864574},{"$f":"INDEX('10 Rohdaten'!$B$43:$JM$98,'10 Steuerung'!$G29,'10 Steuerung'!K$11)","v":21964319},{"$f":"INDEX('10 Rohdaten'!$B$43:$JM$98,'10 Steuerung'!$G29,'10 Steuerung'!L$11)","v":7619053},{"$f":"INDEX('10 Rohdaten'!$B$43:$JM$98,'10 Steuerung'!$G29,'10 Steuerung'!M$11)","v":7566385},{"$f":"INDEX('10 Rohdaten'!$B$43:$JM$98,'10 Steuerung'!$G29,'10 Steuerung'!N$11)","v":5174050},{"$f":"INDEX('10 Rohdaten'!$B$43:$JM$98,'10 Steuerung'!$G29,'10 Steuerung'!O$11)","v":2392335},{"$f":"INDEX('10 Rohdaten'!$B$43:$JM$98,'10 Steuerung'!$G29,'10 Steuerung'!P$11)","v":7354094},{"$f":"INDEX('10 Rohdaten'!$B$43:$JM$98,'10 Steuerung'!$G29,'10 Steuerung'!Q$11)","v":4989970},{"$f":"INDEX('10 Rohdaten'!$B$43:$JM$98,'10 Steuerung'!$G29,'10 Steuerung'!R$11)","v":2364124},{"$f":"INDEX('10 Rohdaten'!$B$43:$JM$98,'10 Steuerung'!$G29,'10 Steuerung'!S$11)","v":212291},{"$f":"INDEX('10 Rohdaten'!$B$43:$JM$98,'10 Steuerung'!$G29,'10 Steuerung'!T$11)","v":184080},{"$f":"INDEX('10 Rohdaten'!$B$43:$JM$98,'10 Steuerung'!$G29,'10 Steuerung'!U$11)","v":28211},{"$f":"INDEX('10 Rohdaten'!$B$43:$JM$98,'10 Steuerung'!$G29,'10 Steuerung'!V$11)","v":27463191},{"$f":"INDEX('10 Rohdaten'!$B$43:$JM$98,'10 Steuerung'!$G29,'10 Steuerung'!W$11)","v":2452858},null,17,"   31.03.2014",17,{"$f":"INDEX('10 Rohdaten'!$B$110:$JM$165,$AA29,AB$12)","v":29932409},null,{"$f":"INDEX('10 Rohdaten'!$B$110:$JM$165,$AA29,AD$12)","v":16067835},{"$f":"INDEX('10 Rohdaten'!$B$110:$JM$165,$AA29,AE$12)","v":13864574},{"$f":"INDEX('10 Rohdaten'!$B$110:$JM$165,$AA29,AF$12)","v":21965198},{"$f":"INDEX('10 Rohdaten'!$B$110:$JM$165,$AA29,AG$12)","v":7620073},{"$f":"INDEX('10 Rohdaten'!$B$110:$JM$165,$AA29,AH$12)","v":7566385},{"$f":"INDEX('10 Rohdaten'!$B$110:$JM$165,$AA29,AI$12)","v":5174050},{"$f":"INDEX('10 Rohdaten'!$B$110:$JM$165,$AA29,AJ$12)","v":2392335},{"$f":"INDEX('10 Rohdaten'!$B$110:$JM$165,$AA29,AK$12)","v":7354094},{"$f":"INDEX('10 Rohdaten'!$B$110:$JM$165,$AA29,AL$12)","v":4989970},{"$f":"INDEX('10 Rohdaten'!$B$110:$JM$165,$AA29,AM$12)","v":2364124},{"$f":"INDEX('10 Rohdaten'!$B$110:$JM$165,$AA29,AN$12)","v":212291},{"$f":"INDEX('10 Rohdaten'!$B$110:$JM$165,$AA29,AO$12)","v":184080},{"$f":"INDEX('10 Rohdaten'!$B$110:$JM$165,$AA29,AP$12)","v":28211},{"$f":"INDEX('10 Rohdaten'!$B$110:$JM$165,$AA29,$AQ$11)","v":27463191},{"$f":"INDEX('10 Rohdaten'!$B$110:$JM$165,$AA29,$AR$11)","v":2452858}]
[null,null,null,null,18,"   30.06.2014",18,{"$f":"INDEX('10 Rohdaten'!$B$43:$JM$98,'10 Steuerung'!$G30,'10 Steuerung'!H$11)","v":30174505},{"$f":"INDEX('10 Rohdaten'!$B$43:$JM$98,'10 Steuerung'!$G30,'10 Steuerung'!I$11)","v":16240821},{"$f":"INDEX('10 Rohdaten'!$B$43:$JM$98,'10 Steuerung'!$G30,'10 Steuerung'!J$11)","v":13933684},{"$f":"INDEX('10 Rohdaten'!$B$43:$JM$98,'10 Steuerung'!$G30,'10 Steuerung'!K$11)","v":22090825},{"$f":"INDEX('10 Rohdaten'!$B$43:$JM$98,'10 Steuerung'!$G30,'10 Steuerung'!L$11)","v":7739729},{"$f":"INDEX('10 Rohdaten'!$B$43:$JM$98,'10 Steuerung'!$G30,'10 Steuerung'!M$11)","v":7811376},{"$f":"INDEX('10 Rohdaten'!$B$43:$JM$98,'10 Steuerung'!$G30,'10 Steuerung'!N$11)","v":5349851},{"$f":"INDEX('10 Rohdaten'!$B$43:$JM$98,'10 Steuerung'!$G30,'10 Steuerung'!O$11)","v":2461525},{"$f":"INDEX('10 Rohdaten'!$B$43:$JM$98,'10 Steuerung'!$G30,'10 Steuerung'!P$11)","v":7510554},{"$f":"INDEX('10 Rohdaten'!$B$43:$JM$98,'10 Steuerung'!$G30,'10 Steuerung'!Q$11)","v":5086521},{"$f":"INDEX('10 Rohdaten'!$B$43:$JM$98,'10 Steuerung'!$G30,'10 Steuerung'!R$11)","v":2424033},{"$f":"INDEX('10 Rohdaten'!$B$43:$JM$98,'10 Steuerung'!$G30,'10 Steuerung'!S$11)","v":300822},{"$f":"INDEX('10 Rohdaten'!$B$43:$JM$98,'10 Steuerung'!$G30,'10 Steuerung'!T$11)","v":263330},{"$f":"INDEX('10 Rohdaten'!$B$43:$JM$98,'10 Steuerung'!$G30,'10 Steuerung'!U$11)","v":37492},{"$f":"INDEX('10 Rohdaten'!$B$43:$JM$98,'10 Steuerung'!$G30,'10 Steuerung'!V$11)","v":27594881},{"$f":"INDEX('10 Rohdaten'!$B$43:$JM$98,'10 Steuerung'!$G30,'10 Steuerung'!W$11)","v":2563286},null,18,"   30.06.2014",18,{"$f":"INDEX('10 Rohdaten'!$B$110:$JM$165,$AA30,AB$12)","v":30174505},null,{"$f":"INDEX('10 Rohdaten'!$B$110:$JM$165,$AA30,AD$12)","v":16240821},{"$f":"INDEX('10 Rohdaten'!$B$110:$JM$165,$AA30,AE$12)","v":13933684},{"$f":"INDEX('10 Rohdaten'!$B$110:$JM$165,$AA30,AF$12)","v":22092414},{"$f":"INDEX('10 Rohdaten'!$B$110:$JM$165,$AA30,AG$12)","v":7739003},{"$f":"INDEX('10 Rohdaten'!$B$110:$JM$165,$AA30,AH$12)","v":7811376},{"$f":"INDEX('10 Rohdaten'!$B$110:$JM$165,$AA30,AI$12)","v":5349851},{"$f":"INDEX('10 Rohdaten'!$B$110:$JM$165,$AA30,AJ$12)","v":2461525},{"$f":"INDEX('10 Rohdaten'!$B$110:$JM$165,$AA30,AK$12)","v":7510554},{"$f":"INDEX('10 Rohdaten'!$B$110:$JM$165,$AA30,AL$12)","v":5086521},{"$f":"INDEX('10 Rohdaten'!$B$110:$JM$165,$AA30,AM$12)","v":2424033},{"$f":"INDEX('10 Rohdaten'!$B$110:$JM$165,$AA30,AN$12)","v":300822},{"$f":"INDEX('10 Rohdaten'!$B$110:$JM$165,$AA30,AO$12)","v":263330},{"$f":"INDEX('10 Rohdaten'!$B$110:$JM$165,$AA30,AP$12)","v":37492},{"$f":"INDEX('10 Rohdaten'!$B$110:$JM$165,$AA30,$AQ$11)","v":27594881},{"$f":"INDEX('10 Rohdaten'!$B$110:$JM$165,$AA30,$AR$11)","v":2563286}]
[null,null,null,null,19,"   30.09.2014",19,{"$f":"INDEX('10 Rohdaten'!$B$43:$JM$98,'10 Steuerung'!$G31,'10 Steuerung'!H$11)","v":30662502},{"$f":"INDEX('10 Rohdaten'!$B$43:$JM$98,'10 Steuerung'!$G31,'10 Steuerung'!I$11)","v":16500681},{"$f":"INDEX('10 Rohdaten'!$B$43:$JM$98,'10 Steuerung'!$G31,'10 Steuerung'!J$11)","v":14161821},{"$f":"INDEX('10 Rohdaten'!$B$43:$JM$98,'10 Steuerung'!$G31,'10 Steuerung'!K$11)","v":22726755},{"$f":"INDEX('10 Rohdaten'!$B$43:$JM$98,'10 Steuerung'!$G31,'10 Steuerung'!L$11)","v":7857151},{"$f":"INDEX('10 Rohdaten'!$B$43:$JM$98,'10 Steuerung'!$G31,'10 Steuerung'!M$11)","v":7801454},{"$f":"INDEX('10 Rohdaten'!$B$43:$JM$98,'10 Steuerung'!$G31,'10 Steuerung'!N$11)","v":5253449},{"$f":"INDEX('10 Rohdaten'!$B$43:$JM$98,'10 Steuerung'!$G31,'10 Steuerung'!O$11)","v":2548005},{"$f":"INDEX('10 Rohdaten'!$B$43:$JM$98,'10 Steuerung'!$G31,'10 Steuerung'!P$11)","v":7511554},{"$f":"INDEX('10 Rohdaten'!$B$43:$JM$98,'10 Steuerung'!$G31,'10 Steuerung'!Q$11)","v":5012995},{"$f":"INDEX('10 Rohdaten'!$B$43:$JM$98,'10 Steuerung'!$G31,'10 Steuerung'!R$11)","v":2498559},{"$f":"INDEX('10 Rohdaten'!$B$43:$JM$98,'10 Steuerung'!$G31,'10 Steuerung'!S$11)","v":289900},{"$f":"INDEX('10 Rohdaten'!$B$43:$JM$98,'10 Steuerung'!$G31,'10 Steuerung'!T$11)","v":240454},{"$f":"INDEX('10 Rohdaten'!$B$43:$JM$98,'10 Steuerung'!$G31,'10 Steuerung'!U$11)","v":49446},{"$f":"INDEX('10 Rohdaten'!$B$43:$JM$98,'10 Steuerung'!$G31,'10 Steuerung'!V$11)","v":27991796},{"$f":"INDEX('10 Rohdaten'!$B$43:$JM$98,'10 Steuerung'!$G31,'10 Steuerung'!W$11)","v":2655003},null,19,"   30.09.2014",19,{"$f":"INDEX('10 Rohdaten'!$B$110:$JM$165,$AA31,AB$12)","v":30662502},null,{"$f":"INDEX('10 Rohdaten'!$B$110:$JM$165,$AA31,AD$12)","v":16500681},{"$f":"INDEX('10 Rohdaten'!$B$110:$JM$165,$AA31,AE$12)","v":14161821},{"$f":"INDEX('10 Rohdaten'!$B$110:$JM$165,$AA31,AF$12)","v":22728007},{"$f":"INDEX('10 Rohdaten'!$B$110:$JM$165,$AA31,AG$12)","v":7856249},{"$f":"INDEX('10 Rohdaten'!$B$110:$JM$165,$AA31,AH$12)","v":7801454},{"$f":"INDEX('10 Rohdaten'!$B$110:$JM$165,$AA31,AI$12)","v":5253449},{"$f":"INDEX('10 Rohdaten'!$B$110:$JM$165,$AA31,AJ$12)","v":2548005},{"$f":"INDEX('10 Rohdaten'!$B$110:$JM$165,$AA31,AK$12)","v":7511554},{"$f":"INDEX('10 Rohdaten'!$B$110:$JM$165,$AA31,AL$12)","v":5012995},{"$f":"INDEX('10 Rohdaten'!$B$110:$JM$165,$AA31,AM$12)","v":2498559},{"$f":"INDEX('10 Rohdaten'!$B$110:$JM$165,$AA31,AN$12)","v":289900},{"$f":"INDEX('10 Rohdaten'!$B$110:$JM$165,$AA31,AO$12)","v":240454},{"$f":"INDEX('10 Rohdaten'!$B$110:$JM$165,$AA31,AP$12)","v":49446},{"$f":"INDEX('10 Rohdaten'!$B$110:$JM$165,$AA31,$AQ$11)","v":27991796},{"$f":"INDEX('10 Rohdaten'!$B$110:$JM$165,$AA31,$AR$11)","v":2655003}]
[null,null,null,null,20,"   31.12.2014",20,{"$f":"INDEX('10 Rohdaten'!$B$43:$JM$98,'10 Steuerung'!$G32,'10 Steuerung'!H$11)","v":30397759},{"$f":"INDEX('10 Rohdaten'!$B$43:$JM$98,'10 Steuerung'!$G32,'10 Steuerung'!I$11)","v":16262756},{"$f":"INDEX('10 Rohdaten'!$B$43:$JM$98,'10 Steuerung'!$G32,'10 Steuerung'!J$11)","v":14135003},{"$f":"INDEX('10 Rohdaten'!$B$43:$JM$98,'10 Steuerung'!$G32,'10 Steuerung'!K$11)","v":22478154},{"$f":"INDEX('10 Rohdaten'!$B$43:$JM$98,'10 Steuerung'!$G32,'10 Steuerung'!L$11)","v":7904788},{"$f":"INDEX('10 Rohdaten'!$B$43:$JM$98,'10 Steuerung'!$G32,'10 Steuerung'!M$11)","v":7670012},{"$f":"INDEX('10 Rohdaten'!$B$43:$JM$98,'10 Steuerung'!$G32,'10 Steuerung'!N$11)","v":5170108},{"$f":"INDEX('10 Rohdaten'!$B$43:$JM$98,'10 Steuerung'!$G32,'10 Steuerung'!O$11)","v":2499904},{"$f":"INDEX('10 Rohdaten'!$B$43:$JM$98,'10 Steuerung'!$G32,'10 Steuerung'!P$11)","v":7479335},{"$f":"INDEX('10 Rohdaten'!$B$43:$JM$98,'10 Steuerung'!$G32,'10 Steuerung'!Q$11)","v":5012350},{"$f":"INDEX('10 Rohdaten'!$B$43:$JM$98,'10 Steuerung'!$G32,'10 Steuerung'!R$11)","v":2466985},{"$f":"INDEX('10 Rohdaten'!$B$43:$JM$98,'10 Steuerung'!$G32,'10 Steuerung'!S$11)","v":190677},{"$f":"INDEX('10 Rohdaten'!$B$43:$JM$98,'10 Steuerung'!$G32,'10 Steuerung'!T$11)","v":157758},{"$f":"INDEX('10 Rohdaten'!$B$43:$JM$98,'10 Steuerung'!$G32,'10 Steuerung'!U$11)","v":32919},{"$f":"INDEX('10 Rohdaten'!$B$43:$JM$98,'10 Steuerung'!$G32,'10 Steuerung'!V$11)","v":27776389},{"$f":"INDEX('10 Rohdaten'!$B$43:$JM$98,'10 Steuerung'!$G32,'10 Steuerung'!W$11)","v":2605886},null,20,"   31.12.2014",20,{"$f":"INDEX('10 Rohdaten'!$B$110:$JM$165,$AA32,AB$12)","v":30397759},null,{"$f":"INDEX('10 Rohdaten'!$B$110:$JM$165,$AA32,AD$12)","v":16262756},{"$f":"INDEX('10 Rohdaten'!$B$110:$JM$165,$AA32,AE$12)","v":14135003},{"$f":"INDEX('10 Rohdaten'!$B$110:$JM$165,$AA32,AF$12)","v":22478915},{"$f":"INDEX('10 Rohdaten'!$B$110:$JM$165,$AA32,AG$12)","v":7904154},{"$f":"INDEX('10 Rohdaten'!$B$110:$JM$165,$AA32,AH$12)","v":7670012},{"$f":"INDEX('10 Rohdaten'!$B$110:$JM$165,$AA32,AI$12)","v":5170108},{"$f":"INDEX('10 Rohdaten'!$B$110:$JM$165,$AA32,AJ$12)","v":2499904},{"$f":"INDEX('10 Rohdaten'!$B$110:$JM$165,$AA32,AK$12)","v":7479335},{"$f":"INDEX('10 Rohdaten'!$B$110:$JM$165,$AA32,AL$12)","v":5012350},{"$f":"INDEX('10 Rohdaten'!$B$110:$JM$165,$AA32,AM$12)","v":2466985},{"$f":"INDEX('10 Rohdaten'!$B$110:$JM$165,$AA32,AN$12)","v":190677},{"$f":"INDEX('10 Rohdaten'!$B$110:$JM$165,$AA32,AO$12)","v":157758},{"$f":"INDEX('10 Rohdaten'!$B$110:$JM$165,$AA32,AP$12)","v":32919},{"$f":"INDEX('10 Rohdaten'!$B$110:$JM$165,$AA32,$AQ$11)","v":27776389},{"$f":"INDEX('10 Rohdaten'!$B$110:$JM$165,$AA32,$AR$11)","v":2605886}]
[null,null,null,null,21,"   31.03.2015",21,{"$f":"INDEX('10 Rohdaten'!$B$43:$JM$98,'10 Steuerung'!$G33,'10 Steuerung'!H$11)","v":30528297},{"$f":"INDEX('10 Rohdaten'!$B$43:$JM$98,'10 Steuerung'!$G33,'10 Steuerung'!I$11)","v":16326861},{"$f":"INDEX('10 Rohdaten'!$B$43:$JM$98,'10 Steuerung'!$G33,'10 Steuerung'!J$11)","v":14201436},{"$f":"INDEX('10 Rohdaten'!$B$43:$JM$98,'10 Steuerung'!$G33,'10 Steuerung'!K$11)","v":22472270},{"$f":"INDEX('10 Rohdaten'!$B$43:$JM$98,'10 Steuerung'!$G33,'10 Steuerung'!L$11)","v":8046746},{"$f":"INDEX('10 Rohdaten'!$B$43:$JM$98,'10 Steuerung'!$G33,'10 Steuerung'!M$11)","v":7466038},{"$f":"INDEX('10 Rohdaten'!$B$43:$JM$98,'10 Steuerung'!$G33,'10 Steuerung'!N$11)","v":5017047},{"$f":"INDEX('10 Rohdaten'!$B$43:$JM$98,'10 Steuerung'!$G33,'10 Steuerung'!O$11)","v":2448991},{"$f":"INDEX('10 Rohdaten'!$B$43:$JM$98,'10 Steuerung'!$G33,'10 Steuerung'!P$11)","v":7249453},{"$f":"INDEX('10 Rohdaten'!$B$43:$JM$98,'10 Steuerung'!$G33,'10 Steuerung'!Q$11)","v":4829009},{"$f":"INDEX('10 Rohdaten'!$B$43:$JM$98,'10 Steuerung'!$G33,'10 Steuerung'!R$11)","v":2420444},{"$f":"INDEX('10 Rohdaten'!$B$43:$JM$98,'10 Steuerung'!$G33,'10 Steuerung'!S$11)","v":216585},{"$f":"INDEX('10 Rohdaten'!$B$43:$JM$98,'10 Steuerung'!$G33,'10 Steuerung'!T$11)","v":188038},{"$f":"INDEX('10 Rohdaten'!$B$43:$JM$98,'10 Steuerung'!$G33,'10 Steuerung'!U$11)","v":28547},{"$f":"INDEX('10 Rohdaten'!$B$43:$JM$98,'10 Steuerung'!$G33,'10 Steuerung'!V$11)","v":27800089},{"$f":"INDEX('10 Rohdaten'!$B$43:$JM$98,'10 Steuerung'!$G33,'10 Steuerung'!W$11)","v":2712443},null,21,"   31.03.2015",21,{"$f":"INDEX('10 Rohdaten'!$B$110:$JM$165,$AA33,AB$12)","v":30528297},null,{"$f":"INDEX('10 Rohdaten'!$B$110:$JM$165,$AA33,AD$12)","v":16326861},{"$f":"INDEX('10 Rohdaten'!$B$110:$JM$165,$AA33,AE$12)","v":14201436},{"$f":"INDEX('10 Rohdaten'!$B$110:$JM$165,$AA33,AF$12)","v":22472270},{"$f":"INDEX('10 Rohdaten'!$B$110:$JM$165,$AA33,AG$12)","v":8046746},{"$f":"INDEX('10 Rohdaten'!$B$110:$JM$165,$AA33,AH$12)","v":7466038},{"$f":"INDEX('10 Rohdaten'!$B$110:$JM$165,$AA33,AI$12)","v":5017047},{"$f":"INDEX('10 Rohdaten'!$B$110:$JM$165,$AA33,AJ$12)","v":2448991},{"$f":"INDEX('10 Rohdaten'!$B$110:$JM$165,$AA33,AK$12)","v":7249453},{"$f":"INDEX('10 Rohdaten'!$B$110:$JM$165,$AA33,AL$12)","v":4829009},{"$f":"INDEX('10 Rohdaten'!$B$110:$JM$165,$AA33,AM$12)","v":2420444},{"$f":"INDEX('10 Rohdaten'!$B$110:$JM$165,$AA33,AN$12)","v":216585},{"$f":"INDEX('10 Rohdaten'!$B$110:$JM$165,$AA33,AO$12)","v":188038},{"$f":"INDEX('10 Rohdaten'!$B$110:$JM$165,$AA33,AP$12)","v":28547},{"$f":"INDEX('10 Rohdaten'!$B$110:$JM$165,$AA33,$AQ$11)","v":27800089},{"$f":"INDEX('10 Rohdaten'!$B$110:$JM$165,$AA33,$AR$11)","v":2712443}]
[null,null,null,null,22,"   30.06.2015",22,{"$f":"INDEX('10 Rohdaten'!$B$43:$JM$98,'10 Steuerung'!$G34,'10 Steuerung'!H$11)","v":30771297},{"$f":"INDEX('10 Rohdaten'!$B$43:$JM$98,'10 Steuerung'!$G34,'10 Steuerung'!I$11)","v":16504172},{"$f":"INDEX('10 Rohdaten'!$B$43:$JM$98,'10 Steuerung'!$G34,'10 Steuerung'!J$11)","v":14267125},{"$f":"INDEX('10 Rohdaten'!$B$43:$JM$98,'10 Steuerung'!$G34,'10 Steuerung'!K$11)","v":22577749},{"$f":"INDEX('10 Rohdaten'!$B$43:$JM$98,'10 Steuerung'!$G34,'10 Steuerung'!L$11)","v":8186415},{"$f":"INDEX('10 Rohdaten'!$B$43:$JM$98,'10 Steuerung'!$G34,'10 Steuerung'!M$11)","v":7704750},{"$f":"INDEX('10 Rohdaten'!$B$43:$JM$98,'10 Steuerung'!$G34,'10 Steuerung'!N$11)","v":5187590},{"$f":"INDEX('10 Rohdaten'!$B$43:$JM$98,'10 Steuerung'!$G34,'10 Steuerung'!O$11)","v":2517160},{"$f":"INDEX('10 Rohdaten'!$B$43:$JM$98,'10 Steuerung'!$G34,'10 Steuerung'!P$11)","v":7381055},{"$f":"INDEX('10 Rohdaten'!$B$43:$JM$98,'10 Steuerung'!$G34,'10 Steuerung'!Q$11)","v":4902198},{"$f":"INDEX('10 Rohdaten'!$B$43:$JM$98,'10 Steuerung'!$G34,'10 Steuerung'!R$11)","v":2478857},{"$f":"INDEX('10 Rohdaten'!$B$43:$JM$98,'10 Steuerung'!$G34,'10 Steuerung'!S$11)","v":323695},{"$f":"INDEX('10 Rohdaten'!$B$43:$JM$98,'10 Steuerung'!$G34,'10 Steuerung'!T$11)","v":285392},{"$f":"INDEX('10 Rohdaten'!$B$43:$JM$98,'10 Steuerung'!$G34,'10 Steuerung'!U$11)","v":38303},{"$f":"INDEX('10 Rohdaten'!$B$43:$JM$98,'10 Steuerung'!$G34,'10 Steuerung'!V$11)","v":27925888},{"$f":"INDEX('10 Rohdaten'!$B$43:$JM$98,'10 Steuerung'!$G34,'10 Steuerung'!W$11)","v":2829470},null,22,"   30.06.2015",22,{"$f":"INDEX('10 Rohdaten'!$B$110:$JM$165,$AA34,AB$12)","v":30771297},null,{"$f":"INDEX('10 Rohdaten'!$B$110:$JM$165,$AA34,AD$12)","v":16504172},{"$f":"INDEX('10 Rohdaten'!$B$110:$JM$165,$AA34,AE$12)","v":14267125},{"$f":"INDEX('10 Rohdaten'!$B$110:$JM$165,$AA34,AF$12)","v":22577749},{"$f":"INDEX('10 Rohdaten'!$B$110:$JM$165,$AA34,AG$12)","v":8186415},{"$f":"INDEX('10 Rohdaten'!$B$110:$JM$165,$AA34,AH$12)","v":7704750},{"$f":"INDEX('10 Rohdaten'!$B$110:$JM$165,$AA34,AI$12)","v":5187590},{"$f":"INDEX('10 Rohdaten'!$B$110:$JM$165,$AA34,AJ$12)","v":2517160},{"$f":"INDEX('10 Rohdaten'!$B$110:$JM$165,$AA34,AK$12)","v":7381055},{"$f":"INDEX('10 Rohdaten'!$B$110:$JM$165,$AA34,AL$12)","v":4902198},{"$f":"INDEX('10 Rohdaten'!$B$110:$JM$165,$AA34,AM$12)","v":2478857},{"$f":"INDEX('10 Rohdaten'!$B$110:$JM$165,$AA34,AN$12)","v":323695},{"$f":"INDEX('10 Rohdaten'!$B$110:$JM$165,$AA34,AO$12)","v":285392},{"$f":"INDEX('10 Rohdaten'!$B$110:$JM$165,$AA34,AP$12)","v":38303},{"$f":"INDEX('10 Rohdaten'!$B$110:$JM$165,$AA34,$AQ$11)","v":27925888},{"$f":"INDEX('10 Rohdaten'!$B$110:$JM$165,$AA34,$AR$11)","v":2829470}]
[null,null,null,null,23,"   30.09.2015",23,{"$f":"INDEX('10 Rohdaten'!$B$43:$JM$98,'10 Steuerung'!$G35,'10 Steuerung'!H$11)","v":31330100},{"$f":"INDEX('10 Rohdaten'!$B$43:$JM$98,'10 Steuerung'!$G35,'10 Steuerung'!I$11)","v":16817532},{"$f":"INDEX('10 Rohdaten'!$B$43:$JM$98,'10 Steuerung'!$G35,'10 Steuerung'!J$11)","v":14512568},{"$f":"INDEX('10 Rohdaten'!$B$43:$JM$98,'10 Steuerung'!$G35,'10 Steuerung'!K$11)","v":23014592},{"$f":"INDEX('10 Rohdaten'!$B$43:$JM$98,'10 Steuerung'!$G35,'10 Steuerung'!L$11)","v":8312413},{"$f":"INDEX('10 Rohdaten'!$B$43:$JM$98,'10 Steuerung'!$G35,'10 Steuerung'!M$11)","v":7661385},{"$f":"INDEX('10 Rohdaten'!$B$43:$JM$98,'10 Steuerung'!$G35,'10 Steuerung'!N$11)","v":5055721},{"$f":"INDEX('10 Rohdaten'!$B$43:$JM$98,'10 Steuerung'!$G35,'10 Steuerung'!O$11)","v":2605664},{"$f":"INDEX('10 Rohdaten'!$B$43:$JM$98,'10 Steuerung'!$G35,'10 Steuerung'!P$11)","v":7367324},{"$f":"INDEX('10 Rohdaten'!$B$43:$JM$98,'10 Steuerung'!$G35,'10 Steuerung'!Q$11)","v":4809507},{"$f":"INDEX('10 Rohdaten'!$B$43:$JM$98,'10 Steuerung'!$G35,'10 Steuerung'!R$11)","v":2557817},{"$f":"INDEX('10 Rohdaten'!$B$43:$JM$98,'10 Steuerung'!$G35,'10 Steuerung'!S$11)","v":294061},{"$f":"INDEX('10 Rohdaten'!$B$43:$JM$98,'10 Steuerung'!$G35,'10 Steuerung'!T$11)","v":246214},{"$f":"INDEX('10 Rohdaten'!$B$43:$JM$98,'10 Steuerung'!$G35,'10 Steuerung'!U$11)","v":47847},{"$f":"INDEX('10 Rohdaten'!$B$43:$JM$98,'10 Steuerung'!$G35,'10 Steuerung'!V$11)","v":28370694},{"$f":"INDEX('10 Rohdaten'!$B$43:$JM$98,'10 Steuerung'!$G35,'10 Steuerung'!W$11)","v":2943451},null,23,"   30.09.2015",23,{"$f":"INDEX('10 Rohdaten'!$B$110:$JM$165,$AA35,AB$12)","v":31333146},null,{"$f":"INDEX('10 Rohdaten'!$B$110:$JM$165,$AA35,AD$12)","v":16818279},{"$f":"INDEX('10 Rohdaten'!$B$110:$JM$165,$AA35,AE$12)","v":14514867},{"$f":"INDEX('10 Rohdaten'!$B$110:$JM$165,$AA35,AF$12)","v":23015350},{"$f":"INDEX('10 Rohdaten'!$B$110:$JM$165,$AA35,AG$12)","v":8314734},{"$f":"INDEX('10 Rohdaten'!$B$110:$JM$165,$AA35,AH$12)","v":7662313},{"$f":"INDEX('10 Rohdaten'!$B$110:$JM$165,$AA35,AI$12)","v":5056118},{"$f":"INDEX('10 Rohdaten'!$B$110:$JM$165,$AA35,AJ$12)","v":2606195},{"$f":"INDEX('10 Rohdaten'!$B$110:$JM$165,$AA35,AK$12)","v":7368153},{"$f":"INDEX('10 Rohdaten'!$B$110:$JM$165,$AA35,AL$12)","v":4809807},{"$f":"INDEX('10 Rohdaten'!$B$110:$JM$165,$AA35,AM$12)","v":2558346},{"$f":"INDEX('10 Rohdaten'!$B$110:$JM$165,$AA35,AN$12)","v":294160},{"$f":"INDEX('10 Rohdaten'!$B$110:$JM$165,$AA35,AO$12)","v":246311},{"$f":"INDEX('10 Rohdaten'!$B$110:$JM$165,$AA35,AP$12)","v":47849},{"$f":"INDEX('10 Rohdaten'!$B$110:$JM$165,$AA35,$AQ$11)","v":28373767},{"$f":"INDEX('10 Rohdaten'!$B$110:$JM$165,$AA35,$AR$11)","v":2943437}]
[null,null,null,null,24,"   31.12.2015",24,{"$f":"INDEX('10 Rohdaten'!$B$43:$JM$98,'10 Steuerung'!$G36,'10 Steuerung'!H$11)","v":31144510},{"$f":"INDEX('10 Rohdaten'!$B$43:$JM$98,'10 Steuerung'!$G36,'10 Steuerung'!I$11)","v":16643751},{"$f":"INDEX('10 Rohdaten'!$B$43:$JM$98,'10 Steuerung'!$G36,'10 Steuerung'!J$11)","v":14500759},{"$f":"INDEX('10 Rohdaten'!$B$43:$JM$98,'10 Steuerung'!$G36,'10 Steuerung'!K$11)","v":22770123},{"$f":"INDEX('10 Rohdaten'!$B$43:$JM$98,'10 Steuerung'!$G36,'10 Steuerung'!L$11)","v":8372129},{"$f":"INDEX('10 Rohdaten'!$B$43:$JM$98,'10 Steuerung'!$G36,'10 Steuerung'!M$11)","v":7579185},{"$f":"INDEX('10 Rohdaten'!$B$43:$JM$98,'10 Steuerung'!$G36,'10 Steuerung'!N$11)","v":5005164},{"$f":"INDEX('10 Rohdaten'!$B$43:$JM$98,'10 Steuerung'!$G36,'10 Steuerung'!O$11)","v":2574021},{"$f":"INDEX('10 Rohdaten'!$B$43:$JM$98,'10 Steuerung'!$G36,'10 Steuerung'!P$11)","v":7383251},{"$f":"INDEX('10 Rohdaten'!$B$43:$JM$98,'10 Steuerung'!$G36,'10 Steuerung'!Q$11)","v":4842886},{"$f":"INDEX('10 Rohdaten'!$B$43:$JM$98,'10 Steuerung'!$G36,'10 Steuerung'!R$11)","v":2540365},{"$f":"INDEX('10 Rohdaten'!$B$43:$JM$98,'10 Steuerung'!$G36,'10 Steuerung'!S$11)","v":195934},{"$f":"INDEX('10 Rohdaten'!$B$43:$JM$98,'10 Steuerung'!$G36,'10 Steuerung'!T$11)","v":162278},{"$f":"INDEX('10 Rohdaten'!$B$43:$JM$98,'10 Steuerung'!$G36,'10 Steuerung'!U$11)","v":33656},{"$f":"INDEX('10 Rohdaten'!$B$43:$JM$98,'10 Steuerung'!$G36,'10 Steuerung'!V$11)","v":28209539},{"$f":"INDEX('10 Rohdaten'!$B$43:$JM$98,'10 Steuerung'!$G36,'10 Steuerung'!W$11)","v":2919077},null,24,"   31.12.2015",24,{"$f":"INDEX('10 Rohdaten'!$B$110:$JM$165,$AA36,AB$12)","v":31149605},null,{"$f":"INDEX('10 Rohdaten'!$B$110:$JM$165,$AA36,AD$12)","v":16644632},{"$f":"INDEX('10 Rohdaten'!$B$110:$JM$165,$AA36,AE$12)","v":14504973},{"$f":"INDEX('10 Rohdaten'!$B$110:$JM$165,$AA36,AF$12)","v":22771539},{"$f":"INDEX('10 Rohdaten'!$B$110:$JM$165,$AA36,AG$12)","v":8375836},{"$f":"INDEX('10 Rohdaten'!$B$110:$JM$165,$AA36,AH$12)","v":7580629},{"$f":"INDEX('10 Rohdaten'!$B$110:$JM$165,$AA36,AI$12)","v":5005805},{"$f":"INDEX('10 Rohdaten'!$B$110:$JM$165,$AA36,AJ$12)","v":2574824},{"$f":"INDEX('10 Rohdaten'!$B$110:$JM$165,$AA36,AK$12)","v":7384581},{"$f":"INDEX('10 Rohdaten'!$B$110:$JM$165,$AA36,AL$12)","v":4843430},{"$f":"INDEX('10 Rohdaten'!$B$110:$JM$165,$AA36,AM$12)","v":2541151},{"$f":"INDEX('10 Rohdaten'!$B$110:$JM$165,$AA36,AN$12)","v":196048},{"$f":"INDEX('10 Rohdaten'!$B$110:$JM$165,$AA36,AO$12)","v":162375},{"$f":"INDEX('10 Rohdaten'!$B$110:$JM$165,$AA36,AP$12)","v":33673},{"$f":"INDEX('10 Rohdaten'!$B$110:$JM$165,$AA36,$AQ$11)","v":28214562},{"$f":"INDEX('10 Rohdaten'!$B$110:$JM$165,$AA36,$AR$11)","v":2919163}]
[null,null,null,null,25,"   31.03.2016",25,{"$f":"INDEX('10 Rohdaten'!$B$43:$JM$98,'10 Steuerung'!$G37,'10 Steuerung'!H$11)","v":31194562},{"$f":"INDEX('10 Rohdaten'!$B$43:$JM$98,'10 Steuerung'!$G37,'10 Steuerung'!I$11)","v":16682741},{"$f":"INDEX('10 Rohdaten'!$B$43:$JM$98,'10 Steuerung'!$G37,'10 Steuerung'!J$11)","v":14511821},{"$f":"INDEX('10 Rohdaten'!$B$43:$JM$98,'10 Steuerung'!$G37,'10 Steuerung'!K$11)","v":22763050},{"$f":"INDEX('10 Rohdaten'!$B$43:$JM$98,'10 Steuerung'!$G37,'10 Steuerung'!L$11)","v":8430151},{"$f":"INDEX('10 Rohdaten'!$B$43:$JM$98,'10 Steuerung'!$G37,'10 Steuerung'!M$11)","v":7520914},{"$f":"INDEX('10 Rohdaten'!$B$43:$JM$98,'10 Steuerung'!$G37,'10 Steuerung'!N$11)","v":4966725},{"$f":"INDEX('10 Rohdaten'!$B$43:$JM$98,'10 Steuerung'!$G37,'10 Steuerung'!O$11)","v":2554189},{"$f":"INDEX('10 Rohdaten'!$B$43:$JM$98,'10 Steuerung'!$G37,'10 Steuerung'!P$11)","v":7308697},{"$f":"INDEX('10 Rohdaten'!$B$43:$JM$98,'10 Steuerung'!$G37,'10 Steuerung'!Q$11)","v":4783335},{"$f":"INDEX('10 Rohdaten'!$B$43:$JM$98,'10 Steuerung'!$G37,'10 Steuerung'!R$11)","v":2525362},{"$f":"INDEX('10 Rohdaten'!$B$43:$JM$98,'10 Steuerung'!$G37,'10 Steuerung'!S$11)","v":212217},{"$f":"INDEX('10 Rohdaten'!$B$43:$JM$98,'10 Steuerung'!$G37,'10 Steuerung'!T$11)","v":183390},{"$f":"INDEX('10 Rohdaten'!$B$43:$JM$98,'10 Steuerung'!$G37,'10 Steuerung'!U$11)","v":28827},{"$f":"INDEX('10 Rohdaten'!$B$43:$JM$98,'10 Steuerung'!$G37,'10 Steuerung'!V$11)","v":28175580},{"$f":"INDEX('10 Rohdaten'!$B$43:$JM$98,'10 Steuerung'!$G37,'10 Steuerung'!W$11)","v":3002823},null,25,"   31.03.2016",25,{"$f":"INDEX('10 Rohdaten'!$B$110:$JM$165,$AA37,AB$12)","v":31209241},null,{"$f":"INDEX('10 Rohdaten'!$B$110:$JM$165,$AA37,AD$12)","v":16688581},{"$f":"INDEX('10 Rohdaten'!$B$110:$JM$165,$AA37,AE$12)","v":14520660},{"$f":"INDEX('10 Rohdaten'!$B$110:$JM$165,$AA37,AF$12)","v":22770877},{"$f":"INDEX('10 Rohdaten'!$B$110:$JM$165,$AA37,AG$12)","v":8437019},{"$f":"INDEX('10 Rohdaten'!$B$110:$JM$165,$AA37,AH$12)","v":7517726},{"$f":"INDEX('10 Rohdaten'!$B$110:$JM$165,$AA37,AI$12)","v":4965023},{"$f":"INDEX('10 Rohdaten'!$B$110:$JM$165,$AA37,AJ$12)","v":2552703},{"$f":"INDEX('10 Rohdaten'!$B$110:$JM$165,$AA37,AK$12)","v":7305724},{"$f":"INDEX('10 Rohdaten'!$B$110:$JM$165,$AA37,AL$12)","v":4781773},{"$f":"INDEX('10 Rohdaten'!$B$110:$JM$165,$AA37,AM$12)","v":2523951},{"$f":"INDEX('10 Rohdaten'!$B$110:$JM$165,$AA37,AN$12)","v":212002},{"$f":"INDEX('10 Rohdaten'!$B$110:$JM$165,$AA37,AO$12)","v":183250},{"$f":"INDEX('10 Rohdaten'!$B$110:$JM$165,$AA37,AP$12)","v":28752},{"$f":"INDEX('10 Rohdaten'!$B$110:$JM$165,$AA37,$AQ$11)","v":28189217},{"$f":"INDEX('10 Rohdaten'!$B$110:$JM$165,$AA37,$AR$11)","v":3003875}]
[null,null,null,null,26,"   30.06.2016",26,{"$f":"INDEX('10 Rohdaten'!$B$43:$JM$98,'10 Steuerung'!$G38,'10 Steuerung'!H$11)","v":31373691},{"$f":"INDEX('10 Rohdaten'!$B$43:$JM$98,'10 Steuerung'!$G38,'10 Steuerung'!I$11)","v":16829010},{"$f":"INDEX('10 Rohdaten'!$B$43:$JM$98,'10 Steuerung'!$G38,'10 Steuerung'!J$11)","v":14544681},{"$f":"INDEX('10 Rohdaten'!$B$43:$JM$98,'10 Steuerung'!$G38,'10 Steuerung'!K$11)","v":22825336},{"$f":"INDEX('10 Rohdaten'!$B$43:$JM$98,'10 Steuerung'!$G38,'10 Steuerung'!L$11)","v":8547630},{"$f":"INDEX('10 Rohdaten'!$B$43:$JM$98,'10 Steuerung'!$G38,'10 Steuerung'!M$11)","v":7756094},{"$f":"INDEX('10 Rohdaten'!$B$43:$JM$98,'10 Steuerung'!$G38,'10 Steuerung'!N$11)","v":5141164},{"$f":"INDEX('10 Rohdaten'!$B$43:$JM$98,'10 Steuerung'!$G38,'10 Steuerung'!O$11)","v":2614930},{"$f":"INDEX('10 Rohdaten'!$B$43:$JM$98,'10 Steuerung'!$G38,'10 Steuerung'!P$11)","v":7441246},{"$f":"INDEX('10 Rohdaten'!$B$43:$JM$98,'10 Steuerung'!$G38,'10 Steuerung'!Q$11)","v":4864378},{"$f":"INDEX('10 Rohdaten'!$B$43:$JM$98,'10 Steuerung'!$G38,'10 Steuerung'!R$11)","v":2576868},{"$f":"INDEX('10 Rohdaten'!$B$43:$JM$98,'10 Steuerung'!$G38,'10 Steuerung'!S$11)","v":314848},{"$f":"INDEX('10 Rohdaten'!$B$43:$JM$98,'10 Steuerung'!$G38,'10 Steuerung'!T$11)","v":276786},{"$f":"INDEX('10 Rohdaten'!$B$43:$JM$98,'10 Steuerung'!$G38,'10 Steuerung'!U$11)","v":38062},{"$f":"INDEX('10 Rohdaten'!$B$43:$JM$98,'10 Steuerung'!$G38,'10 Steuerung'!V$11)","v":28227842},{"$f":"INDEX('10 Rohdaten'!$B$43:$JM$98,'10 Steuerung'!$G38,'10 Steuerung'!W$11)","v":3129357},null,26,"   30.06.2016",26,{"$f":"INDEX('10 Rohdaten'!$B$110:$JM$165,$AA38,AB$12)","v":31443318},null,{"$f":"INDEX('10 Rohdaten'!$B$110:$JM$165,$AA38,AD$12)","v":16864227},{"$f":"INDEX('10 Rohdaten'!$B$110:$JM$165,$AA38,AE$12)","v":14579091},{"$f":"INDEX('10 Rohdaten'!$B$110:$JM$165,$AA38,AF$12)","v":22873969},{"$f":"INDEX('10 Rohdaten'!$B$110:$JM$165,$AA38,AG$12)","v":8568637},{"$f":"INDEX('10 Rohdaten'!$B$110:$JM$165,$AA38,AH$12)","v":7763218},{"$f":"INDEX('10 Rohdaten'!$B$110:$JM$165,$AA38,AI$12)","v":5141533},{"$f":"INDEX('10 Rohdaten'!$B$110:$JM$165,$AA38,AJ$12)","v":2621685},{"$f":"INDEX('10 Rohdaten'!$B$110:$JM$165,$AA38,AK$12)","v":7448549},{"$f":"INDEX('10 Rohdaten'!$B$110:$JM$165,$AA38,AL$12)","v":4864910},{"$f":"INDEX('10 Rohdaten'!$B$110:$JM$165,$AA38,AM$12)","v":2583639},{"$f":"INDEX('10 Rohdaten'!$B$110:$JM$165,$AA38,AN$12)","v":314669},{"$f":"INDEX('10 Rohdaten'!$B$110:$JM$165,$AA38,AO$12)","v":276623},{"$f":"INDEX('10 Rohdaten'!$B$110:$JM$165,$AA38,AP$12)","v":38046},{"$f":"INDEX('10 Rohdaten'!$B$110:$JM$165,$AA38,$AQ$11)","v":28292932},{"$f":"INDEX('10 Rohdaten'!$B$110:$JM$165,$AA38,$AR$11)","v":3133874}]
[null,null,null,null,27,"   30.09.2016",27,{"$f":"INDEX('10 Rohdaten'!$B$43:$JM$98,'10 Steuerung'!$G39,'10 Steuerung'!H$11)","v":32009204},{"$f":"INDEX('10 Rohdaten'!$B$43:$JM$98,'10 Steuerung'!$G39,'10 Steuerung'!I$11)","v":17181987},{"$f":"INDEX('10 Rohdaten'!$B$43:$JM$98,'10 Steuerung'!$G39,'10 Steuerung'!J$11)","v":14827217},{"$f":"INDEX('10 Rohdaten'!$B$43:$JM$98,'10 Steuerung'!$G39,'10 Steuerung'!K$11)","v":23320035},{"$f":"INDEX('10 Rohdaten'!$B$43:$JM$98,'10 Steuerung'!$G39,'10 Steuerung'!L$11)","v":8688849},{"$f":"INDEX('10 Rohdaten'!$B$43:$JM$98,'10 Steuerung'!$G39,'10 Steuerung'!M$11)","v":7720821},{"$f":"INDEX('10 Rohdaten'!$B$43:$JM$98,'10 Steuerung'!$G39,'10 Steuerung'!N$11)","v":5005490},{"$f":"INDEX('10 Rohdaten'!$B$43:$JM$98,'10 Steuerung'!$G39,'10 Steuerung'!O$11)","v":2715331},{"$f":"INDEX('10 Rohdaten'!$B$43:$JM$98,'10 Steuerung'!$G39,'10 Steuerung'!P$11)","v":7436341},{"$f":"INDEX('10 Rohdaten'!$B$43:$JM$98,'10 Steuerung'!$G39,'10 Steuerung'!Q$11)","v":4769534},{"$f":"INDEX('10 Rohdaten'!$B$43:$JM$98,'10 Steuerung'!$G39,'10 Steuerung'!R$11)","v":2666807},{"$f":"INDEX('10 Rohdaten'!$B$43:$JM$98,'10 Steuerung'!$G39,'10 Steuerung'!S$11)","v":284480},{"$f":"INDEX('10 Rohdaten'!$B$43:$JM$98,'10 Steuerung'!$G39,'10 Steuerung'!T$11)","v":235956},{"$f":"INDEX('10 Rohdaten'!$B$43:$JM$98,'10 Steuerung'!$G39,'10 Steuerung'!U$11)","v":48524},{"$f":"INDEX('10 Rohdaten'!$B$43:$JM$98,'10 Steuerung'!$G39,'10 Steuerung'!V$11)","v":28751723},{"$f":"INDEX('10 Rohdaten'!$B$43:$JM$98,'10 Steuerung'!$G39,'10 Steuerung'!W$11)","v":3240917},null,27,"   30.09.2016",27,{"$f":"INDEX('10 Rohdaten'!$B$110:$JM$165,$AA39,AB$12)","v":32007270},null,{"$f":"INDEX('10 Rohdaten'!$B$110:$JM$165,$AA39,AD$12)","v":17180858},{"$f":"INDEX('10 Rohdaten'!$B$110:$JM$165,$AA39,AE$12)","v":14826412},{"$f":"INDEX('10 Rohdaten'!$B$110:$JM$165,$AA39,AF$12)","v":23318546},{"$f":"INDEX('10 Rohdaten'!$B$110:$JM$165,$AA39,AG$12)","v":8688404},{"$f":"INDEX('10 Rohdaten'!$B$110:$JM$165,$AA39,AH$12)","v":7716136},{"$f":"INDEX('10 Rohdaten'!$B$110:$JM$165,$AA39,AI$12)","v":5004151},{"$f":"INDEX('10 Rohdaten'!$B$110:$JM$165,$AA39,AJ$12)","v":2711985},{"$f":"INDEX('10 Rohdaten'!$B$110:$JM$165,$AA39,AK$12)","v":7431756},{"$f":"INDEX('10 Rohdaten'!$B$110:$JM$165,$AA39,AL$12)","v":4768238},{"$f":"INDEX('10 Rohdaten'!$B$110:$JM$165,$AA39,AM$12)","v":2663518},{"$f":"INDEX('10 Rohdaten'!$B$110:$JM$165,$AA39,AN$12)","v":284380},{"$f":"INDEX('10 Rohdaten'!$B$110:$JM$165,$AA39,AO$12)","v":235913},{"$f":"INDEX('10 Rohdaten'!$B$110:$JM$165,$AA39,AP$12)","v":48467},{"$f":"INDEX('10 Rohdaten'!$B$110:$JM$165,$AA39,$AQ$11)","v":28750382},{"$f":"INDEX('10 Rohdaten'!$B$110:$JM$165,$AA39,$AR$11)","v":3240321}]
[null,null,null,null,28,"   31.12.2016",28,{"$f":"INDEX('10 Rohdaten'!$B$43:$JM$98,'10 Steuerung'!$G40,'10 Steuerung'!H$11)","v":31848915},{"$f":"INDEX('10 Rohdaten'!$B$43:$JM$98,'10 Steuerung'!$G40,'10 Steuerung'!I$11)","v":17031298},{"$f":"INDEX('10 Rohdaten'!$B$43:$JM$98,'10 Steuerung'!$G40,'10 Steuerung'!J$11)","v":14817617},{"$f":"INDEX('10 Rohdaten'!$B$43:$JM$98,'10 Steuerung'!$G40,'10 Steuerung'!K$11)","v":23104832},{"$f":"INDEX('10 Rohdaten'!$B$43:$JM$98,'10 Steuerung'!$G40,'10 Steuerung'!L$11)","v":8743982},{"$f":"INDEX('10 Rohdaten'!$B$43:$JM$98,'10 Steuerung'!$G40,'10 Steuerung'!M$11)","v":7627556},{"$f":"INDEX('10 Rohdaten'!$B$43:$JM$98,'10 Steuerung'!$G40,'10 Steuerung'!N$11)","v":4946366},{"$f":"INDEX('10 Rohdaten'!$B$43:$JM$98,'10 Steuerung'!$G40,'10 Steuerung'!O$11)","v":2681190},{"$f":"INDEX('10 Rohdaten'!$B$43:$JM$98,'10 Steuerung'!$G40,'10 Steuerung'!P$11)","v":7443816},{"$f":"INDEX('10 Rohdaten'!$B$43:$JM$98,'10 Steuerung'!$G40,'10 Steuerung'!Q$11)","v":4795214},{"$f":"INDEX('10 Rohdaten'!$B$43:$JM$98,'10 Steuerung'!$G40,'10 Steuerung'!R$11)","v":2648602},{"$f":"INDEX('10 Rohdaten'!$B$43:$JM$98,'10 Steuerung'!$G40,'10 Steuerung'!S$11)","v":183740},{"$f":"INDEX('10 Rohdaten'!$B$43:$JM$98,'10 Steuerung'!$G40,'10 Steuerung'!T$11)","v":151152},{"$f":"INDEX('10 Rohdaten'!$B$43:$JM$98,'10 Steuerung'!$G40,'10 Steuerung'!U$11)","v":32588},{"$f":"INDEX('10 Rohdaten'!$B$43:$JM$98,'10 Steuerung'!$G40,'10 Steuerung'!V$11)","v":28604955},{"$f":"INDEX('10 Rohdaten'!$B$43:$JM$98,'10 Steuerung'!$G40,'10 Steuerung'!W$11)","v":3227489},null,28,"   31.12.2016",28,{"$f":"INDEX('10 Rohdaten'!$B$110:$JM$165,$AA40,AB$12)","v":31847718},null,{"$f":"INDEX('10 Rohdaten'!$B$110:$JM$165,$AA40,AD$12)","v":17030591},{"$f":"INDEX('10 Rohdaten'!$B$110:$JM$165,$AA40,AE$12)","v":14817127},{"$f":"INDEX('10 Rohdaten'!$B$110:$JM$165,$AA40,AF$12)","v":23103965},{"$f":"INDEX('10 Rohdaten'!$B$110:$JM$165,$AA40,AG$12)","v":8743652},{"$f":"INDEX('10 Rohdaten'!$B$110:$JM$165,$AA40,AH$12)","v":7624134},{"$f":"INDEX('10 Rohdaten'!$B$110:$JM$165,$AA40,AI$12)","v":4945458},{"$f":"INDEX('10 Rohdaten'!$B$110:$JM$165,$AA40,AJ$12)","v":2678676},{"$f":"INDEX('10 Rohdaten'!$B$110:$JM$165,$AA40,AK$12)","v":7440365},{"$f":"INDEX('10 Rohdaten'!$B$110:$JM$165,$AA40,AL$12)","v":4794284},{"$f":"INDEX('10 Rohdaten'!$B$110:$JM$165,$AA40,AM$12)","v":2646081},{"$f":"INDEX('10 Rohdaten'!$B$110:$JM$165,$AA40,AN$12)","v":183769},{"$f":"INDEX('10 Rohdaten'!$B$110:$JM$165,$AA40,AO$12)","v":151174},{"$f":"INDEX('10 Rohdaten'!$B$110:$JM$165,$AA40,AP$12)","v":32595},{"$f":"INDEX('10 Rohdaten'!$B$110:$JM$165,$AA40,$AQ$11)","v":28604216},{"$f":"INDEX('10 Rohdaten'!$B$110:$JM$165,$AA40,$AR$11)","v":3227028}]
[null,null,null,null,29,"   31.03.2017",29,{"$f":"INDEX('10 Rohdaten'!$B$43:$JM$98,'10 Steuerung'!$G41,'10 Steuerung'!H$11)","v":31931291},{"$f":"INDEX('10 Rohdaten'!$B$43:$JM$98,'10 Steuerung'!$G41,'10 Steuerung'!I$11)","v":17101199},{"$f":"INDEX('10 Rohdaten'!$B$43:$JM$98,'10 Steuerung'!$G41,'10 Steuerung'!J$11)","v":14830092},{"$f":"INDEX('10 Rohdaten'!$B$43:$JM$98,'10 Steuerung'!$G41,'10 Steuerung'!K$11)","v":23120490},{"$f":"INDEX('10 Rohdaten'!$B$43:$JM$98,'10 Steuerung'!$G41,'10 Steuerung'!L$11)","v":8810768},{"$f":"INDEX('10 Rohdaten'!$B$43:$JM$98,'10 Steuerung'!$G41,'10 Steuerung'!M$11)","v":7552824},{"$f":"INDEX('10 Rohdaten'!$B$43:$JM$98,'10 Steuerung'!$G41,'10 Steuerung'!N$11)","v":4896396},{"$f":"INDEX('10 Rohdaten'!$B$43:$JM$98,'10 Steuerung'!$G41,'10 Steuerung'!O$11)","v":2656428},{"$f":"INDEX('10 Rohdaten'!$B$43:$JM$98,'10 Steuerung'!$G41,'10 Steuerung'!P$11)","v":7350882},{"$f":"INDEX('10 Rohdaten'!$B$43:$JM$98,'10 Steuerung'!$G41,'10 Steuerung'!Q$11)","v":4723089},{"$f":"INDEX('10 Rohdaten'!$B$43:$JM$98,'10 Steuerung'!$G41,'10 Steuerung'!R$11)","v":2627793},{"$f":"INDEX('10 Rohdaten'!$B$43:$JM$98,'10 Steuerung'!$G41,'10 Steuerung'!S$11)","v":201942},{"$f":"INDEX('10 Rohdaten'!$B$43:$JM$98,'10 Steuerung'!$G41,'10 Steuerung'!T$11)","v":173307},{"$f":"INDEX('10 Rohdaten'!$B$43:$JM$98,'10 Steuerung'!$G41,'10 Steuerung'!U$11)","v":28635},{"$f":"INDEX('10 Rohdaten'!$B$43:$JM$98,'10 Steuerung'!$G41,'10 Steuerung'!V$11)","v":28573007},{"$f":"INDEX('10 Rohdaten'!$B$43:$JM$98,'10 Steuerung'!$G41,'10 Steuerung'!W$11)","v":3341624},null,29,"   31.03.2017",29,{"$f":"INDEX('10 Rohdaten'!$B$110:$JM$165,$AA41,AB$12)","v":31930223},null,{"$f":"INDEX('10 Rohdaten'!$B$110:$JM$165,$AA41,AD$12)","v":17100289},{"$f":"INDEX('10 Rohdaten'!$B$110:$JM$165,$AA41,AE$12)","v":14829934},{"$f":"INDEX('10 Rohdaten'!$B$110:$JM$165,$AA41,AF$12)","v":23119375},{"$f":"INDEX('10 Rohdaten'!$B$110:$JM$165,$AA41,AG$12)","v":8810815},{"$f":"INDEX('10 Rohdaten'!$B$110:$JM$165,$AA41,AH$12)","v":7550396},{"$f":"INDEX('10 Rohdaten'!$B$110:$JM$165,$AA41,AI$12)","v":4895684},{"$f":"INDEX('10 Rohdaten'!$B$110:$JM$165,$AA41,AJ$12)","v":2654712},{"$f":"INDEX('10 Rohdaten'!$B$110:$JM$165,$AA41,AK$12)","v":7348437},{"$f":"INDEX('10 Rohdaten'!$B$110:$JM$165,$AA41,AL$12)","v":4722353},{"$f":"INDEX('10 Rohdaten'!$B$110:$JM$165,$AA41,AM$12)","v":2626084},{"$f":"INDEX('10 Rohdaten'!$B$110:$JM$165,$AA41,AN$12)","v":201959},{"$f":"INDEX('10 Rohdaten'!$B$110:$JM$165,$AA41,AO$12)","v":173331},{"$f":"INDEX('10 Rohdaten'!$B$110:$JM$165,$AA41,AP$12)","v":28628},{"$f":"INDEX('10 Rohdaten'!$B$110:$JM$165,$AA41,$AQ$11)","v":28572306},{"$f":"INDEX('10 Rohdaten'!$B$110:$JM$165,$AA41,$AR$11)","v":3341256}]
[null,null,null,null,30,"   30.06.2017",30,{"$f":"INDEX('10 Rohdaten'!$B$43:$JM$98,'10 Steuerung'!$G42,'10 Steuerung'!H$11)","v":0},{"$f":"INDEX('10 Rohdaten'!$B$43:$JM$98,'10 Steuerung'!$G42,'10 Steuerung'!I$11)","v":0},{"$f":"INDEX('10 Rohdaten'!$B$43:$JM$98,'10 Steuerung'!$G42,'10 Steuerung'!J$11)","v":0},{"$f":"INDEX('10 Rohdaten'!$B$43:$JM$98,'10 Steuerung'!$G42,'10 Steuerung'!K$11)","v":0},{"$f":"INDEX('10 Rohdaten'!$B$43:$JM$98,'10 Steuerung'!$G42,'10 Steuerung'!L$11)","v":0},{"$f":"INDEX('10 Rohdaten'!$B$43:$JM$98,'10 Steuerung'!$G42,'10 Steuerung'!M$11)","v":0},{"$f":"INDEX('10 Rohdaten'!$B$43:$JM$98,'10 Steuerung'!$G42,'10 Steuerung'!N$11)","v":0},{"$f":"INDEX('10 Rohdaten'!$B$43:$JM$98,'10 Steuerung'!$G42,'10 Steuerung'!O$11)","v":0},{"$f":"INDEX('10 Rohdaten'!$B$43:$JM$98,'10 Steuerung'!$G42,'10 Steuerung'!P$11)","v":0},{"$f":"INDEX('10 Rohdaten'!$B$43:$JM$98,'10 Steuerung'!$G42,'10 Steuerung'!Q$11)","v":0},{"$f":"INDEX('10 Rohdaten'!$B$43:$JM$98,'10 Steuerung'!$G42,'10 Steuerung'!R$11)","v":0},{"$f":"INDEX('10 Rohdaten'!$B$43:$JM$98,'10 Steuerung'!$G42,'10 Steuerung'!S$11)","v":0},{"$f":"INDEX('10 Rohdaten'!$B$43:$JM$98,'10 Steuerung'!$G42,'10 Steuerung'!T$11)","v":0},{"$f":"INDEX('10 Rohdaten'!$B$43:$JM$98,'10 Steuerung'!$G42,'10 Steuerung'!U$11)","v":0},{"$f":"INDEX('10 Rohdaten'!$B$43:$JM$98,'10 Steuerung'!$G42,'10 Steuerung'!V$11)","v":0},{"$f":"INDEX('10 Rohdaten'!$B$43:$JM$98,'10 Steuerung'!$G42,'10 Steuerung'!W$11)","v":0},null,30,"   30.06.2017",30,{"$f":"INDEX('10 Rohdaten'!$B$110:$JM$165,$AA42,AB$12)","v":0},null,{"$f":"INDEX('10 Rohdaten'!$B$110:$JM$165,$AA42,AD$12)","v":0},{"$f":"INDEX('10 Rohdaten'!$B$110:$JM$165,$AA42,AE$12)","v":0},{"$f":"INDEX('10 Rohdaten'!$B$110:$JM$165,$AA42,AF$12)","v":0},{"$f":"INDEX('10 Rohdaten'!$B$110:$JM$165,$AA42,AG$12)","v":0},{"$f":"INDEX('10 Rohdaten'!$B$110:$JM$165,$AA42,AH$12)","v":0},{"$f":"INDEX('10 Rohdaten'!$B$110:$JM$165,$AA42,AI$12)","v":0},{"$f":"INDEX('10 Rohdaten'!$B$110:$JM$165,$AA42,AJ$12)","v":0},{"$f":"INDEX('10 Rohdaten'!$B$110:$JM$165,$AA42,AK$12)","v":0},{"$f":"INDEX('10 Rohdaten'!$B$110:$JM$165,$AA42,AL$12)","v":0},{"$f":"INDEX('10 Rohdaten'!$B$110:$JM$165,$AA42,AM$12)","v":0},{"$f":"INDEX('10 Rohdaten'!$B$110:$JM$165,$AA42,AN$12)","v":0},{"$f":"INDEX('10 Rohdaten'!$B$110:$JM$165,$AA42,AO$12)","v":0},{"$f":"INDEX('10 Rohdaten'!$B$110:$JM$165,$AA42,AP$12)","v":0},{"$f":"INDEX('10 Rohdaten'!$B$110:$JM$165,$AA42,$AQ$11)","v":0},{"$f":"INDEX('10 Rohdaten'!$B$110:$JM$165,$AA42,$AR$11)","v":0}]

{"sheet":"10 Rohdaten","index":28,"n_rows":138,"n_cols":273,"rows_kept":138,"cut":false,"hidden":true,"merged":[[107,86,107,102],[107,103,107,119],[107,188,107,204],[107,205,107,221],[107,222,107,238],[107,239,107,255],[107,256,107,272],[40,256,40,272],[107,1,107,17],[107,18,107,34],[107,35,107,51],[107,52,107,68],[107,69,107,85],[107,120,107,136],[107,137,107,153],[107,154,107,170],[107,171,107,187],[40,154,40,170],[40,171,40,187],[40,188,40,204],[40,1,40,17],[40,205,40,221],[40,222,40,238],[40,239,40,255],[40,18,40,34],[40,35,40,51],[40,52,40,68],[40,69,40,85],[40,120,40,136],[40,137,40,153],[40,86,40,102],[40,103,40,119]]}
[]
[]
[]
[]
[]
[]
[]
[]
[]
[]
[]
[]
[]
[]
[]
[]
[]
[]
[]
[]
[]
[]
[]
[]
[]
[]
[]
[]
[]
[]
[]
[]
[]
[]
[]
[]
["VOR REV"]
[]
[]
[]
[null,"SvB",null,null,null,null,null,null,null,null,null,null,null,null,null,null,null,null,"SvB_Männer",null,null,null,null,null,null,null,null,null,null,null,null,null,null,null,null,"SvB_Frauen",null,null,null,null,null,null,null,null,null,null,null,null,null,null,null,null,"SvB_Deutsche",null,null,null,null,null,null,null,null,null,null,null,null,null,null,null,null,"SvB_Ausländer",null,null,null,null,null,null,null,null,null,null,null,null,null,null,null,null,"SvB_Vollzeit",null,null,null,null,null,null,null,null,null,null,null,null,null,null,null,null,"SvB_Teilzeit",null,null,null,null,null,null,null,null,null,null,null,null,null,null,null,null,"GB",null,null,null,null,null,null,null,null,null,null,null,null,null,null,null,null,"GB_ausschl.",null,null,null,null,null,null,null,null,null,null,null,null,null,null,null,null,"GB_im_NJ",null,null,null,null,null,null,null,null,null,null,null,null,null,null,null,null,"GeB",null,null,null,null,null,null,null,null,null,null,null,null,null,null,null,null,"GeB_ausschl.",null,null,null,null,null,null,null,null,null,null,null,null,null,null,null,null,"GeB_im_NJ",null,null,null,null,null,null,null,null,null,null,null,null,null,null,null,null,"KfB",null,null,null,null,null,null,null,null,null,null,null,null,null,null,null,null,"KfB_ausschl.",null,null,null,null,null,null,null,null,null,null,null,null,null,null,null,null,"KfB_im_NJ"]
["Auswertemonatswert","Deutschland","Schleswig-Holstein,01","Hamburg,02","Niedersachsen,03","Bremen,04","Nordrhein-Westfalen,05","Hessen,06","Rheinland-Pfalz,07","Baden-Württemberg,08","Bayern,09","Saarland,10","Berlin,11","Brandenburg,12","Mecklenburg-Vorpommern,13","Sachsen,14","Sachsen-Anhalt,15","Thüringen,16","Deutschland","Schleswig-Holstein,01","Hamburg,02","Niedersachsen,03","Bremen,04","Nordrhein-Westfalen,05","Hessen,06","Rheinland-Pfalz,07","Baden-Württemberg,08","Bayern,09","Saarland,10","Berlin,11","Brandenburg,12","Mecklenburg-Vorpommern,13","Sachsen,14","Sachsen-Anhalt,15","Thüringen,16","Deutschland","Schleswig-Holstein,01","Hamburg,02","Niedersachsen,03","Bremen,04","Nordrhein-Westfalen,05","Hessen,06","Rheinland-Pfalz,07","Baden-Württemberg,08","Bayern,09","Saarland,10","Berlin,11","Brandenburg,12","Mecklenburg-Vorpommern,13","Sachsen,14","Sachsen-Anhalt,15","Thüringen,16","Deutschland","Schleswig-Holstein,01","Hamburg,02","Niedersachsen,03","Bremen,04","Nordrhein-Westfalen,05","Hessen,06","Rheinland-Pfalz,07","Baden-Württemberg,08","Bayern,09","Saarland,10","Berlin,11","Brandenburg,12","Mecklenburg-Vorpommern,13","Sachsen,14","Sachsen-Anhalt,15","Thüringen,16","Deutschland","Schleswig-Holstein,01","Hamburg,02","Niedersachsen,03","Bremen,04","Nordrhein-Westfalen,05","Hessen,06","Rheinland-Pfalz,07","Baden-Württemberg,08","Bayern,09","Saarland,10","Berlin,11","Brandenburg,12","Mecklenburg-Vorpommern,13","Sachsen,14","Sachsen-Anhalt,15","Thüringen,16","Deutschland","Schleswig-Holstein,01","Hamburg,02","Niedersachsen,03","Bremen,04","Nordrhein-Westfalen,05","Hessen,06","Rheinland-Pfalz,07","Baden-Württemberg,08","Bayern,09","Saarland,10","Berlin,11","Brandenburg,12","Mecklenburg-Vorpommern,13","Sachsen,14","Sachsen-Anhalt,15","Thüringen,16","Deutschland","Schleswig-Holstein,01","Hamburg,02","Niedersachsen,03","Bremen,04","Nordrhein-Westfalen,05","Hessen,06","Rheinland-Pfalz,07","Baden-Württemberg,08","Bayern,09","Saarland,10","Berlin,11","Brandenburg,12","Mecklenburg-Vorpommern,13","Sachsen,14","Sachsen-Anhalt,15","Thüringen,16","Deutschland","Schleswig-Holstein,01","Hamburg,02","Niedersachsen,03","Bremen,04","Nordrhein-Westfalen,05","Hessen,06","Rheinland-Pfalz,07","Baden-Württemberg,08","Bayern,09","Saarland,10","Berlin,11","Brandenburg,12","Mecklenburg-Vorpommern,13","Sachsen,14","Sachsen-Anhalt,15","Thüringen,16","Deutschland","Schleswig-Holstein,01","Hamburg,02","Niedersachsen,03","Bremen,04","Nordrhein-Westfalen,05","Hessen,06","Rheinland-Pfalz,07","Baden-Württemberg,08","Bayern,09","Saarland,10","Berlin,11","Brandenburg,12","Mecklenburg-Vorpommern,13","Sachsen,14","Sachsen-Anhalt,15","Thüringen,16","Deutschland","Schleswig-Holstein,01","Hamburg,02","Niedersachsen,03","Bremen,04","Nordrhein-Westfalen,05","Hessen,06","Rheinland-Pfalz,07","Baden-Württemberg,08","Bayern,09","Saarland,10","Berlin,11","Brandenburg,12","Mecklenburg-Vorpommern,13","Sachsen,14","Sachsen-Anhalt,15","Thüringen,16","Deutschland","Schleswig-Holstein,01","Hamburg,02","Niedersachsen,03","Bremen,04","Nordrhein-Westfalen,05","Hessen,06","Rheinland-Pfalz,07","Baden-Württemberg,08","Bayern,09","Saarland,10","Berlin,11","Brandenburg,12","Mecklenburg-Vorpommern,13","Sachsen,14","Sachsen-Anhalt,15","Thüringen,16","Deutschland","Schleswig-Holstein,01","Hamburg,02","Niedersachsen,03","Bremen,04","Nordrhein-Westfalen,05","Hessen,06","Rheinland-Pfalz,07","Baden-Württemberg,08","Bayern,09","Saarland,10","Berlin,11","Brandenburg,12","Mecklenburg-Vorpommern,13","Sachsen,14","Sachsen-Anhalt,15","Thüringen,16","Deutschland","Schleswig-Holstein,01","Hamburg,02","Niedersachsen,03","Bremen,04","Nordrhein-Westfalen,05","Hessen,06","Rheinland-Pfalz,07","Baden-Württemberg,08","Bayern,09","Saarland,10","Berlin,11","Brandenburg,12","Mecklenburg-Vorpommern,13","Sachsen,14","Sachsen-Anhalt,15","Thüringen,16","Deutschland","Schleswig-Holstein,01","Hamburg,02","Niedersachsen,03","Bremen,04","Nordrhein-Westfalen,05","Hessen,06","Rheinland-Pfalz,07","Baden-Württemberg,08","Bayern,09","Saarland,10","Berlin,11","Brandenburg,12","Mecklenburg-Vorpommern,13","Sachsen,14","Sachsen-Anhalt,15","Thüringen,16","Deutschland","Schleswig-Holstein,01","Hamburg,02","Niedersachsen,03","Bremen,04","Nordrhein-Westfalen,05","Hessen,06","Rheinland-Pfalz,07","Baden-Württemberg,08","Bayern,09","Saarland,10","Berlin,11","Brandenburg,12","Mecklenburg-Vorpommern,13","Sachsen,14","Sachsen-Anhalt,15","Thüringen,16","Deutschland","Schleswig-Holstein,01","Hamburg,02","Niedersachsen,03","Bremen,04","Nordrhein-Westfalen,05","Hessen,06","Rheinland-Pfalz,07","Baden-Württemberg,08","Bayern,09","Saarland,10","Berlin,11","Brandenburg,12","Mecklenburg-Vorpommern,13","Sachsen,14","Sachsen-Anhalt,15","Thüringen,16"]
["6 Monatswert - März 2010",27658116,822560,818750,2455946,286569,5847843,2189934,1217690,3875889,4529996,351734,1119883,745695,513832,1396382,748657,732676,14888960,430142,439067,1342485,160724,3253051,1197634,657331,2141237,2458781,198285,540377,379053,246746,696332,372657,372800,12769156,392418,379683,1113461,125845,2594792,992300,560359,1734652,2071215,153449,579506,366642,267086,700050,376000,359876,25820453,793359,752603,2352087,269043,5410587,1977985,1144504,3479665,4178964,322498,1043127,734842,509179,1381143,741217,725800,1821572,28842,65337,102491,17336,432992,210333,72637,393863,348966,29111,75194,10605,4593,14978,7263,6808,21524281,618199,647906,1882155,219899,4607574,1693748,931943,3070820,3533557,277450,844295,578808,394703,1067570,578047,576590,5776878,189508,165066,540268,63025,1154230,473615,269026,765824,951810,69963,263508,152353,109450,308727,156494,143746,7237214,247979,156295,719048,70480,1761172,554438,378989,1120321,1205696,95819,205113,135255,89749,251703,116671,125591,5242841,181087,104978,538995,51356,1314521,391390,274531,753969,813469,72461,157388,110552,73964,205678,96582,99847,1994373,66892,51317,180053,19124,446651,163048,104458,366352,392227,23358,47725,24703,15785,46025,20089,25744,6957544,242445,154612,697463,67565,1709108,537604,358629,1071086,1155843,94406,195648,127439,83599,230231,111298,117743,4994391,176158,103649,520014,48639,1267705,376394,256932,709573,769795,71212,148806,103248,68411,186644,91778,93420,1963153,66287,50963,177449,18926,441403,161210,101697,361513,386048,23194,46842,24191,15188,43587,19520,24323,279670,5534,1683,21585,2915,52064,16834,20360,49235,49853,1413,9465,7816,6150,21472,5373,7848,248450,4929,1329,18981,2717,46816,14996,17599,44396,43674,1249,8582,7304,5553,19034,4804,6427,31220,605,354,2604,198,5248,1838,2761,4839,6179,164,883,512,597,2438,569,1421]
["6 Monatswert - Juni 2010",27966601,835858,821266,2478845,286321,5881559,2200909,1230038,3912719,4601409,354220,1127702,761922,533974,1424935,761308,749560,15149301,440211,441766,1364674,161191,3286249,1209434,668366,2168350,2514449,200900,547685,391998,258988,721142,384166,387495,12817300,395647,379500,1114171,125130,2595310,991475,561672,1744369,2086960,153320,580017,369924,274986,703793,377142,362065,26071443,805168,754223,2370580,268480,5434575,1984720,1152591,3505288,4235915,324219,1048721,750260,528598,1408751,753435,742042,1878869,30310,66215,106908,17659,442717,214559,76886,405050,363415,29872,77328,11390,5306,15935,7703,7446,21773598,628843,649455,1900793,219396,4631378,1699935,941776,3099761,3593939,279258,849411,592599,412063,1092865,589209,591883,5840557,192362,166140,545053,63418,1165630,478830,271914,774042,963031,70734,266367,154946,112320,312093,158079,145346,7450194,259149,159634,747936,70606,1802901,568007,392250,1157010,1242760,98154,210572,140751,92324,257005,119787,128683,5389151,188940,107465,561619,51579,1345113,401456,284331,778215,833883,74145,161824,114481,75127,208553,98771,101814,2061043,70209,52169,186317,19027,457788,166551,107919,378795,408877,24009,48748,26270,17197,48452,21016,26869,7102584,249962,157479,714775,67427,1740079,548521,367400,1098150,1179181,95984,201367,130363,84696,232605,113160,118791,5078734,180631,105694,531408,48619,1289052,384029,262533,724644,778558,72222,153571,104852,68159,186760,92801,93379,2023850,69331,51785,183367,18808,451027,164492,104867,373506,400623,23762,47796,25511,16537,45845,20359,25412,347610,9187,2155,33161,3179,62822,19486,24850,58860,63579,2170,9205,10388,7628,24400,6627,9892,310417,8309,1771,30211,2960,56061,17427,21798,53571,55325,1923,8253,9629,6968,21793,5970,8435,37193,878,384,2950,219,6761,2059,3052,5289,8254,247,952,759,660,2607,657,1457]
["6 Monatswert - September 2010",28505122,853844,835006,2541407,292440,6001509,2240041,1258734,3974652,4686863,362134,1149192,774702,539573,1449925,776472,765196,15463399,450765,449029,1399075,164556,3356212,1232170,684394,2204692,2564515,205160,560191,400516,262647,736809,393971,396881,13041723,403079,385977,1142332,127884,2645297,1007871,574340,1769960,2122348,156974,589001,374186,276926,713116,382501,368315,26555273,822179,766114,2429223,273987,5541350,2018123,1178644,3557473,4311278,331123,1067538,762576,534145,1432980,768164,757164,1933578,31286,68072,110853,18270,455883,220225,79542,414899,373517,30863,79971,11848,5359,16687,8135,7954,22236577,644537,661350,1953907,224522,4735176,1735107,966627,3152207,3667119,286041,866587,602857,416548,1116832,601346,604870,5906236,194185,167724,553580,64197,1178728,481901,275073,782560,974189,71688,270242,157342,113240,312440,160903,147814,7424683,261113,159429,739296,69777,1799587,562528,394309,1161537,1249159,98041,203102,137878,90782,251621,118536,124915,5284676,188380,105953,544657,50055,1324018,390325,281224,767717,824707,73241,153933,110701,72876,201268,96623,96877,2140007,72733,53476,194639,19722,475569,172203,113085,393820,424452,24800,49169,27177,17906,50353,21913,28038,7091408,250886,156981,711634,66913,1742478,544383,369943,1097387,1182349,96243,199269,128537,84094,229109,112269,115969,4997829,179450,103981,521156,47419,1274450,374469,260571,710975,769737,71639,150609,102132,66966,181651,91113,89472,2093579,71436,53000,190478,19494,468028,169914,109372,386412,412612,24604,48660,26405,17128,47458,21156,26497,333275,10227,2448,27662,2864,57109,18145,24366,64150,66810,1798,3833,9341,6688,22512,6267,8946,286847,8930,1972,23501,2636,49568,15856,20653,56742,54970,1602,3324,8569,5910,19617,5510,7405,46428,1297,476,4161,228,7541,2289,3713,7408,11840,196,509,772,778,2895,757,1541]
["6 Monatswert - Dezember 2010",28291928,840813,834378,2517799,292254,5985208,2233831,1244444,3959026,4639498,360756,1147842,762236,521367,1433161,763450,753102,15254325,441551,447071,1377788,164164,3330988,1222605,671419,2187210,2517817,202801,556161,390038,251459,722337,383234,386079,13037603,399262,387307,1140011,128090,2654220,1011226,573025,1771816,2121681,157955,591681,372198,269908,710824,380216,367023,26380767,811186,765986,2410961,273809,5533276,2013991,1169199,3546077,4272185,330214,1066700,750463,516437,1416748,755459,745454,1895645,29252,67587,105592,18271,447829,218171,74733,410807,365359,30406,79529,11510,4868,16171,7851,7575,21945518,629823,657046,1922666,223531,4698396,1720102,949870,3122482,3606655,283569,860718,589539,400058,1100288,586716,592842,5983960,195817,171302,561195,65024,1198351,490739,277516,796546,987457,72756,274638,158165,111516,312357,162496,147783,7391102,257822,160780,732767,70815,1798183,564938,385728,1156982,1238739,97901,204083,136514,91415,250349,117075,125052,5265313,186850,106957,540126,50955,1324671,392273,275088,762832,819374,72973,154604,109903,74418,200273,95574,97020,2125789,70972,53823,192641,19860,473512,172665,110640,394150,419365,24928,49479,26611,16997,50076,21501,28032,7133342,249211,158724,713902,68109,1751610,549107,368720,1108846,1190552,96515,200780,129206,85689,230915,112233,117290,5043089,179256,105349,524514,48428,1283917,378578,261003,720191,778715,71744,151824,103135,69385,183517,91440,90691,2090253,69955,53375,189388,19681,467693,170529,107717,388655,411837,24771,48956,26071,16304,47398,20793,26599,257760,8611,2056,18865,2706,46573,15831,17008,48136,48187,1386,3303,7308,5726,19434,4842,7762,222224,7594,1608,15612,2527,40754,13695,14085,42641,40659,1229,2780,6768,5033,16756,4134,6329,35536,1017,448,3253,179,5819,2136,2923,5495,7528,157,523,540,693,2678,708,1433]
["6 Monatswert - März 2011",28331314,839985,833566,2527370,291677,5990575,2235906,1250138,3968542,4671115,361305,1145207,758181,518377,1427361,758731,751124,15296486,440801,446866,1385892,164017,3336671,1224793,676472,2193535,2541725,203497,553619,388145,250412,721457,381348,386026,13034828,399184,386700,1141478,127660,2653904,1011113,573666,1775007,2129390,157808,591588,370036,267965,705904,377383,365098,26382473,809366,764807,2415968,273291,5530658,2013017,1172691,3549925,4293736,330175,1063398,746096,513296,1410328,750559,743182,1932844,30245,67851,110146,18196,455686,221259,76918,416378,375432,30997,80090,11804,5020,16747,8046,7863,null,null,null,null,null,null,null,null,null,null,null,null,null,null,null,null,null,null,null,null,null,null,null,null,null,null,null,null,null,null,null,null,null,null,7337126,254103,158430,729995,70180,1790195,559903,386193,1147462,1228098,97008,202642,135279,90182,246282,115624,123196,5222437,184233,105415,538029,50525,1317892,388359,275935,754036,808631,72202,153855,109395,73848,198062,94645,95727,2114689,69870,53015,191966,19655,472303,171544,110258,393426,419467,24806,48787,25884,16334,48220,20979,27469,7076245,246837,156466,710605,67618,1742869,543244,366104,1099410,1180086,95597,199054,127342,84340,227888,110820,115629,4992360,177696,103871,521311,48112,1275980,373393,258612,710750,766905,70958,150635,101997,68593,181960,90462,89491,2083885,69141,52595,189294,19506,466889,169851,107492,388660,413181,24639,48419,25345,15747,45928,20358,26138,260881,7266,1964,19390,2562,47326,16659,20089,48052,48012,1411,3588,7937,5842,18394,4804,7567,230077,6537,1544,16718,2413,41912,14966,17323,43286,41726,1244,3220,7398,5255,16102,4183,6236,30804,729,420,2672,149,5414,1693,2766,4766,6286,167,368,539,587,2292,621,1331]
["6 Monatswert - Juni 2011",28643583,853976,836672,2557759,293122,6030050,2248964,1260787,4004944,4737164,363065,1157088,774226,537752,1451237,771172,763244,15531430,450224,449994,1409467,165432,3369370,1236912,685499,2217616,2590291,205472,562411,399954,261055,739914,391070,395437,13112153,403752,386678,1148292,127690,2660680,1012052,575288,1787328,2146873,157593,594677,374272,276697,711323,380102,367807,26608019,820661,765900,2438740,273995,5555205,2018938,1177717,3572941,4337757,331207,1071857,760702,531483,1432501,762077,754187,2019039,32915,69832,117696,18942,470438,228375,82542,429758,397396,31728,83420,13228,6206,18431,8967,8959,null,null,null,null,null,null,null,null,null,null,null,null,null,null,null,null,null,null,null,null,null,null,null,null,null,null,null,null,null,null,null,null,null,null,7536790,263913,160783,759341,70118,1821519,577127,401257,1181868,1266453,99459,205647,141806,92984,249114,117548,125298,5367231,190686,107367,561928,50525,1342067,402237,287425,778982,833094,74263,156427,114154,75093,198755,95716,96780,2169559,73227,53416,197413,19593,479452,174890,113832,402886,433359,25196,49220,27652,17891,50359,21832,28518,7198104,254199,158533,725594,67273,1762821,555499,375526,1122540,1202579,96804,200840,130443,85090,229636,111379,116819,5065623,181864,105560,531417,47836,1289889,382758,264888,725153,777693,71798,152109,103473,67899,181595,90286,89692,2132481,72335,52973,194177,19437,472932,172741,110638,397387,424886,25006,48731,26970,17191,48041,21093,27127,338686,9714,2250,33747,2845,58698,21628,25731,59328,63874,2655,4807,11363,7894,19478,6169,8479,301608,8822,1807,30511,2689,52178,19479,22537,53829,55401,2465,4318,10681,7194,17160,5430,7088,37078,892,443,3236,156,6520,2149,3194,5499,8473,190,489,682,700,2318,739,1391]
["6 Monatswert - September 2011",29216870,873435,854758,2624783,300681,6149276,2296468,1289837,4073345,4831224,371465,1182668,785867,544222,1475840,783029,776526,15859845,460795,459972,1447380,169787,3437833,1262794,701063,2257682,2644518,210049,576719,407698,265503,754790,398306,403229,13357025,412640,394786,1177403,130894,2711443,1033674,588774,1815663,2186706,161416,605949,378169,278719,721050,384723,373297,27100469,839126,781277,2499185,280605,5658841,2057839,1202551,3627038,4414947,338606,1093236,771125,537732,1455552,773074,766660,2099594,33891,72537,124220,19896,485942,236912,86752,444012,414225,32735,87635,14455,6429,20015,9816,9753,null,null,null,null,null,null,null,null,null,null,null,null,null,null,null,null,null,null,null,null,null,null,null,null,null,null,null,null,null,null,null,null,null,null,7521172,260075,162672,751437,69752,1814204,574573,401446,1189348,1272654,98759,204998,138730,91188,247872,116070,124151,5261894,184018,107214,543571,49378,1316917,392461,282240,769748,821807,72701,154252,109809,72512,195494,93266,94389,2259278,76057,55458,207866,20374,497287,182112,119206,419600,450847,26058,50746,28921,18676,52378,22804,29762,7191873,254586,159517,722982,66978,1759416,555505,375805,1121721,1206246,96806,200373,129675,84618,227625,110499,116365,4980556,179395,104570,519589,46830,1269595,375862,260722,710536,767643,70974,150167,101560,66736,177826,88481,88010,2211317,75191,54947,203393,20148,489821,179643,115083,411185,438603,25832,50206,28115,17882,49799,22018,28355,329299,5489,3155,28455,2774,54788,19068,25641,67627,66408,1953,4625,9055,6570,20247,5571,7786,281338,4623,2644,23982,2548,47322,16599,21518,59212,54164,1727,4085,8249,5776,17668,4785,6379,47961,866,511,4473,226,7466,2469,4123,8415,12244,226,540,806,794,2579,786,1407]
["6 Monatswert - Dezember 2011",29046131,861220,854139,2603591,299448,6132807,2290591,1276999,4070141,4795733,369648,1183649,776293,528650,1462864,772480,765897,15675111,452278,458138,1428402,168324,3410310,1253333,689007,2246467,2605667,207542,574248,398991,256383,741926,389130,393918,13371020,408942,396001,1175189,131124,2722497,1037258,587992,1823674,2190066,162106,609401,377302,272267,720938,383350,371979,26961282,828995,780883,2482482,279645,5649290,2053909,1194628,3626916,4385637,337544,1093521,761384,522586,1442992,762591,756459,2068811,31815,72321,119835,19636,479333,235023,81850,441019,408109,31978,88356,14619,6008,19648,9764,9339,null,null,null,null,null,null,null,null,null,null,null,null,null,null,null,null,null,null,null,null,null,null,null,null,null,null,null,null,null,null,null,null,null,null,7471382,256982,164953,740517,70838,1812530,576848,390868,1177417,1261640,98571,205251,137057,90057,246962,115065,124201,5229538,182495,109047,535578,50355,1317677,394447,274753,759774,815007,72488,154495,108495,72376,194548,92439,94422,2241844,74487,55906,204939,20483,494853,182401,116115,417643,446633,26083,50756,28562,17681,52414,22626,29779,7227541,252777,161981,721986,68233,1766191,560344,374202,1130642,1215775,97423,201253,130107,85687,231383,110885,117069,5021228,178907,106535,520428,47916,1277536,380215,261065,718711,776831,71475,150997,102129,68526,181176,88945,88710,2206313,73870,55446,201558,20317,488655,180129,113137,411931,438944,25948,50256,27978,17161,50207,21940,28359,243841,4205,2972,18531,2605,46339,16504,16666,46775,45865,1148,3998,6950,4370,15579,4180,7132,208310,3588,2512,15150,2439,40141,14232,13688,41063,38176,1013,3498,6366,3850,13372,3494,5712,35531,617,460,3381,166,6198,2272,2978,5712,7689,135,500,584,520,2207,686,1420]
["6 Monatswert - März 2012",29082009,863461,856124,2612538,298854,6124651,2292653,1279350,4089158,4818646,369782,1188097,772041,526245,1457296,766840,764600,15688092,452708,458840,1432642,168280,3402081,1253415,690922,2255501,2621044,207580,576102,396297,254737,737985,385844,393189,13393917,410753,397284,1179896,130574,2722570,1039238,588428,1833657,2197602,162202,611995,375744,271508,719311,380996,371411,26947937,829798,781926,2485720,278805,5633349,2052503,1193786,3638849,4394626,337279,1096000,756293,519971,1436451,756587,754514,2117880,33230,73241,125600,19888,487015,238481,85024,448104,422019,32377,90330,15456,6215,20596,10123,9992,null,null,null,null,null,null,null,null,null,null,null,null,null,null,null,null,null,null,null,null,null,null,null,null,null,null,null,null,null,null,null,null,null,null,7346268,253141,162140,729583,69929,1781090,565680,388244,1158751,1242246,97026,202132,133479,86082,241449,112069,120584,5146417,180007,106995,528744,49761,1297395,387433,273873,746934,801046,71508,152165,106180,69202,190877,90512,91942,2199851,73134,55145,200839,20168,483695,178247,114371,411817,441200,25518,49967,27299,16880,50572,21557,28642,7103632,249109,159356,709991,67256,1735162,549464,368841,1112274,1197507,95833,197703,126314,83565,226476,108118,114041,4935125,176454,104608,512030,47274,1256852,373080,257527,705625,762923,70458,148333,99513,67024,177838,87148,86613,2168507,72655,54748,197961,19982,478310,176384,111314,406649,434584,25375,49370,26801,16541,48638,20970,27428,242636,4032,2784,19592,2673,45928,16216,19403,46477,44739,1193,4429,7165,2517,14973,3951,6543,211292,3553,2387,16714,2487,40543,14353,16346,41309,38123,1050,3832,6667,2178,13039,3364,5329,31344,479,397,2878,186,5385,1863,3057,5168,6616,143,597,498,339,1934,587,1214]
["6 Monatswert - Juni 2012",29280034,872522,858323,2633021,299273,6134120,2295707,1285121,4112265,4870334,369297,1199070,784182,542464,1474934,773472,773735,15838217,458615,461009,1447585,168936,3413045,1258087,696203,2269983,2659222,207905,583881,405123,263631,752019,391143,400679,13441817,413907,397314,1185436,130337,2721075,1037620,588918,1842282,2211112,161392,615189,379059,278833,722915,382329,373056,27070222,836684,782680,2499657,278792,5632819,2050330,1194622,3649228,4425303,336240,1103031,766712,534787,1452347,762716,762385,2193332,35398,74674,132131,20308,496931,243675,89960,460831,442995,32936,94201,17167,7591,22345,10637,11248,null,null,null,null,null,null,null,null,null,null,null,null,null,null,null,null,null,null,null,null,null,null,null,null,null,null,null,null,null,null,null,null,null,null,7591384,266533,166482,760911,69653,1828871,580476,403772,1198268,1286092,99467,205959,141992,93306,247558,115058,124478,5321600,189625,110045,552504,49661,1332698,398518,285403,776042,828132,73276,154887,112976,74784,194419,92445,94450,2269784,76908,56437,208407,19992,496173,181958,118369,422226,457960,26191,51072,29016,18522,53139,22613,30028,7263297,257235,163096,728355,67351,1768161,561867,378519,1140092,1226024,97332,201021,130013,84977,230359,110063,116419,5032466,181204,107165,523287,47522,1279392,382006,263617,723749,776918,71374,150427,101721,67085,179362,88145,87834,2230831,76031,55931,205068,19829,488769,179861,114902,416343,449106,25958,50594,28292,17892,50997,21918,28585,328087,9298,3386,32556,2302,60710,18609,25253,58176,60068,2135,4938,11979,8329,17199,4995,8059,289134,8421,2880,29217,2139,53306,16512,21786,52293,51214,1902,4460,11255,7699,15057,4300,6616,38953,877,506,3339,163,7404,2097,3467,5883,8854,233,478,724,630,2142,695,1443]
["6 Monatswert - September 2012",29753856,889412,873389,2684943,304116,6237153,2332303,1309643,4173027,4950588,375149,1221484,793784,548685,1494286,781772,782571,16097690,467457,468961,1477135,171496,3468318,1277300,708695,2303771,2703924,210987,596189,411542,267125,762436,396055,405469,13656166,421955,404428,1207808,132620,2768835,1055003,600948,1869256,2246664,164162,625295,382242,281560,731850,385717,377102,27471735,852294,795612,2546613,283110,5721990,2079469,1216615,3697749,4489022,341311,1120593,774445,540701,1470348,770345,770174,2264721,36661,76762,137081,20820,510528,251105,92468,472988,459383,33717,98843,19027,7895,23666,11288,12288,null,null,null,null,null,null,null,null,null,null,null,null,null,null,null,null,null,null,null,null,null,null,null,null,null,null,null,null,null,null,null,null,null,null,7582289,263604,166778,757170,70698,1823552,579618,404543,1198440,1293773,99459,206049,137659,91571,247880,115462,123399,5218880,183534,108292,537655,49465,1307007,390742,280454,760305,820078,72206,152612,107249,71711,191911,91633,92224,2363409,80070,58486,219515,21233,516545,188876,124089,438135,473695,27253,53437,30410,19860,55969,23829,31175,7272951,258126,163176,729939,68324,1768826,562561,380732,1136593,1232305,97941,201322,129157,84973,230315,110277,115882,4957773,178884,105303,514986,47319,1260440,376099,260870,706843,770377,70843,148476,99646,65966,176649,87255,86117,2315178,79242,57873,214953,21005,508386,186462,119862,429750,461928,27098,52846,29511,19007,53666,23022,29765,309338,5478,3602,27231,2374,54726,17057,23811,61847,61468,1518,4727,8502,6598,17565,5185,7517,261107,4650,2989,22669,2146,46567,14643,19584,53462,49701,1363,4136,7603,5745,15262,4378,6107,48231,828,613,4562,228,8159,2414,4227,8385,11767,155,591,899,853,2303,807,1410]
["6 Monatswert - Dezember 2012",29527929,876039,873690,2659676,303110,6211958,2321270,1296294,4159918,4902759,371289,1221263,780658,530919,1479133,768498,769876,15864737,457476,467228,1453638,170216,3434682,1264149,695861,2285449,2654655,206948,591939,400156,255721,747232,384278,394212,13663192,418563,406462,1206038,132894,2777276,1057121,600433,1874469,2248104,164341,629324,380502,275198,731901,384220,375664,27290987,840834,796012,2526809,282444,5706132,2071424,1208057,3692042,4451057,338661,1119645,761447,523736,1455296,757789,758248,2219193,34780,76646,131655,20474,501119,248058,87662,465469,449392,32508,99548,18908,7095,23554,10576,11526,21850946,620396,655884,1939164,220523,4645064,1711520,943785,3148670,3662365,278616,858329,566862,384361,1080576,557339,576365,7304988,239949,212067,686486,78756,1476032,586028,334342,967595,1192849,87897,351276,199621,136361,377532,197068,180734,7571732,261947,169670,749904,71468,1828105,581975,396251,1191721,1288785,99646,209860,136742,92968,250576,115446,125181,5214895,183171,110225,532612,50118,1310745,392263,273884,754310,818977,72419,155273,106659,73820,194040,91785,93595,2356837,78776,59445,217292,21350,517360,189712,122367,437411,469808,27227,54587,30083,19148,56536,23661,31586,7338979,257389,166533,732887,69244,1781352,568114,380333,1149023,1244781,98524,205275,130157,87563,236055,111791,118503,5017797,179306,107577,518835,48081,1270624,380381,261009,717372,782702,71437,151314,100638,69076,181522,88727,88226,2321182,78083,58956,214052,21163,510728,187733,119324,431651,462079,27087,53961,29519,18487,54533,23064,30277,232753,4558,3137,17017,2224,46753,13861,15918,42698,44004,1122,4585,6585,5405,14521,3655,6678,197098,3865,2648,13777,2037,40121,11882,12875,36938,36275,982,3959,6021,4744,12518,3058,5369,35655,693,489,3240,187,6632,1979,3043,5760,7729,140,626,564,661,2003,597,1309]
["6 Monatswert - März 2013",29422803,874925,871997,2655553,301403,6182046,2309365,1291457,4152400,4904455,368821,1220215,773193,527206,1463963,760442,764377,15794647,456309,465290,1450191,169263,3414146,1256633,693265,2280194,2656710,205748,591152,395270,252959,737171,379111,390667,13628156,418616,406707,1205362,132140,2767900,1052732,598192,1872206,2247745,163073,629063,377923,274247,726792,381331,373710,27147959,838194,793820,2517533,280629,5671444,2056964,1200523,3678799,4441695,335771,1117106,753742,519749,1439668,749260,752277,2257050,36292,77156,136823,20592,505762,250665,90334,471228,460447,32928,101096,19149,7362,23985,11042,11993,21734387,618037,653768,1933439,218962,4615268,1699421,938548,3138969,3659053,276712,855184,559965,380813,1066481,548048,571075,7328233,241577,212738,688437,78673,1478263,587061,335438,971696,1200248,87484,353933,199419,136387,377106,198620,180814,7492943,257381,166872,741804,70674,1809570,574474,397528,1179141,1275456,97956,208837,136307,91412,246421,113875,122614,5178003,180148,108639,527782,49616,1303167,388799,277395,749145,811357,71362,154545,106774,72830,191565,90927,92110,2314940,77233,58233,214022,21058,506403,185675,120133,429996,464099,26594,54292,29533,18582,54856,22948,30504,7253970,253295,164057,725298,68759,1761322,560378,377105,1134271,1231572,96644,204033,129736,85892,232530,110325,116168,4969386,176589,106175,513842,47855,1260359,376138,260086,709332,773721,70170,150367,100650,67938,179582,87929,86839,2284584,76706,57882,211456,20904,500963,184240,117019,424939,457851,26474,53666,29086,17954,52948,22396,29329,238973,4086,2815,16506,1915,48248,14096,20423,44870,43884,1312,4804,6571,5520,13891,3550,6446,208617,3559,2464,13940,1761,42808,12661,17309,39813,37636,1192,4178,6124,4892,11983,2998,5271,30356,527,351,2566,154,5440,1435,3114,5057,6248,120,626,447,628,1908,552,1175]
["6 Monatswert - Juni 2013",29615680,882373,873748,2667446,301351,6193381,2314537,1299412,4174238,4952733,369719,1228563,785555,543573,1484471,769251,774028,15965766,462643,467673,1463031,169691,3427796,1263743,700351,2296940,2697351,207146,598189,405257,263313,754806,387541,399535,13649914,419730,406075,1204415,131660,2765585,1050794,599061,1877298,2255382,162573,630374,380298,280260,729665,381710,374493,27257049,842918,794008,2523140,280279,5672146,2054955,1202535,3686097,4467526,335400,1121632,764150,534675,1458116,757523,760872,2340697,39019,78758,143088,20888,516317,257859,96272,485781,482854,34188,104893,21093,8806,26028,11585,13051,21841101,621728,653841,1936710,218209,4614415,1698792,941213,3150449,3694402,276767,857689,568034,392806,1081710,554742,578667,7423906,245747,214721,697593,79555,1492420,593844,341407,983241,1214228,88479,360312,203970,141043,382889,200969,183116,7716104,271557,171969,777050,71546,1852335,587849,412253,1211409,1307922,100305,214643,145541,96520,251199,115903,125429,5345590,191104,112440,556840,50367,1337423,399708,288431,773649,830295,73248,159063,114247,76686,194378,92110,93704,2370514,80453,59529,220210,21179,514912,188141,123822,437760,477627,27057,55580,31294,19834,56821,23793,31725,7398934,261374,168328,744851,69227,1791797,571203,387353,1156192,1253544,98293,209021,132879,87500,235189,111460,118082,5066322,181917,109258,527802,48202,1284114,384894,267083,724333,784353,71503,154106,102236,68279,180407,88322,87645,2332612,79457,59070,217049,21025,507683,186309,120270,431859,469191,26790,54915,30643,19221,54782,23138,30437,317170,10183,3641,32199,2319,60538,16646,24900,55217,54378,2012,5622,12662,9020,16010,4443,7347,279268,9187,3182,29038,2165,53309,14814,21348,49316,45942,1745,4957,12011,8407,13971,3788,6059,37902,996,459,3161,154,7229,1832,3552,5901,8436,267,665,651,613,2039,655,1288]
["6 Monatswert - September 2013",30164885,901026,891750,2730815,307838,6309614,2356232,1324889,4243596,5044710,375363,1251352,796065,552089,1510019,781051,786740,16268423,472194,476805,1497380,173099,3491991,1286738,713917,2335215,2748738,209990,610507,411970,268250,769468,394797,406639,13896462,428832,414945,1233435,134739,2817623,1069494,610972,1908381,2295972,165373,640845,384095,283839,740551,386254,380101,27728422,860462,809817,2580175,285642,5779727,2087971,1224616,3740051,4539102,340226,1140301,773596,542726,1481815,768522,772241,2419849,40156,80972,149531,22017,525079,266704,99712,501546,503486,35018,109142,22196,9279,27903,12403,14405,22279662,635703,666344,1987159,223306,4710960,1732049,961675,3209687,3768566,281393,873339,574838,399700,1099212,565031,589744,7529471,250021,220100,709527,80725,1510455,601789,345767,993671,1231700,89393,367610,207467,142433,390915,202371,184748,7709264,267317,172355,771591,71880,1846255,590041,412203,1214341,1321762,100323,214262,138877,93137,251049,116771,124497,5246618,184244,110826,541041,49592,1310234,394465,283010,761083,826695,72475,156933,106603,72349,191762,91848,91686,2462646,83073,61529,230550,22288,536021,195576,129193,453258,495067,27848,57329,32274,20788,59287,24923,32811,7419925,261853,168820,747227,69843,1794316,574807,389518,1157912,1262791,98730,208891,130655,87146,234719,112242,117933,5002842,179613,107780,520653,47774,1266020,381482,264259,712600,779327,71103,152338,99123,67068,177634,88013,86334,2417083,82240,61040,226574,22069,528296,193325,125259,445312,483464,27627,56553,31532,20078,57085,24229,31599,289339,5464,3535,24364,2037,51939,15234,22685,56429,58971,1593,5371,8222,5991,16330,4529,6564,243776,4631,3046,20388,1818,44214,12983,18751,48483,47368,1372,4595,7480,5281,14128,3835,5352,45563,833,489,3976,219,7725,2251,3934,7946,11603,221,776,742,710,2202,694,1212]
["6 Monatswert - Dezember 2013",29884370,884855,887576,2695755,306550,6272605,2341163,1308095,4225013,4984068,371227,1250649,783453,534134,1496006,767909,774515,16026042,461416,473149,1470688,171803,3454217,1273181,700547,2317496,2695065,205819,607521,401365,256991,756597,383531,396198,13858328,423439,414427,1225067,134747,2818388,1067982,607548,1907517,2289003,165408,643128,382088,277143,739409,384378,378317,27503163,846875,806893,2552197,284541,5752563,2076403,1213505,3728388,4492301,337836,1138375,761961,525593,1467983,756133,760962,2364933,37577,79733,142476,21832,515288,263226,94036,494692,489690,33276,110406,21228,8467,27737,11660,13466,21967023,620860,660691,1951443,220996,4662392,1713256,945637,3183214,3703874,276791,868282,562017,383944,1083894,551943,577304,7564301,248785,221611,710190,81780,1522836,605752,345199,1002076,1236143,89867,371862,207777,140239,392425,202386,185061,7648749,263870,173807,761521,74298,1839601,590480,401595,1200431,1307312,100186,216064,135053,92582,249877,115743,124725,5223480,183258,112293,535650,51538,1310163,396242,275862,753035,821781,72461,158594,103776,72961,191295,91243,92190,2425269,80612,61514,225871,22760,529438,194238,125733,447396,485531,27725,57470,31277,19621,58582,24500,32535,7439689,259243,170547,746591,72680,1797356,578197,387668,1162134,1266952,98981,210496,130189,88650,236849,112566,119003,5047686,179309,109590,523612,50067,1273974,385815,264690,720204,788829,71435,153857,99322,69496,180147,88633,87583,2392003,79934,60957,222979,22613,523382,192382,122978,441930,478123,27546,56639,30867,19154,56702,23933,31420,209060,4627,3260,14930,1618,42245,12283,13927,38297,40360,1205,5568,4864,3932,13028,3177,5722,175794,3949,2703,12038,1471,36189,10427,11172,32831,32952,1026,4737,4454,3465,11148,2610,4607,33266,678,557,2892,147,6056,1856,2755,5466,7408,179,831,410,467,1880,567,1115]
["6 Monatswert - März 2014",29932409,886108,889079,2702034,305695,6266640,2346203,1310407,4235088,5012626,371217,1257542,782890,532943,1493773,764769,773888,16067835,462146,474224,1474098,171103,3450772,1278446,702912,2323891,2717358,205975,611701,401736,256670,756374,383127,396465,13864574,423962,414855,1227936,134592,2815868,1067757,607495,1911197,2295268,165242,645841,381154,276273,737399,381642,377423,27463191,845860,806751,2550169,283235,5734003,2073044,1210151,3722706,4498169,336793,1141307,760355,523909,1464098,752144,759236,2452858,39837,81390,150778,22292,527896,271610,99704,510466,512298,34307,114353,22280,8960,29384,12509,14551,21964319,619813,660935,1952251,219969,4646525,1713410,945234,3185844,3722010,276334,870450,560693,382543,1080972,550134,576226,7619053,251286,222969,715954,81983,1533511,611023,348101,1010032,1247292,90377,376699,208657,140548,393353,201210,185640,7566385,260165,170762,755530,73347,1818481,584909,401442,1187604,1293260,98877,211547,135774,90846,245007,113927,122714,5174050,181099,110158,532206,50993,1298117,393277,277529,745320,811286,71733,155148,104833,71709,188041,90008,91049,2392335,79066,60604,223324,22354,520364,191632,123913,442284,481974,27144,56399,30941,19137,56966,23919,31665,7354094,255938,167900,740142,71673,1775595,571608,384030,1148966,1254273,97570,206799,129350,87653,232469,110654,117306,4989970,177324,107736,518947,49450,1260488,381513,262429,711821,778136,70602,151074,98897,68876,177222,87225,86704,2364124,78614,60164,221195,22223,515107,190095,121601,437145,476137,26968,55725,30453,18777,55247,23429,30602,212291,4227,2862,15388,1674,42886,13301,17412,38638,38987,1307,4748,6424,3193,12538,3273,5408,184080,3775,2422,13259,1543,37629,11764,15100,33499,33150,1131,4074,5936,2833,10819,2783,4345,28211,452,440,2129,131,5257,1537,2312,5139,5837,176,674,488,360,1719,490,1063]
["6 Monatswert - Juni 2014",30174505,897186,892619,2722519,306432,6285556,2360262,1321635,4266461,5065523,372582,1269431,795910,549512,1511618,773615,782209,16240821,469231,476982,1487999,171846,3467368,1289142,710669,2344460,2754730,207546,620554,410365,265954,770223,389666,403101,13933684,427955,415637,1234520,134586,2818188,1071120,610966,1922001,2310793,165036,648877,385545,283558,741395,383949,379108,27594881,853666,807804,2562063,283056,5738833,2077036,1215361,3734323,4523194,337031,1147961,770664,537860,1479358,759715,765865,2563286,43107,83859,159386,23190,541978,281693,105723,530276,540169,35442,119533,24994,11575,31981,13785,16251,22090825,625696,660943,1961907,219722,4645899,1719775,951293,3203933,3756446,276903,874620,568382,393808,1092836,555695,581882,7739729,256664,226666,726943,83014,1555060,618948,353499,1023765,1266255,91240,384601,214136,145988,399550,204639,188411,7811376,274042,175022,791895,73437,1864079,600660,416128,1230931,1337308,100859,215523,141530,95584,249310,117129,125846,5349851,191252,112954,560938,50928,1333078,405084,287971,777114,839252,73232,157623,108997,75083,189933,92149,92799,2461525,82790,62068,230957,22509,531001,195576,128157,453817,498056,27627,57900,32533,20501,59377,24980,33047,7510554,264286,171670,758441,71912,1806017,585135,395169,1177988,1281192,99055,210054,131751,88746,235345,112552,119175,5086521,182500,110123,530700,49517,1282378,391486,269722,730707,791503,71697,152871,99906,68681,177887,88192,87209,2424033,81786,61547,227741,22395,523639,193649,125447,447281,489689,27358,57183,31845,20065,57458,24360,31966,300822,9756,3352,33454,1525,58062,15525,20959,52943,56116,1804,5469,9779,6838,13965,4577,6671,263330,8752,2831,30238,1411,50700,13598,18249,46407,47749,1535,4752,9091,6402,12046,3957,5590,37492,1004,521,3216,114,7362,1927,2710,6536,8367,269,717,688,436,1919,620,1081]
["6 Monatswert - September 2014",30662502,913100,906417,2774142,311850,6401966,2399615,1343425,4331912,5147741,377112,1289343,805432,554905,1531264,782051,790893,16500681,477133,484231,1515817,174644,3528035,1310530,721688,2379545,2797833,209411,631821,416729,269267,781282,394461,407545,14161821,435967,422186,1258325,137206,2873931,1089085,621737,1952367,2349908,167701,657522,388703,285638,749982,387590,383348,27991796,868075,820128,2607008,287269,5844659,2106091,1232927,3781295,4582251,340183,1162059,779001,543105,1496196,767073,773363,2655003,44602,85313,166096,24399,552680,292062,110008,548885,563611,36829,125310,26167,11729,34791,14870,17432,22726755,649274,674110,2029473,226549,4797006,1766341,981787,3286355,3851240,284312,896512,585612,405594,1120715,572644,598438,7857151,260317,231164,738533,84951,1579394,628221,358637,1036654,1288219,92322,391261,216336,146426,406906,206529,190742,7801454,270372,176039,784815,73513,1856086,600249,419205,1236911,1343874,101047,214187,139505,93044,249046,116667,124794,5253449,185021,111881,544447,49997,1305753,398705,285631,767011,829674,72611,154623,105438,71715,187912,90878,90761,2548005,85351,64158,240368,23516,550333,201544,133574,469900,514200,28436,59564,34067,21329,61134,25789,34033,7511554,264816,171958,758223,71880,1804526,584783,397083,1176613,1284975,99188,208943,132190,88835,234518,112121,118912,5012995,180382,108469,522046,48542,1262785,385595,267121,716783,783117,70999,150152,99087,67958,175658,86942,86053,2498559,84434,63489,236177,23338,541741,199188,129962,459830,501858,28189,58791,33103,20877,58860,25179,32859,289900,5556,4081,26592,1633,51560,15466,22122,60298,58899,1859,5244,7315,4209,14528,4546,5882,240454,4639,3412,22401,1455,42968,13110,18510,50228,46557,1612,4471,6351,3757,12254,3936,4708,49446,917,669,4191,178,8592,2356,3612,10070,12342,247,773,964,452,2274,610,1174]
["6 Monatswert - Dezember 2014",30397759,897801,904197,2743605,310098,6368905,2388004,1326241,4311847,5091089,373880,1288362,792702,538536,1515170,768623,777958,16262756,466509,481498,1490361,172885,3491532,1298550,707105,2359996,2744863,205997,628702,406373,259559,767964,383497,396980,14135003,431292,422699,1253244,137213,2877373,1089454,619136,1951851,2346226,167883,659660,386329,278977,747206,385126,380978,27776389,855419,818166,2583260,285481,5818135,2097612,1221686,3769035,4539184,337637,1159820,766534,527815,1480513,754322,761175,2605886,41970,85037,159297,24447,546184,288950,104078,541136,550107,36152,126545,25894,10647,34415,14197,16686,22478154,637384,670317,2000930,224498,4769706,1752510,966703,3263774,3793173,281101,892286,576444,393710,1105941,562269,586946,7904788,259759,233402,741519,85501,1595788,634915,359045,1046494,1296498,92604,395510,215650,144289,407861,205535,190139,7670012,265509,173541,768806,74496,1833329,598148,405036,1203715,1329469,100053,215897,131102,91647,238693,114946,124227,5170108,183143,109767,533994,50997,1290437,397523,275425,743809,824061,72096,156332,99003,71623,180361,89747,90841,2499904,82366,63774,234812,23499,542892,200625,129611,459906,505408,27957,59565,32099,20024,58332,25199,33386,7479335,261134,171390,754626,72861,1793828,585690,393231,1170090,1289370,98887,211041,128100,88171,228458,111777,119321,5012350,179448,108053,522678,49500,1257495,387098,266023,715495,791684,71123,152186,96297,68542,171741,87145,86916,2466985,81686,63337,231948,23361,536333,198592,127208,454595,497686,27764,58855,31803,19629,56717,24632,32405,190677,4375,2151,14180,1635,39501,12458,11805,33625,40099,1166,4856,3002,3476,10235,3169,4906,157758,3695,1714,11316,1497,32942,10425,9402,28314,32377,973,4146,2706,3081,8620,2602,3925,32919,680,437,2864,138,6559,2033,2403,5311,7722,193,710,296,395,1615,567,981]
["6 Monatswert - März 2015",30528297,903636,907747,2762277,310251,6389372,2394229,1332366,4330487,5126757,375412,1298305,793420,540377,1514277,769360,778725,16326861,469142,483608,1498348,172809,3498836,1301379,710615,2369825,2766920,206384,634125,406688,260620,766057,383581,397184,14201436,434494,424139,1263929,137442,2890536,1092850,621751,1960662,2359837,169028,664180,386732,279757,748220,385779,381541,27800089,858252,819252,2590515,285025,5819525,2095220,1221990,3769526,4551918,337512,1164074,765715,528854,1477575,754023,760090,2712443,44973,87506,170706,25081,565160,297584,109914,559188,573074,37804,132146,27411,11444,36443,15200,18534,22472270,637378,670903,2004498,223655,4761879,1748704,966730,3268034,3807784,281140,893781,573055,392703,1097920,558389,584906,8046746,265801,236625,756976,86535,1625654,645103,365325,1061523,1318163,94187,404197,219931,147287,415284,210534,193133,7466038,257516,168397,749800,73081,1786449,581857,399755,1178259,1298544,96756,207971,125486,86930,226559,108208,118160,5017047,176659,105617,520099,49865,1256354,386040,273554,726592,800805,69466,148989,94465,67567,169918,83678,85747,2448991,80857,62780,229701,23216,530095,195817,126201,451667,497739,27290,58982,31021,19363,56641,24530,32413,7249453,253150,166411,731163,71134,1742261,567532,383271,1139230,1255286,95419,202550,121560,83672,217332,104065,113177,4829009,172818,103973,503801,48062,1217544,373436,259057,692685,763997,68286,144436,90893,64643,161927,80281,81596,2420444,80332,62438,227362,23072,524717,194096,124214,446545,491289,27133,58114,30667,19029,55405,23784,31581,216585,4366,1986,18637,1947,44188,14325,16484,39029,43258,1337,5421,3926,3258,9227,4143,4983,188038,3841,1644,16298,1803,38810,12604,14497,33907,36808,1180,4553,3572,2924,7991,3397,4151,28547,525,342,2339,144,5378,1721,1987,5122,6450,157,868,354,334,1236,746,832]
["6 Monatswert - Juni 2015",30771297,914529,912762,2784011,311190,6407112,2408926,1345402,4359864,5184918,377088,1311413,806025,553845,1530094,776293,786098,16504172,476042,487572,1513412,173867,3516183,1312069,718859,2390278,2810330,207617,643218,415027,267792,778679,389183,403059,14267125,438487,425190,1270599,137323,2890929,1096857,626543,1969586,2374588,169471,668195,390998,286053,751415,387110,383039,27925888,865885,821862,2603301,284922,5820266,2099772,1228080,3779596,4580628,338054,1171158,775577,540209,1490125,759534,765473,2829470,48228,89870,179679,26129,582069,307734,116846,578512,602524,38943,138093,30146,13550,39715,16624,20529,22577749,642121,672067,2012471,223753,4757109,1754052,972102,3283065,3844277,281611,897498,579191,399964,1106064,562260,588954,8186415,272045,240534,770926,87400,1648559,654531,373064,1076088,1340025,95413,413669,226522,153588,423121,213822,196571,7704750,271804,172001,781802,72670,1835193,596962,415618,1216005,1340347,98553,212139,132479,92494,233339,110583,120791,5187590,186645,107868,544717,49370,1295095,397083,284725,754234,826348,70618,151572,99427,71625,174243,85009,87655,2517160,85159,64133,237085,23300,540098,199879,130893,461771,513999,27935,60567,33052,20869,59096,25574,33136,7381055,260589,168989,746009,71107,1768499,577077,393102,1161840,1279671,96829,205483,124382,85055,220768,104724,115009,4902198,176539,105366,512458,47953,1235911,379346,264684,706361,774988,69140,145844,91875,64599,163254,80132,82430,2478857,84050,63623,233551,23154,532588,197731,128418,455479,504683,27689,59639,32507,20456,57514,24592,32579,323695,11215,3012,35793,1563,66694,19885,22516,54165,60676,1724,6656,8097,7439,12571,5859,5782,285392,10106,2502,32259,1417,59184,17737,20041,47873,51360,1478,5728,7552,7026,10989,4877,5225,38303,1109,510,3534,146,7510,2148,2475,6292,9316,246,928,545,413,1582,982,557]
["6 Monatswert - September 2015",31330100,935058,928123,2840878,316887,6542420,2450380,1367205,4432392,5281764,382022,1336894,816260,561330,1553010,786438,797322,16817532,487645,495542,1545353,177048,3588498,1335467,730913,2431233,2865189,210334,657851,421688,272503,791923,395821,409577,14512568,447413,432581,1295525,139839,2953922,1114913,636292,2001159,2416575,171688,679043,394572,288827,761087,390617,387745,28370694,883541,835081,2650973,289499,5941137,2129954,1244529,3831012,4649459,341729,1189167,783977,546684,1509660,768355,774535,2943451,51114,91999,188888,27235,596480,319030,122138,599760,630550,40205,145518,31960,14548,43091,17941,22687,23014592,658638,683498,2061257,228786,4865700,1785810,989686,3343333,3920149,286154,914178,585350,405008,1120278,568920,596721,8312413,276315,244554,779277,88083,1675972,664395,377382,1088684,1361299,95836,422594,230777,156211,432557,217427,200460,7661385,267962,172124,771934,71842,1814876,593624,416509,1216071,1343448,98575,213114,129238,90040,229968,109649,120405,5055721,179967,105977,525476,47892,1253240,387220,280385,739756,812296,69915,150062,95021,68273,169651,83264,85994,2605664,87995,66147,246458,23950,561636,206404,136124,476315,531152,28660,63052,34217,21767,60317,26385,34411,7367324,261295,169086,743861,70336,1764447,577009,394423,1156256,1280060,96674,205668,124133,85128,217211,103954,115846,4809507,174249,103441,501690,46562,1210864,373077,261564,688815,762255,68345,143838,90552,63826,158627,78529,81992,2557817,87046,65645,242171,23774,553583,203932,132859,467441,517805,28329,61830,33581,21302,58584,25425,33854,294061,6667,3038,28073,1506,50429,16615,22086,59815,63388,1901,7446,5105,4912,12757,5695,4559,246214,5718,2536,23786,1330,42376,14143,18821,50941,50041,1570,6224,4469,4447,11024,4735,4002,47847,949,502,4287,176,8053,2472,3265,8874,13347,331,1222,636,465,1733,960,557]
["6 Monatswert - Dezember 2015",31144510,924670,928705,2816086,316661,6522916,2447083,1352700,4419049,5234414,378901,1339894,807317,546832,1542495,777294,787287,16643751,480535,495328,1524961,176665,3563320,1329477,718688,2416934,2820813,206879,657632,414522,264200,783032,388211,401368,14500759,444135,433377,1291125,139996,2959596,1117606,634012,2002115,2413601,172022,682262,392795,282632,759463,389083,385919,28209539,875074,834564,2631026,288914,5922948,2126346,1235631,3820606,4612308,339315,1189133,775248,533409,1498559,759555,765226,2919077,49194,93105,184073,27600,595100,319354,116535,596810,620378,39492,148532,31751,13333,43707,17618,21970,22770123,648320,681630,2033552,227657,4828181,1775740,974744,3319287,3864686,282622,912369,576098,393139,1106311,558731,585732,8372129,276271,247019,782286,88990,1694181,671211,377850,1099492,1369510,96250,427433,231129,153612,436055,218506,201452,7579185,263226,172994,759791,71935,1808188,591675,403077,1196164,1326275,97775,214451,127043,88146,228533,108174,119457,5005164,177872,106545,517236,48242,1250291,385631,270470,725616,803829,69382,151025,93597,67662,168313,82342,85361,2574021,85354,66449,242555,23693,557897,206044,132607,470548,522446,28393,63426,33446,20484,60220,25832,34096,7383251,258294,170639,743288,70740,1768269,579402,392243,1160768,1285830,96574,208201,123630,84668,218631,104000,115897,4842886,173649,104632,503828,47180,1216593,375320,261660,695874,771512,68463,145904,90689,64576,160000,79083,82266,2540365,84645,66007,239460,23560,551676,204082,130583,464894,514318,28111,62297,32941,20092,58631,24917,33631,195934,4932,2355,16503,1195,39919,12273,10834,35396,40445,1201,6250,3413,3478,9902,4174,3560,162278,4223,1913,13408,1062,33698,10311,8810,29742,32317,919,5121,2908,3086,8313,3259,3095,33656,709,442,3095,133,6221,1962,2024,5654,8128,282,1129,505,392,1589,915,465]
["6 Monatswert - März 2016",31194562,929450,929278,2818869,317638,6522293,2447507,1353370,4426762,5259577,378149,1350593,807418,547544,1540584,777116,787142,16682741,483086,495781,1525599,177633,3563733,1330437,719896,2422707,2839385,206518,664106,414987,265063,781724,389330,402007,14511821,446364,433497,1293270,140005,2958560,1117070,633474,2004055,2420192,171631,686487,392431,282481,758860,387786,385135,28175580,877437,833360,2625922,289458,5906437,2121225,1232092,3815193,4618181,337562,1194332,774109,533014,1494432,758226,763595,3002823,51619,94847,191933,28040,610990,324864,120701,609922,639666,40489,153950,33019,14426,45897,18748,23449,22763050,649683,681269,2030295,228060,4816474,1772954,973819,3320804,3878189,281178,918670,574449,393009,1101665,557335,584416,8430151,279726,247973,788424,89571,1705476,674464,379480,1105806,1381257,96953,431873,232909,154488,438846,219746,202668,7520914,261635,170955,755202,71002,1792089,586327,404074,1187008,1318650,96910,211847,127740,86661,225237,106526,117238,4966725,176513,104823,514709,47552,1240481,382146,273028,719947,796820,68823,148923,94051,66457,166103,81131,84018,2554189,85122,66132,240493,23450,551608,204181,131046,467061,521830,28087,62924,33689,20204,59134,25395,33220,7308697,256810,168727,737213,69402,1748717,572880,388782,1147552,1275479,95636,206243,123276,83539,216455,102360,113831,4783335,172276,102948,499001,46094,1202223,370311,259521,686139,760682,67801,144114,90121,63653,158537,77790,80938,2525362,84534,65779,238212,23308,546494,202569,129261,461413,514797,27835,62129,33155,19886,57918,24570,32893,212217,4825,2228,17989,1600,43372,13447,15292,39456,43171,1274,5604,4464,3122,8782,4166,3407,183390,4237,1875,15708,1458,38258,11835,13507,33808,36138,1022,4809,3930,2804,7566,3341,3080,28827,588,353,2281,142,5114,1612,1785,5648,7033,252,795,534,318,1216,825,327]
["6 Monatswert - Juni 2016",31373691,939248,932219,2820257,319041,6532721,2457858,1361894,4451187,5308747,378477,1365639,816778,559531,1553509,782541,792509,16829010,489683,497997,1529704,179146,3576886,1339826,726584,2441225,2877312,207188,674896,421601,272468,792431,394108,407135,14544681,449565,434222,1290553,139895,2955835,1118032,635310,2009962,2431435,171289,690743,395177,287063,761078,388433,385374,28227842,883402,833325,2617869,289416,5897625,2120588,1233768,3820095,4637008,336755,1201657,780460,542327,1503516,761933,766834,3129357,55404,97802,201344,29486,630113,335838,127549,629439,670003,41624,161600,36006,17087,49742,20468,25582,22825336,654396,681261,2023642,228544,4807843,1775075,976809,3331613,3907766,280655,924600,578663,399436,1107351,559291,587413,8547630,284833,250937,796519,90493,1724693,682741,385049,1119492,1400908,97813,441009,238079,160074,446131,223236,205066,7756094,275183,174175,792020,71170,1833161,602198,417486,1222120,1357589,98330,217838,134078,93120,233364,110006,122399,5141164,186447,106889,545652,47675,1272081,394583,282736,746390,819989,69948,152822,99115,71538,172106,83919,88028,2614930,88736,67286,246368,23495,561080,207615,134750,475730,537600,28382,65016,34963,21582,61258,26087,34371,7441246,263916,171219,752547,69643,1775394,583421,396785,1169897,1298703,96689,210643,125966,85283,219512,103817,115996,4864378,176258,104379,509885,46290,1221009,377880,264361,700739,770745,68571,146718,91671,64202,159728,78645,82081,2576868,87658,66840,242662,23353,554385,205541,132424,469158,527958,28118,63925,34295,21081,59784,25172,33915,314848,11267,2956,39473,1527,57767,18777,20701,52223,58886,1641,7195,8112,7837,13852,6189,6403,276786,10189,2510,35767,1385,51072,16703,18375,45651,49244,1377,6104,7444,7336,12378,5274,5947,38062,1078,446,3706,142,6695,2074,2326,6572,9642,264,1091,668,501,1474,915,456]
["6 Monatswert - September 2016",32009204,961078,947214,2900580,325122,6673474,2507125,1388005,4532255,5412870,385692,1393848,829429,568185,1579639,796886,805648,17181987,501953,505690,1572581,182344,3653771,1367189,740060,2486437,2936684,211113,691715,429188,277646,806743,403020,414519,14827217,459125,441524,1327999,142778,3019703,1139936,647945,2045818,2476186,174579,702133,400241,290539,772896,393866,391129,28751723,902800,844373,2687232,294932,6012778,2161236,1256198,3887354,4717487,343075,1222486,791133,549467,1526131,775440,777803,3240917,57840,101751,212311,30053,655616,344506,131248,643294,693662,42519,168889,37980,18596,53240,21314,27746,23320035,671595,692549,2084828,233357,4921687,1814026,998044,3398476,3991585,285845,944265,586792,405739,1124157,569282,596235,8688849,289475,254654,815704,91765,1751710,693081,389950,1133746,1421248,99843,449569,242618,162436,455471,227598,209400,7720821,269980,174669,779560,71174,1822416,597930,418273,1225101,1363093,98765,217027,131356,89911,230211,109035,120256,5005490,177840,104870,521014,46647,1238649,383275,277014,733133,806614,69379,150043,95246,67518,166901,81674,84415,2715331,92140,69799,258546,24527,583767,214655,141259,491968,556479,29386,66984,36110,22393,63310,27361,35841,7436341,263572,171449,751397,69625,1773224,582738,398965,1166220,1301372,96947,209924,125875,85145,218527,103624,115736,4769534,172463,102161,497645,45271,1197263,370466,260644,683551,758514,67916,144092,90521,63246,156822,77230,80503,2666807,91109,69288,253752,24354,575961,212272,138321,482669,542858,29031,65832,35354,21899,61705,26394,35233,284480,6408,3220,28163,1549,49192,15192,19308,58881,61721,1818,7103,5481,4766,11684,5411,4520,235956,5377,2709,23369,1376,41386,12809,16370,49582,48100,1463,5951,4725,4272,10079,4444,3912,48524,1031,511,4794,173,7806,2383,2938,9299,13621,355,1152,756,494,1605,967,608]
["6 Monatswert - Dezember 2016",31848915,951180,948050,2875444,323286,6660414,2502202,1376599,4523669,5374631,382776,1397474,824252,554480,1568916,787561,796854,17031298,495329,505396,1552650,180841,3634619,1360178,730536,2475790,2898968,208064,692666,423811,269843,798680,395856,407371,14817617,455851,442654,1322794,142445,3025795,1142024,646063,2047879,2475663,174712,704808,400441,284637,770236,391705,389483,28604955,894887,843652,2666807,293280,5998242,2155651,1248600,3879881,4687274,341356,1221832,785453,536667,1515081,766283,769188,3227489,55856,103318,207631,29874,657074,345182,127441,642212,685652,41327,173185,38468,17697,53564,21141,27566,23104832,662038,689942,2057060,231175,4890533,1803060,985387,3379045,3943787,282451,944135,580818,394899,1111887,560489,587372,8743982,289141,258106,818364,92111,1769849,699133,391209,1144617,1430832,100323,453338,243431,159581,457026,227071,209477,7627556,265481,176229,764927,71454,1812118,594625,404073,1204570,1345317,98099,218187,128080,87956,228556,107482,119314,4946366,175621,105784,512315,46934,1233007,381158,266558,718397,797077,69052,150543,92624,66567,165454,80525,84052,2681190,89860,70445,252612,24520,579111,213467,137515,486173,548240,29047,67644,35456,21389,63102,26957,35262,7443816,260554,173730,749145,70350,1773868,583660,395689,1171002,1307703,96952,211807,124780,84515,219649,103270,116061,4795214,171443,103798,499530,45957,1200678,372116,259830,690495,767348,68170,145209,89872,63585,157990,77285,81216,2648602,89111,69932,249615,24393,573190,211544,135859,480507,540355,28782,66598,34908,20930,61659,25985,34845,183740,4927,2499,15782,1104,38250,10965,8384,33568,37614,1147,6380,3300,3441,8907,4212,3253,151152,4178,1986,12785,977,32329,9042,6728,27902,29729,882,5334,2752,2982,7464,3240,2836,32588,749,513,2997,127,5921,1923,1656,5666,7885,265,1046,548,459,1443,972,417]
["6 Monatswert - März 2017",31931291,953858,948655,2882676,323650,6668754,2509974,1379407,4535404,5406175,383127,1409530,824456,554615,1566810,786677,796044,17101199,496794,505669,1557695,181165,3642718,1366327,733863,2485370,2924180,208430,700684,424244,270530,798647,396400,407685,14830092,457064,442986,1324981,142485,3026036,1143647,645544,2050034,2481995,174697,708846,400212,284085,768163,390277,388359,28573007,894819,842154,2663586,293021,5984818,2153541,1245334,3873803,4693646,340264,1226279,783937,535950,1510156,763905,766606,3341624,58589,105418,218076,30496,678783,355099,133535,660017,710805,42764,180670,40181,18543,56388,22631,29342,23120490,661665,688609,2058047,230697,4885268,1805076,985888,3383739,3963845,281972,950255,578983,394426,1107657,558103,585427,8810768,292193,260046,824619,92953,1783475,704893,393519,1151664,1442324,101155,459275,245473,160189,459153,228574,210617,7552824,262020,173366,757561,70469,1792100,588683,405994,1192304,1334261,96703,217348,128736,85616,224406,104633,116708,4896396,173003,103631,508329,46105,1220052,377038,269748,710280,788081,67995,149674,93488,64888,162321,78424,82043,2656428,89017,69735,249232,24364,572048,211645,136246,482024,546180,28708,67674,35248,20728,62085,26209,34665,7350882,257595,170660,739632,69465,1750913,575583,392207,1156228,1294984,95449,209639,123388,82752,216027,100895,113571,4723089,169134,101375,492797,45194,1183839,365701,257492,679768,755435,67000,143163,88674,62351,155289,75354,79243,2627793,88461,69285,246835,24271,567074,209882,134715,476460,539549,28449,66476,34714,20401,60738,25541,34328,201942,4425,2706,17929,1004,41187,13100,13787,36076,39277,1254,7709,5348,2864,8379,3738,3137,173307,3869,2256,15532,911,36213,11337,12256,30512,32646,995,6511,4814,2537,7032,3070,2800,28635,556,450,2397,93,4974,1763,1531,5564,6631,259,1198,534,327,1347,668,337]
[]
[]
[]
[]
[]
[]
[]
[]
[]
[]
[]
[]
[]
[]
[]
[]
[]
[]
[]
[]
[]
[]
[]
[]
[]
[]
[]
[]
[]
[]
[]
[]
["NACH REV"]
[]
[]
[]
[null,"SvB",null,null,null,null,null,null,null,null,null,null,null,null,null,null,null,null,"SvB_Männer",null,null,null,null,null,null,null,null,null,null,null,null,null,null,null,null,"SvB_Frauen",null,null,null,null,null,null,null,null,null,null,null,null,null,null,null,null,"SvB_Deutsche",null,null,null,null,null,null,null,null,null,null,null,null,null,null,null,null,"SvB_Ausländer",null,null,null,null,null,null,null,null,null,null,null,null,null,null,null,null,"SvB_Vollzeit",null,null,null,null,null,null,null,null,null,null,null,null,null,null,null,null,"SvB_Teilzeit",null,null,null,null,null,null,null,null,null,null,null,null,null,null,null,null,"GB",null,null,null,null,null,null,null,null,null,null,null,null,null,null,null,null,"GB_ausschl.",null,null,null,null,null,null,null,null,null,null,null,null,null,null,null,null,"GB_im_NJ",null,null,null,null,null,null,null,null,null,null,null,null,null,null,null,null,"GeB",null,null,null,null,null,null,null,null,null,null,null,null,null,null,null,null,"GeB_ausschl.",null,null,null,null,null,null,null,null,null,null,null,null,null,null,null,null,"GeB_im_NJ",null,null,null,null,null,null,null,null,null,null,null,null,null,null,null,null,"KfB",null,null,null,null,null,null,null,null,null,null,null,null,null,null,null,null,"KfB_ausschl.",null,null,null,null,null,null,null,null,null,null,null,null,null,null,null,null,"KfB_im_NJ"]
["Auswertemonatswert","Deutschland","Schleswig-Holstein,01","Hamburg,02","Niedersachsen,03","Bremen,04","Nordrhein-Westfalen,05","Hessen,06","Rheinland-Pfalz,07","Baden-Württemberg,08","Bayern,09","Saarland,10","Berlin,11","Brandenburg,12","Mecklenburg-Vorpommern,13","Sachsen,14","Sachsen-Anhalt,15","Thüringen,16","Deutschland","Schleswig-Holstein,01","Hamburg,02","Niedersachsen,03","Bremen,04","Nordrhein-Westfalen,05","Hessen,06","Rheinland-Pfalz,07","Baden-Württemberg,08","Bayern,09","Saarland,10","Berlin,11","Brandenburg,12","Mecklenburg-Vorpommern,13","Sachsen,14","Sachsen-Anhalt,15","Thüringen,16","Deutschland","Schleswig-Holstein,01","Hamburg,02","Niedersachsen,03","Bremen,04","Nordrhein-Westfalen,05","Hessen,06","Rheinland-Pfalz,07","Baden-Württemberg,08","Bayern,09","Saarland,10","Berlin,11","Brandenburg,12","Mecklenburg-Vorpommern,13","Sachsen,14","Sachsen-Anhalt,15","Thüringen,16","Deutschland","Schleswig-Holstein,01","Hamburg,02","Niedersachsen,03","Bremen,04","Nordrhein-Westfalen,05","Hessen,06","Rheinland-Pfalz,07","Baden-Württemberg,08","Bayern,09","Saarland,10","Berlin,11","Brandenburg,12","Mecklenburg-Vorpommern,13","Sachsen,14","Sachsen-Anhalt,15","Thüringen,16","Deutschland","Schleswig-Holstein,01","Hamburg,02","Niedersachsen,03","Bremen,04","Nordrhein-Westfalen,05","Hessen,06","Rheinland-Pfalz,07","Baden-Württemberg,08","Bayern,09","Saarland,10","Berlin,11","Brandenburg,12","Mecklenburg-Vorpommern,13","Sachsen,14","Sachsen-Anhalt,15","Thüringen,16","Deutschland","Schleswig-Holstein,01","Hamburg,02","Niedersachsen,03","Bremen,04","Nordrhein-Westfalen,05","Hessen,06","Rheinland-Pfalz,07","Baden-Württemberg,08","Bayern,09","Saarland,10","Berlin,11","Brandenburg,12","Mecklenburg-Vorpommern,13","Sachsen,14","Sachsen-Anhalt,15","Thüringen,16","Deutschland","Schleswig-Holstein,01","Hamburg,02","Niedersachsen,03","Bremen,04","Nordrhein-Westfalen,05","Hessen,06","Rheinland-Pfalz,07","Baden-Württemberg,08","Bayern,09","Saarland,10","Berlin,11","Brandenburg,12","Mecklenburg-Vorpommern,13","Sachsen,14","Sachsen-Anhalt,15","Thüringen,16","Deutschland","Schleswig-Holstein,01","Hamburg,02","Niedersachsen,03","Bremen,04","Nordrhein-Westfalen,05","Hessen,06","Rheinland-Pfalz,07","Baden-Württemberg,08","Bayern,09","Saarland,10","Berlin,11","Brandenburg,12","Mecklenburg-Vorpommern,13","Sachsen,14","Sachsen-Anhalt,15","Thüringen,16","Deutschland","Schleswig-Holstein,01","Hamburg,02","Niedersachsen,03","Bremen,04","Nordrhein-Westfalen,05","Hessen,06","Rheinland-Pfalz,07","Baden-Württemberg,08","Bayern,09","Saarland,10","Berlin,11","Brandenburg,12","Mecklenburg-Vorpommern,13","Sachsen,14","Sachsen-Anhalt,15","Thüringen,16","Deutschland","Schleswig-Holstein,01","Hamburg,02","Niedersachsen,03","Bremen,04","Nordrhein-Westfalen,05","Hessen,06","Rheinland-Pfalz,07","Baden-Württemberg,08","Bayern,09","Saarland,10","Berlin,11","Brandenburg,12","Mecklenburg-Vorpommern,13","Sachsen,14","Sachsen-Anhalt,15","Thüringen,16","Deutschland","Schleswig-Holstein,01","Hamburg,02","Niedersachsen,03","Bremen,04","Nordrhein-Westfalen,05","Hessen,06","Rheinland-Pfalz,07","Baden-Württemberg,08","Bayern,09","Saarland,10","Berlin,11","Brandenburg,12","Mecklenburg-Vorpommern,13","Sachsen,14","Sachsen-Anhalt,15","Thüringen,16","Deutschland","Schleswig-Holstein,01","Hamburg,02","Niedersachsen,03","Bremen,04","Nordrhein-Westfalen,05","Hessen,06","Rheinland-Pfalz,07","Baden-Württemberg,08","Bayern,09","Saarland,10","Berlin,11","Brandenburg,12","Mecklenburg-Vorpommern,13","Sachsen,14","Sachsen-Anhalt,15","Thüringen,16","Deutschland","Schleswig-Holstein,01","Hamburg,02","Niedersachsen,03","Bremen,04","Nordrhein-Westfalen,05","Hessen,06","Rheinland-Pfalz,07","Baden-Württemberg,08","Bayern,09","Saarland,10","Berlin,11","Brandenburg,12","Mecklenburg-Vorpommern,13","Sachsen,14","Sachsen-Anhalt,15","Thüringen,16","Deutschland","Schleswig-Holstein,01","Hamburg,02","Niedersachsen,03","Bremen,04","Nordrhein-Westfalen,05","Hessen,06","Rheinland-Pfalz,07","Baden-Württemberg,08","Bayern,09","Saarland,10","Berlin,11","Brandenburg,12","Mecklenburg-Vorpommern,13","Sachsen,14","Sachsen-Anhalt,15","Thüringen,16","Deutschland","Schleswig-Holstein,01","Hamburg,02","Niedersachsen,03","Bremen,04","Nordrhein-Westfalen,05","Hessen,06","Rheinland-Pfalz,07","Baden-Württemberg,08","Bayern,09","Saarland,10","Berlin,11","Brandenburg,12","Mecklenburg-Vorpommern,13","Sachsen,14","Sachsen-Anhalt,15","Thüringen,16","Deutschland","Schleswig-Holstein,01","Hamburg,02","Niedersachsen,03","Bremen,04","Nordrhein-Westfalen,05","Hessen,06","Rheinland-Pfalz,07","Baden-Württemberg,08","Bayern,09","Saarland,10","Berlin,11","Brandenburg,12","Mecklenburg-Vorpommern,13","Sachsen,14","Sachsen-Anhalt,15","Thüringen,16"]
["6 Monatswert - März 2010",27658116,822560,818750,2455946,286569,5847843,2189934,1217690,3875889,4529996,351734,1119883,745695,513832,1396382,748657,732676,14888960,430142,439067,1342485,160724,3253051,1197634,657331,2141237,2458781,198285,540377,379053,246746,696332,372657,372800,12769156,392418,379683,1113461,125845,2594792,992300,560359,1734652,2071215,153449,579506,366642,267086,700050,376000,359876,25820453,793359,752603,2352087,269043,5410587,1977985,1144504,3479665,4178964,322498,1043127,734842,509179,1381143,741217,725800,1821572,28842,65337,102491,17336,432992,210333,72637,393863,348966,29111,75194,10605,4593,14978,7263,6808,21524281,618199,647906,1882155,219899,4607574,1693748,931943,3070820,3533557,277450,844295,578808,394703,1067570,578047,576590,5776878,189508,165066,540268,63025,1154230,473615,269026,765824,951810,69963,263508,152353,109450,308727,156494,143746,7237214,247979,156295,719048,70480,1761172,554438,378989,1120321,1205696,95819,205113,135255,89749,251703,116671,125591,5242841,181087,104978,538995,51356,1314521,391390,274531,753969,813469,72461,157388,110552,73964,205678,96582,99847,1994373,66892,51317,180053,19124,446651,163048,104458,366352,392227,23358,47725,24703,15785,46025,20089,25744,6957544,242445,154612,697463,67565,1709108,537604,358629,1071086,1155843,94406,195648,127439,83599,230231,111298,117743,4994391,176158,103649,520014,48639,1267705,376394,256932,709573,769795,71212,148806,103248,68411,186644,91778,93420,1963153,66287,50963,177449,18926,441403,161210,101697,361513,386048,23194,46842,24191,15188,43587,19520,24323,279670,5534,1683,21585,2915,52064,16834,20360,49235,49853,1413,9465,7816,6150,21472,5373,7848,248450,4929,1329,18981,2717,46816,14996,17599,44396,43674,1249,8582,7304,5553,19034,4804,6427,31220,605,354,2604,198,5248,1838,2761,4839,6179,164,883,512,597,2438,569,1421]
["6 Monatswert - Juni 2010",27966601,835858,821266,2478845,286321,5881559,2200909,1230038,3912719,4601409,354220,1127702,761922,533974,1424935,761308,749560,15149301,440211,441766,1364674,161191,3286249,1209434,668366,2168350,2514449,200900,547685,391998,258988,721142,384166,387495,12817300,395647,379500,1114171,125130,2595310,991475,561672,1744369,2086960,153320,580017,369924,274986,703793,377142,362065,26071443,805168,754223,2370580,268480,5434575,1984720,1152591,3505288,4235915,324219,1048721,750260,528598,1408751,753435,742042,1878869,30310,66215,106908,17659,442717,214559,76886,405050,363415,29872,77328,11390,5306,15935,7703,7446,21773598,628843,649455,1900793,219396,4631378,1699935,941776,3099761,3593939,279258,849411,592599,412063,1092865,589209,591883,5840557,192362,166140,545053,63418,1165630,478830,271914,774042,963031,70734,266367,154946,112320,312093,158079,145346,7450194,259149,159634,747936,70606,1802901,568007,392250,1157010,1242760,98154,210572,140751,92324,257005,119787,128683,5389151,188940,107465,561619,51579,1345113,401456,284331,778215,833883,74145,161824,114481,75127,208553,98771,101814,2061043,70209,52169,186317,19027,457788,166551,107919,378795,408877,24009,48748,26270,17197,48452,21016,26869,7102584,249962,157479,714775,67427,1740079,548521,367400,1098150,1179181,95984,201367,130363,84696,232605,113160,118791,5078734,180631,105694,531408,48619,1289052,384029,262533,724644,778558,72222,153571,104852,68159,186760,92801,93379,2023850,69331,51785,183367,18808,451027,164492,104867,373506,400623,23762,47796,25511,16537,45845,20359,25412,347610,9187,2155,33161,3179,62822,19486,24850,58860,63579,2170,9205,10388,7628,24400,6627,9892,310417,8309,1771,30211,2960,56061,17427,21798,53571,55325,1923,8253,9629,6968,21793,5970,8435,37193,878,384,2950,219,6761,2059,3052,5289,8254,247,952,759,660,2607,657,1457]
["6 Monatswert - September 2010",28505122,853844,835006,2541407,292440,6001509,2240041,1258734,3974652,4686863,362134,1149192,774702,539573,1449925,776472,765196,15463399,450765,449029,1399075,164556,3356212,1232170,684394,2204692,2564515,205160,560191,400516,262647,736809,393971,396881,13041723,403079,385977,1142332,127884,2645297,1007871,574340,1769960,2122348,156974,589001,374186,276926,713116,382501,368315,26555273,822179,766114,2429223,273987,5541350,2018123,1178644,3557473,4311278,331123,1067538,762576,534145,1432980,768164,757164,1933578,31286,68072,110853,18270,455883,220225,79542,414899,373517,30863,79971,11848,5359,16687,8135,7954,22236577,644537,661350,1953907,224522,4735176,1735107,966627,3152207,3667119,286041,866587,602857,416548,1116832,601346,604870,5906236,194185,167724,553580,64197,1178728,481901,275073,782560,974189,71688,270242,157342,113240,312440,160903,147814,7424683,261113,159429,739296,69777,1799587,562528,394309,1161537,1249159,98041,203102,137878,90782,251621,118536,124915,5284676,188380,105953,544657,50055,1324018,390325,281224,767717,824707,73241,153933,110701,72876,201268,96623,96877,2140007,72733,53476,194639,19722,475569,172203,113085,393820,424452,24800,49169,27177,17906,50353,21913,28038,7091408,250886,156981,711634,66913,1742478,544383,369943,1097387,1182349,96243,199269,128537,84094,229109,112269,115969,4997829,179450,103981,521156,47419,1274450,374469,260571,710975,769737,71639,150609,102132,66966,181651,91113,89472,2093579,71436,53000,190478,19494,468028,169914,109372,386412,412612,24604,48660,26405,17128,47458,21156,26497,333275,10227,2448,27662,2864,57109,18145,24366,64150,66810,1798,3833,9341,6688,22512,6267,8946,286847,8930,1972,23501,2636,49568,15856,20653,56742,54970,1602,3324,8569,5910,19617,5510,7405,46428,1297,476,4161,228,7541,2289,3713,7408,11840,196,509,772,778,2895,757,1541]
["6 Monatswert - Dezember 2010",28291928,840813,834378,2517799,292254,5985208,2233831,1244444,3959026,4639498,360756,1147842,762236,521367,1433161,763450,753102,15254325,441551,447071,1377788,164164,3330988,1222605,671419,2187210,2517817,202801,556161,390038,251459,722337,383234,386079,13037603,399262,387307,1140011,128090,2654220,1011226,573025,1771816,2121681,157955,591681,372198,269908,710824,380216,367023,26380767,811186,765986,2410961,273809,5533276,2013991,1169199,3546077,4272185,330214,1066700,750463,516437,1416748,755459,745454,1895645,29252,67587,105592,18271,447829,218171,74733,410807,365359,30406,79529,11510,4868,16171,7851,7575,21945518,629823,657046,1922666,223531,4698396,1720102,949870,3122482,3606655,283569,860718,589539,400058,1100288,586716,592842,5983960,195817,171302,561195,65024,1198351,490739,277516,796546,987457,72756,274638,158165,111516,312357,162496,147783,7391102,257822,160780,732767,70815,1798183,564938,385728,1156982,1238739,97901,204083,136514,91415,250349,117075,125052,5265313,186850,106957,540126,50955,1324671,392273,275088,762832,819374,72973,154604,109903,74418,200273,95574,97020,2125789,70972,53823,192641,19860,473512,172665,110640,394150,419365,24928,49479,26611,16997,50076,21501,28032,7133342,249211,158724,713902,68109,1751610,549107,368720,1108846,1190552,96515,200780,129206,85689,230915,112233,117290,5043089,179256,105349,524514,48428,1283917,378578,261003,720191,778715,71744,151824,103135,69385,183517,91440,90691,2090253,69955,53375,189388,19681,467693,170529,107717,388655,411837,24771,48956,26071,16304,47398,20793,26599,257760,8611,2056,18865,2706,46573,15831,17008,48136,48187,1386,3303,7308,5726,19434,4842,7762,222224,7594,1608,15612,2527,40754,13695,14085,42641,40659,1229,2780,6768,5033,16756,4134,6329,35536,1017,448,3253,179,5819,2136,2923,5495,7528,157,523,540,693,2678,708,1433]
["6 Monatswert - März 2011",28331314,839990,833562,2527394,291681,5990550,2235893,1250131,3968544,4671098,361312,1145228,758177,518374,1427371,758732,751121,15296486,440803,446863,1385908,164020,3336655,1224792,676472,2193528,2541719,203499,553630,388141,250414,721465,381347,386025,13034828,399187,386699,1141486,127661,2653895,1011101,573659,1775016,2129379,157813,591598,370036,267960,705906,377385,365096,26382473,809371,764800,2415994,273297,5530638,2013006,1172679,3549930,4293721,330180,1063411,746095,513294,1410338,750559,743179,1932844,30245,67854,110144,18194,455681,221257,76923,416375,375430,30999,80098,11801,5019,16748,8047,7863,21378151,610573,638175,1867760,216739,4570890,1680114,926978,3043863,3537399,277308,837424,568513,386717,1070342,567483,577027,6647254,217549,191055,629955,71903,1343704,536871,308188,889548,1096065,80207,298801,177364,123170,339670,178973,163899,7337126,254103,158430,729995,70180,1790195,559903,386193,1147462,1228098,97008,202642,135279,90182,246282,115624,123196,5222437,184233,105415,538029,50525,1317892,388359,275935,754036,808631,72202,153855,109395,73848,198062,94645,95727,2114689,69870,53015,191966,19655,472303,171544,110258,393426,419467,24806,48787,25884,16334,48220,20979,27469,7076245,246837,156466,710605,67618,1742869,543244,366104,1099410,1180086,95597,199054,127342,84340,227888,110820,115629,4992360,177696,103871,521311,48112,1275980,373393,258612,710750,766905,70958,150635,101997,68593,181960,90462,89491,2083885,69141,52595,189294,19506,466889,169851,107492,388660,413181,24639,48419,25345,15747,45928,20358,26138,260881,7266,1964,19390,2562,47326,16659,20089,48052,48012,1411,3588,7937,5842,18394,4804,7567,230077,6537,1544,16718,2413,41912,14966,17323,43286,41726,1244,3220,7398,5255,16102,4183,6236,30804,729,420,2672,149,5414,1693,2766,4766,6286,167,368,539,587,2292,621,1331]
["6 Monatswert - Juni 2011",28643583,853984,836666,2557772,293116,6030026,2248960,1260775,4004950,4737146,363065,1157096,774230,537751,1451247,771184,763251,15531430,450231,449994,1409470,165436,3369360,1236906,685498,2217613,2590283,205470,562414,399962,261054,739913,391073,395443,13112153,403753,386672,1148302,127680,2660666,1012054,575277,1787337,2146863,157595,594682,374268,276697,711334,380111,367808,26608019,820669,765895,2438754,273991,5555175,2018947,1177702,3572943,4337734,331205,1071868,760706,531483,1432511,762088,754193,2019039,32915,69831,117694,18940,470444,228362,82545,429762,397401,31730,83417,13228,6205,18432,8968,8960,21511681,615846,638847,1879988,216679,4579641,1683520,929893,3058401,3575838,277086,840370,577212,396687,1083998,573272,583345,6838450,226576,194852,648902,73468,1376821,547163,316334,913037,1124832,82267,308833,185887,132747,350442,186119,169682,7536790,263913,160783,759341,70118,1821519,577127,401257,1181868,1266453,99459,205647,141806,92984,249114,117548,125298,5367231,190686,107367,561928,50525,1342067,402237,287425,778982,833094,74263,156427,114154,75093,198755,95716,96780,2169559,73227,53416,197413,19593,479452,174890,113832,402886,433359,25196,49220,27652,17891,50359,21832,28518,7198104,254199,158533,725594,67273,1762821,555499,375526,1122540,1202579,96804,200840,130443,85090,229636,111379,116819,5065623,181864,105560,531417,47836,1289889,382758,264888,725153,777693,71798,152109,103473,67899,181595,90286,89692,2132481,72335,52973,194177,19437,472932,172741,110638,397387,424886,25006,48731,26970,17191,48041,21093,27127,338686,9714,2250,33747,2845,58698,21628,25731,59328,63874,2655,4807,11363,7894,19478,6169,8479,301608,8822,1807,30511,2689,52178,19479,22537,53829,55401,2465,4318,10681,7194,17160,5430,7088,37078,892,443,3236,156,6520,2149,3194,5499,8473,190,489,682,700,2318,739,1391]
["6 Monatswert - September 2011",29216870,873444,854747,2624786,300681,6149269,2296455,1289833,4073303,4831191,371507,1182661,785886,544238,1475842,783043,776517,15859845,460798,459955,1447399,169787,3437844,1262777,701053,2257682,2644495,210076,576715,407717,265512,754764,398310,403225,13357025,412646,394792,1177387,130894,2711425,1033678,588780,1815621,2186696,161431,605946,378169,278726,721078,384733,373292,27100469,839138,781264,2499184,280605,5658833,2057837,1202544,3626988,4414919,338652,1093239,771138,537746,1455558,773085,766649,2099594,33888,72539,124224,19896,485943,236901,86755,444020,414220,32731,87625,14461,6431,20011,9819,9755,22080266,637986,654103,1949245,223190,4700632,1729353,958877,3123087,3670369,285631,861607,588262,403655,1108284,585988,598159,6950629,230773,198495,658771,74816,1396691,555097,321984,922858,1139055,83746,316684,190328,135891,359590,190423,174470,7521172,260075,162672,751437,69752,1814204,574573,401446,1189348,1272654,98759,204998,138730,91188,247872,116070,124151,5261894,184018,107214,543571,49378,1316917,392461,282240,769748,821807,72701,154252,109809,72512,195494,93266,94389,2259278,76057,55458,207866,20374,497287,182112,119206,419600,450847,26058,50746,28921,18676,52378,22804,29762,7191873,254586,159517,722982,66978,1759416,555505,375805,1121721,1206246,96806,200373,129675,84618,227625,110499,116365,4980556,179395,104570,519589,46830,1269595,375862,260722,710536,767643,70974,150167,101560,66736,177826,88481,88010,2211317,75191,54947,203393,20148,489821,179643,115083,411185,438603,25832,50206,28115,17882,49799,22018,28355,329299,5489,3155,28455,2774,54788,19068,25641,67627,66408,1953,4625,9055,6570,20247,5571,7786,281338,4623,2644,23982,2548,47322,16599,21518,59212,54164,1727,4085,8249,5776,17668,4785,6379,47961,866,511,4473,226,7466,2469,4123,8415,12244,226,540,806,794,2579,786,1407]
["6 Monatswert - Dezember 2011",29046131,861229,854067,2603580,299436,6132818,2290541,1277020,4070191,4795642,369661,1183635,776316,528681,1462921,772496,765919,15675111,452290,458100,1428400,168315,3410313,1253285,689013,2246512,2605588,207544,574241,399013,256404,741964,389132,393953,13371020,408939,395967,1175180,131121,2722505,1037256,588007,1823679,2190054,162117,609394,377303,272277,720957,383364,371966,26961282,829001,780824,2482471,279634,5649290,2053874,1194622,3626957,4385562,337560,1093527,761400,522613,1443050,762603,756475,2068811,31818,72308,119835,19635,479344,235008,81877,441028,408093,31975,88336,14626,6012,19647,9768,9345,22037850,630830,653426,1941577,223576,4713464,1729305,954159,3135367,3651286,285115,862465,584595,396776,1101790,581745,591481,6981295,229203,199947,660205,75697,1412675,559437,321850,930948,1140990,84299,319804,190583,131366,359926,190178,173702,7471382,256982,164953,740517,70838,1812530,576848,390868,1177417,1261640,98571,205251,137057,90057,246962,115065,124201,5229538,182495,109047,535578,50355,1317677,394447,274753,759774,815007,72488,154495,108495,72376,194548,92439,94422,2241844,74487,55906,204939,20483,494853,182401,116115,417643,446633,26083,50756,28562,17681,52414,22626,29779,7227541,252777,161981,721986,68233,1766191,560344,374202,1130642,1215775,97423,201253,130107,85687,231383,110885,117069,5021228,178907,106535,520428,47916,1277536,380215,261065,718711,776831,71475,150997,102129,68526,181176,88945,88710,2206313,73870,55446,201558,20317,488655,180129,113137,411931,438944,25948,50256,27978,17161,50207,21940,28359,243841,4205,2972,18531,2605,46339,16504,16666,46775,45865,1148,3998,6950,4370,15579,4180,7132,208310,3588,2512,15150,2439,40141,14232,13688,41063,38176,1013,3498,6366,3850,13372,3494,5712,35531,617,460,3381,166,6198,2272,2978,5712,7689,135,500,584,520,2207,686,1420]
["6 Monatswert - März 2012",29082009,863462,856058,2612531,298841,6124648,2292593,1279333,4089196,4818633,369799,1188103,772051,526273,1457342,766862,764620,15688092,452708,458806,1432647,168276,3402076,1253379,690903,2255532,2621007,207585,576117,396307,254753,738020,385848,393211,13393917,410754,397252,1179884,130565,2722572,1039214,588430,1833664,2197626,162214,611986,375744,271520,719322,381014,371409,26947937,829800,781878,2485720,278792,5633331,2052461,1193753,3638871,4394610,337301,1096019,756297,519998,1436496,756608,754530,2117880,33229,73223,125593,19888,487030,238463,85040,448120,422022,32372,90317,15462,6216,20597,10124,9996,21893377,627463,650275,1937279,221272,4670128,1717950,947864,3130263,3642434,282607,855085,576241,391620,1086009,571921,584219,7143982,234506,204841,671770,77294,1443640,571639,328925,953261,1170700,86816,331128,194403,133046,368609,193938,179001,7346268,253141,162140,729583,69929,1781090,565680,388244,1158751,1242246,97026,202132,133479,86082,241449,112069,120584,5146417,180007,106995,528744,49761,1297395,387433,273873,746934,801046,71508,152165,106180,69202,190877,90512,91942,2199851,73134,55145,200839,20168,483695,178247,114371,411817,441200,25518,49967,27299,16880,50572,21557,28642,7103632,249109,159356,709991,67256,1735162,549464,368841,1112274,1197507,95833,197703,126314,83565,226476,108118,114041,4935125,176454,104608,512030,47274,1256852,373080,257527,705625,762923,70458,148333,99513,67024,177838,87148,86613,2168507,72655,54748,197961,19982,478310,176384,111314,406649,434584,25375,49370,26801,16541,48638,20970,27428,242636,4032,2784,19592,2673,45928,16216,19403,46477,44739,1193,4429,7165,2517,14973,3951,6543,211292,3553,2387,16714,2487,40543,14353,16346,41309,38123,1050,3832,6667,2178,13039,3364,5329,31344,479,397,2878,186,5385,1863,3057,5168,6616,143,597,498,339,1934,587,1214]
["6 Monatswert - Juni 2012",29280034,872523,858289,2632994,299274,6134130,2295642,1285111,4112269,4870338,369310,1199055,784192,542493,1474964,773505,773749,15838217,458618,460997,1447575,168944,3413040,1258050,696189,2269997,2659192,207907,583874,405138,263648,752048,391159,400692,13441817,413905,397292,1185419,130330,2721090,1037592,588922,1842272,2211146,161403,615181,379054,278845,722916,382346,373057,27070222,836684,782659,2499640,278791,5632813,2050272,1194599,3649235,4425303,336257,1103028,766720,534817,1452375,762745,762396,2193332,35399,74661,132121,20310,496947,243668,89973,460828,442999,32932,94189,17169,7590,22347,10641,11251,21966212,629940,650291,1944916,220762,4659881,1714311,948508,3139677,3674941,281013,856743,582087,399880,1096700,575113,590153,7268879,241052,207070,684454,78206,1462867,578293,334038,967128,1190166,87959,340579,200694,140694,375554,197324,182193,7591384,266533,166482,760911,69653,1828871,580476,403772,1198268,1286092,99467,205959,141992,93306,247558,115058,124478,5321600,189625,110045,552504,49661,1332698,398518,285403,776042,828132,73276,154887,112976,74784,194419,92445,94450,2269784,76908,56437,208407,19992,496173,181958,118369,422226,457960,26191,51072,29016,18522,53139,22613,30028,7263297,257235,163096,728355,67351,1768161,561867,378519,1140092,1226024,97332,201021,130013,84977,230359,110063,116419,5032466,181204,107165,523287,47522,1279392,382006,263617,723749,776918,71374,150427,101721,67085,179362,88145,87834,2230831,76031,55931,205068,19829,488769,179861,114902,416343,449106,25958,50594,28292,17892,50997,21918,28585,328087,9298,3386,32556,2302,60710,18609,25253,58176,60068,2135,4938,11979,8329,17199,4995,8059,289134,8421,2880,29217,2139,53306,16512,21786,52293,51214,1902,4460,11255,7699,15057,4300,6616,38953,877,506,3339,163,7404,2097,3467,5883,8854,233,478,724,630,2142,695,1443]
["6 Monatswert - September 2012",29753856,889397,873376,2684956,304115,6237158,2332274,1309621,4173047,4950547,375144,1221461,793792,548700,1494333,781786,782591,16097690,467436,468964,1477119,171506,3468324,1277283,708671,2303805,2703900,210978,596178,411547,267129,762473,396060,405485,13656166,421961,404412,1207837,132609,2768834,1054991,600950,1869242,2246647,164166,625283,382245,281571,731860,385726,377106,27471735,852281,795612,2546629,283105,5721986,2079446,1216596,3697763,4488977,341310,1120569,774457,540716,1470391,770353,770194,2264721,36659,76749,137078,20824,510538,251099,92465,472993,459387,33713,98844,19023,7895,23670,11294,12288,22352947,643881,662278,1988085,224673,4745099,1744967,968609,3193221,3744487,285869,872152,588427,403330,1110175,580315,596453,7350906,244201,210398,693091,78818,1477866,583942,338084,972520,1200830,88663,347951,203403,143589,382032,200189,184860,7582289,263604,166778,757170,70698,1823552,579618,404543,1198440,1293773,99459,206049,137659,91571,247880,115462,123399,5218880,183534,108292,537655,49465,1307007,390742,280454,760305,820078,72206,152612,107249,71711,191911,91633,92224,2363409,80070,58486,219515,21233,516545,188876,124089,438135,473695,27253,53437,30410,19860,55969,23829,31175,7272951,258126,163176,729939,68324,1768826,562561,380732,1136593,1232305,97941,201322,129157,84973,230315,110277,115882,4957773,178884,105303,514986,47319,1260440,376099,260870,706843,770377,70843,148476,99646,65966,176649,87255,86117,2315178,79242,57873,214953,21005,508386,186462,119862,429750,461928,27098,52846,29511,19007,53666,23022,29765,309338,5478,3602,27231,2374,54726,17057,23811,61847,61468,1518,4727,8502,6598,17565,5185,7517,261107,4650,2989,22669,2146,46567,14643,19584,53462,49701,1363,4136,7603,5745,15262,4378,6107,48231,828,613,4562,228,8159,2414,4227,8385,11767,155,591,899,853,2303,807,1410]
["6 Monatswert - Dezember 2012",29527929,876044,873666,2659654,303104,6211971,2321283,1296281,4159899,4902794,371287,1221256,780676,530940,1479116,768507,769873,15864737,457459,467225,1453641,170214,3434671,1264174,695849,2285447,2654673,206947,591924,400171,255731,747219,384282,394214,13663192,418585,406441,1206013,132890,2777300,1057109,600432,1874452,2248121,164340,629332,380505,275209,731897,384225,375659,27290987,840834,795990,2526784,282442,5706146,2071423,1208052,3692019,4451101,338659,1119636,761465,523756,1455281,757800,758244,2219193,34785,76644,131658,20470,501118,248072,87654,465473,449383,32508,99550,18908,7096,23552,10574,11527,22162228,634049,660743,1967026,224132,4720679,1732811,959216,3182647,3701826,282499,868736,579145,393469,1097787,569939,586400,7352001,241377,212535,691468,78848,1487477,587497,336508,975484,1199561,88586,351812,201031,137212,380731,198304,183173,7571732,261947,169670,749904,71468,1828105,581975,396251,1191721,1288785,99646,209860,136742,92968,250576,115446,125181,5214895,183171,110225,532612,50118,1310745,392263,273884,754310,818977,72419,155273,106659,73820,194040,91785,93595,2356837,78776,59445,217292,21350,517360,189712,122367,437411,469808,27227,54587,30083,19148,56536,23661,31586,7338979,257389,166533,732887,69244,1781352,568114,380333,1149023,1244781,98524,205275,130157,87563,236055,111791,118503,5017797,179306,107577,518835,48081,1270624,380381,261009,717372,782702,71437,151314,100638,69076,181522,88727,88226,2321182,78083,58956,214052,21163,510728,187733,119324,431651,462079,27087,53961,29519,18487,54533,23064,30277,232753,4558,3137,17017,2224,46753,13861,15918,42698,44004,1122,4585,6585,5405,14521,3655,6678,197098,3865,2648,13777,2037,40121,11882,12875,36938,36275,982,3959,6021,4744,12518,3058,5369,35655,693,489,3240,187,6632,1979,3043,5760,7729,140,626,564,661,2003,597,1309]
["6 Monatswert - März 2013",29422803,874912,871992,2655537,301394,6182050,2309385,1291457,4152381,4904481,368811,1220203,773206,527206,1463965,760452,764383,15794647,456285,465289,1450182,169263,3414136,1256652,693267,2280194,2656732,205738,591142,395271,252963,737171,379119,390675,13628156,418627,406703,1205355,132131,2767914,1052733,598190,1872187,2247749,163073,629061,377935,274243,726794,381333,373708,27147959,838182,793814,2517519,280623,5671441,2056976,1200532,3678774,4441735,335755,1117097,753753,519749,1439670,749267,752284,2257050,36291,77157,136821,20589,505769,250673,90325,471234,460433,32934,101093,19151,7362,23985,11045,11992,22009337,629855,657937,1959263,221966,4681157,1717926,952777,3169560,3694602,280133,863615,570306,388718,1080087,559595,581199,7346239,242246,212860,691035,78706,1485385,587309,335975,975317,1201937,87913,354010,200046,135848,377355,198364,181587,7492943,257381,166872,741804,70674,1809570,574474,397528,1179141,1275456,97956,208837,136307,91412,246421,113875,122614,5178003,180148,108639,527782,49616,1303167,388799,277395,749145,811357,71362,154545,106774,72830,191565,90927,92110,2314940,77233,58233,214022,21058,506403,185675,120133,429996,464099,26594,54292,29533,18582,54856,22948,30504,7253970,253295,164057,725298,68759,1761322,560378,377105,1134271,1231572,96644,204033,129736,85892,232530,110325,116168,4969386,176589,106175,513842,47855,1260359,376138,260086,709332,773721,70170,150367,100650,67938,179582,87929,86839,2284584,76706,57882,211456,20904,500963,184240,117019,424939,457851,26474,53666,29086,17954,52948,22396,29329,238973,4086,2815,16506,1915,48248,14096,20423,44870,43884,1312,4804,6571,5520,13891,3550,6446,208617,3559,2464,13940,1761,42808,12661,17309,39813,37636,1192,4178,6124,4892,11983,2998,5271,30356,527,351,2566,154,5440,1435,3114,5057,6248,120,626,447,628,1908,552,1175]
["6 Monatswert - Juni 2013",29615680,882364,873745,2667445,301347,6193398,2314543,1299407,4174241,4952737,369721,1228538,785561,543571,1484480,769259,774023,15965766,462621,467676,1463017,169693,3427794,1263751,700353,2296949,2697365,207145,598176,405255,263316,754809,387547,399539,13649914,419743,406069,1204428,131654,2765604,1050792,599054,1877292,2255372,162576,630362,380306,280255,729671,381712,374484,27257049,842904,794010,2523138,280277,5672154,2054965,1202536,3686092,4467543,335395,1121608,764155,534673,1458126,757530,760867,2340697,39024,78753,143089,20886,516326,257855,96266,485789,482841,34195,104892,21094,8806,26027,11586,13051,22103104,632977,657901,1961695,221038,4675928,1716410,954985,3179948,3728676,280103,865579,577911,400296,1094827,565470,588434,7434236,246237,214644,699651,79574,1497804,593583,341544,985551,1214703,88819,360216,204301,140440,382687,200533,183577,7716104,271557,171969,777050,71546,1852335,587849,412253,1211409,1307922,100305,214643,145541,96520,251199,115903,125429,5345590,191104,112440,556840,50367,1337423,399708,288431,773649,830295,73248,159063,114247,76686,194378,92110,93704,2370514,80453,59529,220210,21179,514912,188141,123822,437760,477627,27057,55580,31294,19834,56821,23793,31725,7398934,261374,168328,744851,69227,1791797,571203,387353,1156192,1253544,98293,209021,132879,87500,235189,111460,118082,5066322,181917,109258,527802,48202,1284114,384894,267083,724333,784353,71503,154106,102236,68279,180407,88322,87645,2332612,79457,59070,217049,21025,507683,186309,120270,431859,469191,26790,54915,30643,19221,54782,23138,30437,317170,10183,3641,32199,2319,60538,16646,24900,55217,54378,2012,5622,12662,9020,16010,4443,7347,279268,9187,3182,29038,2165,53309,14814,21348,49316,45942,1745,4957,12011,8407,13971,3788,6059,37902,996,459,3161,154,7229,1832,3552,5901,8436,267,665,651,613,2039,655,1288]
["6 Monatswert - September 2013",30164885,901064,891713,2730817,307838,6309641,2356228,1324894,4243590,5044717,375376,1251316,796068,552077,1510020,781061,786740,16268423,472206,476788,1497380,173105,3491997,1286735,713925,2335209,2748747,209995,610486,411967,268251,769468,394803,406640,13896462,428858,414925,1233437,134733,2817644,1069493,610969,1908381,2295970,165381,640830,384101,283826,740552,386258,380100,27728422,860486,809790,2580177,285643,5779750,2087971,1224622,3740044,4539113,340233,1140271,773599,542713,1481814,768532,772240,2419849,40170,80962,149531,22016,525083,266700,99711,501547,503481,35025,109136,22196,9280,27905,12403,14406,22286266,635700,666318,1989331,223341,4712568,1732168,962103,3210140,3768856,281359,873607,575136,399807,1099920,565159,589796,7537422,250305,220234,710457,80747,1512292,602362,346207,995163,1233381,89508,367662,207510,142439,391036,202414,184938,7709264,267317,172355,771591,71880,1846255,590041,412203,1214341,1321762,100323,214262,138877,93137,251049,116771,124497,5246618,184244,110826,541041,49592,1310234,394465,283010,761083,826695,72475,156933,106603,72349,191762,91848,91686,2462646,83073,61529,230550,22288,536021,195576,129193,453258,495067,27848,57329,32274,20788,59287,24923,32811,7419925,261853,168820,747227,69843,1794316,574807,389518,1157912,1262791,98730,208891,130655,87146,234719,112242,117933,5002842,179613,107780,520653,47774,1266020,381482,264259,712600,779327,71103,152338,99123,67068,177634,88013,86334,2417083,82240,61040,226574,22069,528296,193325,125259,445312,483464,27627,56553,31532,20078,57085,24229,31599,289339,5464,3535,24364,2037,51939,15234,22685,56429,58971,1593,5371,8222,5991,16330,4529,6564,243776,4631,3046,20388,1818,44214,12983,18751,48483,47368,1372,4595,7480,5281,14128,3835,5352,45563,833,489,3976,219,7725,2251,3934,7946,11603,221,776,742,710,2202,694,1212]
["6 Monatswert - Dezember 2013",29884370,884885,887551,2695749,306543,6272617,2341176,1308103,4225009,4984066,371231,1250631,783457,534124,1496004,767911,774518,16026042,461422,473137,1470689,171803,3454219,1273186,700560,2317485,2695065,205816,607512,401362,256995,756596,383533,396204,13858328,423463,414414,1225060,134740,2818398,1067990,607543,1907524,2289001,165415,643119,382095,277129,739408,384378,378314,27503163,846892,806876,2552198,284536,5752579,2076423,1213511,3728380,4492306,337834,1138353,761965,525582,1467978,756135,760963,2364933,37590,79725,142469,21830,515284,263219,94038,494696,489682,33283,110410,21228,8468,27740,11660,13468,21967800,620899,660755,1951264,221027,4662504,1713236,945611,3183022,3703785,276788,868523,562168,384046,1084277,552028,577383,7567912,248931,221604,710630,81770,1523786,606066,345419,1002890,1236935,89913,371803,207797,140207,392343,202376,185131,7648749,263870,173807,761521,74298,1839601,590480,401595,1200431,1307312,100186,216064,135053,92582,249877,115743,124725,5223480,183258,112293,535650,51538,1310163,396242,275862,753035,821781,72461,158594,103776,72961,191295,91243,92190,2425269,80612,61514,225871,22760,529438,194238,125733,447396,485531,27725,57470,31277,19621,58582,24500,32535,7439689,259243,170547,746591,72680,1797356,578197,387668,1162134,1266952,98981,210496,130189,88650,236849,112566,119003,5047686,179309,109590,523612,50067,1273974,385815,264690,720204,788829,71435,153857,99322,69496,180147,88633,87583,2392003,79934,60957,222979,22613,523382,192382,122978,441930,478123,27546,56639,30867,19154,56702,23933,31420,209060,4627,3260,14930,1618,42245,12283,13927,38297,40360,1205,5568,4864,3932,13028,3177,5722,175794,3949,2703,12038,1471,36189,10427,11172,32831,32952,1026,4737,4454,3465,11148,2610,4607,33266,678,557,2892,147,6056,1856,2755,5466,7408,179,831,410,467,1880,567,1115]
["6 Monatswert - März 2014",29932409,886138,889048,2702022,305696,6266639,2346217,1310419,4235101,5012614,371226,1257533,782887,532932,1493765,764778,773887,16067835,462151,474207,1474097,171105,3450768,1278452,702926,2323893,2717355,205975,611696,401734,256669,756369,383132,396469,13864574,423987,414841,1227925,134591,2815871,1067765,607493,1911208,2295259,165251,645837,381153,276263,737396,381646,377418,27463191,845879,806729,2550163,283237,5734006,2073068,1210161,3722711,4498162,336796,1141295,760352,523898,1464089,752152,759232,2452858,39848,81381,150772,22291,527892,271600,99706,510474,512293,34313,114356,22280,8960,29385,12510,14554,21965198,619867,661010,1952206,220003,4646608,1713410,945227,3185744,3722081,276349,870617,560785,382603,1081213,550196,576303,7620073,251327,222891,716170,81963,1533849,611153,348202,1010382,1247479,90385,376616,208644,140514,393241,201190,185649,7566385,260165,170762,755530,73347,1818481,584909,401442,1187604,1293260,98877,211547,135774,90846,245007,113927,122714,5174050,181099,110158,532206,50993,1298117,393277,277529,745320,811286,71733,155148,104833,71709,188041,90008,91049,2392335,79066,60604,223324,22354,520364,191632,123913,442284,481974,27144,56399,30941,19137,56966,23919,31665,7354094,255938,167900,740142,71673,1775595,571608,384030,1148966,1254273,97570,206799,129350,87653,232469,110654,117306,4989970,177324,107736,518947,49450,1260488,381513,262429,711821,778136,70602,151074,98897,68876,177222,87225,86704,2364124,78614,60164,221195,22223,515107,190095,121601,437145,476137,26968,55725,30453,18777,55247,23429,30602,212291,4227,2862,15388,1674,42886,13301,17412,38638,38987,1307,4748,6424,3193,12538,3273,5408,184080,3775,2422,13259,1543,37629,11764,15100,33499,33150,1131,4074,5936,2833,10819,2783,4345,28211,452,440,2129,131,5257,1537,2312,5139,5837,176,674,488,360,1719,490,1063]
["6 Monatswert - Juni 2014",30174505,897211,892600,2722506,306431,6285566,2360270,1321636,4266473,5065510,372592,1269425,795910,549500,1511613,773625,782202,16240821,469234,476971,1487997,171845,3467373,1289146,710674,2344459,2754731,207547,620553,410362,265952,770222,389671,403099,13933684,427977,415629,1234509,134586,2818193,1071124,610962,1922014,2310779,165045,648872,385548,283548,741391,383954,379103,27594881,853682,807792,2562056,283057,5738842,2077052,1215365,3734329,4523184,337035,1147952,770664,537848,1479352,759724,765856,2563286,43116,83852,159380,23188,541979,281685,105720,530281,540167,35448,119536,24994,11575,31982,13786,16253,22092414,625766,661019,1962013,219748,4646116,1719875,951328,3203991,3756703,276933,874725,568466,393865,1093056,555763,581962,7739003,256652,226587,726942,82996,1555035,618905,353499,1023806,1266077,91230,384523,214095,145940,399393,204605,188368,7811376,274042,175022,791895,73437,1864079,600660,416128,1230931,1337308,100859,215523,141530,95584,249310,117129,125846,5349851,191252,112954,560938,50928,1333078,405084,287971,777114,839252,73232,157623,108997,75083,189933,92149,92799,2461525,82790,62068,230957,22509,531001,195576,128157,453817,498056,27627,57900,32533,20501,59377,24980,33047,7510554,264286,171670,758441,71912,1806017,585135,395169,1177988,1281192,99055,210054,131751,88746,235345,112552,119175,5086521,182500,110123,530700,49517,1282378,391486,269722,730707,791503,71697,152871,99906,68681,177887,88192,87209,2424033,81786,61547,227741,22395,523639,193649,125447,447281,489689,27358,57183,31845,20065,57458,24360,31966,300822,9756,3352,33454,1525,58062,15525,20959,52943,56116,1804,5469,9779,6838,13965,4577,6671,263330,8752,2831,30238,1411,50700,13598,18249,46407,47749,1535,4752,9091,6402,12046,3957,5590,37492,1004,521,3216,114,7362,1927,2710,6536,8367,269,717,688,436,1919,620,1081]
["6 Monatswert - September 2014",30662502,913122,906408,2774130,311852,6401970,2399617,1343426,4331920,5147742,377115,1289330,805435,554896,1531259,782058,790889,16500681,477134,484232,1515809,174645,3528035,1310530,721691,2379545,2797835,209411,631820,416729,269265,781281,394465,407546,14161821,435988,422176,1258321,137207,2873935,1089087,621735,1952375,2349907,167704,657510,388706,285631,749978,387593,383343,27991796,868090,820122,2606999,287272,5844662,2106097,1232931,3781299,4582253,340185,1162045,779004,543096,1496191,767079,773359,2655003,44609,85310,166093,24398,552681,292058,110005,548889,563610,36830,125311,26167,11729,34791,14871,17432,22728007,649357,674176,2029575,226567,4797204,1766422,981833,3286463,3851450,284325,896579,585663,405602,1120858,572668,598472,7856249,260268,231097,738473,84939,1579281,628163,358608,1036596,1288035,92317,391193,216303,146412,406787,206519,190720,7801454,270372,176039,784815,73513,1856086,600249,419205,1236911,1343874,101047,214187,139505,93044,249046,116667,124794,5253449,185021,111881,544447,49997,1305753,398705,285631,767011,829674,72611,154623,105438,71715,187912,90878,90761,2548005,85351,64158,240368,23516,550333,201544,133574,469900,514200,28436,59564,34067,21329,61134,25789,34033,7511554,264816,171958,758223,71880,1804526,584783,397083,1176613,1284975,99188,208943,132190,88835,234518,112121,118912,5012995,180382,108469,522046,48542,1262785,385595,267121,716783,783117,70999,150152,99087,67958,175658,86942,86053,2498559,84434,63489,236177,23338,541741,199188,129962,459830,501858,28189,58791,33103,20877,58860,25179,32859,289900,5556,4081,26592,1633,51560,15466,22122,60298,58899,1859,5244,7315,4209,14528,4546,5882,240454,4639,3412,22401,1455,42968,13110,18510,50228,46557,1612,4471,6351,3757,12254,3936,4708,49446,917,669,4191,178,8592,2356,3612,10070,12342,247,773,964,452,2274,610,1174]
["6 Monatswert - Dezember 2014",30397759,897816,904191,2743608,310096,6368904,2388010,1326240,4311851,5091086,373882,1288354,792704,538530,1515163,768624,777959,16262756,466509,481500,1490357,172884,3491530,1298551,707105,2359996,2744865,205998,628704,406372,259559,767963,383498,396980,14135003,431307,422691,1253251,137212,2877374,1089459,619135,1951855,2346221,167884,659650,386332,278971,747200,385126,380979,27776389,855428,818161,2583263,285481,5818134,2097618,1221689,3769037,4539182,337638,1159812,766536,527809,1480506,754324,761176,2605886,41976,85036,159297,24445,546184,288950,104074,541138,550106,36153,126545,25894,10647,34415,14196,16686,22478915,637438,670353,2000985,224508,4769815,1752567,966740,3263858,3793321,281111,892311,576471,393712,1106003,562292,586968,7904154,259726,233362,741483,85491,1595702,634871,359013,1046441,1296359,92599,395480,215631,144281,407796,205516,190124,7670012,265509,173541,768806,74496,1833329,598148,405036,1203715,1329469,100053,215897,131102,91647,238693,114946,124227,5170108,183143,109767,533994,50997,1290437,397523,275425,743809,824061,72096,156332,99003,71623,180361,89747,90841,2499904,82366,63774,234812,23499,542892,200625,129611,459906,505408,27957,59565,32099,20024,58332,25199,33386,7479335,261134,171390,754626,72861,1793828,585690,393231,1170090,1289370,98887,211041,128100,88171,228458,111777,119321,5012350,179448,108053,522678,49500,1257495,387098,266023,715495,791684,71123,152186,96297,68542,171741,87145,86916,2466985,81686,63337,231948,23361,536333,198592,127208,454595,497686,27764,58855,31803,19629,56717,24632,32405,190677,4375,2151,14180,1635,39501,12458,11805,33625,40099,1166,4856,3002,3476,10235,3169,4906,157758,3695,1714,11316,1497,32942,10425,9402,28314,32377,973,4146,2706,3081,8620,2602,3925,32919,680,437,2864,138,6559,2033,2403,5311,7722,193,710,296,395,1615,567,981]
["6 Monatswert - März 2015",30528297,903636,907747,2762277,310251,6389372,2394229,1332366,4330487,5126757,375412,1298305,793420,540377,1514277,769360,778725,16326861,469142,483608,1498348,172809,3498836,1301379,710615,2369825,2766920,206384,634125,406688,260620,766057,383581,397184,14201436,434494,424139,1263929,137442,2890536,1092850,621751,1960662,2359837,169028,664180,386732,279757,748220,385779,381541,27800089,858252,819252,2590515,285025,5819525,2095220,1221990,3769526,4551918,337512,1164074,765715,528854,1477575,754023,760090,2712443,44973,87506,170706,25081,565160,297584,109914,559188,573074,37804,132146,27411,11444,36443,15200,18534,22472270,637378,670903,2004498,223655,4761879,1748704,966730,3268034,3807784,281140,893781,573055,392703,1097920,558389,584906,8046746,265801,236625,756976,86535,1625654,645103,365325,1061523,1318163,94187,404197,219931,147287,415284,210534,193133,7466038,257516,168397,749800,73081,1786449,581857,399755,1178259,1298544,96756,207971,125486,86930,226559,108208,118160,5017047,176659,105617,520099,49865,1256354,386040,273554,726592,800805,69466,148989,94465,67567,169918,83678,85747,2448991,80857,62780,229701,23216,530095,195817,126201,451667,497739,27290,58982,31021,19363,56641,24530,32413,7249453,253150,166411,731163,71134,1742261,567532,383271,1139230,1255286,95419,202550,121560,83672,217332,104065,113177,4829009,172818,103973,503801,48062,1217544,373436,259057,692685,763997,68286,144436,90893,64643,161927,80281,81596,2420444,80332,62438,227362,23072,524717,194096,124214,446545,491289,27133,58114,30667,19029,55405,23784,31581,216585,4366,1986,18637,1947,44188,14325,16484,39029,43258,1337,5421,3926,3258,9227,4143,4983,188038,3841,1644,16298,1803,38810,12604,14497,33907,36808,1180,4553,3572,2924,7991,3397,4151,28547,525,342,2339,144,5378,1721,1987,5122,6450,157,868,354,334,1236,746,832]
["6 Monatswert - Juni 2015",30771297,914529,912762,2784011,311190,6407112,2408926,1345402,4359864,5184918,377088,1311413,806025,553845,1530094,776293,786098,16504172,476042,487572,1513412,173867,3516183,1312069,718859,2390278,2810330,207617,643218,415027,267792,778679,389183,403059,14267125,438487,425190,1270599,137323,2890929,1096857,626543,1969586,2374588,169471,668195,390998,286053,751415,387110,383039,27925888,865885,821862,2603301,284922,5820266,2099772,1228080,3779596,4580628,338054,1171158,775577,540209,1490125,759534,765473,2829470,48228,89870,179679,26129,582069,307734,116846,578512,602524,38943,138093,30146,13550,39715,16624,20529,22577749,642121,672067,2012471,223753,4757109,1754052,972102,3283065,3844277,281611,897498,579191,399964,1106064,562260,588954,8186415,272045,240534,770926,87400,1648559,654531,373064,1076088,1340025,95413,413669,226522,153588,423121,213822,196571,7704750,271804,172001,781802,72670,1835193,596962,415618,1216005,1340347,98553,212139,132479,92494,233339,110583,120791,5187590,186645,107868,544717,49370,1295095,397083,284725,754234,826348,70618,151572,99427,71625,174243,85009,87655,2517160,85159,64133,237085,23300,540098,199879,130893,461771,513999,27935,60567,33052,20869,59096,25574,33136,7381055,260589,168989,746009,71107,1768499,577077,393102,1161840,1279671,96829,205483,124382,85055,220768,104724,115009,4902198,176539,105366,512458,47953,1235911,379346,264684,706361,774988,69140,145844,91875,64599,163254,80132,82430,2478857,84050,63623,233551,23154,532588,197731,128418,455479,504683,27689,59639,32507,20456,57514,24592,32579,323695,11215,3012,35793,1563,66694,19885,22516,54165,60676,1724,6656,8097,7439,12571,5859,5782,285392,10106,2502,32259,1417,59184,17737,20041,47873,51360,1478,5728,7552,7026,10989,4877,5225,38303,1109,510,3534,146,7510,2148,2475,6292,9316,246,928,545,413,1582,982,557]
["6 Monatswert - September 2015",31333146,935110,928224,2841490,316910,6543321,2450512,1367326,4432690,5282163,382068,1337072,816343,561348,1553084,786411,797356,16818279,487651,495584,1545466,177054,3588773,1335459,730950,2431303,2865269,210343,657910,421719,272501,791943,395823,409580,14514867,447459,432640,1296024,139856,2954548,1115053,636376,2001387,2416894,171725,679162,394624,288847,761141,390588,387776,28373767,883599,835191,2651550,289519,5942180,2130128,1244638,3831284,4649804,341776,1189316,784060,546700,1509734,768321,774564,2943437,51108,91990,188931,27238,596339,318986,122154,599793,630603,40204,145544,31960,14550,43091,17948,22691,23015350,658640,683538,2061477,228816,4866045,1785759,989781,3343375,3920197,286169,914257,585350,404986,1120244,568895,596698,8314734,276365,244615,779679,88077,1676534,664581,377409,1088941,1361653,95867,422694,230862,156251,432669,217425,200518,7662313,268013,172152,772047,71850,1815157,593672,416551,1216224,1343561,98585,213141,129256,90048,229994,109657,120399,5056118,179984,105992,525496,47889,1253386,387240,280396,739828,812342,69923,150072,95033,68281,169667,83272,85987,2606195,88029,66160,246551,23961,561771,206432,136155,476396,531219,28662,63069,34223,21767,60327,26385,34412,7368153,261341,169103,743956,70343,1764727,577055,394457,1156387,1280150,96682,205694,124136,85138,217234,103960,115853,4809807,174262,103447,501688,46559,1211008,373096,261571,688864,762280,68352,143846,90550,63835,158640,78535,81995,2558346,87079,65656,242268,23784,553719,203959,132886,467523,517870,28330,61848,33586,21303,58594,25425,33858,294160,6672,3049,28091,1507,50430,16617,22094,59837,63411,1903,7447,5120,4910,12760,5697,4546,246311,5722,2545,23808,1330,42378,14144,18825,50964,50062,1571,6226,4483,4446,11027,4737,3992,47849,950,504,4283,177,8052,2473,3269,8873,13349,332,1221,637,464,1733,960,554]
["6 Monatswert - Dezember 2015",31149605,924777,928887,2816933,316716,6524411,2447352,1352875,4419591,5235113,378957,1340192,807447,546889,1542648,777305,787307,16644632,480550,495398,1524970,176677,3563732,1329482,718715,2417040,2820926,206880,657717,414544,264211,783068,388210,401326,14504973,444227,433489,1291963,140039,2960679,1117870,634160,2002551,2414187,172077,682475,392903,282678,759580,389095,385981,28214562,875190,834741,2631897,288968,5924527,2126654,1235811,3821085,4612878,339367,1189392,775384,533460,1498714,759557,765261,2919163,49185,93109,184059,27601,595016,319312,116534,596880,620506,39496,148570,31745,13339,43705,17627,21954,22771539,648355,681714,2033813,227700,4828746,1775707,974844,3319407,3864823,282625,912507,576104,393147,1106313,558729,585681,8375836,276343,247117,782880,89003,1695117,671516,377926,1099915,1370075,96303,427593,231255,153661,436208,218519,201524,7580629,263309,173032,759940,71946,1808597,591760,403124,1196329,1326451,97785,214501,127083,88203,228598,108228,119460,5005805,177911,106557,517258,48237,1250490,385683,270469,725669,803897,69396,151056,93628,67710,168351,82383,85360,2574824,85398,66475,242682,23709,558107,206077,132655,470660,522554,28389,63445,33455,20493,60247,25845,34100,7384581,258367,170664,743422,70747,1768684,579474,392285,1160954,1285992,96582,208241,123656,84711,218678,104036,115909,4843430,173677,104643,503822,47173,1216795,375361,261659,695943,771562,68476,145930,90711,64610,160023,79116,82272,2541151,84690,66021,239600,23574,551889,204113,130626,465011,514430,28106,62311,32945,20101,58655,24920,33637,196048,4942,2368,16518,1199,39913,12286,10839,35375,40459,1203,6260,3427,3492,9920,4192,3551,162375,4234,1914,13436,1064,33695,10322,8810,29726,32335,920,5126,2917,3100,8328,3267,3088,33673,708,454,3082,135,6218,1964,2029,5649,8124,283,1134,510,392,1592,925,463]
["6 Monatswert - März 2016",31209241,929746,929686,2821717,317763,6525602,2448375,1353812,4428546,5261827,378462,1351190,807856,547704,1541001,777359,787323,16688581,483184,495946,1526506,177682,3565172,1330730,720057,2423542,2840341,206708,664317,415138,265118,781879,389444,402068,14520660,446562,433740,1295211,140081,2960430,1117645,633755,2005004,2421486,171754,686873,392718,282586,759122,387915,385255,28189217,877718,833732,2628662,289568,5909648,2122023,1232533,3816774,4620055,337846,1194872,774541,533172,1494854,758450,763764,3003875,51634,94874,192049,28055,611094,324930,120705,610132,640040,40519,154007,33026,14428,45892,18767,23460,22770877,649840,681512,2031827,228162,4818232,1773352,974072,3321801,3879372,281396,919020,574663,393089,1101809,557478,584470,8437019,279865,248138,789745,89595,1707031,674935,379669,1106593,1382326,97048,432120,233134,154568,439121,219846,202795,7517726,261502,170754,754846,70967,1791407,586012,403927,1186639,1318065,96848,211712,127672,86624,225197,106534,117208,4965023,176442,104724,514479,47523,1240128,382000,272944,719649,796469,68796,148862,94050,66459,166115,81161,84023,2552703,85060,66030,240367,23444,551279,204012,130983,466990,521596,28052,62850,33622,20165,59082,25373,33185,7305724,256681,168534,736904,69367,1748035,572575,388639,1147241,1274928,95576,206133,123214,83511,216419,102368,113805,4781773,172207,102856,498799,46065,1201870,370171,259441,685888,760356,67776,144064,90119,63663,158547,77821,80945,2523951,84474,65678,238105,23302,546165,202404,129198,461353,514572,27800,62069,33095,19848,57872,24547,32860,212002,4821,2220,17942,1600,43372,13437,15288,39398,43137,1272,5579,4458,3113,8778,4166,3403,183250,4235,1868,15680,1458,38258,11829,13503,33761,36113,1020,4798,3931,2796,7568,3340,3078,28752,586,352,2262,142,5114,1608,1785,5637,7024,252,781,527,317,1210,826,325]
["6 Monatswert - Juni 2016",31443318,940613,933846,2836091,319681,6549350,2462605,1364682,4458706,5317529,379591,1367680,818474,560372,1555300,783900,793363,16864227,490306,498817,1537923,179503,3585599,1342234,727986,2445220,2881658,207807,675753,422288,272778,793229,394788,407518,14579091,450307,435029,1298168,140178,2963751,1120371,636696,2013486,2435871,171784,691927,396186,287594,762071,389112,385845,28292932,884722,834855,2632786,290014,5913164,2124932,1236435,3826915,4645002,337783,1203537,782130,543163,1505297,763265,767668,3133874,55449,97891,202263,29528,631202,336237,127668,630143,670785,41709,161757,36032,17092,49752,20495,25601,22873969,655297,682457,2034689,229034,4819617,1778404,978793,3337075,3913745,281482,925921,579715,399997,1108525,560296,587944,8568637,285297,251368,801309,90644,1729552,684160,385853,1121549,1403713,98100,441729,238724,160354,446749,223590,205389,7763218,275474,174263,792707,71241,1835199,602787,417903,1223207,1358722,98481,217952,134126,93184,233512,110120,122484,5141533,186563,106917,544874,47677,1272586,394720,282822,746314,820010,70006,152868,99132,71588,172186,83977,88050,2621685,88911,67346,247833,23564,562613,208067,135081,476893,538712,28475,65084,34994,21596,61326,26143,34434,7448549,264209,171316,753269,69713,1777442,584021,397208,1171016,1299877,96842,210777,126018,85353,219662,103930,116082,4864910,176375,104414,509140,46291,1221532,378025,264452,700690,770812,68631,146772,91692,64258,159806,78703,82104,2583639,87834,66902,244129,23422,555910,205996,132756,470326,529065,28211,64005,34326,21095,59856,25227,33978,314669,11265,2947,39438,1528,57757,18766,20695,52191,58845,1639,7175,8108,7831,13850,6190,6402,276623,10188,2503,35734,1386,51054,16695,18370,45624,49198,1375,6096,7440,7330,12380,5274,5946,38046,1077,444,3704,142,6703,2071,2325,6567,9647,264,1079,668,501,1470,916,456]
["6 Monatswert - September 2016",32007270,961049,947152,2899920,325097,6673063,2507035,1387875,4532008,5412908,385662,1393752,829395,568183,1579554,796861,805603,17180858,501940,505656,1572130,182326,3653523,1367122,739986,2486284,2936823,211087,691646,429166,277648,806690,403005,414493,14826412,459109,441496,1327790,142771,3019540,1139913,647889,2045724,2476085,174575,702106,400229,290535,772864,393856,391110,28750382,902778,844318,2686743,294915,6012445,2161183,1256103,3887202,4717582,343051,1222429,791110,549468,1526068,775416,777773,3240321,57833,101743,212140,30045,655537,344469,131212,643199,693604,42513,168851,37969,18593,53218,21313,27731,23318546,671579,692495,2084335,233342,4921327,1813931,997949,3398290,3991659,285831,944213,586756,405741,1124087,569242,596197,8688404,289462,254646,815537,91755,1751659,693086,389915,1133685,1421212,99827,449525,242620,162432,455456,227613,209393,7716136,269813,174443,779059,71130,1821315,597516,418070,1224499,1362317,98701,216843,131285,89835,230082,108992,120172,5004151,177771,104798,521010,46627,1238312,383139,276963,732942,806362,69354,149980,95228,67491,166867,81662,84387,2711985,92042,69645,258049,24503,583003,214377,141107,491557,555955,29347,66863,36057,22344,63215,27330,35785,7431756,263406,171224,750908,69581,1772130,582333,398763,1165634,1300617,96884,209756,125808,85073,218405,103580,115653,4768238,172393,102090,497643,45251,1196927,370332,260593,683369,758276,67892,144036,90504,63224,156789,77218,80475,2663518,91013,69134,253265,24330,575203,212001,138170,482265,542341,28992,65720,35304,21849,61616,26362,35178,284380,6407,3219,28151,1549,49185,15183,19307,58865,61700,1817,7087,5477,4762,11677,5412,4519,235913,5378,2708,23367,1376,41385,12807,16370,49573,48086,1462,5944,4724,4267,10078,4444,3912,48467,1029,511,4784,173,7800,2376,2937,9292,13614,355,1143,753,495,1599,968,607]
["6 Monatswert - Dezember 2016",31847718,951159,947997,2874897,323259,6660263,2502114,1376502,4523442,5374930,382746,1397409,824206,554458,1568849,787553,796807,17030591,495319,505365,1552268,180826,3634472,1360107,730484,2475654,2899298,208041,692610,423780,269839,798640,395849,407339,14817127,455840,442632,1322629,142433,3025791,1142007,646018,2047788,2475632,174705,704799,400426,284619,770209,391704,389468,28604216,894869,843603,2666392,293263,5998131,2155600,1248527,3879743,4687612,341332,1221798,785418,536651,1515028,766274,769154,3227028,55853,103312,207499,29864,657034,345145,127416,642123,685613,41321,173154,38457,17691,53550,21142,27553,23103965,662028,689893,2056669,231157,4890364,1802992,985310,3378880,3944074,282437,944104,580776,394892,1111833,560471,587332,8743652,289130,258102,818208,92102,1769867,699113,391189,1144555,1430844,100307,453304,243427,159566,457013,227081,209470,7624134,265360,176063,764560,71423,1811331,594318,403921,1204120,1344763,98049,218050,128024,87904,228463,107445,119252,4945458,175570,105736,512323,46918,1232765,381082,266517,718273,796886,69037,150503,92615,66547,165434,80518,84036,2678676,89790,70327,252237,24505,578566,213236,137404,485847,547877,29012,67547,35409,21357,63029,26927,35216,7440365,260433,173560,748776,70319,1773072,583350,395536,1170548,1307143,96902,211669,124725,84463,219557,103233,115998,4794284,171392,103747,499538,45941,1200428,372037,259787,690369,767157,68154,145167,89862,63565,157971,77278,81199,2646081,89041,69813,249238,24378,572644,211313,135749,480179,539986,28748,66502,34863,20898,61586,25955,34799,183769,4927,2503,15784,1104,38259,10968,8385,33572,37620,1147,6381,3299,3441,8906,4212,3254,151174,4178,1989,12785,977,32337,9045,6730,27904,29729,883,5336,2753,2982,7463,3240,2837,32595,749,514,2999,127,5922,1923,1655,5668,7891,264,1045,546,459,1443,972,417]
["6 Monatswert - März 2017",31930223,953846,948623,2882289,323637,6668708,2509930,1379336,4535262,5406034,383121,1409492,824413,554601,1566757,786683,796012,17100289,496786,505644,1557410,181152,3642591,1366281,733821,2485272,2924069,208419,700634,424217,270526,798609,396397,407663,14829934,457060,442979,1324879,142485,3026117,1143649,645515,2049990,2481965,174702,708858,400196,284075,768148,390286,388349,28572306,894805,842129,2663304,293012,5984813,2153521,1245275,3873726,4693554,340264,1226267,783902,535940,1510111,763909,766586,3341256,58591,105410,217972,30492,678743,355075,133522,659952,710756,42758,180644,40173,18539,56379,22633,29330,23119375,661652,688572,2057778,230685,4885136,1805011,985818,3383607,3963655,281969,950207,578941,394414,1107609,558093,585395,8810815,292194,260051,824501,92952,1783561,704914,393518,1151654,1442373,101152,459285,245472,160187,459148,228590,210617,7550396,261931,173234,757318,70444,1791536,588449,405875,1191988,1333882,96673,217244,128695,85584,224344,104611,116672,4895684,172968,103591,508332,46093,1219842,376956,269700,710176,787981,67991,149636,93481,64877,162309,78417,82038,2654712,88963,69643,248986,24351,571694,211493,136175,481812,545901,28682,67608,35214,20707,62035,26194,34634,7348437,257505,170527,739389,69440,1750346,575345,392087,1155908,1294602,95419,209535,123347,82720,215965,100873,113535,4722353,169098,101334,492797,45182,1183626,365615,257443,679659,755332,66995,143124,88666,62340,155277,75347,79238,2626084,88407,69193,246592,24258,566720,209730,134644,476249,539270,28424,66411,34681,20380,60688,25526,34297,201959,4426,2707,17929,1004,41190,13104,13788,36080,39280,1254,7709,5348,2864,8379,3738,3137,173331,3870,2257,15535,911,36216,11341,12257,30517,32649,996,6512,4815,2537,7032,3070,2800,28628,556,450,2394,93,4974,1763,1531,5563,6631,258,1197,533,327,1347,668,337]

{"sheet":"10_Grafik","index":29,"n_rows":39,"n_cols":10,"rows_kept":39,"cut":false,"hidden":false,"merged":[[2,0,2,9],[6,2,6,3],[6,4,7,4],[6,0,8,0],[6,1,7,1],[6,5,6,6],[6,7,7,7],[6,8,6,9]]}
[null,null,null,null,null,null,null,null,null,"Beschäftigungsstatistik"]
[]
["Geringfügig Beschäftigte - Veränderung in %"]
[null,null,"(Arbeitsort)"]
["Zeitreihe"]
[]
["Stichtag","geringfügig Beschäftigte (GB)","davon",null,"geringfügig entlohnte Beschäftigte (GeB)","davon",null,"kurzfristig Beschäftigte (kfB)","davon"]
[null,null,"ausschließlich GB","im Nebenjob GB",null,"ausschließlich GeB","im Nebenjob GeB",null,"ausschließlich kfB","im Nebenjob kfB"]
[null,1,2,3,4,5,6,7,8,9]
["   31.03.2010",{"$f":"'10'!E12","v":0},{"$f":"'10'!I12","v":0},{"$f":"'10'!M12","v":0},{"$f":"'10'!Q12","v":0},{"$f":"'10'!U12","v":0},{"$f":"'10'!Y12","v":0},{"$f":"'10'!AC12","v":0},{"$f":"'10'!AG12","v":0},{"$f":"'10'!AK12","v":0}]
["   30.06.2010",{"$f":"'10'!E13","v":0},{"$f":"'10'!I13","v":0},{"$f":"'10'!M13","v":0},{"$f":"'10'!Q13","v":0},{"$f":"'10'!U13","v":0},{"$f":"'10'!Y13","v":0},{"$f":"'10'!AC13","v":0},{"$f":"'10'!AG13","v":0},{"$f":"'10'!AK13","v":0}]
["   30.09.2010",{"$f":"'10'!E14","v":0},{"$f":"'10'!I14","v":0},{"$f":"'10'!M14","v":0},{"$f":"'10'!Q14","v":0},{"$f":"'10'!U14","v":0},{"$f":"'10'!Y14","v":0},{"$f":"'10'!AC14","v":0},{"$f":"'10'!AG14","v":0},{"$f":"'10'!AK14","v":0}]
["   31.12.2010",{"$f":"'10'!E15","v":0},{"$f":"'10'!I15","v":0},{"$f":"'10'!M15","v":0},{"$f":"'10'!Q15","v":0},{"$f":"'10'!U15","v":0},{"$f":"'10'!Y15","v":0},{"$f":"'10'!AC15","v":0},{"$f":"'10'!AG15","v":0},{"$f":"'10'!AK15","v":0}]
["   31.03.2011",{"$f":"'10'!E16","v":0},{"$f":"'10'!I16","v":0},{"$f":"'10'!M16","v":0},{"$f":"'10'!Q16","v":0},{"$f":"'10'!U16","v":0},{"$f":"'10'!Y16","v":0},{"$f":"'10'!AC16","v":0},{"$f":"'10'!AG16","v":0},{"$f":"'10'!AK16","v":0}]
["   30.06.2011",{"$f":"'10'!E17","v":0},{"$f":"'10'!I17","v":0},{"$f":"'10'!M17","v":0},{"$f":"'10'!Q17","v":0},{"$f":"'10'!U17","v":0},{"$f":"'10'!Y17","v":0},{"$f":"'10'!AC17","v":0},{"$f":"'10'!AG17","v":0},{"$f":"'10'!AK17","v":0}]
["   30.09.2011",{"$f":"'10'!E18","v":0},{"$f":"'10'!I18","v":0},{"$f":"'10'!M18","v":0},{"$f":"'10'!Q18","v":0},{"$f":"'10'!U18","v":0},{"$f":"'10'!Y18","v":0},{"$f":"'10'!AC18","v":0},{"$f":"'10'!AG18","v":0},{"$f":"'10'!AK18","v":0}]
["   31.12.2011",{"$f":"'10'!E19","v":0},{"$f":"'10'!I19","v":0},{"$f":"'10'!M19","v":0},{"$f":"'10'!Q19","v":0},{"$f":"'10'!U19","v":0},{"$f":"'10'!Y19","v":0},{"$f":"'10'!AC19","v":0},{"$f":"'10'!AG19","v":0},{"$f":"'10'!AK19","v":0}]
["   31.03.2012",{"$f":"'10'!E20","v":0},{"$f":"'10'!I20","v":0},{"$f":"'10'!M20","v":0},{"$f":"'10'!Q20","v":0},{"$f":"'10'!U20","v":0},{"$f":"'10'!Y20","v":0},{"$f":"'10'!AC20","v":0},{"$f":"'10'!AG20","v":0},{"$f":"'10'!AK20","v":0}]
["   30.06.2012",{"$f":"'10'!E21","v":0},{"$f":"'10'!I21","v":0},{"$f":"'10'!M21","v":0},{"$f":"'10'!Q21","v":0},{"$f":"'10'!U21","v":0},{"$f":"'10'!Y21","v":0},{"$f":"'10'!AC21","v":0},{"$f":"'10'!AG21","v":0},{"$f":"'10'!AK21","v":0}]
["   30.09.2012",{"$f":"'10'!E22","v":0},{"$f":"'10'!I22","v":0},{"$f":"'10'!M22","v":0},{"$f":"'10'!Q22","v":0},{"$f":"'10'!U22","v":0},{"$f":"'10'!Y22","v":0},{"$f":"'10'!AC22","v":0},{"$f":"'10'!AG22","v":0},{"$f":"'10'!AK22","v":0}]
["   31.12.2012",{"$f":"'10'!E23","v":0},{"$f":"'10'!I23","v":0},{"$f":"'10'!M23","v":0},{"$f":"'10'!Q23","v":0},{"$f":"'10'!U23","v":0},{"$f":"'10'!Y23","v":0},{"$f":"'10'!AC23","v":0},{"$f":"'10'!AG23","v":0},{"$f":"'10'!AK23","v":0}]
["   31.03.2013",{"$f":"'10'!E24","v":0},{"$f":"'10'!I24","v":0},{"$f":"'10'!M24","v":0},{"$f":"'10'!Q24","v":0},{"$f":"'10'!U24","v":0},{"$f":"'10'!Y24","v":0},{"$f":"'10'!AC24","v":0},{"$f":"'10'!AG24","v":0},{"$f":"'10'!AK24","v":0}]
["   30.06.2013",{"$f":"'10'!E25","v":0},{"$f":"'10'!I25","v":0},{"$f":"'10'!M25","v":0},{"$f":"'10'!Q25","v":0},{"$f":"'10'!U25","v":0},{"$f":"'10'!Y25","v":0},{"$f":"'10'!AC25","v":0},{"$f":"'10'!AG25","v":0},{"$f":"'10'!AK25","v":0}]
["   30.09.2013",{"$f":"'10'!E26","v":0},{"$f":"'10'!I26","v":0},{"$f":"'10'!M26","v":0},{"$f":"'10'!Q26","v":0},{"$f":"'10'!U26","v":0},{"$f":"'10'!Y26","v":0},{"$f":"'10'!AC26","v":0},{"$f":"'10'!AG26","v":0},{"$f":"'10'!AK26","v":0}]
["   31.12.2013",{"$f":"'10'!E27","v":0},{"$f":"'10'!I27","v":0},{"$f":"'10'!M27","v":0},{"$f":"'10'!Q27","v":0},{"$f":"'10'!U27","v":0},{"$f":"'10'!Y27","v":0},{"$f":"'10'!AC27","v":0},{"$f":"'10'!AG27","v":0},{"$f":"'10'!AK27","v":0}]
["   31.03.2014",{"$f":"'10'!E28","v":0},{"$f":"'10'!I28","v":0},{"$f":"'10'!M28","v":0},{"$f":"'10'!Q28","v":0},{"$f":"'10'!U28","v":0},{"$f":"'10'!Y28","v":0},{"$f":"'10'!AC28","v":0},{"$f":"'10'!AG28","v":0},{"$f":"'10'!AK28","v":0}]
["   30.06.2014",{"$f":"'10'!E29","v":0},{"$f":"'10'!I29","v":0},{"$f":"'10'!M29","v":0},{"$f":"'10'!Q29","v":0},{"$f":"'10'!U29","v":0},{"$f":"'10'!Y29","v":0},{"$f":"'10'!AC29","v":0},{"$f":"'10'!AG29","v":0},{"$f":"'10'!AK29","v":0}]
["   30.09.2014",{"$f":"'10'!E30","v":0},{"$f":"'10'!I30","v":0},{"$f":"'10'!M30","v":0},{"$f":"'10'!Q30","v":0},{"$f":"'10'!U30","v":0},{"$f":"'10'!Y30","v":0},{"$f":"'10'!AC30","v":0},{"$f":"'10'!AG30","v":0},{"$f":"'10'!AK30","v":0}]
["   31.12.2014",{"$f":"'10'!E31","v":0},{"$f":"'10'!I31","v":0},{"$f":"'10'!M31","v":0},{"$f":"'10'!Q31","v":0},{"$f":"'10'!U31","v":0},{"$f":"'10'!Y31","v":0},{"$f":"'10'!AC31","v":0},{"$f":"'10'!AG31","v":0},{"$f":"'10'!AK31","v":0}]
["   31.03.2015",{"$f":"'10'!E32","v":0},{"$f":"'10'!I32","v":0},{"$f":"'10'!M32","v":0},{"$f":"'10'!Q32","v":0},{"$f":"'10'!U32","v":0},{"$f":"'10'!Y32","v":0},{"$f":"'10'!AC32","v":0},{"$f":"'10'!AG32","v":0},{"$f":"'10'!AK32","v":0}]
["   30.06.2015",{"$f":"'10'!E33","v":0},{"$f":"'10'!I33","v":0},{"$f":"'10'!M33","v":0},{"$f":"'10'!Q33","v":0},{"$f":"'10'!U33","v":0},{"$f":"'10'!Y33","v":0},{"$f":"'10'!AC33","v":0},{"$f":"'10'!AG33","v":0},{"$f":"'10'!AK33","v":0}]
["   30.09.2015",{"$f":"'10'!E34","v":1.2112692417885278E-2},{"$f":"'10'!I34","v":7.8524902778456321E-3},{"$f":"'10'!M34","v":2.0378682746509145E-2},{"$f":"'10'!Q34","v":1.1252389605778164E-2},{"$f":"'10'!U34","v":6.2376455632562758E-3},{"$f":"'10'!Y34","v":2.0681698495240278E-2},{"$f":"'10'!AC34","v":6.7673033826314943E-4},{"$f":"'10'!AG34","v":3.9396622450388684E-2},{"$f":"'10'!AK34","v":4.1799903860221125E-3}]
["   31.12.2015",{"$f":"'10'!E35","v":1.9052180412537759E-2},{"$f":"'10'!I35","v":1.2806773164675524E-2},{"$f":"'10'!M35","v":3.1196326681095454E-2},{"$f":"'10'!Q35","v":1.8013744893678948E-2},{"$f":"'10'!U35","v":1.1232971414152635E-2},{"$f":"'10'!Y35","v":3.0940435724787579E-2},{"$f":"'10'!AC35","v":1.0922045178478467E-3},{"$f":"'10'!AG35","v":5.9773968128766682E-2},{"$f":"'10'!AK35","v":5.0511053006893271E-2}]
["   31.03.2016",{"$f":"'10'!E36","v":-4.238846501901232E-2},{"$f":"'10'!I36","v":-3.4268053898695819E-2},{"$f":"'10'!M36","v":-5.8178936640945519E-2},{"$f":"'10'!Q36","v":-4.0677565371775568E-2},{"$f":"'10'!U36","v":-3.2655040886745333E-2},{"$f":"'10'!Y36","v":-5.5873177785996618E-2},{"$f":"'10'!AC36","v":-5.4189815142047996E-4},{"$f":"'10'!AG36","v":-7.6340040351164179E-2},{"$f":"'10'!AK36","v":-0.26017275470912687}]
["   30.06.2016",{"$f":"'10'!E37","v":9.1850356635698335E-2},{"$f":"'10'!I37","v":7.177362947379232E-3},{"$f":"'10'!M37","v":0.25832431460880406},{"$f":"'10'!Q37","v":9.8142165975966922E-2},{"$f":"'10'!U37","v":1.0936650071191014E-2},{"$f":"'10'!Y37","v":0.26276083990332449},{"$f":"'10'!AC37","v":-2.5091472710641325E-4},{"$f":"'10'!AG37","v":-5.8890261790697507E-2},{"$f":"'10'!AK37","v":-4.2036677000683094E-2}]
["   30.09.2016",{"$f":"'10'!E38","v":-6.0680075344318955E-2},{"$f":"'10'!I38","v":-2.6750627810663893E-2},{"$f":"'10'!M38","v":-0.12322622914112497},{"$f":"'10'!Q38","v":-6.1656666901100957E-2},{"$f":"'10'!U38","v":-2.7172465905474202E-2},{"$f":"'10'!Y38","v":-0.12333100970561424},{"$f":"'10'!AC38","v":0},{"$f":"'10'!AG38","v":-1.8223736628863008E-2},{"$f":"'10'!AK38","v":-0.11746764487676202}]
["   31.12.2016",{"$f":"'10'!E39","v":-4.4863649640854819E-2},{"$f":"'10'!I39","v":-1.8356910911970524E-2},{"$f":"'10'!M39","v":-9.3764335985140931E-2},{"$f":"'10'!Q39","v":-4.6360630085429302E-2},{"$f":"'10'!U39","v":-1.9394337770952452E-2},{"$f":"'10'!Y39","v":-9.5182288618675059E-2},{"$f":"'10'!AC39","v":7.0207902470882774E-4},{"$f":"'10'!AG39","v":1.4554885148724463E-2},{"$f":"'10'!AK39","v":2.148029949674727E-2}]
["   31.03.2017",{"$f":"'10'!E40","v":-3.2146916173341256E-2},{"$f":"'10'!I40","v":-1.4541307524963258E-2},{"$f":"'10'!M40","v":-6.4598024113584104E-2},{"$f":"'10'!Q40","v":-3.3261314764677218E-2},{"$f":"'10'!U40","v":-1.558302204341269E-2},{"$f":"'10'!Y40","v":-6.5035564064597179E-2},{"$f":"'10'!AC40","v":5.7937427578215526E-4},{"$f":"'10'!AG40","v":1.3848257716076097E-2},{"$f":"'10'!AK40","v":-2.4445608521040683E-2}]
[null,null,null,null,null,null,null,null,null,"© Statistik der Bundesagentur für Arbeit"]

{"sheet":"10","index":30,"n_rows":42,"n_cols":37,"rows_kept":42,"cut":false,"hidden":false,"merged":[[8,1,9,1],[8,2,9,2],[8,3,8,4],[2,0,2,4],[6,0,10,0],[6,1,7,4],[8,11,8,12],[6,5,6,12],[7,5,7,8],[7,9,7,12],[8,5,9,5],[8,6,9,6],[8,7,8,8],[8,9,9,9],[8,10,9,10],[6,13,7,16],[6,17,6,24],[7,17,7,20],[7,21,7,24],[8,19,8,20],[8,21,9,21],[8,22,9,22],[8,23,8,24],[8,13,9,13],[8,14,9,14],[8,15,8,16],[8,17,9,17],[8,18,9,18],[6,25,7,28],[6,29,6,36],[7,29,7,32],[7,33,7,36],[8,31,8,32],[8,33,9,33],[8,34,9,34],[8,35,8,36],[8,25,9,25],[8,26,9,26],[8,27,8,28],[8,29,9,29],[8,30,9,30]]}
[null,null,null,null,null,null,null,null,null,null,null,null,null,null,null,null,null,null,null,null,null,null,null,null,null,null,null,null,null,null,null,null,null,null,null,null,"Beschäftigungsstatistik"]
[]
["Geringfügig Beschäftigte "]
[null,null,null,"(Arbeitsort)"]
["Zeitreihe"]
[]
["Stichtag","geringfügig Beschäftigte (GB)",null,null,null,"davon",null,null,null,null,null,null,null,"geringfügig entlohnte Beschäftigte (GeB)",null,null,null,"davon",null,null,null,null,null,null,null,"kurzfristig Beschäftigte (kfB)",null,null,null,"davon"]
[null,null,null,null,null,"ausschließlich GB",null,null,null,"im Nebenjob GB",null,null,null,null,null,null,null,"ausschließlich GeB",null,null,null,"im Nebenjob GeB",null,null,null,null,null,null,null,"ausschließlich kfB",null,null,null,"im Nebenjob kfB"]
[null," nach Revision"," vor Revision","Veränderung (Spalte 1 zu 2)",null," nach Revision"," vor Revision","Veränderung (Spalte 5 zu 6)",null," nach Revision"," vor Revision","Veränderung (Spalte 9 zu 10)",null," nach Revision"," vor Revision","Veränderung (Spalte 13 zu 14)",null," nach Revision"," vor Revision","Veränderung (Spalte 17 zu 18)",null," nach Revision"," vor Revision","Veränderung (Spalte 21 zu 22)",null," nach Revision"," vor Revision","Veränderung (Spalte 25 zu 26)",null," nach Revision"," vor Revision","Veränderung (Spalte 29 zu 30)",null," nach Revision"," vor Revision","Veränderung (Spalte 33 zu 34)"]
[null,null,null,"absolut","in %",null,null,"absolut","in %",null,null,"absolut","in %",null,null,"absolut","in %",null,null,"absolut","in %",null,null,"absolut","in %",null,null,"absolut","in %",null,null,"absolut","in %",null,null,"absolut","in %"]
[null,1,2,3,4,5,6,7,8,9,10,11,12,13,14,15,16,17,18,19,20,21,22,23,24,25,26,27,28,29,30,31,32,33,34,35,36]
["   31.03.2010",{"$f":"'10 Steuerung'!AH13","v":7237214},{"$f":"'10 Steuerung'!M13","v":7237214},{"$f":"B12-C12","v":0},{"$f":"(D12*100)/C12","v":0},{"$f":"'10 Steuerung'!AI13","v":5242841},{"$f":"'10 Steuerung'!N13","v":5242841},{"$f":"F12-G12","v":0},{"$f":"(H12*100)/G12","v":0},{"$f":"'10 Steuerung'!AJ13","v":1994373},{"$f":"'10 Steuerung'!O13","v":1994373},{"$f":"J12-K12","v":0},{"$f":"(L12*100)/K12","v":0},{"$f":"'10 Steuerung'!AK13","v":6957544},{"$f":"'10 Steuerung'!P13","v":6957544},{"$f":"N12-O12","v":0},{"$f":"(P12*100)/O12","v":0},{"$f":"'10 Steuerung'!AL13","v":4994391},{"$f":"'10 Steuerung'!Q13","v":4994391},{"$f":"R12-S12","v":0},{"$f":"(T12*100)/S12","v":0},{"$f":"'10 Steuerung'!AM13","v":1963153},{"$f":"'10 Steuerung'!R13","v":1963153},{"$f":"V12-W12","v":0},{"$f":"(X12*100)/W12","v":0},{"$f":"'10 Steuerung'!AN13","v":279670},{"$f":"'10 Steuerung'!S13","v":279670},{"$f":"Z12-AA12","v":0},{"$f":"(AB12*100)/AA12","v":0},{"$f":"'10 Steuerung'!AO13","v":248450},{"$f":"'10 Steuerung'!T13","v":248450},{"$f":"AD12-AE12","v":0},{"$f":"(AF12*100)/AE12","v":0},{"$f":"'10 Steuerung'!AP13","v":31220},{"$f":"'10 Steuerung'!U13","v":31220},{"$f":"AH12-AI12","v":0},{"$f":"(AJ12*100)/AI12","v":0}]
["   30.06.2010",{"$f":"'10 Steuerung'!AH14","v":7450194},{"$f":"'10 Steuerung'!M14","v":7450194},0,0,{"$f":"'10 Steuerung'!AI14","v":5389151},{"$f":"'10 Steuerung'!N14","v":5389151},0,0,{"$f":"'10 Steuerung'!AJ14","v":2061043},{"$f":"'10 Steuerung'!O14","v":2061043},0,0,{"$f":"'10 Steuerung'!AK14","v":7102584},{"$f":"'10 Steuerung'!P14","v":7102584},0,0,{"$f":"'10 Steuerung'!AL14","v":5078734},{"$f":"'10 Steuerung'!Q14","v":5078734},0,0,{"$f":"'10 Steuerung'!AM14","v":2023850},{"$f":"'10 Steuerung'!R14","v":2023850},0,0,{"$f":"'10 Steuerung'!AN14","v":347610},{"$f":"'10 Steuerung'!S14","v":347610},0,0,{"$f":"'10 Steuerung'!AO14","v":310417},{"$f":"'10 Steuerung'!T14","v":310417},0,0,{"$f":"'10 Steuerung'!AP14","v":37193},{"$f":"'10 Steuerung'!U14","v":37193},0,0]
["   30.09.2010",{"$f":"'10 Steuerung'!AH15","v":7424683},{"$f":"'10 Steuerung'!M15","v":7424683},0,0,{"$f":"'10 Steuerung'!AI15","v":5284676},{"$f":"'10 Steuerung'!N15","v":5284676},0,0,{"$f":"'10 Steuerung'!AJ15","v":2140007},{"$f":"'10 Steuerung'!O15","v":2140007},0,0,{"$f":"'10 Steuerung'!AK15","v":7091408},{"$f":"'10 Steuerung'!P15","v":7091408},0,0,{"$f":"'10 Steuerung'!AL15","v":4997829},{"$f":"'10 Steuerung'!Q15","v":4997829},0,0,{"$f":"'10 Steuerung'!AM15","v":2093579},{"$f":"'10 Steuerung'!R15","v":2093579},0,0,{"$f":"'10 Steuerung'!AN15","v":333275},{"$f":"'10 Steuerung'!S15","v":333275},0,0,{"$f":"'10 Steuerung'!AO15","v":286847},{"$f":"'10 Steuerung'!T15","v":286847},0,0,{"$f":"'10 Steuerung'!AP15","v":46428},{"$f":"'10 Steuerung'!U15","v":46428},0,0]
["   31.12.2010",{"$f":"'10 Steuerung'!AH16","v":7391102},{"$f":"'10 Steuerung'!M16","v":7391102},0,0,{"$f":"'10 Steuerung'!AI16","v":5265313},{"$f":"'10 Steuerung'!N16","v":5265313},0,0,{"$f":"'10 Steuerung'!AJ16","v":2125789},{"$f":"'10 Steuerung'!O16","v":2125789},0,0,{"$f":"'10 Steuerung'!AK16","v":7133342},{"$f":"'10 Steuerung'!P16","v":7133342},0,0,{"$f":"'10 Steuerung'!AL16","v":5043089},{"$f":"'10 Steuerung'!Q16","v":5043089},0,0,{"$f":"'10 Steuerung'!AM16","v":2090253},{"$f":"'10 Steuerung'!R16","v":2090253},0,0,{"$f":"'10 Steuerung'!AN16","v":257760},{"$f":"'10 Steuerung'!S16","v":257760},0,0,{"$f":"'10 Steuerung'!AO16","v":222224},{"$f":"'10 Steuerung'!T16","v":222224},0,0,{"$f":"'10 Steuerung'!AP16","v":35536},{"$f":"'10 Steuerung'!U16","v":35536},0,0]
["   31.03.2011",{"$f":"'10 Steuerung'!AH17","v":7337126},{"$f":"'10 Steuerung'!M17","v":7337126},0,0,{"$f":"'10 Steuerung'!AI17","v":5222437},{"$f":"'10 Steuerung'!N17","v":5222437},0,0,{"$f":"'10 Steuerung'!AJ17","v":2114689},{"$f":"'10 Steuerung'!O17","v":2114689},0,0,{"$f":"'10 Steuerung'!AK17","v":7076245},{"$f":"'10 Steuerung'!P17","v":7076245},0,0,{"$f":"'10 Steuerung'!AL17","v":4992360},{"$f":"'10 Steuerung'!Q17","v":4992360},0,0,{"$f":"'10 Steuerung'!AM17","v":2083885},{"$f":"'10 Steuerung'!R17","v":2083885},0,0,{"$f":"'10 Steuerung'!AN17","v":260881},{"$f":"'10 Steuerung'!S17","v":260881},0,0,{"$f":"'10 Steuerung'!AO17","v":230077},{"$f":"'10 Steuerung'!T17","v":230077},0,0,{"$f":"'10 Steuerung'!AP17","v":30804},{"$f":"'10 Steuerung'!U17","v":30804},0,0]
["   30.06.2011",{"$f":"'10 Steuerung'!AH18","v":7536790},{"$f":"'10 Steuerung'!M18","v":7536790},0,0,{"$f":"'10 Steuerung'!AI18","v":5367231},{"$f":"'10 Steuerung'!N18","v":5367231},0,0,{"$f":"'10 Steuerung'!AJ18","v":2169559},{"$f":"'10 Steuerung'!O18","v":2169559},0,0,{"$f":"'10 Steuerung'!AK18","v":7198104},{"$f":"'10 Steuerung'!P18","v":7198104},0,0,{"$f":"'10 Steuerung'!AL18","v":5065623},{"$f":"'10 Steuerung'!Q18","v":5065623},0,0,{"$f":"'10 Steuerung'!AM18","v":2132481},{"$f":"'10 Steuerung'!R18","v":2132481},0,0,{"$f":"'10 Steuerung'!AN18","v":338686},{"$f":"'10 Steuerung'!S18","v":338686},0,0,{"$f":"'10 Steuerung'!AO18","v":301608},{"$f":"'10 Steuerung'!T18","v":301608},0,0,{"$f":"'10 Steuerung'!AP18","v":37078},{"$f":"'10 Steuerung'!U18","v":37078},0,0]
["   30.09.2011",{"$f":"'10 Steuerung'!AH19","v":7521172},{"$f":"'10 Steuerung'!M19","v":7521172},0,0,{"$f":"'10 Steuerung'!AI19","v":5261894},{"$f":"'10 Steuerung'!N19","v":5261894},0,0,{"$f":"'10 Steuerung'!AJ19","v":2259278},{"$f":"'10 Steuerung'!O19","v":2259278},0,0,{"$f":"'10 Steuerung'!AK19","v":7191873},{"$f":"'10 Steuerung'!P19","v":7191873},0,0,{"$f":"'10 Steuerung'!AL19","v":4980556},{"$f":"'10 Steuerung'!Q19","v":4980556},0,0,{"$f":"'10 Steuerung'!AM19","v":2211317},{"$f":"'10 Steuerung'!R19","v":2211317},0,0,{"$f":"'10 Steuerung'!AN19","v":329299},{"$f":"'10 Steuerung'!S19","v":329299},0,0,{"$f":"'10 Steuerung'!AO19","v":281338},{"$f":"'10 Steuerung'!T19","v":281338},0,0,{"$f":"'10 Steuerung'!AP19","v":47961},{"$f":"'10 Steuerung'!U19","v":47961},0,0]
["   31.12.2011",{"$f":"'10 Steuerung'!AH20","v":7471382},{"$f":"'10 Steuerung'!M20","v":7471382},0,0,{"$f":"'10 Steuerung'!AI20","v":5229538},{"$f":"'10 Steuerung'!N20","v":5229538},0,0,{"$f":"'10 Steuerung'!AJ20","v":2241844},{"$f":"'10 Steuerung'!O20","v":2241844},0,0,{"$f":"'10 Steuerung'!AK20","v":7227541},{"$f":"'10 Steuerung'!P20","v":7227541},0,0,{"$f":"'10 Steuerung'!AL20","v":5021228},{"$f":"'10 Steuerung'!Q20","v":5021228},0,0,{"$f":"'10 Steuerung'!AM20","v":2206313},{"$f":"'10 Steuerung'!R20","v":2206313},0,0,{"$f":"'10 Steuerung'!AN20","v":243841},{"$f":"'10 Steuerung'!S20","v":243841},0,0,{"$f":"'10 Steuerung'!AO20","v":208310},{"$f":"'10 Steuerung'!T20","v":208310},0,0,{"$f":"'10 Steuerung'!AP20","v":35531},{"$f":"'10 Steuerung'!U20","v":35531},0,0]
["   31.03.2012",{"$f":"'10 Steuerung'!AH21","v":7346268},{"$f":"'10 Steuerung'!M21","v":7346268},0,0,{"$f":"'10 Steuerung'!AI21","v":5146417},{"$f":"'10 Steuerung'!N21","v":5146417},0,0,{"$f":"'10 Steuerung'!AJ21","v":2199851},{"$f":"'10 Steuerung'!O21","v":2199851},0,0,{"$f":"'10 Steuerung'!AK21","v":7103632},{"$f":"'10 Steuerung'!P21","v":7103632},0,0,{"$f":"'10 Steuerung'!AL21","v":4935125},{"$f":"'10 Steuerung'!Q21","v":4935125},0,0,{"$f":"'10 Steuerung'!AM21","v":2168507},{"$f":"'10 Steuerung'!R21","v":2168507},0,0,{"$f":"'10 Steuerung'!AN21","v":242636},{"$f":"'10 Steuerung'!S21","v":242636},0,0,{"$f":"'10 Steuerung'!AO21","v":211292},{"$f":"'10 Steuerung'!T21","v":211292},0,0,{"$f":"'10 Steuerung'!AP21","v":31344},{"$f":"'10 Steuerung'!U21","v":31344},0,0]
["   30.06.2012",{"$f":"'10 Steuerung'!AH22","v":7591384},{"$f":"'10 Steuerung'!M22","v":7591384},0,0,{"$f":"'10 Steuerung'!AI22","v":5321600},{"$f":"'10 Steuerung'!N22","v":5321600},0,0,{"$f":"'10 Steuerung'!AJ22","v":2269784},{"$f":"'10 Steuerung'!O22","v":2269784},0,0,{"$f":"'10 Steuerung'!AK22","v":7263297},{"$f":"'10 Steuerung'!P22","v":7263297},0,0,{"$f":"'10 Steuerung'!AL22","v":5032466},{"$f":"'10 Steuerung'!Q22","v":5032466},0,0,{"$f":"'10 Steuerung'!AM22","v":2230831},{"$f":"'10 Steuerung'!R22","v":2230831},0,0,{"$f":"'10 Steuerung'!AN22","v":328087},{"$f":"'10 Steuerung'!S22","v":328087},0,0,{"$f":"'10 Steuerung'!AO22","v":289134},{"$f":"'10 Steuerung'!T22","v":289134},0,0,{"$f":"'10 Steuerung'!AP22","v":38953},{"$f":"'10 Steuerung'!U22","v":38953},0,0]
["   30.09.2012",{"$f":"'10 Steuerung'!AH23","v":7582289},{"$f":"'10 Steuerung'!M23","v":7582289},0,0,{"$f":"'10 Steuerung'!AI23","v":5218880},{"$f":"'10 Steuerung'!N23","v":5218880},0,0,{"$f":"'10 Steuerung'!AJ23","v":2363409},{"$f":"'10 Steuerung'!O23","v":2363409},0,0,{"$f":"'10 Steuerung'!AK23","v":7272951},{"$f":"'10 Steuerung'!P23","v":7272951},0,0,{"$f":"'10 Steuerung'!AL23","v":4957773},{"$f":"'10 Steuerung'!Q23","v":4957773},0,0,{"$f":"'10 Steuerung'!AM23","v":2315178},{"$f":"'10 Steuerung'!R23","v":2315178},0,0,{"$f":"'10 Steuerung'!AN23","v":309338},{"$f":"'10 Steuerung'!S23","v":309338},0,0,{"$f":"'10 Steuerung'!AO23","v":261107},{"$f":"'10 Steuerung'!T23","v":261107},0,0,{"$f":"'10 Steuerung'!AP23","v":48231},{"$f":"'10 Steuerung'!U23","v":48231},0,0]
["   31.12.2012",{"$f":"'10 Steuerung'!AH24","v":7571732},{"$f":"'10 Steuerung'!M24","v":7571732},0,0,{"$f":"'10 Steuerung'!AI24","v":5214895},{"$f":"'10 Steuerung'!N24","v":5214895},0,0,{"$f":"'10 Steuerung'!AJ24","v":2356837},{"$f":"'10 Steuerung'!O24","v":2356837},0,0,{"$f":"'10 Steuerung'!AK24","v":7338979},{"$f":"'10 Steuerung'!P24","v":7338979},0,0,{"$f":"'10 Steuerung'!AL24","v":5017797},{"$f":"'10 Steuerung'!Q24","v":5017797},0,0,{"$f":"'10 Steuerung'!AM24","v":2321182},{"$f":"'10 Steuerung'!R24","v":2321182},0,0,{"$f":"'10 Steuerung'!AN24","v":232753},{"$f":"'10 Steuerung'!S24","v":232753},0,0,{"$f":"'10 Steuerung'!AO24","v":197098},{"$f":"'10 Steuerung'!T24","v":197098},0,0,{"$f":"'10 Steuerung'!AP24","v":35655},{"$f":"'10 Steuerung'!U24","v":35655},0,0]
["   31.03.2013",{"$f":"'10 Steuerung'!AH25","v":7492943},{"$f":"'10 Steuerung'!M25","v":7492943},0,0,{"$f":"'10 Steuerung'!AI25","v":5178003},{"$f":"'10 Steuerung'!N25","v":5178003},0,0,{"$f":"'10 Steuerung'!AJ25","v":2314940},{"$f":"'10 Steuerung'!O25","v":2314940},0,0,{"$f":"'10 Steuerung'!AK25","v":7253970},{"$f":"'10 Steuerung'!P25","v":7253970},0,0,{"$f":"'10 Steuerung'!AL25","v":4969386},{"$f":"'10 Steuerung'!Q25","v":4969386},0,0,{"$f":"'10 Steuerung'!AM25","v":2284584},{"$f":"'10 Steuerung'!R25","v":2284584},0,0,{"$f":"'10 Steuerung'!AN25","v":238973},{"$f":"'10 Steuerung'!S25","v":238973},0,0,{"$f":"'10 Steuerung'!AO25","v":208617},{"$f":"'10 Steuerung'!T25","v":208617},0,0,{"$f":"'10 Steuerung'!AP25","v":30356},{"$f":"'10 Steuerung'!U25","v":30356},0,0]
["   30.06.2013",{"$f":"'10 Steuerung'!AH26","v":7716104},{"$f":"'10 Steuerung'!M26","v":7716104},0,0,{"$f":"'10 Steuerung'!AI26","v":5345590},{"$f":"'10 Steuerung'!N26","v":5345590},0,0,{"$f":"'10 Steuerung'!AJ26","v":2370514},{"$f":"'10 Steuerung'!O26","v":2370514},0,0,{"$f":"'10 Steuerung'!AK26","v":7398934},{"$f":"'10 Steuerung'!P26","v":7398934},0,0,{"$f":"'10 Steuerung'!AL26","v":5066322},{"$f":"'10 Steuerung'!Q26","v":5066322},0,0,{"$f":"'10 Steuerung'!AM26","v":2332612},{"$f":"'10 Steuerung'!R26","v":2332612},0,0,{"$f":"'10 Steuerung'!AN26","v":317170},{"$f":"'10 Steuerung'!S26","v":317170},0,0,{"$f":"'10 Steuerung'!AO26","v":279268},{"$f":"'10 Steuerung'!T26","v":279268},0,0,{"$f":"'10 Steuerung'!AP26","v":37902},{"$f":"'10 Steuerung'!U26","v":37902},0,0]
["   30.09.2013",{"$f":"'10 Steuerung'!AH27","v":7709264},{"$f":"'10 Steuerung'!M27","v":7709264},0,0,{"$f":"'10 Steuerung'!AI27","v":5246618},{"$f":"'10 Steuerung'!N27","v":5246618},0,0,{"$f":"'10 Steuerung'!AJ27","v":2462646},{"$f":"'10 Steuerung'!O27","v":2462646},0,0,{"$f":"'10 Steuerung'!AK27","v":7419925},{"$f":"'10 Steuerung'!P27","v":7419925},0,0,{"$f":"'10 Steuerung'!AL27","v":5002842},{"$f":"'10 Steuerung'!Q27","v":5002842},0,0,{"$f":"'10 Steuerung'!AM27","v":2417083},{"$f":"'10 Steuerung'!R27","v":2417083},0,0,{"$f":"'10 Steuerung'!AN27","v":289339},{"$f":"'10 Steuerung'!S27","v":289339},0,0,{"$f":"'10 Steuerung'!AO27","v":243776},{"$f":"'10 Steuerung'!T27","v":243776},0,0,{"$f":"'10 Steuerung'!AP27","v":45563},{"$f":"'10 Steuerung'!U27","v":45563},0,0]
["   31.12.2013",{"$f":"'10 Steuerung'!AH28","v":7648749},{"$f":"'10 Steuerung'!M28","v":7648749},0,0,{"$f":"'10 Steuerung'!AI28","v":5223480},{"$f":"'10 Steuerung'!N28","v":5223480},0,0,{"$f":"'10 Steuerung'!AJ28","v":2425269},{"$f":"'10 Steuerung'!O28","v":2425269},0,0,{"$f":"'10 Steuerung'!AK28","v":7439689},{"$f":"'10 Steuerung'!P28","v":7439689},0,0,{"$f":"'10 Steuerung'!AL28","v":5047686},{"$f":"'10 Steuerung'!Q28","v":5047686},0,0,{"$f":"'10 Steuerung'!AM28","v":2392003},{"$f":"'10 Steuerung'!R28","v":2392003},0,0,{"$f":"'10 Steuerung'!AN28","v":209060},{"$f":"'10 Steuerung'!S28","v":209060},0,0,{"$f":"'10 Steuerung'!AO28","v":175794},{"$f":"'10 Steuerung'!T28","v":175794},0,0,{"$f":"'10 Steuerung'!AP28","v":33266},{"$f":"'10 Steuerung'!U28","v":33266},0,0]
["   31.03.2014",{"$f":"'10 Steuerung'!AH29","v":7566385},{"$f":"'10 Steuerung'!M29","v":7566385},0,0,{"$f":"'10 Steuerung'!AI29","v":5174050},{"$f":"'10 Steuerung'!N29","v":5174050},0,0,{"$f":"'10 Steuerung'!AJ29","v":2392335},{"$f":"'10 Steuerung'!O29","v":2392335},0,0,{"$f":"'10 Steuerung'!AK29","v":7354094},{"$f":"'10 Steuerung'!P29","v":7354094},0,0,{"$f":"'10 Steuerung'!AL29","v":4989970},{"$f":"'10 Steuerung'!Q29","v":4989970},0,0,{"$f":"'10 Steuerung'!AM29","v":2364124},{"$f":"'10 Steuerung'!R29","v":2364124},0,0,{"$f":"'10 Steuerung'!AN29","v":212291},{"$f":"'10 Steuerung'!S29","v":212291},0,0,{"$f":"'10 Steuerung'!AO29","v":184080},{"$f":"'10 Steuerung'!T29","v":184080},0,0,{"$f":"'10 Steuerung'!AP29","v":28211},{"$f":"'10 Steuerung'!U29","v":28211},0,0]
["   30.06.2014",{"$f":"'10 Steuerung'!AH30","v":7811376},{"$f":"'10 Steuerung'!M30","v":7811376},0,0,{"$f":"'10 Steuerung'!AI30","v":5349851},{"$f":"'10 Steuerung'!N30","v":5349851},0,0,{"$f":"'10 Steuerung'!AJ30","v":2461525},{"$f":"'10 Steuerung'!O30","v":2461525},0,0,{"$f":"'10 Steuerung'!AK30","v":7510554},{"$f":"'10 Steuerung'!P30","v":7510554},0,0,{"$f":"'10 Steuerung'!AL30","v":5086521},{"$f":"'10 Steuerung'!Q30","v":5086521},0,0,{"$f":"'10 Steuerung'!AM30","v":2424033},{"$f":"'10 Steuerung'!R30","v":2424033},0,0,{"$f":"'10 Steuerung'!AN30","v":300822},{"$f":"'10 Steuerung'!S30","v":300822},0,0,{"$f":"'10 Steuerung'!AO30","v":263330},{"$f":"'10 Steuerung'!T30","v":263330},0,0,{"$f":"'10 Steuerung'!AP30","v":37492},{"$f":"'10 Steuerung'!U30","v":37492},0,0]
["   30.09.2014",{"$f":"'10 Steuerung'!AH31","v":7801454},{"$f":"'10 Steuerung'!M31","v":7801454},0,0,{"$f":"'10 Steuerung'!AI31","v":5253449},{"$f":"'10 Steuerung'!N31","v":5253449},0,0,{"$f":"'10 Steuerung'!AJ31","v":2548005},{"$f":"'10 Steuerung'!O31","v":2548005},0,0,{"$f":"'10 Steuerung'!AK31","v":7511554},{"$f":"'10 Steuerung'!P31","v":7511554},0,0,{"$f":"'10 Steuerung'!AL31","v":5012995},{"$f":"'10 Steuerung'!Q31","v":5012995},0,0,{"$f":"'10 Steuerung'!AM31","v":2498559},{"$f":"'10 Steuerung'!R31","v":2498559},0,0,{"$f":"'10 Steuerung'!AN31","v":289900},{"$f":"'10 Steuerung'!S31","v":289900},0,0,{"$f":"'10 Steuerung'!AO31","v":240454},{"$f":"'10 Steuerung'!T31","v":240454},0,0,{"$f":"'10 Steuerung'!AP31","v":49446},{"$f":"'10 Steuerung'!U31","v":49446},0,0]
["   31.12.2014",{"$f":"'10 Steuerung'!AH32","v":7670012},{"$f":"'10 Steuerung'!M32","v":7670012},0,0,{"$f":"'10 Steuerung'!AI32","v":5170108},{"$f":"'10 Steuerung'!N32","v":5170108},0,0,{"$f":"'10 Steuerung'!AJ32","v":2499904},{"$f":"'10 Steuerung'!O32","v":2499904},0,0,{"$f":"'10 Steuerung'!AK32","v":7479335},{"$f":"'10 Steuerung'!P32","v":7479335},0,0,{"$f":"'10 Steuerung'!AL32","v":5012350},{"$f":"'10 Steuerung'!Q32","v":5012350},0,0,{"$f":"'10 Steuerung'!AM32","v":2466985},{"$f":"'10 Steuerung'!R32","v":2466985},0,0,{"$f":"'10 Steuerung'!AN32","v":190677},{"$f":"'10 Steuerung'!S32","v":190677},0,0,{"$f":"'10 Steuerung'!AO32","v":157758},{"$f":"'10 Steuerung'!T32","v":157758},0,0,{"$f":"'10 Steuerung'!AP32","v":32919},{"$f":"'10 Steuerung'!U32","v":32919},0,0]
["   31.03.2015",{"$f":"'10 Steuerung'!AH33","v":7466038},{"$f":"'10 Steuerung'!M33","v":7466038},{"$f":"B32-C32","v":0},{"$f":"(D32*100)/C32","v":0},{"$f":"'10 Steuerung'!AI33","v":5017047},{"$f":"'10 Steuerung'!N33","v":5017047},{"$f":"F32-G32","v":0},{"$f":"(H32*100)/G32","v":0},{"$f":"'10 Steuerung'!AJ33","v":2448991},{"$f":"'10 Steuerung'!O33","v":2448991},{"$f":"J32-K32","v":0},{"$f":"(L32*100)/K32","v":0},{"$f":"'10 Steuerung'!AK33","v":7249453},{"$f":"'10 Steuerung'!P33","v":7249453},{"$f":"N32-O32","v":0},{"$f":"(P32*100)/O32","v":0},{"$f":"'10 Steuerung'!AL33","v":4829009},{"$f":"'10 Steuerung'!Q33","v":4829009},{"$f":"R32-S32","v":0},{"$f":"(T32*100)/S32","v":0},{"$f":"'10 Steuerung'!AM33","v":2420444},{"$f":"'10 Steuerung'!R33","v":2420444},{"$f":"V32-W32","v":0},{"$f":"(X32*100)/W32","v":0},{"$f":"'10 Steuerung'!AN33","v":216585},{"$f":"'10 Steuerung'!S33","v":216585},{"$f":"Z32-AA32","v":0},0,{"$f":"'10 Steuerung'!AO33","v":188038},{"$f":"'10 Steuerung'!T33","v":188038},{"$f":"AD32-AE32","v":0},{"$f":"(AF32*100)/AE32","v":0},{"$f":"'10 Steuerung'!AP33","v":28547},{"$f":"'10 Steuerung'!U33","v":28547},{"$f":"AH32-AI32","v":0},{"$f":"(AJ32*100)/AI32","v":0}]
["   30.06.2015",{"$f":"'10 Steuerung'!AH34","v":7704750},{"$f":"'10 Steuerung'!M34","v":7704750},0,0,{"$f":"'10 Steuerung'!AI34","v":5187590},{"$f":"'10 Steuerung'!N34","v":5187590},0,0,{"$f":"'10 Steuerung'!AJ34","v":2517160},{"$f":"'10 Steuerung'!O34","v":2517160},0,0,{"$f":"'10 Steuerung'!AK34","v":7381055},{"$f":"'10 Steuerung'!P34","v":7381055},0,0,{"$f":"'10 Steuerung'!AL34","v":4902198},{"$f":"'10 Steuerung'!Q34","v":4902198},0,0,{"$f":"'10 Steuerung'!AM34","v":2478857},{"$f":"'10 Steuerung'!R34","v":2478857},0,0,{"$f":"'10 Steuerung'!AN34","v":323695},{"$f":"'10 Steuerung'!S34","v":323695},0,0,{"$f":"'10 Steuerung'!AO34","v":285392},{"$f":"'10 Steuerung'!T34","v":285392},0,0,{"$f":"'10 Steuerung'!AP34","v":38303},{"$f":"'10 Steuerung'!U34","v":38303},0,0]
["   30.09.2015",{"$f":"'10 Steuerung'!AH35","v":7662313},{"$f":"'10 Steuerung'!M35","v":7661385},928,1.2112692417885278E-2,{"$f":"'10 Steuerung'!AI35","v":5056118},{"$f":"'10 Steuerung'!N35","v":5055721},397,7.8524902778456321E-3,{"$f":"'10 Steuerung'!AJ35","v":2606195},{"$f":"'10 Steuerung'!O35","v":2605664},531,2.0378682746509145E-2,{"$f":"'10 Steuerung'!AK35","v":7368153},{"$f":"'10 Steuerung'!P35","v":7367324},829,1.1252389605778164E-2,{"$f":"'10 Steuerung'!AL35","v":4809807},{"$f":"'10 Steuerung'!Q35","v":4809507},300,6.2376455632562758E-3,{"$f":"'10 Steuerung'!AM35","v":2558346},{"$f":"'10 Steuerung'!R35","v":2557817},529,2.0681698495240278E-2,{"$f":"'10 Steuerung'!AN35","v":294160},{"$f":"'10 Steuerung'!S35","v":294061},99,{"$f":"(AB34+100)/AA34","v":6.7673033826314943E-4},{"$f":"'10 Steuerung'!AO35","v":246311},{"$f":"'10 Steuerung'!T35","v":246214},97,3.9396622450388684E-2,{"$f":"'10 Steuerung'!AP35","v":47849},{"$f":"'10 Steuerung'!U35","v":47847},2,4.1799903860221125E-3]
["   31.12.2015",{"$f":"'10 Steuerung'!AH36","v":7580629},{"$f":"'10 Steuerung'!M36","v":7579185},1444,1.9052180412537759E-2,{"$f":"'10 Steuerung'!AI36","v":5005805},{"$f":"'10 Steuerung'!N36","v":5005164},641,1.2806773164675524E-2,{"$f":"'10 Steuerung'!AJ36","v":2574824},{"$f":"'10 Steuerung'!O36","v":2574021},803,3.1196326681095454E-2,{"$f":"'10 Steuerung'!AK36","v":7384581},{"$f":"'10 Steuerung'!P36","v":7383251},1330,1.8013744893678948E-2,{"$f":"'10 Steuerung'!AL36","v":4843430},{"$f":"'10 Steuerung'!Q36","v":4842886},544,1.1232971414152635E-2,{"$f":"'10 Steuerung'!AM36","v":2541151},{"$f":"'10 Steuerung'!R36","v":2540365},786,3.0940435724787579E-2,{"$f":"'10 Steuerung'!AN36","v":196048},{"$f":"'10 Steuerung'!S36","v":195934},114,1.0922045178478467E-3,{"$f":"'10 Steuerung'!AO36","v":162375},{"$f":"'10 Steuerung'!T36","v":162278},97,5.9773968128766682E-2,{"$f":"'10 Steuerung'!AP36","v":33673},{"$f":"'10 Steuerung'!U36","v":33656},17,5.0511053006893271E-2]
["   31.03.2016",{"$f":"'10 Steuerung'!AH37","v":7517726},{"$f":"'10 Steuerung'!M37","v":7520914},-3188,-4.238846501901232E-2,{"$f":"'10 Steuerung'!AI37","v":4965023},{"$f":"'10 Steuerung'!N37","v":4966725},-1702,-3.4268053898695819E-2,{"$f":"'10 Steuerung'!AJ37","v":2552703},{"$f":"'10 Steuerung'!O37","v":2554189},-1486,-5.8178936640945519E-2,{"$f":"'10 Steuerung'!AK37","v":7305724},{"$f":"'10 Steuerung'!P37","v":7308697},-2973,-4.0677565371775568E-2,{"$f":"'10 Steuerung'!AL37","v":4781773},{"$f":"'10 Steuerung'!Q37","v":4783335},-1562,-3.2655040886745333E-2,{"$f":"'10 Steuerung'!AM37","v":2523951},{"$f":"'10 Steuerung'!R37","v":2525362},-1411,-5.5873177785996618E-2,{"$f":"'10 Steuerung'!AN37","v":212002},{"$f":"'10 Steuerung'!S37","v":212217},-215,-5.4189815142047996E-4,{"$f":"'10 Steuerung'!AO37","v":183250},{"$f":"'10 Steuerung'!T37","v":183390},-140,-7.6340040351164179E-2,{"$f":"'10 Steuerung'!AP37","v":28752},{"$f":"'10 Steuerung'!U37","v":28827},-75,-0.26017275470912687]
["   30.06.2016",{"$f":"'10 Steuerung'!AH38","v":7763218},{"$f":"'10 Steuerung'!M38","v":7756094},7124,9.1850356635698335E-2,{"$f":"'10 Steuerung'!AI38","v":5141533},{"$f":"'10 Steuerung'!N38","v":5141164},369,7.177362947379232E-3,{"$f":"'10 Steuerung'!AJ38","v":2621685},{"$f":"'10 Steuerung'!O38","v":2614930},6755,0.25832431460880406,{"$f":"'10 Steuerung'!AK38","v":7448549},{"$f":"'10 Steuerung'!P38","v":7441246},7303,9.8142165975966922E-2,{"$f":"'10 Steuerung'!AL38","v":4864910},{"$f":"'10 Steuerung'!Q38","v":4864378},532,1.0936650071191014E-2,{"$f":"'10 Steuerung'!AM38","v":2583639},{"$f":"'10 Steuerung'!R38","v":2576868},6771,0.26276083990332449,{"$f":"'10 Steuerung'!AN38","v":314669},{"$f":"'10 Steuerung'!S38","v":314848},-179,-2.5091472710641325E-4,{"$f":"'10 Steuerung'!AO38","v":276623},{"$f":"'10 Steuerung'!T38","v":276786},-163,-5.8890261790697507E-2,{"$f":"'10 Steuerung'!AP38","v":38046},{"$f":"'10 Steuerung'!U38","v":38062},-16,-4.2036677000683094E-2]
["   30.09.2016",{"$f":"'10 Steuerung'!AH39","v":7716136},{"$f":"'10 Steuerung'!M39","v":7720821},-4685,-6.0680075344318955E-2,{"$f":"'10 Steuerung'!AI39","v":5004151},{"$f":"'10 Steuerung'!N39","v":5005490},-1339,-2.6750627810663893E-2,{"$f":"'10 Steuerung'!AJ39","v":2711985},{"$f":"'10 Steuerung'!O39","v":2715331},-3346,-0.12322622914112497,{"$f":"'10 Steuerung'!AK39","v":7431756},{"$f":"'10 Steuerung'!P39","v":7436341},-4585,-6.1656666901100957E-2,{"$f":"'10 Steuerung'!AL39","v":4768238},{"$f":"'10 Steuerung'!Q39","v":4769534},-1296,-2.7172465905474202E-2,{"$f":"'10 Steuerung'!AM39","v":2663518},{"$f":"'10 Steuerung'!R39","v":2666807},-3289,-0.12333100970561424,{"$f":"'10 Steuerung'!AN39","v":284380},{"$f":"'10 Steuerung'!S39","v":284480},-100,0,{"$f":"'10 Steuerung'!AO39","v":235913},{"$f":"'10 Steuerung'!T39","v":235956},-43,-1.8223736628863008E-2,{"$f":"'10 Steuerung'!AP39","v":48467},{"$f":"'10 Steuerung'!U39","v":48524},-57,-0.11746764487676202]
["   31.12.2016",{"$f":"'10 Steuerung'!AH40","v":7624134},{"$f":"'10 Steuerung'!M40","v":7627556},-3422,-4.4863649640854819E-2,{"$f":"'10 Steuerung'!AI40","v":4945458},{"$f":"'10 Steuerung'!N40","v":4946366},-908,-1.8356910911970524E-2,{"$f":"'10 Steuerung'!AJ40","v":2678676},{"$f":"'10 Steuerung'!O40","v":2681190},-2514,-9.3764335985140931E-2,{"$f":"'10 Steuerung'!AK40","v":7440365},{"$f":"'10 Steuerung'!P40","v":7443816},-3451,-4.6360630085429302E-2,{"$f":"'10 Steuerung'!AL40","v":4794284},{"$f":"'10 Steuerung'!Q40","v":4795214},-930,-1.9394337770952452E-2,{"$f":"'10 Steuerung'!AM40","v":2646081},{"$f":"'10 Steuerung'!R40","v":2648602},-2521,-9.5182288618675059E-2,{"$f":"'10 Steuerung'!AN40","v":183769},{"$f":"'10 Steuerung'!S40","v":183740},29,7.0207902470882774E-4,{"$f":"'10 Steuerung'!AO40","v":151174},{"$f":"'10 Steuerung'!T40","v":151152},22,1.4554885148724463E-2,{"$f":"'10 Steuerung'!AP40","v":32595},{"$f":"'10 Steuerung'!U40","v":32588},7,2.148029949674727E-2]
["   31.03.2017",{"$f":"'10 Steuerung'!AH41","v":7550396},{"$f":"'10 Steuerung'!M41","v":7552824},-2428,-3.2146916173341256E-2,{"$f":"'10 Steuerung'!AI41","v":4895684},{"$f":"'10 Steuerung'!N41","v":4896396},-712,-1.4541307524963258E-2,{"$f":"'10 Steuerung'!AJ41","v":2654712},{"$f":"'10 Steuerung'!O41","v":2656428},-1716,-6.4598024113584104E-2,{"$f":"'10 Steuerung'!AK41","v":7348437},{"$f":"'10 Steuerung'!P41","v":7350882},-2445,-3.3261314764677218E-2,{"$f":"'10 Steuerung'!AL41","v":4722353},{"$f":"'10 Steuerung'!Q41","v":4723089},-736,-1.558302204341269E-2,{"$f":"'10 Steuerung'!AM41","v":2626084},{"$f":"'10 Steuerung'!R41","v":2627793},-1709,-6.5035564064597179E-2,{"$f":"'10 Steuerung'!AN41","v":201959},{"$f":"'10 Steuerung'!S41","v":201942},17,5.7937427578215526E-4,{"$f":"'10 Steuerung'!AO41","v":173331},{"$f":"'10 Steuerung'!T41","v":173307},24,1.3848257716076097E-2,{"$f":"'10 Steuerung'!AP41","v":28628},{"$f":"'10 Steuerung'!U41","v":28635},-7,-2.4445608521040683E-2]
["   30.06.2007",{"$f":"'10 Steuerung'!AH42","v":0},{"$f":"'10 Steuerung'!M42","v":0},0,{"$error":"#DIV/0!"},{"$f":"'10 Steuerung'!AI42","v":0},{"$f":"'10 Steuerung'!N42","v":0},0,{"$error":"#DIV/0!"},{"$f":"'10 Steuerung'!AJ42","v":0},{"$f":"'10 Steuerung'!O42","v":0},0,{"$error":"#DIV/0!"},{"$f":"'10 Steuerung'!AK42","v":0},{"$f":"'10 Steuerung'!P42","v":0},0,{"$error":"#DIV/0!"},{"$f":"'10 Steuerung'!AL42","v":0},{"$f":"'10 Steuerung'!Q42","v":0},0,{"$error":"#DIV/0!"},{"$f":"'10 Steuerung'!AM42","v":0},{"$f":"'10 Steuerung'!R42","v":0},0,{"$error":"#DIV/0!"},{"$f":"'10 Steuerung'!AN42","v":0},{"$f":"'10 Steuerung'!S42","v":0},0,{"$error":"#DIV/0!"},{"$f":"'10 Steuerung'!AO42","v":0},{"$f":"'10 Steuerung'!T42","v":0},0,{"$error":"#DIV/0!"},{"$f":"'10 Steuerung'!AP42","v":0},{"$f":"'10 Steuerung'!U42","v":0},0,{"$error":"#DIV/0!"}]
[null,null,null,null,null,null,null,null,null,null,null,null,null,null,null,null,null,null,null,null,null,null,null,null,null,null,null,null,null,null,null,null,null,null,null,null,"© Statistik der Bundesagentur für Arbeit"]

{"sheet":"Statistik-Infoseite","index":31,"n_rows":32,"n_cols":5,"rows_kept":32,"cut":false,"hidden":false,"merged":[[16,1,16,2],[4,0,4,4],[6,1,6,3],[7,1,7,2],[8,1,8,2],[9,1,9,2],[10,1,10,2],[11,1,11,2],[12,1,12,2],[13,1,13,2],[14,1,14,2],[15,1,15,2],[31,0,31,2],[17,1,17,2],[18,1,18,2],[19,1,19,2],[20,1,20,2],[22,0,22,4],[24,1,24,2],[25,1,25,2],[26,1,26,2],[27,1,27,2],[28,1,28,2],[29,1,29,2]]}
[]
[null,null,null,null,"Stand: 13.07.2017"]
["Statistik-Infoseite"]
[]
["Im Internet stehen statistische Informationen unterteilt nach folgenden Themenbereichen zur Verfügung:"]
[]
[null,"Arbeitsmarkt im Überblick"]
["Arbeitslose und gemeldetes Stellenangebot","Arbeitslose, Unterbeschäftigung und Arbeitsstellen"]
[null,"Förderungen"]
[null,"Ausbildungsstellenmarkt"]
[null,"Beschäftigung"]
[null,"Grundsicherung für Arbeitsuchende (SGB II)"]
[null,"Leistungen SGB III"]
[null,"Migration"]
[null,"Frauen und Männer"]
[null,"Statistik nach Berufen"]
[null,"Statistik nach Wirtschaftszweigen"]
[null,"Zeitreihen"]
[null,"Daten zu den Eingliederungsbilanzen"]
[null,"Amtliche Nachrichten der BA"]
[null,"Kreisdaten"]
[]
["Glossare sind zu folgenden Fachstatistiken veröffentlicht:"]
[]
["Arbeitsmarkt","Arbeitsmarkt"]
["Ausbildungsstellenmarkt","Ausbildungsstellenmarkt"]
["Beschäftigung","Beschäftigung"]
["Förderstatistik/Eingliederungsbilanzen","Förderstatistik/Eingliederungsbilanzen"]
["Grundsicherung für Arbeitsuchende (SGB II)","Grundsicherung für Arbeitsuchende (SGB II)"]
["Leistungen SGB III","Leistungen SGB III"]
[]
["Die Methodischen Hinweise der Statistik bieten ergänzende Informationen."]